{"text_format":"1","workbook":"xlsx","n_sheets":5,"sheets":["Blad1","IN","Enhet","Blad3","UT"],"not_rendered":{"charts":0,"images":0,"macros":1,"external_links":0,"defined_names":0,"comments":0,"pivot_tables":0},"unopened":[],"bounds":{"document_bytes":16777216,"sheet_cells":100000,"rows_first":2000,"rows_last":500,"rows_between":2000,"halvings":0,"cell_chars":16384,"cell_head_chars":4096},"cells_cut":0,"cells_raw":0,"read":"whole","date_system":"1900"}

{"sheet":"Blad1","index":0,"n_rows":3003,"n_cols":5,"rows_kept":3003,"cut":false,"hidden":true,"merged":[]}
[]
[]
[]
["FRÅNVARO",{"$f":"IN!B4","v":0},{"$f":"Blad3!E4","v":""},{"$f":"Blad3!G4","v":0},"Oanmäld frånvaro"]
["FRÅNVARO",{"$f":"IN!B5","v":0},{"$f":"Blad3!E5","v":""},{"$f":"Blad3!G5","v":0},"Oanmäld frånvaro"]
["FRÅNVARO",{"$f":"IN!B6","v":0},{"$f":"Blad3!E6","v":""},{"$f":"Blad3!G6","v":0},"Oanmäld frånvaro"]
["FRÅNVARO",{"$f":"IN!B7","v":0},{"$f":"Blad3!E7","v":""},{"$f":"Blad3!G7","v":0},"Oanmäld frånvaro"]
["FRÅNVARO",{"$f":"IN!B8","v":0},{"$f":"Blad3!E8","v":""},{"$f":"Blad3!G8","v":0},"Oanmäld frånvaro"]
["FRÅNVARO",{"$f":"IN!B9","v":0},{"$f":"Blad3!E9","v":""},{"$f":"Blad3!G9","v":0},"Oanmäld frånvaro"]
["FRÅNVARO",{"$f":"IN!B10","v":0},{"$f":"Blad3!E10","v":""},{"$f":"Blad3!G10","v":0},"Oanmäld frånvaro"]
["FRÅNVARO",{"$f":"IN!B11","v":0},{"$f":"Blad3!E11","v":""},{"$f":"Blad3!G11","v":0},"Oanmäld frånvaro"]
["FRÅNVARO",{"$f":"IN!B12","v":0},{"$f":"Blad3!E12","v":""},{"$f":"Blad3!G12","v":0},"Oanmäld frånvaro"]
["FRÅNVARO",{"$f":"IN!B13","v":0},{"$f":"Blad3!E13","v":""},{"$f":"Blad3!G13","v":0},"Oanmäld frånvaro"]
["FRÅNVARO",{"$f":"IN!B14","v":0},{"$f":"Blad3!E14","v":""},{"$f":"Blad3!G14","v":0},"Oanmäld frånvaro"]
["FRÅNVARO",{"$f":"IN!B15","v":0},{"$f":"Blad3!E15","v":""},{"$f":"Blad3!G15","v":0},"Oanmäld frånvaro"]
["FRÅNVARO",{"$f":"IN!B16","v":0},{"$f":"Blad3!E16","v":""},{"$f":"Blad3!G16","v":0},"Oanmäld frånvaro"]
["FRÅNVARO",{"$f":"IN!B17","v":0},{"$f":"Blad3!E17","v":""},{"$f":"Blad3!G17","v":0},"Oanmäld frånvaro"]
["FRÅNVARO",{"$f":"IN!B18","v":0},{"$f":"Blad3!E18","v":""},{"$f":"Blad3!G18","v":0},"Oanmäld frånvaro"]
["FRÅNVARO",{"$f":"IN!B19","v":0},{"$f":"Blad3!E19","v":""},{"$f":"Blad3!G19","v":0},"Oanmäld frånvaro"]
["FRÅNVARO",{"$f":"IN!B20","v":0},{"$f":"Blad3!E20","v":""},{"$f":"Blad3!G20","v":0},"Oanmäld frånvaro"]
["FRÅNVARO",{"$f":"IN!B21","v":0},{"$f":"Blad3!E21","v":""},{"$f":"Blad3!G21","v":0},"Oanmäld frånvaro"]
["FRÅNVARO",{"$f":"IN!B22","v":0},{"$f":"Blad3!E22","v":""},{"$f":"Blad3!G22","v":0},"Oanmäld frånvaro"]
["FRÅNVARO",{"$f":"IN!B23","v":0},{"$f":"Blad3!E23","v":""},{"$f":"Blad3!G23","v":0},"Oanmäld frånvaro"]
["FRÅNVARO",{"$f":"IN!B24","v":0},{"$f":"Blad3!E24","v":""},{"$f":"Blad3!G24","v":0},"Oanmäld frånvaro"]
["FRÅNVARO",{"$f":"IN!B25","v":0},{"$f":"Blad3!E25","v":""},{"$f":"Blad3!G25","v":0},"Oanmäld frånvaro"]
["FRÅNVARO",{"$f":"IN!B26","v":0},{"$f":"Blad3!E26","v":""},{"$f":"Blad3!G26","v":0},"Oanmäld frånvaro"]
["FRÅNVARO",{"$f":"IN!B27","v":0},{"$f":"Blad3!E27","v":""},{"$f":"Blad3!G27","v":0},"Oanmäld frånvaro"]
["FRÅNVARO",{"$f":"IN!B28","v":0},{"$f":"Blad3!E28","v":""},{"$f":"Blad3!G28","v":0},"Oanmäld frånvaro"]
["FRÅNVARO",{"$f":"IN!B29","v":0},{"$f":"Blad3!E29","v":""},{"$f":"Blad3!G29","v":0},"Oanmäld frånvaro"]
["FRÅNVARO",{"$f":"IN!B30","v":0},{"$f":"Blad3!E30","v":""},{"$f":"Blad3!G30","v":0},"Oanmäld frånvaro"]
["FRÅNVARO",{"$f":"IN!B31","v":0},{"$f":"Blad3!E31","v":""},{"$f":"Blad3!G31","v":0},"Oanmäld frånvaro"]
["FRÅNVARO",{"$f":"IN!B32","v":0},{"$f":"Blad3!E32","v":""},{"$f":"Blad3!G32","v":0},"Oanmäld frånvaro"]
["FRÅNVARO",{"$f":"IN!B33","v":0},{"$f":"Blad3!E33","v":""},{"$f":"Blad3!G33","v":0},"Oanmäld frånvaro"]
["FRÅNVARO",{"$f":"IN!B34","v":0},{"$f":"Blad3!E34","v":""},{"$f":"Blad3!G34","v":0},"Oanmäld frånvaro"]
["FRÅNVARO",{"$f":"IN!B35","v":0},{"$f":"Blad3!E35","v":""},{"$f":"Blad3!G35","v":0},"Oanmäld frånvaro"]
["FRÅNVARO",{"$f":"IN!B36","v":0},{"$f":"Blad3!E36","v":""},{"$f":"Blad3!G36","v":0},"Oanmäld frånvaro"]
["FRÅNVARO",{"$f":"IN!B37","v":0},{"$f":"Blad3!E37","v":""},{"$f":"Blad3!G37","v":0},"Oanmäld frånvaro"]
["FRÅNVARO",{"$f":"IN!B38","v":0},{"$f":"Blad3!E38","v":""},{"$f":"Blad3!G38","v":0},"Oanmäld frånvaro"]
["FRÅNVARO",{"$f":"IN!B39","v":0},{"$f":"Blad3!E39","v":""},{"$f":"Blad3!G39","v":0},"Oanmäld frånvaro"]
["FRÅNVARO",{"$f":"IN!B40","v":0},{"$f":"Blad3!E40","v":""},{"$f":"Blad3!G40","v":0},"Oanmäld frånvaro"]
["FRÅNVARO",{"$f":"IN!B41","v":0},{"$f":"Blad3!E41","v":""},{"$f":"Blad3!G41","v":0},"Oanmäld frånvaro"]
["FRÅNVARO",{"$f":"IN!B42","v":0},{"$f":"Blad3!E42","v":""},{"$f":"Blad3!G42","v":0},"Oanmäld frånvaro"]
["FRÅNVARO",{"$f":"IN!B43","v":0},{"$f":"Blad3!E43","v":""},{"$f":"Blad3!G43","v":0},"Oanmäld frånvaro"]
["FRÅNVARO",{"$f":"IN!B44","v":0},{"$f":"Blad3!E44","v":""},{"$f":"Blad3!G44","v":0},"Oanmäld frånvaro"]
["FRÅNVARO",{"$f":"IN!B45","v":0},{"$f":"Blad3!E45","v":""},{"$f":"Blad3!G45","v":0},"Oanmäld frånvaro"]
["FRÅNVARO",{"$f":"IN!B46","v":0},{"$f":"Blad3!E46","v":""},{"$f":"Blad3!G46","v":0},"Oanmäld frånvaro"]
["FRÅNVARO",{"$f":"IN!B47","v":0},{"$f":"Blad3!E47","v":""},{"$f":"Blad3!G47","v":0},"Oanmäld frånvaro"]
["FRÅNVARO",{"$f":"IN!B48","v":0},{"$f":"Blad3!E48","v":""},{"$f":"Blad3!G48","v":0},"Oanmäld frånvaro"]
["FRÅNVARO",{"$f":"IN!B49","v":0},{"$f":"Blad3!E49","v":""},{"$f":"Blad3!G49","v":0},"Oanmäld frånvaro"]
["FRÅNVARO",{"$f":"IN!B50","v":0},{"$f":"Blad3!E50","v":""},{"$f":"Blad3!G50","v":0},"Oanmäld frånvaro"]
["FRÅNVARO",{"$f":"IN!B51","v":0},{"$f":"Blad3!E51","v":""},{"$f":"Blad3!G51","v":0},"Oanmäld frånvaro"]
["FRÅNVARO",{"$f":"IN!B52","v":0},{"$f":"Blad3!E52","v":""},{"$f":"Blad3!G52","v":0},"Oanmäld frånvaro"]
["FRÅNVARO",{"$f":"IN!B53","v":0},{"$f":"Blad3!E53","v":""},{"$f":"Blad3!G53","v":0},"Oanmäld frånvaro"]
["FRÅNVARO",{"$f":"IN!B54","v":0},{"$f":"Blad3!E54","v":""},{"$f":"Blad3!G54","v":0},"Oanmäld frånvaro"]
["FRÅNVARO",{"$f":"IN!B55","v":0},{"$f":"Blad3!E55","v":""},{"$f":"Blad3!G55","v":0},"Oanmäld frånvaro"]
["FRÅNVARO",{"$f":"IN!B56","v":0},{"$f":"Blad3!E56","v":""},{"$f":"Blad3!G56","v":0},"Oanmäld frånvaro"]
["FRÅNVARO",{"$f":"IN!B57","v":0},{"$f":"Blad3!E57","v":""},{"$f":"Blad3!G57","v":0},"Oanmäld frånvaro"]
["FRÅNVARO",{"$f":"IN!B58","v":0},{"$f":"Blad3!E58","v":""},{"$f":"Blad3!G58","v":0},"Oanmäld frånvaro"]
["FRÅNVARO",{"$f":"IN!B59","v":0},{"$f":"Blad3!E59","v":""},{"$f":"Blad3!G59","v":0},"Oanmäld frånvaro"]
["FRÅNVARO",{"$f":"IN!B60","v":0},{"$f":"Blad3!E60","v":""},{"$f":"Blad3!G60","v":0},"Oanmäld frånvaro"]
["FRÅNVARO",{"$f":"IN!B61","v":0},{"$f":"Blad3!E61","v":""},{"$f":"Blad3!G61","v":0},"Oanmäld frånvaro"]
["FRÅNVARO",{"$f":"IN!B62","v":0},{"$f":"Blad3!E62","v":""},{"$f":"Blad3!G62","v":0},"Oanmäld frånvaro"]
["FRÅNVARO",{"$f":"IN!B63","v":0},{"$f":"Blad3!E63","v":""},{"$f":"Blad3!G63","v":0},"Oanmäld frånvaro"]
["FRÅNVARO",{"$f":"IN!B64","v":0},{"$f":"Blad3!E64","v":""},{"$f":"Blad3!G64","v":0},"Oanmäld frånvaro"]
["FRÅNVARO",{"$f":"IN!B65","v":0},{"$f":"Blad3!E65","v":""},{"$f":"Blad3!G65","v":0},"Oanmäld frånvaro"]
["FRÅNVARO",{"$f":"IN!B66","v":0},{"$f":"Blad3!E66","v":""},{"$f":"Blad3!G66","v":0},"Oanmäld frånvaro"]
["FRÅNVARO",{"$f":"IN!B67","v":0},{"$f":"Blad3!E67","v":""},{"$f":"Blad3!G67","v":0},"Oanmäld frånvaro"]
["FRÅNVARO",{"$f":"IN!B68","v":0},{"$f":"Blad3!E68","v":""},{"$f":"Blad3!G68","v":0},"Oanmäld frånvaro"]
["FRÅNVARO",{"$f":"IN!B69","v":0},{"$f":"Blad3!E69","v":""},{"$f":"Blad3!G69","v":0},"Oanmäld frånvaro"]
["FRÅNVARO",{"$f":"IN!B70","v":0},{"$f":"Blad3!E70","v":""},{"$f":"Blad3!G70","v":0},"Oanmäld frånvaro"]
["FRÅNVARO",{"$f":"IN!B71","v":0},{"$f":"Blad3!E71","v":""},{"$f":"Blad3!G71","v":0},"Oanmäld frånvaro"]
["FRÅNVARO",{"$f":"IN!B72","v":0},{"$f":"Blad3!E72","v":""},{"$f":"Blad3!G72","v":0},"Oanmäld frånvaro"]
["FRÅNVARO",{"$f":"IN!B73","v":0},{"$f":"Blad3!E73","v":""},{"$f":"Blad3!G73","v":0},"Oanmäld frånvaro"]
["FRÅNVARO",{"$f":"IN!B74","v":0},{"$f":"Blad3!E74","v":""},{"$f":"Blad3!G74","v":0},"Oanmäld frånvaro"]
["FRÅNVARO",{"$f":"IN!B75","v":0},{"$f":"Blad3!E75","v":""},{"$f":"Blad3!G75","v":0},"Oanmäld frånvaro"]
["FRÅNVARO",{"$f":"IN!B76","v":0},{"$f":"Blad3!E76","v":""},{"$f":"Blad3!G76","v":0},"Oanmäld frånvaro"]
["FRÅNVARO",{"$f":"IN!B77","v":0},{"$f":"Blad3!E77","v":""},{"$f":"Blad3!G77","v":0},"Oanmäld frånvaro"]
["FRÅNVARO",{"$f":"IN!B78","v":0},{"$f":"Blad3!E78","v":""},{"$f":"Blad3!G78","v":0},"Oanmäld frånvaro"]
["FRÅNVARO",{"$f":"IN!B79","v":0},{"$f":"Blad3!E79","v":""},{"$f":"Blad3!G79","v":0},"Oanmäld frånvaro"]
["FRÅNVARO",{"$f":"IN!B80","v":0},{"$f":"Blad3!E80","v":""},{"$f":"Blad3!G80","v":0},"Oanmäld frånvaro"]
["FRÅNVARO",{"$f":"IN!B81","v":0},{"$f":"Blad3!E81","v":""},{"$f":"Blad3!G81","v":0},"Oanmäld frånvaro"]
["FRÅNVARO",{"$f":"IN!B82","v":0},{"$f":"Blad3!E82","v":""},{"$f":"Blad3!G82","v":0},"Oanmäld frånvaro"]
["FRÅNVARO",{"$f":"IN!B83","v":0},{"$f":"Blad3!E83","v":""},{"$f":"Blad3!G83","v":0},"Oanmäld frånvaro"]
["FRÅNVARO",{"$f":"IN!B84","v":0},{"$f":"Blad3!E84","v":""},{"$f":"Blad3!G84","v":0},"Oanmäld frånvaro"]
["FRÅNVARO",{"$f":"IN!B85","v":0},{"$f":"Blad3!E85","v":""},{"$f":"Blad3!G85","v":0},"Oanmäld frånvaro"]
["FRÅNVARO",{"$f":"IN!B86","v":0},{"$f":"Blad3!E86","v":""},{"$f":"Blad3!G86","v":0},"Oanmäld frånvaro"]
["FRÅNVARO",{"$f":"IN!B87","v":0},{"$f":"Blad3!E87","v":""},{"$f":"Blad3!G87","v":0},"Oanmäld frånvaro"]
["FRÅNVARO",{"$f":"IN!B88","v":0},{"$f":"Blad3!E88","v":""},{"$f":"Blad3!G88","v":0},"Oanmäld frånvaro"]
["FRÅNVARO",{"$f":"IN!B89","v":0},{"$f":"Blad3!E89","v":""},{"$f":"Blad3!G89","v":0},"Oanmäld frånvaro"]
["FRÅNVARO",{"$f":"IN!B90","v":0},{"$f":"Blad3!E90","v":""},{"$f":"Blad3!G90","v":0},"Oanmäld frånvaro"]
["FRÅNVARO",{"$f":"IN!B91","v":0},{"$f":"Blad3!E91","v":""},{"$f":"Blad3!G91","v":0},"Oanmäld frånvaro"]
["FRÅNVARO",{"$f":"IN!B92","v":0},{"$f":"Blad3!E92","v":""},{"$f":"Blad3!G92","v":0},"Oanmäld frånvaro"]
["FRÅNVARO",{"$f":"IN!B93","v":0},{"$f":"Blad3!E93","v":""},{"$f":"Blad3!G93","v":0},"Oanmäld frånvaro"]
["FRÅNVARO",{"$f":"IN!B94","v":0},{"$f":"Blad3!E94","v":""},{"$f":"Blad3!G94","v":0},"Oanmäld frånvaro"]
["FRÅNVARO",{"$f":"IN!B95","v":0},{"$f":"Blad3!E95","v":""},{"$f":"Blad3!G95","v":0},"Oanmäld frånvaro"]
["FRÅNVARO",{"$f":"IN!B96","v":0},{"$f":"Blad3!E96","v":""},{"$f":"Blad3!G96","v":0},"Oanmäld frånvaro"]
["FRÅNVARO",{"$f":"IN!B97","v":0},{"$f":"Blad3!E97","v":""},{"$f":"Blad3!G97","v":0},"Oanmäld frånvaro"]
["FRÅNVARO",{"$f":"IN!B98","v":0},{"$f":"Blad3!E98","v":""},{"$f":"Blad3!G98","v":0},"Oanmäld frånvaro"]
["FRÅNVARO",{"$f":"IN!B99","v":0},{"$f":"Blad3!E99","v":""},{"$f":"Blad3!G99","v":0},"Oanmäld frånvaro"]
["FRÅNVARO",{"$f":"IN!B100","v":0},{"$f":"Blad3!E100","v":""},{"$f":"Blad3!G100","v":0},"Oanmäld frånvaro"]
["FRÅNVARO",{"$f":"IN!B101","v":0},{"$f":"Blad3!E101","v":""},{"$f":"Blad3!G101","v":0},"Oanmäld frånvaro"]
["FRÅNVARO",{"$f":"IN!B102","v":0},{"$f":"Blad3!E102","v":""},{"$f":"Blad3!G102","v":0},"Oanmäld frånvaro"]
["FRÅNVARO",{"$f":"IN!B103","v":0},{"$f":"Blad3!E103","v":""},{"$f":"Blad3!G103","v":0},"Oanmäld frånvaro"]
["FRÅNVARO",{"$f":"IN!B104","v":0},{"$f":"Blad3!E104","v":""},{"$f":"Blad3!G104","v":0},"Oanmäld frånvaro"]
["FRÅNVARO",{"$f":"IN!B105","v":0},{"$f":"Blad3!E105","v":""},{"$f":"Blad3!G105","v":0},"Oanmäld frånvaro"]
["FRÅNVARO",{"$f":"IN!B106","v":0},{"$f":"Blad3!E106","v":""},{"$f":"Blad3!G106","v":0},"Oanmäld frånvaro"]
["FRÅNVARO",{"$f":"IN!B107","v":0},{"$f":"Blad3!E107","v":""},{"$f":"Blad3!G107","v":0},"Oanmäld frånvaro"]
["FRÅNVARO",{"$f":"IN!B108","v":0},{"$f":"Blad3!E108","v":""},{"$f":"Blad3!G108","v":0},"Oanmäld frånvaro"]
["FRÅNVARO",{"$f":"IN!B109","v":0},{"$f":"Blad3!E109","v":""},{"$f":"Blad3!G109","v":0},"Oanmäld frånvaro"]
["FRÅNVARO",{"$f":"IN!B110","v":0},{"$f":"Blad3!E110","v":""},{"$f":"Blad3!G110","v":0},"Oanmäld frånvaro"]
["FRÅNVARO",{"$f":"IN!B111","v":0},{"$f":"Blad3!E111","v":""},{"$f":"Blad3!G111","v":0},"Oanmäld frånvaro"]
["FRÅNVARO",{"$f":"IN!B112","v":0},{"$f":"Blad3!E112","v":""},{"$f":"Blad3!G112","v":0},"Oanmäld frånvaro"]
["FRÅNVARO",{"$f":"IN!B113","v":0},{"$f":"Blad3!E113","v":""},{"$f":"Blad3!G113","v":0},"Oanmäld frånvaro"]
["FRÅNVARO",{"$f":"IN!B114","v":0},{"$f":"Blad3!E114","v":""},{"$f":"Blad3!G114","v":0},"Oanmäld frånvaro"]
["FRÅNVARO",{"$f":"IN!B115","v":0},{"$f":"Blad3!E115","v":""},{"$f":"Blad3!G115","v":0},"Oanmäld frånvaro"]
["FRÅNVARO",{"$f":"IN!B116","v":0},{"$f":"Blad3!E116","v":""},{"$f":"Blad3!G116","v":0},"Oanmäld frånvaro"]
["FRÅNVARO",{"$f":"IN!B117","v":0},{"$f":"Blad3!E117","v":""},{"$f":"Blad3!G117","v":0},"Oanmäld frånvaro"]
["FRÅNVARO",{"$f":"IN!B118","v":0},{"$f":"Blad3!E118","v":""},{"$f":"Blad3!G118","v":0},"Oanmäld frånvaro"]
["FRÅNVARO",{"$f":"IN!B119","v":0},{"$f":"Blad3!E119","v":""},{"$f":"Blad3!G119","v":0},"Oanmäld frånvaro"]
["FRÅNVARO",{"$f":"IN!B120","v":0},{"$f":"Blad3!E120","v":""},{"$f":"Blad3!G120","v":0},"Oanmäld frånvaro"]
["FRÅNVARO",{"$f":"IN!B121","v":0},{"$f":"Blad3!E121","v":""},{"$f":"Blad3!G121","v":0},"Oanmäld frånvaro"]
["FRÅNVARO",{"$f":"IN!B122","v":0},{"$f":"Blad3!E122","v":""},{"$f":"Blad3!G122","v":0},"Oanmäld frånvaro"]
["FRÅNVARO",{"$f":"IN!B123","v":0},{"$f":"Blad3!E123","v":""},{"$f":"Blad3!G123","v":0},"Oanmäld frånvaro"]
["FRÅNVARO",{"$f":"IN!B124","v":0},{"$f":"Blad3!E124","v":""},{"$f":"Blad3!G124","v":0},"Oanmäld frånvaro"]
["FRÅNVARO",{"$f":"IN!B125","v":0},{"$f":"Blad3!E125","v":""},{"$f":"Blad3!G125","v":0},"Oanmäld frånvaro"]
["FRÅNVARO",{"$f":"IN!B126","v":0},{"$f":"Blad3!E126","v":""},{"$f":"Blad3!G126","v":0},"Oanmäld frånvaro"]
["FRÅNVARO",{"$f":"IN!B127","v":0},{"$f":"Blad3!E127","v":""},{"$f":"Blad3!G127","v":0},"Oanmäld frånvaro"]
["FRÅNVARO",{"$f":"IN!B128","v":0},{"$f":"Blad3!E128","v":""},{"$f":"Blad3!G128","v":0},"Oanmäld frånvaro"]
["FRÅNVARO",{"$f":"IN!B129","v":0},{"$f":"Blad3!E129","v":""},{"$f":"Blad3!G129","v":0},"Oanmäld frånvaro"]
["FRÅNVARO",{"$f":"IN!B130","v":0},{"$f":"Blad3!E130","v":""},{"$f":"Blad3!G130","v":0},"Oanmäld frånvaro"]
["FRÅNVARO",{"$f":"IN!B131","v":0},{"$f":"Blad3!E131","v":""},{"$f":"Blad3!G131","v":0},"Oanmäld frånvaro"]
["FRÅNVARO",{"$f":"IN!B132","v":0},{"$f":"Blad3!E132","v":""},{"$f":"Blad3!G132","v":0},"Oanmäld frånvaro"]
["FRÅNVARO",{"$f":"IN!B133","v":0},{"$f":"Blad3!E133","v":""},{"$f":"Blad3!G133","v":0},"Oanmäld frånvaro"]
["FRÅNVARO",{"$f":"IN!B134","v":0},{"$f":"Blad3!E134","v":""},{"$f":"Blad3!G134","v":0},"Oanmäld frånvaro"]
["FRÅNVARO",{"$f":"IN!B135","v":0},{"$f":"Blad3!E135","v":""},{"$f":"Blad3!G135","v":0},"Oanmäld frånvaro"]
["FRÅNVARO",{"$f":"IN!B136","v":0},{"$f":"Blad3!E136","v":""},{"$f":"Blad3!G136","v":0},"Oanmäld frånvaro"]
["FRÅNVARO",{"$f":"IN!B137","v":0},{"$f":"Blad3!E137","v":""},{"$f":"Blad3!G137","v":0},"Oanmäld frånvaro"]
["FRÅNVARO",{"$f":"IN!B138","v":0},{"$f":"Blad3!E138","v":""},{"$f":"Blad3!G138","v":0},"Oanmäld frånvaro"]
["FRÅNVARO",{"$f":"IN!B139","v":0},{"$f":"Blad3!E139","v":""},{"$f":"Blad3!G139","v":0},"Oanmäld frånvaro"]
["FRÅNVARO",{"$f":"IN!B140","v":0},{"$f":"Blad3!E140","v":""},{"$f":"Blad3!G140","v":0},"Oanmäld frånvaro"]
["FRÅNVARO",{"$f":"IN!B141","v":0},{"$f":"Blad3!E141","v":""},{"$f":"Blad3!G141","v":0},"Oanmäld frånvaro"]
["FRÅNVARO",{"$f":"IN!B142","v":0},{"$f":"Blad3!E142","v":""},{"$f":"Blad3!G142","v":0},"Oanmäld frånvaro"]
["FRÅNVARO",{"$f":"IN!B143","v":0},{"$f":"Blad3!E143","v":""},{"$f":"Blad3!G143","v":0},"Oanmäld frånvaro"]
["FRÅNVARO",{"$f":"IN!B144","v":0},{"$f":"Blad3!E144","v":""},{"$f":"Blad3!G144","v":0},"Oanmäld frånvaro"]
["FRÅNVARO",{"$f":"IN!B145","v":0},{"$f":"Blad3!E145","v":""},{"$f":"Blad3!G145","v":0},"Oanmäld frånvaro"]
["FRÅNVARO",{"$f":"IN!B146","v":0},{"$f":"Blad3!E146","v":""},{"$f":"Blad3!G146","v":0},"Oanmäld frånvaro"]
["FRÅNVARO",{"$f":"IN!B147","v":0},{"$f":"Blad3!E147","v":""},{"$f":"Blad3!G147","v":0},"Oanmäld frånvaro"]
["FRÅNVARO",{"$f":"IN!B148","v":0},{"$f":"Blad3!E148","v":""},{"$f":"Blad3!G148","v":0},"Oanmäld frånvaro"]
["FRÅNVARO",{"$f":"IN!B149","v":0},{"$f":"Blad3!E149","v":""},{"$f":"Blad3!G149","v":0},"Oanmäld frånvaro"]
["FRÅNVARO",{"$f":"IN!B150","v":0},{"$f":"Blad3!E150","v":""},{"$f":"Blad3!G150","v":0},"Oanmäld frånvaro"]
["FRÅNVARO",{"$f":"IN!B151","v":0},{"$f":"Blad3!E151","v":""},{"$f":"Blad3!G151","v":0},"Oanmäld frånvaro"]
["FRÅNVARO",{"$f":"IN!B152","v":0},{"$f":"Blad3!E152","v":""},{"$f":"Blad3!G152","v":0},"Oanmäld frånvaro"]
["FRÅNVARO",{"$f":"IN!B153","v":0},{"$f":"Blad3!E153","v":""},{"$f":"Blad3!G153","v":0},"Oanmäld frånvaro"]
["FRÅNVARO",{"$f":"IN!B154","v":0},{"$f":"Blad3!E154","v":""},{"$f":"Blad3!G154","v":0},"Oanmäld frånvaro"]
["FRÅNVARO",{"$f":"IN!B155","v":0},{"$f":"Blad3!E155","v":""},{"$f":"Blad3!G155","v":0},"Oanmäld frånvaro"]
["FRÅNVARO",{"$f":"IN!B156","v":0},{"$f":"Blad3!E156","v":""},{"$f":"Blad3!G156","v":0},"Oanmäld frånvaro"]
["FRÅNVARO",{"$f":"IN!B157","v":0},{"$f":"Blad3!E157","v":""},{"$f":"Blad3!G157","v":0},"Oanmäld frånvaro"]
["FRÅNVARO",{"$f":"IN!B158","v":0},{"$f":"Blad3!E158","v":""},{"$f":"Blad3!G158","v":0},"Oanmäld frånvaro"]
["FRÅNVARO",{"$f":"IN!B159","v":0},{"$f":"Blad3!E159","v":""},{"$f":"Blad3!G159","v":0},"Oanmäld frånvaro"]
["FRÅNVARO",{"$f":"IN!B160","v":0},{"$f":"Blad3!E160","v":""},{"$f":"Blad3!G160","v":0},"Oanmäld frånvaro"]
["FRÅNVARO",{"$f":"IN!B161","v":0},{"$f":"Blad3!E161","v":""},{"$f":"Blad3!G161","v":0},"Oanmäld frånvaro"]
["FRÅNVARO",{"$f":"IN!B162","v":0},{"$f":"Blad3!E162","v":""},{"$f":"Blad3!G162","v":0},"Oanmäld frånvaro"]
["FRÅNVARO",{"$f":"IN!B163","v":0},{"$f":"Blad3!E163","v":""},{"$f":"Blad3!G163","v":0},"Oanmäld frånvaro"]
["FRÅNVARO",{"$f":"IN!B164","v":0},{"$f":"Blad3!E164","v":""},{"$f":"Blad3!G164","v":0},"Oanmäld frånvaro"]
["FRÅNVARO",{"$f":"IN!B165","v":0},{"$f":"Blad3!E165","v":""},{"$f":"Blad3!G165","v":0},"Oanmäld frånvaro"]
["FRÅNVARO",{"$f":"IN!B166","v":0},{"$f":"Blad3!E166","v":""},{"$f":"Blad3!G166","v":0},"Oanmäld frånvaro"]
["FRÅNVARO",{"$f":"IN!B167","v":0},{"$f":"Blad3!E167","v":""},{"$f":"Blad3!G167","v":0},"Oanmäld frånvaro"]
["FRÅNVARO",{"$f":"IN!B168","v":0},{"$f":"Blad3!E168","v":""},{"$f":"Blad3!G168","v":0},"Oanmäld frånvaro"]
["FRÅNVARO",{"$f":"IN!B169","v":0},{"$f":"Blad3!E169","v":""},{"$f":"Blad3!G169","v":0},"Oanmäld frånvaro"]
["FRÅNVARO",{"$f":"IN!B170","v":0},{"$f":"Blad3!E170","v":""},{"$f":"Blad3!G170","v":0},"Oanmäld frånvaro"]
["FRÅNVARO",{"$f":"IN!B171","v":0},{"$f":"Blad3!E171","v":""},{"$f":"Blad3!G171","v":0},"Oanmäld frånvaro"]
["FRÅNVARO",{"$f":"IN!B172","v":0},{"$f":"Blad3!E172","v":""},{"$f":"Blad3!G172","v":0},"Oanmäld frånvaro"]
["FRÅNVARO",{"$f":"IN!B173","v":0},{"$f":"Blad3!E173","v":""},{"$f":"Blad3!G173","v":0},"Oanmäld frånvaro"]
["FRÅNVARO",{"$f":"IN!B174","v":0},{"$f":"Blad3!E174","v":""},{"$f":"Blad3!G174","v":0},"Oanmäld frånvaro"]
["FRÅNVARO",{"$f":"IN!B175","v":0},{"$f":"Blad3!E175","v":""},{"$f":"Blad3!G175","v":0},"Oanmäld frånvaro"]
["FRÅNVARO",{"$f":"IN!B176","v":0},{"$f":"Blad3!E176","v":""},{"$f":"Blad3!G176","v":0},"Oanmäld frånvaro"]
["FRÅNVARO",{"$f":"IN!B177","v":0},{"$f":"Blad3!E177","v":""},{"$f":"Blad3!G177","v":0},"Oanmäld frånvaro"]
["FRÅNVARO",{"$f":"IN!B178","v":0},{"$f":"Blad3!E178","v":""},{"$f":"Blad3!G178","v":0},"Oanmäld frånvaro"]
["FRÅNVARO",{"$f":"IN!B179","v":0},{"$f":"Blad3!E179","v":""},{"$f":"Blad3!G179","v":0},"Oanmäld frånvaro"]
["FRÅNVARO",{"$f":"IN!B180","v":0},{"$f":"Blad3!E180","v":""},{"$f":"Blad3!G180","v":0},"Oanmäld frånvaro"]
["FRÅNVARO",{"$f":"IN!B181","v":0},{"$f":"Blad3!E181","v":""},{"$f":"Blad3!G181","v":0},"Oanmäld frånvaro"]
["FRÅNVARO",{"$f":"IN!B182","v":0},{"$f":"Blad3!E182","v":""},{"$f":"Blad3!G182","v":0},"Oanmäld frånvaro"]
["FRÅNVARO",{"$f":"IN!B183","v":0},{"$f":"Blad3!E183","v":""},{"$f":"Blad3!G183","v":0},"Oanmäld frånvaro"]
["FRÅNVARO",{"$f":"IN!B184","v":0},{"$f":"Blad3!E184","v":""},{"$f":"Blad3!G184","v":0},"Oanmäld frånvaro"]
["FRÅNVARO",{"$f":"IN!B185","v":0},{"$f":"Blad3!E185","v":""},{"$f":"Blad3!G185","v":0},"Oanmäld frånvaro"]
["FRÅNVARO",{"$f":"IN!B186","v":0},{"$f":"Blad3!E186","v":""},{"$f":"Blad3!G186","v":0},"Oanmäld frånvaro"]
["FRÅNVARO",{"$f":"IN!B187","v":0},{"$f":"Blad3!E187","v":""},{"$f":"Blad3!G187","v":0},"Oanmäld frånvaro"]
["FRÅNVARO",{"$f":"IN!B188","v":0},{"$f":"Blad3!E188","v":""},{"$f":"Blad3!G188","v":0},"Oanmäld frånvaro"]
["FRÅNVARO",{"$f":"IN!B189","v":0},{"$f":"Blad3!E189","v":""},{"$f":"Blad3!G189","v":0},"Oanmäld frånvaro"]
["FRÅNVARO",{"$f":"IN!B190","v":0},{"$f":"Blad3!E190","v":""},{"$f":"Blad3!G190","v":0},"Oanmäld frånvaro"]
["FRÅNVARO",{"$f":"IN!B191","v":0},{"$f":"Blad3!E191","v":""},{"$f":"Blad3!G191","v":0},"Oanmäld frånvaro"]
["FRÅNVARO",{"$f":"IN!B192","v":0},{"$f":"Blad3!E192","v":""},{"$f":"Blad3!G192","v":0},"Oanmäld frånvaro"]
["FRÅNVARO",{"$f":"IN!B193","v":0},{"$f":"Blad3!E193","v":""},{"$f":"Blad3!G193","v":0},"Oanmäld frånvaro"]
["FRÅNVARO",{"$f":"IN!B194","v":0},{"$f":"Blad3!E194","v":""},{"$f":"Blad3!G194","v":0},"Oanmäld frånvaro"]
["FRÅNVARO",{"$f":"IN!B195","v":0},{"$f":"Blad3!E195","v":""},{"$f":"Blad3!G195","v":0},"Oanmäld frånvaro"]
["FRÅNVARO",{"$f":"IN!B196","v":0},{"$f":"Blad3!E196","v":""},{"$f":"Blad3!G196","v":0},"Oanmäld frånvaro"]
["FRÅNVARO",{"$f":"IN!B197","v":0},{"$f":"Blad3!E197","v":""},{"$f":"Blad3!G197","v":0},"Oanmäld frånvaro"]
["FRÅNVARO",{"$f":"IN!B198","v":0},{"$f":"Blad3!E198","v":""},{"$f":"Blad3!G198","v":0},"Oanmäld frånvaro"]
["FRÅNVARO",{"$f":"IN!B199","v":0},{"$f":"Blad3!E199","v":""},{"$f":"Blad3!G199","v":0},"Oanmäld frånvaro"]
["FRÅNVARO",{"$f":"IN!B200","v":0},{"$f":"Blad3!E200","v":""},{"$f":"Blad3!G200","v":0},"Oanmäld frånvaro"]
["FRÅNVARO",{"$f":"IN!B201","v":0},{"$f":"Blad3!E201","v":""},{"$f":"Blad3!G201","v":0},"Oanmäld frånvaro"]
["FRÅNVARO",{"$f":"IN!B202","v":0},{"$f":"Blad3!E202","v":""},{"$f":"Blad3!G202","v":0},"Oanmäld frånvaro"]
["FRÅNVARO",{"$f":"IN!B203","v":0},{"$f":"Blad3!E203","v":""},{"$f":"Blad3!G203","v":0},"Oanmäld frånvaro"]
["FRÅNVARO",{"$f":"IN!B204","v":0},{"$f":"Blad3!E204","v":""},{"$f":"Blad3!G204","v":0},"Oanmäld frånvaro"]
["FRÅNVARO",{"$f":"IN!B205","v":0},{"$f":"Blad3!E205","v":""},{"$f":"Blad3!G205","v":0},"Oanmäld frånvaro"]
["FRÅNVARO",{"$f":"IN!B206","v":0},{"$f":"Blad3!E206","v":""},{"$f":"Blad3!G206","v":0},"Oanmäld frånvaro"]
["FRÅNVARO",{"$f":"IN!B207","v":0},{"$f":"Blad3!E207","v":""},{"$f":"Blad3!G207","v":0},"Oanmäld frånvaro"]
["FRÅNVARO",{"$f":"IN!B208","v":0},{"$f":"Blad3!E208","v":""},{"$f":"Blad3!G208","v":0},"Oanmäld frånvaro"]
["FRÅNVARO",{"$f":"IN!B209","v":0},{"$f":"Blad3!E209","v":""},{"$f":"Blad3!G209","v":0},"Oanmäld frånvaro"]
["FRÅNVARO",{"$f":"IN!B210","v":0},{"$f":"Blad3!E210","v":""},{"$f":"Blad3!G210","v":0},"Oanmäld frånvaro"]
["FRÅNVARO",{"$f":"IN!B211","v":0},{"$f":"Blad3!E211","v":""},{"$f":"Blad3!G211","v":0},"Oanmäld frånvaro"]
["FRÅNVARO",{"$f":"IN!B212","v":0},{"$f":"Blad3!E212","v":""},{"$f":"Blad3!G212","v":0},"Oanmäld frånvaro"]
["FRÅNVARO",{"$f":"IN!B213","v":0},{"$f":"Blad3!E213","v":""},{"$f":"Blad3!G213","v":0},"Oanmäld frånvaro"]
["FRÅNVARO",{"$f":"IN!B214","v":0},{"$f":"Blad3!E214","v":""},{"$f":"Blad3!G214","v":0},"Oanmäld frånvaro"]
["FRÅNVARO",{"$f":"IN!B215","v":0},{"$f":"Blad3!E215","v":""},{"$f":"Blad3!G215","v":0},"Oanmäld frånvaro"]
["FRÅNVARO",{"$f":"IN!B216","v":0},{"$f":"Blad3!E216","v":""},{"$f":"Blad3!G216","v":0},"Oanmäld frånvaro"]
["FRÅNVARO",{"$f":"IN!B217","v":0},{"$f":"Blad3!E217","v":""},{"$f":"Blad3!G217","v":0},"Oanmäld frånvaro"]
["FRÅNVARO",{"$f":"IN!B218","v":0},{"$f":"Blad3!E218","v":""},{"$f":"Blad3!G218","v":0},"Oanmäld frånvaro"]
["FRÅNVARO",{"$f":"IN!B219","v":0},{"$f":"Blad3!E219","v":""},{"$f":"Blad3!G219","v":0},"Oanmäld frånvaro"]
["FRÅNVARO",{"$f":"IN!B220","v":0},{"$f":"Blad3!E220","v":""},{"$f":"Blad3!G220","v":0},"Oanmäld frånvaro"]
["FRÅNVARO",{"$f":"IN!B221","v":0},{"$f":"Blad3!E221","v":""},{"$f":"Blad3!G221","v":0},"Oanmäld frånvaro"]
["FRÅNVARO",{"$f":"IN!B222","v":0},{"$f":"Blad3!E222","v":""},{"$f":"Blad3!G222","v":0},"Oanmäld frånvaro"]
["FRÅNVARO",{"$f":"IN!B223","v":0},{"$f":"Blad3!E223","v":""},{"$f":"Blad3!G223","v":0},"Oanmäld frånvaro"]
["FRÅNVARO",{"$f":"IN!B224","v":0},{"$f":"Blad3!E224","v":""},{"$f":"Blad3!G224","v":0},"Oanmäld frånvaro"]
["FRÅNVARO",{"$f":"IN!B225","v":0},{"$f":"Blad3!E225","v":""},{"$f":"Blad3!G225","v":0},"Oanmäld frånvaro"]
["FRÅNVARO",{"$f":"IN!B226","v":0},{"$f":"Blad3!E226","v":""},{"$f":"Blad3!G226","v":0},"Oanmäld frånvaro"]
["FRÅNVARO",{"$f":"IN!B227","v":0},{"$f":"Blad3!E227","v":""},{"$f":"Blad3!G227","v":0},"Oanmäld frånvaro"]
["FRÅNVARO",{"$f":"IN!B228","v":0},{"$f":"Blad3!E228","v":""},{"$f":"Blad3!G228","v":0},"Oanmäld frånvaro"]
["FRÅNVARO",{"$f":"IN!B229","v":0},{"$f":"Blad3!E229","v":""},{"$f":"Blad3!G229","v":0},"Oanmäld frånvaro"]
["FRÅNVARO",{"$f":"IN!B230","v":0},{"$f":"Blad3!E230","v":""},{"$f":"Blad3!G230","v":0},"Oanmäld frånvaro"]
["FRÅNVARO",{"$f":"IN!B231","v":0},{"$f":"Blad3!E231","v":""},{"$f":"Blad3!G231","v":0},"Oanmäld frånvaro"]
["FRÅNVARO",{"$f":"IN!B232","v":0},{"$f":"Blad3!E232","v":""},{"$f":"Blad3!G232","v":0},"Oanmäld frånvaro"]
["FRÅNVARO",{"$f":"IN!B233","v":0},{"$f":"Blad3!E233","v":""},{"$f":"Blad3!G233","v":0},"Oanmäld frånvaro"]
["FRÅNVARO",{"$f":"IN!B234","v":0},{"$f":"Blad3!E234","v":""},{"$f":"Blad3!G234","v":0},"Oanmäld frånvaro"]
["FRÅNVARO",{"$f":"IN!B235","v":0},{"$f":"Blad3!E235","v":""},{"$f":"Blad3!G235","v":0},"Oanmäld frånvaro"]
["FRÅNVARO",{"$f":"IN!B236","v":0},{"$f":"Blad3!E236","v":""},{"$f":"Blad3!G236","v":0},"Oanmäld frånvaro"]
["FRÅNVARO",{"$f":"IN!B237","v":0},{"$f":"Blad3!E237","v":""},{"$f":"Blad3!G237","v":0},"Oanmäld frånvaro"]
["FRÅNVARO",{"$f":"IN!B238","v":0},{"$f":"Blad3!E238","v":""},{"$f":"Blad3!G238","v":0},"Oanmäld frånvaro"]
["FRÅNVARO",{"$f":"IN!B239","v":0},{"$f":"Blad3!E239","v":""},{"$f":"Blad3!G239","v":0},"Oanmäld frånvaro"]
["FRÅNVARO",{"$f":"IN!B240","v":0},{"$f":"Blad3!E240","v":""},{"$f":"Blad3!G240","v":0},"Oanmäld frånvaro"]
["FRÅNVARO",{"$f":"IN!B241","v":0},{"$f":"Blad3!E241","v":""},{"$f":"Blad3!G241","v":0},"Oanmäld frånvaro"]
["FRÅNVARO",{"$f":"IN!B242","v":0},{"$f":"Blad3!E242","v":""},{"$f":"Blad3!G242","v":0},"Oanmäld frånvaro"]
["FRÅNVARO",{"$f":"IN!B243","v":0},{"$f":"Blad3!E243","v":""},{"$f":"Blad3!G243","v":0},"Oanmäld frånvaro"]
["FRÅNVARO",{"$f":"IN!B244","v":0},{"$f":"Blad3!E244","v":""},{"$f":"Blad3!G244","v":0},"Oanmäld frånvaro"]
["FRÅNVARO",{"$f":"IN!B245","v":0},{"$f":"Blad3!E245","v":""},{"$f":"Blad3!G245","v":0},"Oanmäld frånvaro"]
["FRÅNVARO",{"$f":"IN!B246","v":0},{"$f":"Blad3!E246","v":""},{"$f":"Blad3!G246","v":0},"Oanmäld frånvaro"]
["FRÅNVARO",{"$f":"IN!B247","v":0},{"$f":"Blad3!E247","v":""},{"$f":"Blad3!G247","v":0},"Oanmäld frånvaro"]
["FRÅNVARO",{"$f":"IN!B248","v":0},{"$f":"Blad3!E248","v":""},{"$f":"Blad3!G248","v":0},"Oanmäld frånvaro"]
["FRÅNVARO",{"$f":"IN!B249","v":0},{"$f":"Blad3!E249","v":""},{"$f":"Blad3!G249","v":0},"Oanmäld frånvaro"]
["FRÅNVARO",{"$f":"IN!B250","v":0},{"$f":"Blad3!E250","v":""},{"$f":"Blad3!G250","v":0},"Oanmäld frånvaro"]
["FRÅNVARO",{"$f":"IN!B251","v":0},{"$f":"Blad3!E251","v":""},{"$f":"Blad3!G251","v":0},"Oanmäld frånvaro"]
["FRÅNVARO",{"$f":"IN!B252","v":0},{"$f":"Blad3!E252","v":""},{"$f":"Blad3!G252","v":0},"Oanmäld frånvaro"]
["FRÅNVARO",{"$f":"IN!B253","v":0},{"$f":"Blad3!E253","v":""},{"$f":"Blad3!G253","v":0},"Oanmäld frånvaro"]
["FRÅNVARO",{"$f":"IN!B254","v":0},{"$f":"Blad3!E254","v":""},{"$f":"Blad3!G254","v":0},"Oanmäld frånvaro"]
["FRÅNVARO",{"$f":"IN!B255","v":0},{"$f":"Blad3!E255","v":""},{"$f":"Blad3!G255","v":0},"Oanmäld frånvaro"]
["FRÅNVARO",{"$f":"IN!B256","v":0},{"$f":"Blad3!E256","v":""},{"$f":"Blad3!G256","v":0},"Oanmäld frånvaro"]
["FRÅNVARO",{"$f":"IN!B257","v":0},{"$f":"Blad3!E257","v":""},{"$f":"Blad3!G257","v":0},"Oanmäld frånvaro"]
["FRÅNVARO",{"$f":"IN!B258","v":0},{"$f":"Blad3!E258","v":""},{"$f":"Blad3!G258","v":0},"Oanmäld frånvaro"]
["FRÅNVARO",{"$f":"IN!B259","v":0},{"$f":"Blad3!E259","v":""},{"$f":"Blad3!G259","v":0},"Oanmäld frånvaro"]
["FRÅNVARO",{"$f":"IN!B260","v":0},{"$f":"Blad3!E260","v":""},{"$f":"Blad3!G260","v":0},"Oanmäld frånvaro"]
["FRÅNVARO",{"$f":"IN!B261","v":0},{"$f":"Blad3!E261","v":""},{"$f":"Blad3!G261","v":0},"Oanmäld frånvaro"]
["FRÅNVARO",{"$f":"IN!B262","v":0},{"$f":"Blad3!E262","v":""},{"$f":"Blad3!G262","v":0},"Oanmäld frånvaro"]
["FRÅNVARO",{"$f":"IN!B263","v":0},{"$f":"Blad3!E263","v":""},{"$f":"Blad3!G263","v":0},"Oanmäld frånvaro"]
["FRÅNVARO",{"$f":"IN!B264","v":0},{"$f":"Blad3!E264","v":""},{"$f":"Blad3!G264","v":0},"Oanmäld frånvaro"]
["FRÅNVARO",{"$f":"IN!B265","v":0},{"$f":"Blad3!E265","v":""},{"$f":"Blad3!G265","v":0},"Oanmäld frånvaro"]
["FRÅNVARO",{"$f":"IN!B266","v":0},{"$f":"Blad3!E266","v":""},{"$f":"Blad3!G266","v":0},"Oanmäld frånvaro"]
["FRÅNVARO",{"$f":"IN!B267","v":0},{"$f":"Blad3!E267","v":""},{"$f":"Blad3!G267","v":0},"Oanmäld frånvaro"]
["FRÅNVARO",{"$f":"IN!B268","v":0},{"$f":"Blad3!E268","v":""},{"$f":"Blad3!G268","v":0},"Oanmäld frånvaro"]
["FRÅNVARO",{"$f":"IN!B269","v":0},{"$f":"Blad3!E269","v":""},{"$f":"Blad3!G269","v":0},"Oanmäld frånvaro"]
["FRÅNVARO",{"$f":"IN!B270","v":0},{"$f":"Blad3!E270","v":""},{"$f":"Blad3!G270","v":0},"Oanmäld frånvaro"]
["FRÅNVARO",{"$f":"IN!B271","v":0},{"$f":"Blad3!E271","v":""},{"$f":"Blad3!G271","v":0},"Oanmäld frånvaro"]
["FRÅNVARO",{"$f":"IN!B272","v":0},{"$f":"Blad3!E272","v":""},{"$f":"Blad3!G272","v":0},"Oanmäld frånvaro"]
["FRÅNVARO",{"$f":"IN!B273","v":0},{"$f":"Blad3!E273","v":""},{"$f":"Blad3!G273","v":0},"Oanmäld frånvaro"]
["FRÅNVARO",{"$f":"IN!B274","v":0},{"$f":"Blad3!E274","v":""},{"$f":"Blad3!G274","v":0},"Oanmäld frånvaro"]
["FRÅNVARO",{"$f":"IN!B275","v":0},{"$f":"Blad3!E275","v":""},{"$f":"Blad3!G275","v":0},"Oanmäld frånvaro"]
["FRÅNVARO",{"$f":"IN!B276","v":0},{"$f":"Blad3!E276","v":""},{"$f":"Blad3!G276","v":0},"Oanmäld frånvaro"]
["FRÅNVARO",{"$f":"IN!B277","v":0},{"$f":"Blad3!E277","v":""},{"$f":"Blad3!G277","v":0},"Oanmäld frånvaro"]
["FRÅNVARO",{"$f":"IN!B278","v":0},{"$f":"Blad3!E278","v":""},{"$f":"Blad3!G278","v":0},"Oanmäld frånvaro"]
["FRÅNVARO",{"$f":"IN!B279","v":0},{"$f":"Blad3!E279","v":""},{"$f":"Blad3!G279","v":0},"Oanmäld frånvaro"]
["FRÅNVARO",{"$f":"IN!B280","v":0},{"$f":"Blad3!E280","v":""},{"$f":"Blad3!G280","v":0},"Oanmäld frånvaro"]
["FRÅNVARO",{"$f":"IN!B281","v":0},{"$f":"Blad3!E281","v":""},{"$f":"Blad3!G281","v":0},"Oanmäld frånvaro"]
["FRÅNVARO",{"$f":"IN!B282","v":0},{"$f":"Blad3!E282","v":""},{"$f":"Blad3!G282","v":0},"Oanmäld frånvaro"]
["FRÅNVARO",{"$f":"IN!B283","v":0},{"$f":"Blad3!E283","v":""},{"$f":"Blad3!G283","v":0},"Oanmäld frånvaro"]
["FRÅNVARO",{"$f":"IN!B284","v":0},{"$f":"Blad3!E284","v":""},{"$f":"Blad3!G284","v":0},"Oanmäld frånvaro"]
["FRÅNVARO",{"$f":"IN!B285","v":0},{"$f":"Blad3!E285","v":""},{"$f":"Blad3!G285","v":0},"Oanmäld frånvaro"]
["FRÅNVARO",{"$f":"IN!B286","v":0},{"$f":"Blad3!E286","v":""},{"$f":"Blad3!G286","v":0},"Oanmäld frånvaro"]
["FRÅNVARO",{"$f":"IN!B287","v":0},{"$f":"Blad3!E287","v":""},{"$f":"Blad3!G287","v":0},"Oanmäld frånvaro"]
["FRÅNVARO",{"$f":"IN!B288","v":0},{"$f":"Blad3!E288","v":""},{"$f":"Blad3!G288","v":0},"Oanmäld frånvaro"]
["FRÅNVARO",{"$f":"IN!B289","v":0},{"$f":"Blad3!E289","v":""},{"$f":"Blad3!G289","v":0},"Oanmäld frånvaro"]
["FRÅNVARO",{"$f":"IN!B290","v":0},{"$f":"Blad3!E290","v":""},{"$f":"Blad3!G290","v":0},"Oanmäld frånvaro"]
["FRÅNVARO",{"$f":"IN!B291","v":0},{"$f":"Blad3!E291","v":""},{"$f":"Blad3!G291","v":0},"Oanmäld frånvaro"]
["FRÅNVARO",{"$f":"IN!B292","v":0},{"$f":"Blad3!E292","v":""},{"$f":"Blad3!G292","v":0},"Oanmäld frånvaro"]
["FRÅNVARO",{"$f":"IN!B293","v":0},{"$f":"Blad3!E293","v":""},{"$f":"Blad3!G293","v":0},"Oanmäld frånvaro"]
["FRÅNVARO",{"$f":"IN!B294","v":0},{"$f":"Blad3!E294","v":""},{"$f":"Blad3!G294","v":0},"Oanmäld frånvaro"]
["FRÅNVARO",{"$f":"IN!B295","v":0},{"$f":"Blad3!E295","v":""},{"$f":"Blad3!G295","v":0},"Oanmäld frånvaro"]
["FRÅNVARO",{"$f":"IN!B296","v":0},{"$f":"Blad3!E296","v":""},{"$f":"Blad3!G296","v":0},"Oanmäld frånvaro"]
["FRÅNVARO",{"$f":"IN!B297","v":0},{"$f":"Blad3!E297","v":""},{"$f":"Blad3!G297","v":0},"Oanmäld frånvaro"]
["FRÅNVARO",{"$f":"IN!B298","v":0},{"$f":"Blad3!E298","v":""},{"$f":"Blad3!G298","v":0},"Oanmäld frånvaro"]
["FRÅNVARO",{"$f":"IN!B299","v":0},{"$f":"Blad3!E299","v":""},{"$f":"Blad3!G299","v":0},"Oanmäld frånvaro"]
["FRÅNVARO",{"$f":"IN!B300","v":0},{"$f":"Blad3!E300","v":""},{"$f":"Blad3!G300","v":0},"Oanmäld frånvaro"]
["FRÅNVARO",{"$f":"IN!B301","v":0},{"$f":"Blad3!E301","v":""},{"$f":"Blad3!G301","v":0},"Oanmäld frånvaro"]
["FRÅNVARO",{"$f":"IN!B302","v":0},{"$f":"Blad3!E302","v":""},{"$f":"Blad3!G302","v":0},"Oanmäld frånvaro"]
["FRÅNVARO",{"$f":"IN!B303","v":0},{"$f":"Blad3!E303","v":""},{"$f":"Blad3!G303","v":0},"Oanmäld frånvaro"]
["FRÅNVARO",{"$f":"IN!B304","v":0},{"$f":"Blad3!E304","v":""},{"$f":"Blad3!G304","v":0},"Oanmäld frånvaro"]
["FRÅNVARO",{"$f":"IN!B305","v":0},{"$f":"Blad3!E305","v":""},{"$f":"Blad3!G305","v":0},"Oanmäld frånvaro"]
["FRÅNVARO",{"$f":"IN!B306","v":0},{"$f":"Blad3!E306","v":""},{"$f":"Blad3!G306","v":0},"Oanmäld frånvaro"]
["FRÅNVARO",{"$f":"IN!B307","v":0},{"$f":"Blad3!E307","v":""},{"$f":"Blad3!G307","v":0},"Oanmäld frånvaro"]
["FRÅNVARO",{"$f":"IN!B308","v":0},{"$f":"Blad3!E308","v":""},{"$f":"Blad3!G308","v":0},"Oanmäld frånvaro"]
["FRÅNVARO",{"$f":"IN!B309","v":0},{"$f":"Blad3!E309","v":""},{"$f":"Blad3!G309","v":0},"Oanmäld frånvaro"]
["FRÅNVARO",{"$f":"IN!B310","v":0},{"$f":"Blad3!E310","v":""},{"$f":"Blad3!G310","v":0},"Oanmäld frånvaro"]
["FRÅNVARO",{"$f":"IN!B311","v":0},{"$f":"Blad3!E311","v":""},{"$f":"Blad3!G311","v":0},"Oanmäld frånvaro"]
["FRÅNVARO",{"$f":"IN!B312","v":0},{"$f":"Blad3!E312","v":""},{"$f":"Blad3!G312","v":0},"Oanmäld frånvaro"]
["FRÅNVARO",{"$f":"IN!B313","v":0},{"$f":"Blad3!E313","v":""},{"$f":"Blad3!G313","v":0},"Oanmäld frånvaro"]
["FRÅNVARO",{"$f":"IN!B314","v":0},{"$f":"Blad3!E314","v":""},{"$f":"Blad3!G314","v":0},"Oanmäld frånvaro"]
["FRÅNVARO",{"$f":"IN!B315","v":0},{"$f":"Blad3!E315","v":""},{"$f":"Blad3!G315","v":0},"Oanmäld frånvaro"]
["FRÅNVARO",{"$f":"IN!B316","v":0},{"$f":"Blad3!E316","v":""},{"$f":"Blad3!G316","v":0},"Oanmäld frånvaro"]
["FRÅNVARO",{"$f":"IN!B317","v":0},{"$f":"Blad3!E317","v":""},{"$f":"Blad3!G317","v":0},"Oanmäld frånvaro"]
["FRÅNVARO",{"$f":"IN!B318","v":0},{"$f":"Blad3!E318","v":""},{"$f":"Blad3!G318","v":0},"Oanmäld frånvaro"]
["FRÅNVARO",{"$f":"IN!B319","v":0},{"$f":"Blad3!E319","v":""},{"$f":"Blad3!G319","v":0},"Oanmäld frånvaro"]
["FRÅNVARO",{"$f":"IN!B320","v":0},{"$f":"Blad3!E320","v":""},{"$f":"Blad3!G320","v":0},"Oanmäld frånvaro"]
["FRÅNVARO",{"$f":"IN!B321","v":0},{"$f":"Blad3!E321","v":""},{"$f":"Blad3!G321","v":0},"Oanmäld frånvaro"]
["FRÅNVARO",{"$f":"IN!B322","v":0},{"$f":"Blad3!E322","v":""},{"$f":"Blad3!G322","v":0},"Oanmäld frånvaro"]
["FRÅNVARO",{"$f":"IN!B323","v":0},{"$f":"Blad3!E323","v":""},{"$f":"Blad3!G323","v":0},"Oanmäld frånvaro"]
["FRÅNVARO",{"$f":"IN!B324","v":0},{"$f":"Blad3!E324","v":""},{"$f":"Blad3!G324","v":0},"Oanmäld frånvaro"]
["FRÅNVARO",{"$f":"IN!B325","v":0},{"$f":"Blad3!E325","v":""},{"$f":"Blad3!G325","v":0},"Oanmäld frånvaro"]
["FRÅNVARO",{"$f":"IN!B326","v":0},{"$f":"Blad3!E326","v":""},{"$f":"Blad3!G326","v":0},"Oanmäld frånvaro"]
["FRÅNVARO",{"$f":"IN!B327","v":0},{"$f":"Blad3!E327","v":""},{"$f":"Blad3!G327","v":0},"Oanmäld frånvaro"]
["FRÅNVARO",{"$f":"IN!B328","v":0},{"$f":"Blad3!E328","v":""},{"$f":"Blad3!G328","v":0},"Oanmäld frånvaro"]
["FRÅNVARO",{"$f":"IN!B329","v":0},{"$f":"Blad3!E329","v":""},{"$f":"Blad3!G329","v":0},"Oanmäld frånvaro"]
["FRÅNVARO",{"$f":"IN!B330","v":0},{"$f":"Blad3!E330","v":""},{"$f":"Blad3!G330","v":0},"Oanmäld frånvaro"]
["FRÅNVARO",{"$f":"IN!B331","v":0},{"$f":"Blad3!E331","v":""},{"$f":"Blad3!G331","v":0},"Oanmäld frånvaro"]
["FRÅNVARO",{"$f":"IN!B332","v":0},{"$f":"Blad3!E332","v":""},{"$f":"Blad3!G332","v":0},"Oanmäld frånvaro"]
["FRÅNVARO",{"$f":"IN!B333","v":0},{"$f":"Blad3!E333","v":""},{"$f":"Blad3!G333","v":0},"Oanmäld frånvaro"]
["FRÅNVARO",{"$f":"IN!B334","v":0},{"$f":"Blad3!E334","v":""},{"$f":"Blad3!G334","v":0},"Oanmäld frånvaro"]
["FRÅNVARO",{"$f":"IN!B335","v":0},{"$f":"Blad3!E335","v":""},{"$f":"Blad3!G335","v":0},"Oanmäld frånvaro"]
["FRÅNVARO",{"$f":"IN!B336","v":0},{"$f":"Blad3!E336","v":""},{"$f":"Blad3!G336","v":0},"Oanmäld frånvaro"]
["FRÅNVARO",{"$f":"IN!B337","v":0},{"$f":"Blad3!E337","v":""},{"$f":"Blad3!G337","v":0},"Oanmäld frånvaro"]
["FRÅNVARO",{"$f":"IN!B338","v":0},{"$f":"Blad3!E338","v":""},{"$f":"Blad3!G338","v":0},"Oanmäld frånvaro"]
["FRÅNVARO",{"$f":"IN!B339","v":0},{"$f":"Blad3!E339","v":""},{"$f":"Blad3!G339","v":0},"Oanmäld frånvaro"]
["FRÅNVARO",{"$f":"IN!B340","v":0},{"$f":"Blad3!E340","v":""},{"$f":"Blad3!G340","v":0},"Oanmäld frånvaro"]
["FRÅNVARO",{"$f":"IN!B341","v":0},{"$f":"Blad3!E341","v":""},{"$f":"Blad3!G341","v":0},"Oanmäld frånvaro"]
["FRÅNVARO",{"$f":"IN!B342","v":0},{"$f":"Blad3!E342","v":""},{"$f":"Blad3!G342","v":0},"Oanmäld frånvaro"]
["FRÅNVARO",{"$f":"IN!B343","v":0},{"$f":"Blad3!E343","v":""},{"$f":"Blad3!G343","v":0},"Oanmäld frånvaro"]
["FRÅNVARO",{"$f":"IN!B344","v":0},{"$f":"Blad3!E344","v":""},{"$f":"Blad3!G344","v":0},"Oanmäld frånvaro"]
["FRÅNVARO",{"$f":"IN!B345","v":0},{"$f":"Blad3!E345","v":""},{"$f":"Blad3!G345","v":0},"Oanmäld frånvaro"]
["FRÅNVARO",{"$f":"IN!B346","v":0},{"$f":"Blad3!E346","v":""},{"$f":"Blad3!G346","v":0},"Oanmäld frånvaro"]
["FRÅNVARO",{"$f":"IN!B347","v":0},{"$f":"Blad3!E347","v":""},{"$f":"Blad3!G347","v":0},"Oanmäld frånvaro"]
["FRÅNVARO",{"$f":"IN!B348","v":0},{"$f":"Blad3!E348","v":""},{"$f":"Blad3!G348","v":0},"Oanmäld frånvaro"]
["FRÅNVARO",{"$f":"IN!B349","v":0},{"$f":"Blad3!E349","v":""},{"$f":"Blad3!G349","v":0},"Oanmäld frånvaro"]
["FRÅNVARO",{"$f":"IN!B350","v":0},{"$f":"Blad3!E350","v":""},{"$f":"Blad3!G350","v":0},"Oanmäld frånvaro"]
["FRÅNVARO",{"$f":"IN!B351","v":0},{"$f":"Blad3!E351","v":""},{"$f":"Blad3!G351","v":0},"Oanmäld frånvaro"]
["FRÅNVARO",{"$f":"IN!B352","v":0},{"$f":"Blad3!E352","v":""},{"$f":"Blad3!G352","v":0},"Oanmäld frånvaro"]
["FRÅNVARO",{"$f":"IN!B353","v":0},{"$f":"Blad3!E353","v":""},{"$f":"Blad3!G353","v":0},"Oanmäld frånvaro"]
["FRÅNVARO",{"$f":"IN!B354","v":0},{"$f":"Blad3!E354","v":""},{"$f":"Blad3!G354","v":0},"Oanmäld frånvaro"]
["FRÅNVARO",{"$f":"IN!B355","v":0},{"$f":"Blad3!E355","v":""},{"$f":"Blad3!G355","v":0},"Oanmäld frånvaro"]
["FRÅNVARO",{"$f":"IN!B356","v":0},{"$f":"Blad3!E356","v":""},{"$f":"Blad3!G356","v":0},"Oanmäld frånvaro"]
["FRÅNVARO",{"$f":"IN!B357","v":0},{"$f":"Blad3!E357","v":""},{"$f":"Blad3!G357","v":0},"Oanmäld frånvaro"]
["FRÅNVARO",{"$f":"IN!B358","v":0},{"$f":"Blad3!E358","v":""},{"$f":"Blad3!G358","v":0},"Oanmäld frånvaro"]
["FRÅNVARO",{"$f":"IN!B359","v":0},{"$f":"Blad3!E359","v":""},{"$f":"Blad3!G359","v":0},"Oanmäld frånvaro"]
["FRÅNVARO",{"$f":"IN!B360","v":0},{"$f":"Blad3!E360","v":""},{"$f":"Blad3!G360","v":0},"Oanmäld frånvaro"]
["FRÅNVARO",{"$f":"IN!B361","v":0},{"$f":"Blad3!E361","v":""},{"$f":"Blad3!G361","v":0},"Oanmäld frånvaro"]
["FRÅNVARO",{"$f":"IN!B362","v":0},{"$f":"Blad3!E362","v":""},{"$f":"Blad3!G362","v":0},"Oanmäld frånvaro"]
["FRÅNVARO",{"$f":"IN!B363","v":0},{"$f":"Blad3!E363","v":""},{"$f":"Blad3!G363","v":0},"Oanmäld frånvaro"]
["FRÅNVARO",{"$f":"IN!B364","v":0},{"$f":"Blad3!E364","v":""},{"$f":"Blad3!G364","v":0},"Oanmäld frånvaro"]
["FRÅNVARO",{"$f":"IN!B365","v":0},{"$f":"Blad3!E365","v":""},{"$f":"Blad3!G365","v":0},"Oanmäld frånvaro"]
["FRÅNVARO",{"$f":"IN!B366","v":0},{"$f":"Blad3!E366","v":""},{"$f":"Blad3!G366","v":0},"Oanmäld frånvaro"]
["FRÅNVARO",{"$f":"IN!B367","v":0},{"$f":"Blad3!E367","v":""},{"$f":"Blad3!G367","v":0},"Oanmäld frånvaro"]
["FRÅNVARO",{"$f":"IN!B368","v":0},{"$f":"Blad3!E368","v":""},{"$f":"Blad3!G368","v":0},"Oanmäld frånvaro"]
["FRÅNVARO",{"$f":"IN!B369","v":0},{"$f":"Blad3!E369","v":""},{"$f":"Blad3!G369","v":0},"Oanmäld frånvaro"]
["FRÅNVARO",{"$f":"IN!B370","v":0},{"$f":"Blad3!E370","v":""},{"$f":"Blad3!G370","v":0},"Oanmäld frånvaro"]
["FRÅNVARO",{"$f":"IN!B371","v":0},{"$f":"Blad3!E371","v":""},{"$f":"Blad3!G371","v":0},"Oanmäld frånvaro"]
["FRÅNVARO",{"$f":"IN!B372","v":0},{"$f":"Blad3!E372","v":""},{"$f":"Blad3!G372","v":0},"Oanmäld frånvaro"]
["FRÅNVARO",{"$f":"IN!B373","v":0},{"$f":"Blad3!E373","v":""},{"$f":"Blad3!G373","v":0},"Oanmäld frånvaro"]
["FRÅNVARO",{"$f":"IN!B374","v":0},{"$f":"Blad3!E374","v":""},{"$f":"Blad3!G374","v":0},"Oanmäld frånvaro"]
["FRÅNVARO",{"$f":"IN!B375","v":0},{"$f":"Blad3!E375","v":""},{"$f":"Blad3!G375","v":0},"Oanmäld frånvaro"]
["FRÅNVARO",{"$f":"IN!B376","v":0},{"$f":"Blad3!E376","v":""},{"$f":"Blad3!G376","v":0},"Oanmäld frånvaro"]
["FRÅNVARO",{"$f":"IN!B377","v":0},{"$f":"Blad3!E377","v":""},{"$f":"Blad3!G377","v":0},"Oanmäld frånvaro"]
["FRÅNVARO",{"$f":"IN!B378","v":0},{"$f":"Blad3!E378","v":""},{"$f":"Blad3!G378","v":0},"Oanmäld frånvaro"]
["FRÅNVARO",{"$f":"IN!B379","v":0},{"$f":"Blad3!E379","v":""},{"$f":"Blad3!G379","v":0},"Oanmäld frånvaro"]
["FRÅNVARO",{"$f":"IN!B380","v":0},{"$f":"Blad3!E380","v":""},{"$f":"Blad3!G380","v":0},"Oanmäld frånvaro"]
["FRÅNVARO",{"$f":"IN!B381","v":0},{"$f":"Blad3!E381","v":""},{"$f":"Blad3!G381","v":0},"Oanmäld frånvaro"]
["FRÅNVARO",{"$f":"IN!B382","v":0},{"$f":"Blad3!E382","v":""},{"$f":"Blad3!G382","v":0},"Oanmäld frånvaro"]
["FRÅNVARO",{"$f":"IN!B383","v":0},{"$f":"Blad3!E383","v":""},{"$f":"Blad3!G383","v":0},"Oanmäld frånvaro"]
["FRÅNVARO",{"$f":"IN!B384","v":0},{"$f":"Blad3!E384","v":""},{"$f":"Blad3!G384","v":0},"Oanmäld frånvaro"]
["FRÅNVARO",{"$f":"IN!B385","v":0},{"$f":"Blad3!E385","v":""},{"$f":"Blad3!G385","v":0},"Oanmäld frånvaro"]
["FRÅNVARO",{"$f":"IN!B386","v":0},{"$f":"Blad3!E386","v":""},{"$f":"Blad3!G386","v":0},"Oanmäld frånvaro"]
["FRÅNVARO",{"$f":"IN!B387","v":0},{"$f":"Blad3!E387","v":""},{"$f":"Blad3!G387","v":0},"Oanmäld frånvaro"]
["FRÅNVARO",{"$f":"IN!B388","v":0},{"$f":"Blad3!E388","v":""},{"$f":"Blad3!G388","v":0},"Oanmäld frånvaro"]
["FRÅNVARO",{"$f":"IN!B389","v":0},{"$f":"Blad3!E389","v":""},{"$f":"Blad3!G389","v":0},"Oanmäld frånvaro"]
["FRÅNVARO",{"$f":"IN!B390","v":0},{"$f":"Blad3!E390","v":""},{"$f":"Blad3!G390","v":0},"Oanmäld frånvaro"]
["FRÅNVARO",{"$f":"IN!B391","v":0},{"$f":"Blad3!E391","v":""},{"$f":"Blad3!G391","v":0},"Oanmäld frånvaro"]
["FRÅNVARO",{"$f":"IN!B392","v":0},{"$f":"Blad3!E392","v":""},{"$f":"Blad3!G392","v":0},"Oanmäld frånvaro"]
["FRÅNVARO",{"$f":"IN!B393","v":0},{"$f":"Blad3!E393","v":""},{"$f":"Blad3!G393","v":0},"Oanmäld frånvaro"]
["FRÅNVARO",{"$f":"IN!B394","v":0},{"$f":"Blad3!E394","v":""},{"$f":"Blad3!G394","v":0},"Oanmäld frånvaro"]
["FRÅNVARO",{"$f":"IN!B395","v":0},{"$f":"Blad3!E395","v":""},{"$f":"Blad3!G395","v":0},"Oanmäld frånvaro"]
["FRÅNVARO",{"$f":"IN!B396","v":0},{"$f":"Blad3!E396","v":""},{"$f":"Blad3!G396","v":0},"Oanmäld frånvaro"]
["FRÅNVARO",{"$f":"IN!B397","v":0},{"$f":"Blad3!E397","v":""},{"$f":"Blad3!G397","v":0},"Oanmäld frånvaro"]
["FRÅNVARO",{"$f":"IN!B398","v":0},{"$f":"Blad3!E398","v":""},{"$f":"Blad3!G398","v":0},"Oanmäld frånvaro"]
["FRÅNVARO",{"$f":"IN!B399","v":0},{"$f":"Blad3!E399","v":""},{"$f":"Blad3!G399","v":0},"Oanmäld frånvaro"]
["FRÅNVARO",{"$f":"IN!B400","v":0},{"$f":"Blad3!E400","v":""},{"$f":"Blad3!G400","v":0},"Oanmäld frånvaro"]
["FRÅNVARO",{"$f":"IN!B401","v":0},{"$f":"Blad3!E401","v":""},{"$f":"Blad3!G401","v":0},"Oanmäld frånvaro"]
["FRÅNVARO",{"$f":"IN!B402","v":0},{"$f":"Blad3!E402","v":""},{"$f":"Blad3!G402","v":0},"Oanmäld frånvaro"]
["FRÅNVARO",{"$f":"IN!B403","v":0},{"$f":"Blad3!E403","v":""},{"$f":"Blad3!G403","v":0},"Oanmäld frånvaro"]
["FRÅNVARO",{"$f":"IN!B404","v":0},{"$f":"Blad3!E404","v":""},{"$f":"Blad3!G404","v":0},"Oanmäld frånvaro"]
["FRÅNVARO",{"$f":"IN!B405","v":0},{"$f":"Blad3!E405","v":""},{"$f":"Blad3!G405","v":0},"Oanmäld frånvaro"]
["FRÅNVARO",{"$f":"IN!B406","v":0},{"$f":"Blad3!E406","v":""},{"$f":"Blad3!G406","v":0},"Oanmäld frånvaro"]
["FRÅNVARO",{"$f":"IN!B407","v":0},{"$f":"Blad3!E407","v":""},{"$f":"Blad3!G407","v":0},"Oanmäld frånvaro"]
["FRÅNVARO",{"$f":"IN!B408","v":0},{"$f":"Blad3!E408","v":""},{"$f":"Blad3!G408","v":0},"Oanmäld frånvaro"]
["FRÅNVARO",{"$f":"IN!B409","v":0},{"$f":"Blad3!E409","v":""},{"$f":"Blad3!G409","v":0},"Oanmäld frånvaro"]
["FRÅNVARO",{"$f":"IN!B410","v":0},{"$f":"Blad3!E410","v":""},{"$f":"Blad3!G410","v":0},"Oanmäld frånvaro"]
["FRÅNVARO",{"$f":"IN!B411","v":0},{"$f":"Blad3!E411","v":""},{"$f":"Blad3!G411","v":0},"Oanmäld frånvaro"]
["FRÅNVARO",{"$f":"IN!B412","v":0},{"$f":"Blad3!E412","v":""},{"$f":"Blad3!G412","v":0},"Oanmäld frånvaro"]
["FRÅNVARO",{"$f":"IN!B413","v":0},{"$f":"Blad3!E413","v":""},{"$f":"Blad3!G413","v":0},"Oanmäld frånvaro"]
["FRÅNVARO",{"$f":"IN!B414","v":0},{"$f":"Blad3!E414","v":""},{"$f":"Blad3!G414","v":0},"Oanmäld frånvaro"]
["FRÅNVARO",{"$f":"IN!B415","v":0},{"$f":"Blad3!E415","v":""},{"$f":"Blad3!G415","v":0},"Oanmäld frånvaro"]
["FRÅNVARO",{"$f":"IN!B416","v":0},{"$f":"Blad3!E416","v":""},{"$f":"Blad3!G416","v":0},"Oanmäld frånvaro"]
["FRÅNVARO",{"$f":"IN!B417","v":0},{"$f":"Blad3!E417","v":""},{"$f":"Blad3!G417","v":0},"Oanmäld frånvaro"]
["FRÅNVARO",{"$f":"IN!B418","v":0},{"$f":"Blad3!E418","v":""},{"$f":"Blad3!G418","v":0},"Oanmäld frånvaro"]
["FRÅNVARO",{"$f":"IN!B419","v":0},{"$f":"Blad3!E419","v":""},{"$f":"Blad3!G419","v":0},"Oanmäld frånvaro"]
["FRÅNVARO",{"$f":"IN!B420","v":0},{"$f":"Blad3!E420","v":""},{"$f":"Blad3!G420","v":0},"Oanmäld frånvaro"]
["FRÅNVARO",{"$f":"IN!B421","v":0},{"$f":"Blad3!E421","v":""},{"$f":"Blad3!G421","v":0},"Oanmäld frånvaro"]
["FRÅNVARO",{"$f":"IN!B422","v":0},{"$f":"Blad3!E422","v":""},{"$f":"Blad3!G422","v":0},"Oanmäld frånvaro"]
["FRÅNVARO",{"$f":"IN!B423","v":0},{"$f":"Blad3!E423","v":""},{"$f":"Blad3!G423","v":0},"Oanmäld frånvaro"]
["FRÅNVARO",{"$f":"IN!B424","v":0},{"$f":"Blad3!E424","v":""},{"$f":"Blad3!G424","v":0},"Oanmäld frånvaro"]
["FRÅNVARO",{"$f":"IN!B425","v":0},{"$f":"Blad3!E425","v":""},{"$f":"Blad3!G425","v":0},"Oanmäld frånvaro"]
["FRÅNVARO",{"$f":"IN!B426","v":0},{"$f":"Blad3!E426","v":""},{"$f":"Blad3!G426","v":0},"Oanmäld frånvaro"]
["FRÅNVARO",{"$f":"IN!B427","v":0},{"$f":"Blad3!E427","v":""},{"$f":"Blad3!G427","v":0},"Oanmäld frånvaro"]
["FRÅNVARO",{"$f":"IN!B428","v":0},{"$f":"Blad3!E428","v":""},{"$f":"Blad3!G428","v":0},"Oanmäld frånvaro"]
["FRÅNVARO",{"$f":"IN!B429","v":0},{"$f":"Blad3!E429","v":""},{"$f":"Blad3!G429","v":0},"Oanmäld frånvaro"]
["FRÅNVARO",{"$f":"IN!B430","v":0},{"$f":"Blad3!E430","v":""},{"$f":"Blad3!G430","v":0},"Oanmäld frånvaro"]
["FRÅNVARO",{"$f":"IN!B431","v":0},{"$f":"Blad3!E431","v":""},{"$f":"Blad3!G431","v":0},"Oanmäld frånvaro"]
["FRÅNVARO",{"$f":"IN!B432","v":0},{"$f":"Blad3!E432","v":""},{"$f":"Blad3!G432","v":0},"Oanmäld frånvaro"]
["FRÅNVARO",{"$f":"IN!B433","v":0},{"$f":"Blad3!E433","v":""},{"$f":"Blad3!G433","v":0},"Oanmäld frånvaro"]
["FRÅNVARO",{"$f":"IN!B434","v":0},{"$f":"Blad3!E434","v":""},{"$f":"Blad3!G434","v":0},"Oanmäld frånvaro"]
["FRÅNVARO",{"$f":"IN!B435","v":0},{"$f":"Blad3!E435","v":""},{"$f":"Blad3!G435","v":0},"Oanmäld frånvaro"]
["FRÅNVARO",{"$f":"IN!B436","v":0},{"$f":"Blad3!E436","v":""},{"$f":"Blad3!G436","v":0},"Oanmäld frånvaro"]
["FRÅNVARO",{"$f":"IN!B437","v":0},{"$f":"Blad3!E437","v":""},{"$f":"Blad3!G437","v":0},"Oanmäld frånvaro"]
["FRÅNVARO",{"$f":"IN!B438","v":0},{"$f":"Blad3!E438","v":""},{"$f":"Blad3!G438","v":0},"Oanmäld frånvaro"]
["FRÅNVARO",{"$f":"IN!B439","v":0},{"$f":"Blad3!E439","v":""},{"$f":"Blad3!G439","v":0},"Oanmäld frånvaro"]
["FRÅNVARO",{"$f":"IN!B440","v":0},{"$f":"Blad3!E440","v":""},{"$f":"Blad3!G440","v":0},"Oanmäld frånvaro"]
["FRÅNVARO",{"$f":"IN!B441","v":0},{"$f":"Blad3!E441","v":""},{"$f":"Blad3!G441","v":0},"Oanmäld frånvaro"]
["FRÅNVARO",{"$f":"IN!B442","v":0},{"$f":"Blad3!E442","v":""},{"$f":"Blad3!G442","v":0},"Oanmäld frånvaro"]
["FRÅNVARO",{"$f":"IN!B443","v":0},{"$f":"Blad3!E443","v":""},{"$f":"Blad3!G443","v":0},"Oanmäld frånvaro"]
["FRÅNVARO",{"$f":"IN!B444","v":0},{"$f":"Blad3!E444","v":""},{"$f":"Blad3!G444","v":0},"Oanmäld frånvaro"]
["FRÅNVARO",{"$f":"IN!B445","v":0},{"$f":"Blad3!E445","v":""},{"$f":"Blad3!G445","v":0},"Oanmäld frånvaro"]
["FRÅNVARO",{"$f":"IN!B446","v":0},{"$f":"Blad3!E446","v":""},{"$f":"Blad3!G446","v":0},"Oanmäld frånvaro"]
["FRÅNVARO",{"$f":"IN!B447","v":0},{"$f":"Blad3!E447","v":""},{"$f":"Blad3!G447","v":0},"Oanmäld frånvaro"]
["FRÅNVARO",{"$f":"IN!B448","v":0},{"$f":"Blad3!E448","v":""},{"$f":"Blad3!G448","v":0},"Oanmäld frånvaro"]
["FRÅNVARO",{"$f":"IN!B449","v":0},{"$f":"Blad3!E449","v":""},{"$f":"Blad3!G449","v":0},"Oanmäld frånvaro"]
["FRÅNVARO",{"$f":"IN!B450","v":0},{"$f":"Blad3!E450","v":""},{"$f":"Blad3!G450","v":0},"Oanmäld frånvaro"]
["FRÅNVARO",{"$f":"IN!B451","v":0},{"$f":"Blad3!E451","v":""},{"$f":"Blad3!G451","v":0},"Oanmäld frånvaro"]
["FRÅNVARO",{"$f":"IN!B452","v":0},{"$f":"Blad3!E452","v":""},{"$f":"Blad3!G452","v":0},"Oanmäld frånvaro"]
["FRÅNVARO",{"$f":"IN!B453","v":0},{"$f":"Blad3!E453","v":""},{"$f":"Blad3!G453","v":0},"Oanmäld frånvaro"]
["FRÅNVARO",{"$f":"IN!B454","v":0},{"$f":"Blad3!E454","v":""},{"$f":"Blad3!G454","v":0},"Oanmäld frånvaro"]
["FRÅNVARO",{"$f":"IN!B455","v":0},{"$f":"Blad3!E455","v":""},{"$f":"Blad3!G455","v":0},"Oanmäld frånvaro"]
["FRÅNVARO",{"$f":"IN!B456","v":0},{"$f":"Blad3!E456","v":""},{"$f":"Blad3!G456","v":0},"Oanmäld frånvaro"]
["FRÅNVARO",{"$f":"IN!B457","v":0},{"$f":"Blad3!E457","v":""},{"$f":"Blad3!G457","v":0},"Oanmäld frånvaro"]
["FRÅNVARO",{"$f":"IN!B458","v":0},{"$f":"Blad3!E458","v":""},{"$f":"Blad3!G458","v":0},"Oanmäld frånvaro"]
["FRÅNVARO",{"$f":"IN!B459","v":0},{"$f":"Blad3!E459","v":""},{"$f":"Blad3!G459","v":0},"Oanmäld frånvaro"]
["FRÅNVARO",{"$f":"IN!B460","v":0},{"$f":"Blad3!E460","v":""},{"$f":"Blad3!G460","v":0},"Oanmäld frånvaro"]
["FRÅNVARO",{"$f":"IN!B461","v":0},{"$f":"Blad3!E461","v":""},{"$f":"Blad3!G461","v":0},"Oanmäld frånvaro"]
["FRÅNVARO",{"$f":"IN!B462","v":0},{"$f":"Blad3!E462","v":""},{"$f":"Blad3!G462","v":0},"Oanmäld frånvaro"]
["FRÅNVARO",{"$f":"IN!B463","v":0},{"$f":"Blad3!E463","v":""},{"$f":"Blad3!G463","v":0},"Oanmäld frånvaro"]
["FRÅNVARO",{"$f":"IN!B464","v":0},{"$f":"Blad3!E464","v":""},{"$f":"Blad3!G464","v":0},"Oanmäld frånvaro"]
["FRÅNVARO",{"$f":"IN!B465","v":0},{"$f":"Blad3!E465","v":""},{"$f":"Blad3!G465","v":0},"Oanmäld frånvaro"]
["FRÅNVARO",{"$f":"IN!B466","v":0},{"$f":"Blad3!E466","v":""},{"$f":"Blad3!G466","v":0},"Oanmäld frånvaro"]
["FRÅNVARO",{"$f":"IN!B467","v":0},{"$f":"Blad3!E467","v":""},{"$f":"Blad3!G467","v":0},"Oanmäld frånvaro"]
["FRÅNVARO",{"$f":"IN!B468","v":0},{"$f":"Blad3!E468","v":""},{"$f":"Blad3!G468","v":0},"Oanmäld frånvaro"]
["FRÅNVARO",{"$f":"IN!B469","v":0},{"$f":"Blad3!E469","v":""},{"$f":"Blad3!G469","v":0},"Oanmäld frånvaro"]
["FRÅNVARO",{"$f":"IN!B470","v":0},{"$f":"Blad3!E470","v":""},{"$f":"Blad3!G470","v":0},"Oanmäld frånvaro"]
["FRÅNVARO",{"$f":"IN!B471","v":0},{"$f":"Blad3!E471","v":""},{"$f":"Blad3!G471","v":0},"Oanmäld frånvaro"]
["FRÅNVARO",{"$f":"IN!B472","v":0},{"$f":"Blad3!E472","v":""},{"$f":"Blad3!G472","v":0},"Oanmäld frånvaro"]
["FRÅNVARO",{"$f":"IN!B473","v":0},{"$f":"Blad3!E473","v":""},{"$f":"Blad3!G473","v":0},"Oanmäld frånvaro"]
["FRÅNVARO",{"$f":"IN!B474","v":0},{"$f":"Blad3!E474","v":""},{"$f":"Blad3!G474","v":0},"Oanmäld frånvaro"]
["FRÅNVARO",{"$f":"IN!B475","v":0},{"$f":"Blad3!E475","v":""},{"$f":"Blad3!G475","v":0},"Oanmäld frånvaro"]
["FRÅNVARO",{"$f":"IN!B476","v":0},{"$f":"Blad3!E476","v":""},{"$f":"Blad3!G476","v":0},"Oanmäld frånvaro"]
["FRÅNVARO",{"$f":"IN!B477","v":0},{"$f":"Blad3!E477","v":""},{"$f":"Blad3!G477","v":0},"Oanmäld frånvaro"]
["FRÅNVARO",{"$f":"IN!B478","v":0},{"$f":"Blad3!E478","v":""},{"$f":"Blad3!G478","v":0},"Oanmäld frånvaro"]
["FRÅNVARO",{"$f":"IN!B479","v":0},{"$f":"Blad3!E479","v":""},{"$f":"Blad3!G479","v":0},"Oanmäld frånvaro"]
["FRÅNVARO",{"$f":"IN!B480","v":0},{"$f":"Blad3!E480","v":""},{"$f":"Blad3!G480","v":0},"Oanmäld frånvaro"]
["FRÅNVARO",{"$f":"IN!B481","v":0},{"$f":"Blad3!E481","v":""},{"$f":"Blad3!G481","v":0},"Oanmäld frånvaro"]
["FRÅNVARO",{"$f":"IN!B482","v":0},{"$f":"Blad3!E482","v":""},{"$f":"Blad3!G482","v":0},"Oanmäld frånvaro"]
["FRÅNVARO",{"$f":"IN!B483","v":0},{"$f":"Blad3!E483","v":""},{"$f":"Blad3!G483","v":0},"Oanmäld frånvaro"]
["FRÅNVARO",{"$f":"IN!B484","v":0},{"$f":"Blad3!E484","v":""},{"$f":"Blad3!G484","v":0},"Oanmäld frånvaro"]
["FRÅNVARO",{"$f":"IN!B485","v":0},{"$f":"Blad3!E485","v":""},{"$f":"Blad3!G485","v":0},"Oanmäld frånvaro"]
["FRÅNVARO",{"$f":"IN!B486","v":0},{"$f":"Blad3!E486","v":""},{"$f":"Blad3!G486","v":0},"Oanmäld frånvaro"]
["FRÅNVARO",{"$f":"IN!B487","v":0},{"$f":"Blad3!E487","v":""},{"$f":"Blad3!G487","v":0},"Oanmäld frånvaro"]
["FRÅNVARO",{"$f":"IN!B488","v":0},{"$f":"Blad3!E488","v":""},{"$f":"Blad3!G488","v":0},"Oanmäld frånvaro"]
["FRÅNVARO",{"$f":"IN!B489","v":0},{"$f":"Blad3!E489","v":""},{"$f":"Blad3!G489","v":0},"Oanmäld frånvaro"]
["FRÅNVARO",{"$f":"IN!B490","v":0},{"$f":"Blad3!E490","v":""},{"$f":"Blad3!G490","v":0},"Oanmäld frånvaro"]
["FRÅNVARO",{"$f":"IN!B491","v":0},{"$f":"Blad3!E491","v":""},{"$f":"Blad3!G491","v":0},"Oanmäld frånvaro"]
["FRÅNVARO",{"$f":"IN!B492","v":0},{"$f":"Blad3!E492","v":""},{"$f":"Blad3!G492","v":0},"Oanmäld frånvaro"]
["FRÅNVARO",{"$f":"IN!B493","v":0},{"$f":"Blad3!E493","v":""},{"$f":"Blad3!G493","v":0},"Oanmäld frånvaro"]
["FRÅNVARO",{"$f":"IN!B494","v":0},{"$f":"Blad3!E494","v":""},{"$f":"Blad3!G494","v":0},"Oanmäld frånvaro"]
["FRÅNVARO",{"$f":"IN!B495","v":0},{"$f":"Blad3!E495","v":""},{"$f":"Blad3!G495","v":0},"Oanmäld frånvaro"]
["FRÅNVARO",{"$f":"IN!B496","v":0},{"$f":"Blad3!E496","v":""},{"$f":"Blad3!G496","v":0},"Oanmäld frånvaro"]
["FRÅNVARO",{"$f":"IN!B497","v":0},{"$f":"Blad3!E497","v":""},{"$f":"Blad3!G497","v":0},"Oanmäld frånvaro"]
["FRÅNVARO",{"$f":"IN!B498","v":0},{"$f":"Blad3!E498","v":""},{"$f":"Blad3!G498","v":0},"Oanmäld frånvaro"]
["FRÅNVARO",{"$f":"IN!B499","v":0},{"$f":"Blad3!E499","v":""},{"$f":"Blad3!G499","v":0},"Oanmäld frånvaro"]
["FRÅNVARO",{"$f":"IN!B500","v":0},{"$f":"Blad3!E500","v":""},{"$f":"Blad3!G500","v":0},"Oanmäld frånvaro"]
["FRÅNVARO",{"$f":"IN!B501","v":0},{"$f":"Blad3!E501","v":""},{"$f":"Blad3!G501","v":0},"Oanmäld frånvaro"]
["FRÅNVARO",{"$f":"IN!B502","v":0},{"$f":"Blad3!E502","v":""},{"$f":"Blad3!G502","v":0},"Oanmäld frånvaro"]
["FRÅNVARO",{"$f":"IN!B503","v":0},{"$f":"Blad3!E503","v":""},{"$f":"Blad3!G503","v":0},"Oanmäld frånvaro"]
["FRÅNVARO",{"$f":"IN!B504","v":0},{"$f":"Blad3!E504","v":""},{"$f":"Blad3!G504","v":0},"Oanmäld frånvaro"]
["FRÅNVARO",{"$f":"IN!B505","v":0},{"$f":"Blad3!E505","v":""},{"$f":"Blad3!G505","v":0},"Oanmäld frånvaro"]
["FRÅNVARO",{"$f":"IN!B506","v":0},{"$f":"Blad3!E506","v":""},{"$f":"Blad3!G506","v":0},"Oanmäld frånvaro"]
["FRÅNVARO",{"$f":"IN!B507","v":0},{"$f":"Blad3!E507","v":""},{"$f":"Blad3!G507","v":0},"Oanmäld frånvaro"]
["FRÅNVARO",{"$f":"IN!B508","v":0},{"$f":"Blad3!E508","v":""},{"$f":"Blad3!G508","v":0},"Oanmäld frånvaro"]
["FRÅNVARO",{"$f":"IN!B509","v":0},{"$f":"Blad3!E509","v":""},{"$f":"Blad3!G509","v":0},"Oanmäld frånvaro"]
["FRÅNVARO",{"$f":"IN!B510","v":0},{"$f":"Blad3!E510","v":""},{"$f":"Blad3!G510","v":0},"Oanmäld frånvaro"]
["FRÅNVARO",{"$f":"IN!B511","v":0},{"$f":"Blad3!E511","v":""},{"$f":"Blad3!G511","v":0},"Oanmäld frånvaro"]
["FRÅNVARO",{"$f":"IN!B512","v":0},{"$f":"Blad3!E512","v":""},{"$f":"Blad3!G512","v":0},"Oanmäld frånvaro"]
["FRÅNVARO",{"$f":"IN!B513","v":0},{"$f":"Blad3!E513","v":""},{"$f":"Blad3!G513","v":0},"Oanmäld frånvaro"]
["FRÅNVARO",{"$f":"IN!B514","v":0},{"$f":"Blad3!E514","v":""},{"$f":"Blad3!G514","v":0},"Oanmäld frånvaro"]
["FRÅNVARO",{"$f":"IN!B515","v":0},{"$f":"Blad3!E515","v":""},{"$f":"Blad3!G515","v":0},"Oanmäld frånvaro"]
["FRÅNVARO",{"$f":"IN!B516","v":0},{"$f":"Blad3!E516","v":""},{"$f":"Blad3!G516","v":0},"Oanmäld frånvaro"]
["FRÅNVARO",{"$f":"IN!B517","v":0},{"$f":"Blad3!E517","v":""},{"$f":"Blad3!G517","v":0},"Oanmäld frånvaro"]
["FRÅNVARO",{"$f":"IN!B518","v":0},{"$f":"Blad3!E518","v":""},{"$f":"Blad3!G518","v":0},"Oanmäld frånvaro"]
["FRÅNVARO",{"$f":"IN!B519","v":0},{"$f":"Blad3!E519","v":""},{"$f":"Blad3!G519","v":0},"Oanmäld frånvaro"]
["FRÅNVARO",{"$f":"IN!B520","v":0},{"$f":"Blad3!E520","v":""},{"$f":"Blad3!G520","v":0},"Oanmäld frånvaro"]
["FRÅNVARO",{"$f":"IN!B521","v":0},{"$f":"Blad3!E521","v":""},{"$f":"Blad3!G521","v":0},"Oanmäld frånvaro"]
["FRÅNVARO",{"$f":"IN!B522","v":0},{"$f":"Blad3!E522","v":""},{"$f":"Blad3!G522","v":0},"Oanmäld frånvaro"]
["FRÅNVARO",{"$f":"IN!B523","v":0},{"$f":"Blad3!E523","v":""},{"$f":"Blad3!G523","v":0},"Oanmäld frånvaro"]
["FRÅNVARO",{"$f":"IN!B524","v":0},{"$f":"Blad3!E524","v":""},{"$f":"Blad3!G524","v":0},"Oanmäld frånvaro"]
["FRÅNVARO",{"$f":"IN!B525","v":0},{"$f":"Blad3!E525","v":""},{"$f":"Blad3!G525","v":0},"Oanmäld frånvaro"]
["FRÅNVARO",{"$f":"IN!B526","v":0},{"$f":"Blad3!E526","v":""},{"$f":"Blad3!G526","v":0},"Oanmäld frånvaro"]
["FRÅNVARO",{"$f":"IN!B527","v":0},{"$f":"Blad3!E527","v":""},{"$f":"Blad3!G527","v":0},"Oanmäld frånvaro"]
["FRÅNVARO",{"$f":"IN!B528","v":0},{"$f":"Blad3!E528","v":""},{"$f":"Blad3!G528","v":0},"Oanmäld frånvaro"]
["FRÅNVARO",{"$f":"IN!B529","v":0},{"$f":"Blad3!E529","v":""},{"$f":"Blad3!G529","v":0},"Oanmäld frånvaro"]
["FRÅNVARO",{"$f":"IN!B530","v":0},{"$f":"Blad3!E530","v":""},{"$f":"Blad3!G530","v":0},"Oanmäld frånvaro"]
["FRÅNVARO",{"$f":"IN!B531","v":0},{"$f":"Blad3!E531","v":""},{"$f":"Blad3!G531","v":0},"Oanmäld frånvaro"]
["FRÅNVARO",{"$f":"IN!B532","v":0},{"$f":"Blad3!E532","v":""},{"$f":"Blad3!G532","v":0},"Oanmäld frånvaro"]
["FRÅNVARO",{"$f":"IN!B533","v":0},{"$f":"Blad3!E533","v":""},{"$f":"Blad3!G533","v":0},"Oanmäld frånvaro"]
["FRÅNVARO",{"$f":"IN!B534","v":0},{"$f":"Blad3!E534","v":""},{"$f":"Blad3!G534","v":0},"Oanmäld frånvaro"]
["FRÅNVARO",{"$f":"IN!B535","v":0},{"$f":"Blad3!E535","v":""},{"$f":"Blad3!G535","v":0},"Oanmäld frånvaro"]
["FRÅNVARO",{"$f":"IN!B536","v":0},{"$f":"Blad3!E536","v":""},{"$f":"Blad3!G536","v":0},"Oanmäld frånvaro"]
["FRÅNVARO",{"$f":"IN!B537","v":0},{"$f":"Blad3!E537","v":""},{"$f":"Blad3!G537","v":0},"Oanmäld frånvaro"]
["FRÅNVARO",{"$f":"IN!B538","v":0},{"$f":"Blad3!E538","v":""},{"$f":"Blad3!G538","v":0},"Oanmäld frånvaro"]
["FRÅNVARO",{"$f":"IN!B539","v":0},{"$f":"Blad3!E539","v":""},{"$f":"Blad3!G539","v":0},"Oanmäld frånvaro"]
["FRÅNVARO",{"$f":"IN!B540","v":0},{"$f":"Blad3!E540","v":""},{"$f":"Blad3!G540","v":0},"Oanmäld frånvaro"]
["FRÅNVARO",{"$f":"IN!B541","v":0},{"$f":"Blad3!E541","v":""},{"$f":"Blad3!G541","v":0},"Oanmäld frånvaro"]
["FRÅNVARO",{"$f":"IN!B542","v":0},{"$f":"Blad3!E542","v":""},{"$f":"Blad3!G542","v":0},"Oanmäld frånvaro"]
["FRÅNVARO",{"$f":"IN!B543","v":0},{"$f":"Blad3!E543","v":""},{"$f":"Blad3!G543","v":0},"Oanmäld frånvaro"]
["FRÅNVARO",{"$f":"IN!B544","v":0},{"$f":"Blad3!E544","v":""},{"$f":"Blad3!G544","v":0},"Oanmäld frånvaro"]
["FRÅNVARO",{"$f":"IN!B545","v":0},{"$f":"Blad3!E545","v":""},{"$f":"Blad3!G545","v":0},"Oanmäld frånvaro"]
["FRÅNVARO",{"$f":"IN!B546","v":0},{"$f":"Blad3!E546","v":""},{"$f":"Blad3!G546","v":0},"Oanmäld frånvaro"]
["FRÅNVARO",{"$f":"IN!B547","v":0},{"$f":"Blad3!E547","v":""},{"$f":"Blad3!G547","v":0},"Oanmäld frånvaro"]
["FRÅNVARO",{"$f":"IN!B548","v":0},{"$f":"Blad3!E548","v":""},{"$f":"Blad3!G548","v":0},"Oanmäld frånvaro"]
["FRÅNVARO",{"$f":"IN!B549","v":0},{"$f":"Blad3!E549","v":""},{"$f":"Blad3!G549","v":0},"Oanmäld frånvaro"]
["FRÅNVARO",{"$f":"IN!B550","v":0},{"$f":"Blad3!E550","v":""},{"$f":"Blad3!G550","v":0},"Oanmäld frånvaro"]
["FRÅNVARO",{"$f":"IN!B551","v":0},{"$f":"Blad3!E551","v":""},{"$f":"Blad3!G551","v":0},"Oanmäld frånvaro"]
["FRÅNVARO",{"$f":"IN!B552","v":0},{"$f":"Blad3!E552","v":""},{"$f":"Blad3!G552","v":0},"Oanmäld frånvaro"]
["FRÅNVARO",{"$f":"IN!B553","v":0},{"$f":"Blad3!E553","v":""},{"$f":"Blad3!G553","v":0},"Oanmäld frånvaro"]
["FRÅNVARO",{"$f":"IN!B554","v":0},{"$f":"Blad3!E554","v":""},{"$f":"Blad3!G554","v":0},"Oanmäld frånvaro"]
["FRÅNVARO",{"$f":"IN!B555","v":0},{"$f":"Blad3!E555","v":""},{"$f":"Blad3!G555","v":0},"Oanmäld frånvaro"]
["FRÅNVARO",{"$f":"IN!B556","v":0},{"$f":"Blad3!E556","v":""},{"$f":"Blad3!G556","v":0},"Oanmäld frånvaro"]
["FRÅNVARO",{"$f":"IN!B557","v":0},{"$f":"Blad3!E557","v":""},{"$f":"Blad3!G557","v":0},"Oanmäld frånvaro"]
["FRÅNVARO",{"$f":"IN!B558","v":0},{"$f":"Blad3!E558","v":""},{"$f":"Blad3!G558","v":0},"Oanmäld frånvaro"]
["FRÅNVARO",{"$f":"IN!B559","v":0},{"$f":"Blad3!E559","v":""},{"$f":"Blad3!G559","v":0},"Oanmäld frånvaro"]
["FRÅNVARO",{"$f":"IN!B560","v":0},{"$f":"Blad3!E560","v":""},{"$f":"Blad3!G560","v":0},"Oanmäld frånvaro"]
["FRÅNVARO",{"$f":"IN!B561","v":0},{"$f":"Blad3!E561","v":""},{"$f":"Blad3!G561","v":0},"Oanmäld frånvaro"]
["FRÅNVARO",{"$f":"IN!B562","v":0},{"$f":"Blad3!E562","v":""},{"$f":"Blad3!G562","v":0},"Oanmäld frånvaro"]
["FRÅNVARO",{"$f":"IN!B563","v":0},{"$f":"Blad3!E563","v":""},{"$f":"Blad3!G563","v":0},"Oanmäld frånvaro"]
["FRÅNVARO",{"$f":"IN!B564","v":0},{"$f":"Blad3!E564","v":""},{"$f":"Blad3!G564","v":0},"Oanmäld frånvaro"]
["FRÅNVARO",{"$f":"IN!B565","v":0},{"$f":"Blad3!E565","v":""},{"$f":"Blad3!G565","v":0},"Oanmäld frånvaro"]
["FRÅNVARO",{"$f":"IN!B566","v":0},{"$f":"Blad3!E566","v":""},{"$f":"Blad3!G566","v":0},"Oanmäld frånvaro"]
["FRÅNVARO",{"$f":"IN!B567","v":0},{"$f":"Blad3!E567","v":""},{"$f":"Blad3!G567","v":0},"Oanmäld frånvaro"]
["FRÅNVARO",{"$f":"IN!B568","v":0},{"$f":"Blad3!E568","v":""},{"$f":"Blad3!G568","v":0},"Oanmäld frånvaro"]
["FRÅNVARO",{"$f":"IN!B569","v":0},{"$f":"Blad3!E569","v":""},{"$f":"Blad3!G569","v":0},"Oanmäld frånvaro"]
["FRÅNVARO",{"$f":"IN!B570","v":0},{"$f":"Blad3!E570","v":""},{"$f":"Blad3!G570","v":0},"Oanmäld frånvaro"]
["FRÅNVARO",{"$f":"IN!B571","v":0},{"$f":"Blad3!E571","v":""},{"$f":"Blad3!G571","v":0},"Oanmäld frånvaro"]
["FRÅNVARO",{"$f":"IN!B572","v":0},{"$f":"Blad3!E572","v":""},{"$f":"Blad3!G572","v":0},"Oanmäld frånvaro"]
["FRÅNVARO",{"$f":"IN!B573","v":0},{"$f":"Blad3!E573","v":""},{"$f":"Blad3!G573","v":0},"Oanmäld frånvaro"]
["FRÅNVARO",{"$f":"IN!B574","v":0},{"$f":"Blad3!E574","v":""},{"$f":"Blad3!G574","v":0},"Oanmäld frånvaro"]
["FRÅNVARO",{"$f":"IN!B575","v":0},{"$f":"Blad3!E575","v":""},{"$f":"Blad3!G575","v":0},"Oanmäld frånvaro"]
["FRÅNVARO",{"$f":"IN!B576","v":0},{"$f":"Blad3!E576","v":""},{"$f":"Blad3!G576","v":0},"Oanmäld frånvaro"]
["FRÅNVARO",{"$f":"IN!B577","v":0},{"$f":"Blad3!E577","v":""},{"$f":"Blad3!G577","v":0},"Oanmäld frånvaro"]
["FRÅNVARO",{"$f":"IN!B578","v":0},{"$f":"Blad3!E578","v":""},{"$f":"Blad3!G578","v":0},"Oanmäld frånvaro"]
["FRÅNVARO",{"$f":"IN!B579","v":0},{"$f":"Blad3!E579","v":""},{"$f":"Blad3!G579","v":0},"Oanmäld frånvaro"]
["FRÅNVARO",{"$f":"IN!B580","v":0},{"$f":"Blad3!E580","v":""},{"$f":"Blad3!G580","v":0},"Oanmäld frånvaro"]
["FRÅNVARO",{"$f":"IN!B581","v":0},{"$f":"Blad3!E581","v":""},{"$f":"Blad3!G581","v":0},"Oanmäld frånvaro"]
["FRÅNVARO",{"$f":"IN!B582","v":0},{"$f":"Blad3!E582","v":""},{"$f":"Blad3!G582","v":0},"Oanmäld frånvaro"]
["FRÅNVARO",{"$f":"IN!B583","v":0},{"$f":"Blad3!E583","v":""},{"$f":"Blad3!G583","v":0},"Oanmäld frånvaro"]
["FRÅNVARO",{"$f":"IN!B584","v":0},{"$f":"Blad3!E584","v":""},{"$f":"Blad3!G584","v":0},"Oanmäld frånvaro"]
["FRÅNVARO",{"$f":"IN!B585","v":0},{"$f":"Blad3!E585","v":""},{"$f":"Blad3!G585","v":0},"Oanmäld frånvaro"]
["FRÅNVARO",{"$f":"IN!B586","v":0},{"$f":"Blad3!E586","v":""},{"$f":"Blad3!G586","v":0},"Oanmäld frånvaro"]
["FRÅNVARO",{"$f":"IN!B587","v":0},{"$f":"Blad3!E587","v":""},{"$f":"Blad3!G587","v":0},"Oanmäld frånvaro"]
["FRÅNVARO",{"$f":"IN!B588","v":0},{"$f":"Blad3!E588","v":""},{"$f":"Blad3!G588","v":0},"Oanmäld frånvaro"]
["FRÅNVARO",{"$f":"IN!B589","v":0},{"$f":"Blad3!E589","v":""},{"$f":"Blad3!G589","v":0},"Oanmäld frånvaro"]
["FRÅNVARO",{"$f":"IN!B590","v":0},{"$f":"Blad3!E590","v":""},{"$f":"Blad3!G590","v":0},"Oanmäld frånvaro"]
["FRÅNVARO",{"$f":"IN!B591","v":0},{"$f":"Blad3!E591","v":""},{"$f":"Blad3!G591","v":0},"Oanmäld frånvaro"]
["FRÅNVARO",{"$f":"IN!B592","v":0},{"$f":"Blad3!E592","v":""},{"$f":"Blad3!G592","v":0},"Oanmäld frånvaro"]
["FRÅNVARO",{"$f":"IN!B593","v":0},{"$f":"Blad3!E593","v":""},{"$f":"Blad3!G593","v":0},"Oanmäld frånvaro"]
["FRÅNVARO",{"$f":"IN!B594","v":0},{"$f":"Blad3!E594","v":""},{"$f":"Blad3!G594","v":0},"Oanmäld frånvaro"]
["FRÅNVARO",{"$f":"IN!B595","v":0},{"$f":"Blad3!E595","v":""},{"$f":"Blad3!G595","v":0},"Oanmäld frånvaro"]
["FRÅNVARO",{"$f":"IN!B596","v":0},{"$f":"Blad3!E596","v":""},{"$f":"Blad3!G596","v":0},"Oanmäld frånvaro"]
["FRÅNVARO",{"$f":"IN!B597","v":0},{"$f":"Blad3!E597","v":""},{"$f":"Blad3!G597","v":0},"Oanmäld frånvaro"]
["FRÅNVARO",{"$f":"IN!B598","v":0},{"$f":"Blad3!E598","v":""},{"$f":"Blad3!G598","v":0},"Oanmäld frånvaro"]
["FRÅNVARO",{"$f":"IN!B599","v":0},{"$f":"Blad3!E599","v":""},{"$f":"Blad3!G599","v":0},"Oanmäld frånvaro"]
["FRÅNVARO",{"$f":"IN!B600","v":0},{"$f":"Blad3!E600","v":""},{"$f":"Blad3!G600","v":0},"Oanmäld frånvaro"]
["FRÅNVARO",{"$f":"IN!B601","v":0},{"$f":"Blad3!E601","v":""},{"$f":"Blad3!G601","v":0},"Oanmäld frånvaro"]
["FRÅNVARO",{"$f":"IN!B602","v":0},{"$f":"Blad3!E602","v":""},{"$f":"Blad3!G602","v":0},"Oanmäld frånvaro"]
["FRÅNVARO",{"$f":"IN!B603","v":0},{"$f":"Blad3!E603","v":""},{"$f":"Blad3!G603","v":0},"Oanmäld frånvaro"]
["FRÅNVARO",{"$f":"IN!B604","v":0},{"$f":"Blad3!E604","v":""},{"$f":"Blad3!G604","v":0},"Oanmäld frånvaro"]
["FRÅNVARO",{"$f":"IN!B605","v":0},{"$f":"Blad3!E605","v":""},{"$f":"Blad3!G605","v":0},"Oanmäld frånvaro"]
["FRÅNVARO",{"$f":"IN!B606","v":0},{"$f":"Blad3!E606","v":""},{"$f":"Blad3!G606","v":0},"Oanmäld frånvaro"]
["FRÅNVARO",{"$f":"IN!B607","v":0},{"$f":"Blad3!E607","v":""},{"$f":"Blad3!G607","v":0},"Oanmäld frånvaro"]
["FRÅNVARO",{"$f":"IN!B608","v":0},{"$f":"Blad3!E608","v":""},{"$f":"Blad3!G608","v":0},"Oanmäld frånvaro"]
["FRÅNVARO",{"$f":"IN!B609","v":0},{"$f":"Blad3!E609","v":""},{"$f":"Blad3!G609","v":0},"Oanmäld frånvaro"]
["FRÅNVARO",{"$f":"IN!B610","v":0},{"$f":"Blad3!E610","v":""},{"$f":"Blad3!G610","v":0},"Oanmäld frånvaro"]
["FRÅNVARO",{"$f":"IN!B611","v":0},{"$f":"Blad3!E611","v":""},{"$f":"Blad3!G611","v":0},"Oanmäld frånvaro"]
["FRÅNVARO",{"$f":"IN!B612","v":0},{"$f":"Blad3!E612","v":""},{"$f":"Blad3!G612","v":0},"Oanmäld frånvaro"]
["FRÅNVARO",{"$f":"IN!B613","v":0},{"$f":"Blad3!E613","v":""},{"$f":"Blad3!G613","v":0},"Oanmäld frånvaro"]
["FRÅNVARO",{"$f":"IN!B614","v":0},{"$f":"Blad3!E614","v":""},{"$f":"Blad3!G614","v":0},"Oanmäld frånvaro"]
["FRÅNVARO",{"$f":"IN!B615","v":0},{"$f":"Blad3!E615","v":""},{"$f":"Blad3!G615","v":0},"Oanmäld frånvaro"]
["FRÅNVARO",{"$f":"IN!B616","v":0},{"$f":"Blad3!E616","v":""},{"$f":"Blad3!G616","v":0},"Oanmäld frånvaro"]
["FRÅNVARO",{"$f":"IN!B617","v":0},{"$f":"Blad3!E617","v":""},{"$f":"Blad3!G617","v":0},"Oanmäld frånvaro"]
["FRÅNVARO",{"$f":"IN!B618","v":0},{"$f":"Blad3!E618","v":""},{"$f":"Blad3!G618","v":0},"Oanmäld frånvaro"]
["FRÅNVARO",{"$f":"IN!B619","v":0},{"$f":"Blad3!E619","v":""},{"$f":"Blad3!G619","v":0},"Oanmäld frånvaro"]
["FRÅNVARO",{"$f":"IN!B620","v":0},{"$f":"Blad3!E620","v":""},{"$f":"Blad3!G620","v":0},"Oanmäld frånvaro"]
["FRÅNVARO",{"$f":"IN!B621","v":0},{"$f":"Blad3!E621","v":""},{"$f":"Blad3!G621","v":0},"Oanmäld frånvaro"]
["FRÅNVARO",{"$f":"IN!B622","v":0},{"$f":"Blad3!E622","v":""},{"$f":"Blad3!G622","v":0},"Oanmäld frånvaro"]
["FRÅNVARO",{"$f":"IN!B623","v":0},{"$f":"Blad3!E623","v":""},{"$f":"Blad3!G623","v":0},"Oanmäld frånvaro"]
["FRÅNVARO",{"$f":"IN!B624","v":0},{"$f":"Blad3!E624","v":""},{"$f":"Blad3!G624","v":0},"Oanmäld frånvaro"]
["FRÅNVARO",{"$f":"IN!B625","v":0},{"$f":"Blad3!E625","v":""},{"$f":"Blad3!G625","v":0},"Oanmäld frånvaro"]
["FRÅNVARO",{"$f":"IN!B626","v":0},{"$f":"Blad3!E626","v":""},{"$f":"Blad3!G626","v":0},"Oanmäld frånvaro"]
["FRÅNVARO",{"$f":"IN!B627","v":0},{"$f":"Blad3!E627","v":""},{"$f":"Blad3!G627","v":0},"Oanmäld frånvaro"]
["FRÅNVARO",{"$f":"IN!B628","v":0},{"$f":"Blad3!E628","v":""},{"$f":"Blad3!G628","v":0},"Oanmäld frånvaro"]
["FRÅNVARO",{"$f":"IN!B629","v":0},{"$f":"Blad3!E629","v":""},{"$f":"Blad3!G629","v":0},"Oanmäld frånvaro"]
["FRÅNVARO",{"$f":"IN!B630","v":0},{"$f":"Blad3!E630","v":""},{"$f":"Blad3!G630","v":0},"Oanmäld frånvaro"]
["FRÅNVARO",{"$f":"IN!B631","v":0},{"$f":"Blad3!E631","v":""},{"$f":"Blad3!G631","v":0},"Oanmäld frånvaro"]
["FRÅNVARO",{"$f":"IN!B632","v":0},{"$f":"Blad3!E632","v":""},{"$f":"Blad3!G632","v":0},"Oanmäld frånvaro"]
["FRÅNVARO",{"$f":"IN!B633","v":0},{"$f":"Blad3!E633","v":""},{"$f":"Blad3!G633","v":0},"Oanmäld frånvaro"]
["FRÅNVARO",{"$f":"IN!B634","v":0},{"$f":"Blad3!E634","v":""},{"$f":"Blad3!G634","v":0},"Oanmäld frånvaro"]
["FRÅNVARO",{"$f":"IN!B635","v":0},{"$f":"Blad3!E635","v":""},{"$f":"Blad3!G635","v":0},"Oanmäld frånvaro"]
["FRÅNVARO",{"$f":"IN!B636","v":0},{"$f":"Blad3!E636","v":""},{"$f":"Blad3!G636","v":0},"Oanmäld frånvaro"]
["FRÅNVARO",{"$f":"IN!B637","v":0},{"$f":"Blad3!E637","v":""},{"$f":"Blad3!G637","v":0},"Oanmäld frånvaro"]
["FRÅNVARO",{"$f":"IN!B638","v":0},{"$f":"Blad3!E638","v":""},{"$f":"Blad3!G638","v":0},"Oanmäld frånvaro"]
["FRÅNVARO",{"$f":"IN!B639","v":0},{"$f":"Blad3!E639","v":""},{"$f":"Blad3!G639","v":0},"Oanmäld frånvaro"]
["FRÅNVARO",{"$f":"IN!B640","v":0},{"$f":"Blad3!E640","v":""},{"$f":"Blad3!G640","v":0},"Oanmäld frånvaro"]
["FRÅNVARO",{"$f":"IN!B641","v":0},{"$f":"Blad3!E641","v":""},{"$f":"Blad3!G641","v":0},"Oanmäld frånvaro"]
["FRÅNVARO",{"$f":"IN!B642","v":0},{"$f":"Blad3!E642","v":""},{"$f":"Blad3!G642","v":0},"Oanmäld frånvaro"]
["FRÅNVARO",{"$f":"IN!B643","v":0},{"$f":"Blad3!E643","v":""},{"$f":"Blad3!G643","v":0},"Oanmäld frånvaro"]
["FRÅNVARO",{"$f":"IN!B644","v":0},{"$f":"Blad3!E644","v":""},{"$f":"Blad3!G644","v":0},"Oanmäld frånvaro"]
["FRÅNVARO",{"$f":"IN!B645","v":0},{"$f":"Blad3!E645","v":""},{"$f":"Blad3!G645","v":0},"Oanmäld frånvaro"]
["FRÅNVARO",{"$f":"IN!B646","v":0},{"$f":"Blad3!E646","v":""},{"$f":"Blad3!G646","v":0},"Oanmäld frånvaro"]
["FRÅNVARO",{"$f":"IN!B647","v":0},{"$f":"Blad3!E647","v":""},{"$f":"Blad3!G647","v":0},"Oanmäld frånvaro"]
["FRÅNVARO",{"$f":"IN!B648","v":0},{"$f":"Blad3!E648","v":""},{"$f":"Blad3!G648","v":0},"Oanmäld frånvaro"]
["FRÅNVARO",{"$f":"IN!B649","v":0},{"$f":"Blad3!E649","v":""},{"$f":"Blad3!G649","v":0},"Oanmäld frånvaro"]
["FRÅNVARO",{"$f":"IN!B650","v":0},{"$f":"Blad3!E650","v":""},{"$f":"Blad3!G650","v":0},"Oanmäld frånvaro"]
["FRÅNVARO",{"$f":"IN!B651","v":0},{"$f":"Blad3!E651","v":""},{"$f":"Blad3!G651","v":0},"Oanmäld frånvaro"]
["FRÅNVARO",{"$f":"IN!B652","v":0},{"$f":"Blad3!E652","v":""},{"$f":"Blad3!G652","v":0},"Oanmäld frånvaro"]
["FRÅNVARO",{"$f":"IN!B653","v":0},{"$f":"Blad3!E653","v":""},{"$f":"Blad3!G653","v":0},"Oanmäld frånvaro"]
["FRÅNVARO",{"$f":"IN!B654","v":0},{"$f":"Blad3!E654","v":""},{"$f":"Blad3!G654","v":0},"Oanmäld frånvaro"]
["FRÅNVARO",{"$f":"IN!B655","v":0},{"$f":"Blad3!E655","v":""},{"$f":"Blad3!G655","v":0},"Oanmäld frånvaro"]
["FRÅNVARO",{"$f":"IN!B656","v":0},{"$f":"Blad3!E656","v":""},{"$f":"Blad3!G656","v":0},"Oanmäld frånvaro"]
["FRÅNVARO",{"$f":"IN!B657","v":0},{"$f":"Blad3!E657","v":""},{"$f":"Blad3!G657","v":0},"Oanmäld frånvaro"]
["FRÅNVARO",{"$f":"IN!B658","v":0},{"$f":"Blad3!E658","v":""},{"$f":"Blad3!G658","v":0},"Oanmäld frånvaro"]
["FRÅNVARO",{"$f":"IN!B659","v":0},{"$f":"Blad3!E659","v":""},{"$f":"Blad3!G659","v":0},"Oanmäld frånvaro"]
["FRÅNVARO",{"$f":"IN!B660","v":0},{"$f":"Blad3!E660","v":""},{"$f":"Blad3!G660","v":0},"Oanmäld frånvaro"]
["FRÅNVARO",{"$f":"IN!B661","v":0},{"$f":"Blad3!E661","v":""},{"$f":"Blad3!G661","v":0},"Oanmäld frånvaro"]
["FRÅNVARO",{"$f":"IN!B662","v":0},{"$f":"Blad3!E662","v":""},{"$f":"Blad3!G662","v":0},"Oanmäld frånvaro"]
["FRÅNVARO",{"$f":"IN!B663","v":0},{"$f":"Blad3!E663","v":""},{"$f":"Blad3!G663","v":0},"Oanmäld frånvaro"]
["FRÅNVARO",{"$f":"IN!B664","v":0},{"$f":"Blad3!E664","v":""},{"$f":"Blad3!G664","v":0},"Oanmäld frånvaro"]
["FRÅNVARO",{"$f":"IN!B665","v":0},{"$f":"Blad3!E665","v":""},{"$f":"Blad3!G665","v":0},"Oanmäld frånvaro"]
["FRÅNVARO",{"$f":"IN!B666","v":0},{"$f":"Blad3!E666","v":""},{"$f":"Blad3!G666","v":0},"Oanmäld frånvaro"]
["FRÅNVARO",{"$f":"IN!B667","v":0},{"$f":"Blad3!E667","v":""},{"$f":"Blad3!G667","v":0},"Oanmäld frånvaro"]
["FRÅNVARO",{"$f":"IN!B668","v":0},{"$f":"Blad3!E668","v":""},{"$f":"Blad3!G668","v":0},"Oanmäld frånvaro"]
["FRÅNVARO",{"$f":"IN!B669","v":0},{"$f":"Blad3!E669","v":""},{"$f":"Blad3!G669","v":0},"Oanmäld frånvaro"]
["FRÅNVARO",{"$f":"IN!B670","v":0},{"$f":"Blad3!E670","v":""},{"$f":"Blad3!G670","v":0},"Oanmäld frånvaro"]
["FRÅNVARO",{"$f":"IN!B671","v":0},{"$f":"Blad3!E671","v":""},{"$f":"Blad3!G671","v":0},"Oanmäld frånvaro"]
["FRÅNVARO",{"$f":"IN!B672","v":0},{"$f":"Blad3!E672","v":""},{"$f":"Blad3!G672","v":0},"Oanmäld frånvaro"]
["FRÅNVARO",{"$f":"IN!B673","v":0},{"$f":"Blad3!E673","v":""},{"$f":"Blad3!G673","v":0},"Oanmäld frånvaro"]
["FRÅNVARO",{"$f":"IN!B674","v":0},{"$f":"Blad3!E674","v":""},{"$f":"Blad3!G674","v":0},"Oanmäld frånvaro"]
["FRÅNVARO",{"$f":"IN!B675","v":0},{"$f":"Blad3!E675","v":""},{"$f":"Blad3!G675","v":0},"Oanmäld frånvaro"]
["FRÅNVARO",{"$f":"IN!B676","v":0},{"$f":"Blad3!E676","v":""},{"$f":"Blad3!G676","v":0},"Oanmäld frånvaro"]
["FRÅNVARO",{"$f":"IN!B677","v":0},{"$f":"Blad3!E677","v":""},{"$f":"Blad3!G677","v":0},"Oanmäld frånvaro"]
["FRÅNVARO",{"$f":"IN!B678","v":0},{"$f":"Blad3!E678","v":""},{"$f":"Blad3!G678","v":0},"Oanmäld frånvaro"]
["FRÅNVARO",{"$f":"IN!B679","v":0},{"$f":"Blad3!E679","v":""},{"$f":"Blad3!G679","v":0},"Oanmäld frånvaro"]
["FRÅNVARO",{"$f":"IN!B680","v":0},{"$f":"Blad3!E680","v":""},{"$f":"Blad3!G680","v":0},"Oanmäld frånvaro"]
["FRÅNVARO",{"$f":"IN!B681","v":0},{"$f":"Blad3!E681","v":""},{"$f":"Blad3!G681","v":0},"Oanmäld frånvaro"]
["FRÅNVARO",{"$f":"IN!B682","v":0},{"$f":"Blad3!E682","v":""},{"$f":"Blad3!G682","v":0},"Oanmäld frånvaro"]
["FRÅNVARO",{"$f":"IN!B683","v":0},{"$f":"Blad3!E683","v":""},{"$f":"Blad3!G683","v":0},"Oanmäld frånvaro"]
["FRÅNVARO",{"$f":"IN!B684","v":0},{"$f":"Blad3!E684","v":""},{"$f":"Blad3!G684","v":0},"Oanmäld frånvaro"]
["FRÅNVARO",{"$f":"IN!B685","v":0},{"$f":"Blad3!E685","v":""},{"$f":"Blad3!G685","v":0},"Oanmäld frånvaro"]
["FRÅNVARO",{"$f":"IN!B686","v":0},{"$f":"Blad3!E686","v":""},{"$f":"Blad3!G686","v":0},"Oanmäld frånvaro"]
["FRÅNVARO",{"$f":"IN!B687","v":0},{"$f":"Blad3!E687","v":""},{"$f":"Blad3!G687","v":0},"Oanmäld frånvaro"]
["FRÅNVARO",{"$f":"IN!B688","v":0},{"$f":"Blad3!E688","v":""},{"$f":"Blad3!G688","v":0},"Oanmäld frånvaro"]
["FRÅNVARO",{"$f":"IN!B689","v":0},{"$f":"Blad3!E689","v":""},{"$f":"Blad3!G689","v":0},"Oanmäld frånvaro"]
["FRÅNVARO",{"$f":"IN!B690","v":0},{"$f":"Blad3!E690","v":""},{"$f":"Blad3!G690","v":0},"Oanmäld frånvaro"]
["FRÅNVARO",{"$f":"IN!B691","v":0},{"$f":"Blad3!E691","v":""},{"$f":"Blad3!G691","v":0},"Oanmäld frånvaro"]
["FRÅNVARO",{"$f":"IN!B692","v":0},{"$f":"Blad3!E692","v":""},{"$f":"Blad3!G692","v":0},"Oanmäld frånvaro"]
["FRÅNVARO",{"$f":"IN!B693","v":0},{"$f":"Blad3!E693","v":""},{"$f":"Blad3!G693","v":0},"Oanmäld frånvaro"]
["FRÅNVARO",{"$f":"IN!B694","v":0},{"$f":"Blad3!E694","v":""},{"$f":"Blad3!G694","v":0},"Oanmäld frånvaro"]
["FRÅNVARO",{"$f":"IN!B695","v":0},{"$f":"Blad3!E695","v":""},{"$f":"Blad3!G695","v":0},"Oanmäld frånvaro"]
["FRÅNVARO",{"$f":"IN!B696","v":0},{"$f":"Blad3!E696","v":""},{"$f":"Blad3!G696","v":0},"Oanmäld frånvaro"]
["FRÅNVARO",{"$f":"IN!B697","v":0},{"$f":"Blad3!E697","v":""},{"$f":"Blad3!G697","v":0},"Oanmäld frånvaro"]
["FRÅNVARO",{"$f":"IN!B698","v":0},{"$f":"Blad3!E698","v":""},{"$f":"Blad3!G698","v":0},"Oanmäld frånvaro"]
["FRÅNVARO",{"$f":"IN!B699","v":0},{"$f":"Blad3!E699","v":""},{"$f":"Blad3!G699","v":0},"Oanmäld frånvaro"]
["FRÅNVARO",{"$f":"IN!B700","v":0},{"$f":"Blad3!E700","v":""},{"$f":"Blad3!G700","v":0},"Oanmäld frånvaro"]
["FRÅNVARO",{"$f":"IN!B701","v":0},{"$f":"Blad3!E701","v":""},{"$f":"Blad3!G701","v":0},"Oanmäld frånvaro"]
["FRÅNVARO",{"$f":"IN!B702","v":0},{"$f":"Blad3!E702","v":""},{"$f":"Blad3!G702","v":0},"Oanmäld frånvaro"]
["FRÅNVARO",{"$f":"IN!B703","v":0},{"$f":"Blad3!E703","v":""},{"$f":"Blad3!G703","v":0},"Oanmäld frånvaro"]
["FRÅNVARO",{"$f":"IN!B704","v":0},{"$f":"Blad3!E704","v":""},{"$f":"Blad3!G704","v":0},"Oanmäld frånvaro"]
["FRÅNVARO",{"$f":"IN!B705","v":0},{"$f":"Blad3!E705","v":""},{"$f":"Blad3!G705","v":0},"Oanmäld frånvaro"]
["FRÅNVARO",{"$f":"IN!B706","v":0},{"$f":"Blad3!E706","v":""},{"$f":"Blad3!G706","v":0},"Oanmäld frånvaro"]
["FRÅNVARO",{"$f":"IN!B707","v":0},{"$f":"Blad3!E707","v":""},{"$f":"Blad3!G707","v":0},"Oanmäld frånvaro"]
["FRÅNVARO",{"$f":"IN!B708","v":0},{"$f":"Blad3!E708","v":""},{"$f":"Blad3!G708","v":0},"Oanmäld frånvaro"]
["FRÅNVARO",{"$f":"IN!B709","v":0},{"$f":"Blad3!E709","v":""},{"$f":"Blad3!G709","v":0},"Oanmäld frånvaro"]
["FRÅNVARO",{"$f":"IN!B710","v":0},{"$f":"Blad3!E710","v":""},{"$f":"Blad3!G710","v":0},"Oanmäld frånvaro"]
["FRÅNVARO",{"$f":"IN!B711","v":0},{"$f":"Blad3!E711","v":""},{"$f":"Blad3!G711","v":0},"Oanmäld frånvaro"]
["FRÅNVARO",{"$f":"IN!B712","v":0},{"$f":"Blad3!E712","v":""},{"$f":"Blad3!G712","v":0},"Oanmäld frånvaro"]
["FRÅNVARO",{"$f":"IN!B713","v":0},{"$f":"Blad3!E713","v":""},{"$f":"Blad3!G713","v":0},"Oanmäld frånvaro"]
["FRÅNVARO",{"$f":"IN!B714","v":0},{"$f":"Blad3!E714","v":""},{"$f":"Blad3!G714","v":0},"Oanmäld frånvaro"]
["FRÅNVARO",{"$f":"IN!B715","v":0},{"$f":"Blad3!E715","v":""},{"$f":"Blad3!G715","v":0},"Oanmäld frånvaro"]
["FRÅNVARO",{"$f":"IN!B716","v":0},{"$f":"Blad3!E716","v":""},{"$f":"Blad3!G716","v":0},"Oanmäld frånvaro"]
["FRÅNVARO",{"$f":"IN!B717","v":0},{"$f":"Blad3!E717","v":""},{"$f":"Blad3!G717","v":0},"Oanmäld frånvaro"]
["FRÅNVARO",{"$f":"IN!B718","v":0},{"$f":"Blad3!E718","v":""},{"$f":"Blad3!G718","v":0},"Oanmäld frånvaro"]
["FRÅNVARO",{"$f":"IN!B719","v":0},{"$f":"Blad3!E719","v":""},{"$f":"Blad3!G719","v":0},"Oanmäld frånvaro"]
["FRÅNVARO",{"$f":"IN!B720","v":0},{"$f":"Blad3!E720","v":""},{"$f":"Blad3!G720","v":0},"Oanmäld frånvaro"]
["FRÅNVARO",{"$f":"IN!B721","v":0},{"$f":"Blad3!E721","v":""},{"$f":"Blad3!G721","v":0},"Oanmäld frånvaro"]
["FRÅNVARO",{"$f":"IN!B722","v":0},{"$f":"Blad3!E722","v":""},{"$f":"Blad3!G722","v":0},"Oanmäld frånvaro"]
["FRÅNVARO",{"$f":"IN!B723","v":0},{"$f":"Blad3!E723","v":""},{"$f":"Blad3!G723","v":0},"Oanmäld frånvaro"]
["FRÅNVARO",{"$f":"IN!B724","v":0},{"$f":"Blad3!E724","v":""},{"$f":"Blad3!G724","v":0},"Oanmäld frånvaro"]
["FRÅNVARO",{"$f":"IN!B725","v":0},{"$f":"Blad3!E725","v":""},{"$f":"Blad3!G725","v":0},"Oanmäld frånvaro"]
["FRÅNVARO",{"$f":"IN!B726","v":0},{"$f":"Blad3!E726","v":""},{"$f":"Blad3!G726","v":0},"Oanmäld frånvaro"]
["FRÅNVARO",{"$f":"IN!B727","v":0},{"$f":"Blad3!E727","v":""},{"$f":"Blad3!G727","v":0},"Oanmäld frånvaro"]
["FRÅNVARO",{"$f":"IN!B728","v":0},{"$f":"Blad3!E728","v":""},{"$f":"Blad3!G728","v":0},"Oanmäld frånvaro"]
["FRÅNVARO",{"$f":"IN!B729","v":0},{"$f":"Blad3!E729","v":""},{"$f":"Blad3!G729","v":0},"Oanmäld frånvaro"]
["FRÅNVARO",{"$f":"IN!B730","v":0},{"$f":"Blad3!E730","v":""},{"$f":"Blad3!G730","v":0},"Oanmäld frånvaro"]
["FRÅNVARO",{"$f":"IN!B731","v":0},{"$f":"Blad3!E731","v":""},{"$f":"Blad3!G731","v":0},"Oanmäld frånvaro"]
["FRÅNVARO",{"$f":"IN!B732","v":0},{"$f":"Blad3!E732","v":""},{"$f":"Blad3!G732","v":0},"Oanmäld frånvaro"]
["FRÅNVARO",{"$f":"IN!B733","v":0},{"$f":"Blad3!E733","v":""},{"$f":"Blad3!G733","v":0},"Oanmäld frånvaro"]
["FRÅNVARO",{"$f":"IN!B734","v":0},{"$f":"Blad3!E734","v":""},{"$f":"Blad3!G734","v":0},"Oanmäld frånvaro"]
["FRÅNVARO",{"$f":"IN!B735","v":0},{"$f":"Blad3!E735","v":""},{"$f":"Blad3!G735","v":0},"Oanmäld frånvaro"]
["FRÅNVARO",{"$f":"IN!B736","v":0},{"$f":"Blad3!E736","v":""},{"$f":"Blad3!G736","v":0},"Oanmäld frånvaro"]
["FRÅNVARO",{"$f":"IN!B737","v":0},{"$f":"Blad3!E737","v":""},{"$f":"Blad3!G737","v":0},"Oanmäld frånvaro"]
["FRÅNVARO",{"$f":"IN!B738","v":0},{"$f":"Blad3!E738","v":""},{"$f":"Blad3!G738","v":0},"Oanmäld frånvaro"]
["FRÅNVARO",{"$f":"IN!B739","v":0},{"$f":"Blad3!E739","v":""},{"$f":"Blad3!G739","v":0},"Oanmäld frånvaro"]
["FRÅNVARO",{"$f":"IN!B740","v":0},{"$f":"Blad3!E740","v":""},{"$f":"Blad3!G740","v":0},"Oanmäld frånvaro"]
["FRÅNVARO",{"$f":"IN!B741","v":0},{"$f":"Blad3!E741","v":""},{"$f":"Blad3!G741","v":0},"Oanmäld frånvaro"]
["FRÅNVARO",{"$f":"IN!B742","v":0},{"$f":"Blad3!E742","v":""},{"$f":"Blad3!G742","v":0},"Oanmäld frånvaro"]
["FRÅNVARO",{"$f":"IN!B743","v":0},{"$f":"Blad3!E743","v":""},{"$f":"Blad3!G743","v":0},"Oanmäld frånvaro"]
["FRÅNVARO",{"$f":"IN!B744","v":0},{"$f":"Blad3!E744","v":""},{"$f":"Blad3!G744","v":0},"Oanmäld frånvaro"]
["FRÅNVARO",{"$f":"IN!B745","v":0},{"$f":"Blad3!E745","v":""},{"$f":"Blad3!G745","v":0},"Oanmäld frånvaro"]
["FRÅNVARO",{"$f":"IN!B746","v":0},{"$f":"Blad3!E746","v":""},{"$f":"Blad3!G746","v":0},"Oanmäld frånvaro"]
["FRÅNVARO",{"$f":"IN!B747","v":0},{"$f":"Blad3!E747","v":""},{"$f":"Blad3!G747","v":0},"Oanmäld frånvaro"]
["FRÅNVARO",{"$f":"IN!B748","v":0},{"$f":"Blad3!E748","v":""},{"$f":"Blad3!G748","v":0},"Oanmäld frånvaro"]
["FRÅNVARO",{"$f":"IN!B749","v":0},{"$f":"Blad3!E749","v":""},{"$f":"Blad3!G749","v":0},"Oanmäld frånvaro"]
["FRÅNVARO",{"$f":"IN!B750","v":0},{"$f":"Blad3!E750","v":""},{"$f":"Blad3!G750","v":0},"Oanmäld frånvaro"]
["FRÅNVARO",{"$f":"IN!B751","v":0},{"$f":"Blad3!E751","v":""},{"$f":"Blad3!G751","v":0},"Oanmäld frånvaro"]
["FRÅNVARO",{"$f":"IN!B752","v":0},{"$f":"Blad3!E752","v":""},{"$f":"Blad3!G752","v":0},"Oanmäld frånvaro"]
["FRÅNVARO",{"$f":"IN!B753","v":0},{"$f":"Blad3!E753","v":""},{"$f":"Blad3!G753","v":0},"Oanmäld frånvaro"]
["FRÅNVARO",{"$f":"IN!B754","v":0},{"$f":"Blad3!E754","v":""},{"$f":"Blad3!G754","v":0},"Oanmäld frånvaro"]
["FRÅNVARO",{"$f":"IN!B755","v":0},{"$f":"Blad3!E755","v":""},{"$f":"Blad3!G755","v":0},"Oanmäld frånvaro"]
["FRÅNVARO",{"$f":"IN!B756","v":0},{"$f":"Blad3!E756","v":""},{"$f":"Blad3!G756","v":0},"Oanmäld frånvaro"]
["FRÅNVARO",{"$f":"IN!B757","v":0},{"$f":"Blad3!E757","v":""},{"$f":"Blad3!G757","v":0},"Oanmäld frånvaro"]
["FRÅNVARO",{"$f":"IN!B758","v":0},{"$f":"Blad3!E758","v":""},{"$f":"Blad3!G758","v":0},"Oanmäld frånvaro"]
["FRÅNVARO",{"$f":"IN!B759","v":0},{"$f":"Blad3!E759","v":""},{"$f":"Blad3!G759","v":0},"Oanmäld frånvaro"]
["FRÅNVARO",{"$f":"IN!B760","v":0},{"$f":"Blad3!E760","v":""},{"$f":"Blad3!G760","v":0},"Oanmäld frånvaro"]
["FRÅNVARO",{"$f":"IN!B761","v":0},{"$f":"Blad3!E761","v":""},{"$f":"Blad3!G761","v":0},"Oanmäld frånvaro"]
["FRÅNVARO",{"$f":"IN!B762","v":0},{"$f":"Blad3!E762","v":""},{"$f":"Blad3!G762","v":0},"Oanmäld frånvaro"]
["FRÅNVARO",{"$f":"IN!B763","v":0},{"$f":"Blad3!E763","v":""},{"$f":"Blad3!G763","v":0},"Oanmäld frånvaro"]
["FRÅNVARO",{"$f":"IN!B764","v":0},{"$f":"Blad3!E764","v":""},{"$f":"Blad3!G764","v":0},"Oanmäld frånvaro"]
["FRÅNVARO",{"$f":"IN!B765","v":0},{"$f":"Blad3!E765","v":""},{"$f":"Blad3!G765","v":0},"Oanmäld frånvaro"]
["FRÅNVARO",{"$f":"IN!B766","v":0},{"$f":"Blad3!E766","v":""},{"$f":"Blad3!G766","v":0},"Oanmäld frånvaro"]
["FRÅNVARO",{"$f":"IN!B767","v":0},{"$f":"Blad3!E767","v":""},{"$f":"Blad3!G767","v":0},"Oanmäld frånvaro"]
["FRÅNVARO",{"$f":"IN!B768","v":0},{"$f":"Blad3!E768","v":""},{"$f":"Blad3!G768","v":0},"Oanmäld frånvaro"]
["FRÅNVARO",{"$f":"IN!B769","v":0},{"$f":"Blad3!E769","v":""},{"$f":"Blad3!G769","v":0},"Oanmäld frånvaro"]
["FRÅNVARO",{"$f":"IN!B770","v":0},{"$f":"Blad3!E770","v":""},{"$f":"Blad3!G770","v":0},"Oanmäld frånvaro"]
["FRÅNVARO",{"$f":"IN!B771","v":0},{"$f":"Blad3!E771","v":""},{"$f":"Blad3!G771","v":0},"Oanmäld frånvaro"]
["FRÅNVARO",{"$f":"IN!B772","v":0},{"$f":"Blad3!E772","v":""},{"$f":"Blad3!G772","v":0},"Oanmäld frånvaro"]
["FRÅNVARO",{"$f":"IN!B773","v":0},{"$f":"Blad3!E773","v":""},{"$f":"Blad3!G773","v":0},"Oanmäld frånvaro"]
["FRÅNVARO",{"$f":"IN!B774","v":0},{"$f":"Blad3!E774","v":""},{"$f":"Blad3!G774","v":0},"Oanmäld frånvaro"]
["FRÅNVARO",{"$f":"IN!B775","v":0},{"$f":"Blad3!E775","v":""},{"$f":"Blad3!G775","v":0},"Oanmäld frånvaro"]
["FRÅNVARO",{"$f":"IN!B776","v":0},{"$f":"Blad3!E776","v":""},{"$f":"Blad3!G776","v":0},"Oanmäld frånvaro"]
["FRÅNVARO",{"$f":"IN!B777","v":0},{"$f":"Blad3!E777","v":""},{"$f":"Blad3!G777","v":0},"Oanmäld frånvaro"]
["FRÅNVARO",{"$f":"IN!B778","v":0},{"$f":"Blad3!E778","v":""},{"$f":"Blad3!G778","v":0},"Oanmäld frånvaro"]
["FRÅNVARO",{"$f":"IN!B779","v":0},{"$f":"Blad3!E779","v":""},{"$f":"Blad3!G779","v":0},"Oanmäld frånvaro"]
["FRÅNVARO",{"$f":"IN!B780","v":0},{"$f":"Blad3!E780","v":""},{"$f":"Blad3!G780","v":0},"Oanmäld frånvaro"]
["FRÅNVARO",{"$f":"IN!B781","v":0},{"$f":"Blad3!E781","v":""},{"$f":"Blad3!G781","v":0},"Oanmäld frånvaro"]
["FRÅNVARO",{"$f":"IN!B782","v":0},{"$f":"Blad3!E782","v":""},{"$f":"Blad3!G782","v":0},"Oanmäld frånvaro"]
["FRÅNVARO",{"$f":"IN!B783","v":0},{"$f":"Blad3!E783","v":""},{"$f":"Blad3!G783","v":0},"Oanmäld frånvaro"]
["FRÅNVARO",{"$f":"IN!B784","v":0},{"$f":"Blad3!E784","v":""},{"$f":"Blad3!G784","v":0},"Oanmäld frånvaro"]
["FRÅNVARO",{"$f":"IN!B785","v":0},{"$f":"Blad3!E785","v":""},{"$f":"Blad3!G785","v":0},"Oanmäld frånvaro"]
["FRÅNVARO",{"$f":"IN!B786","v":0},{"$f":"Blad3!E786","v":""},{"$f":"Blad3!G786","v":0},"Oanmäld frånvaro"]
["FRÅNVARO",{"$f":"IN!B787","v":0},{"$f":"Blad3!E787","v":""},{"$f":"Blad3!G787","v":0},"Oanmäld frånvaro"]
["FRÅNVARO",{"$f":"IN!B788","v":0},{"$f":"Blad3!E788","v":""},{"$f":"Blad3!G788","v":0},"Oanmäld frånvaro"]
["FRÅNVARO",{"$f":"IN!B789","v":0},{"$f":"Blad3!E789","v":""},{"$f":"Blad3!G789","v":0},"Oanmäld frånvaro"]
["FRÅNVARO",{"$f":"IN!B790","v":0},{"$f":"Blad3!E790","v":""},{"$f":"Blad3!G790","v":0},"Oanmäld frånvaro"]
["FRÅNVARO",{"$f":"IN!B791","v":0},{"$f":"Blad3!E791","v":""},{"$f":"Blad3!G791","v":0},"Oanmäld frånvaro"]
["FRÅNVARO",{"$f":"IN!B792","v":0},{"$f":"Blad3!E792","v":""},{"$f":"Blad3!G792","v":0},"Oanmäld frånvaro"]
["FRÅNVARO",{"$f":"IN!B793","v":0},{"$f":"Blad3!E793","v":""},{"$f":"Blad3!G793","v":0},"Oanmäld frånvaro"]
["FRÅNVARO",{"$f":"IN!B794","v":0},{"$f":"Blad3!E794","v":""},{"$f":"Blad3!G794","v":0},"Oanmäld frånvaro"]
["FRÅNVARO",{"$f":"IN!B795","v":0},{"$f":"Blad3!E795","v":""},{"$f":"Blad3!G795","v":0},"Oanmäld frånvaro"]
["FRÅNVARO",{"$f":"IN!B796","v":0},{"$f":"Blad3!E796","v":""},{"$f":"Blad3!G796","v":0},"Oanmäld frånvaro"]
["FRÅNVARO",{"$f":"IN!B797","v":0},{"$f":"Blad3!E797","v":""},{"$f":"Blad3!G797","v":0},"Oanmäld frånvaro"]
["FRÅNVARO",{"$f":"IN!B798","v":0},{"$f":"Blad3!E798","v":""},{"$f":"Blad3!G798","v":0},"Oanmäld frånvaro"]
["FRÅNVARO",{"$f":"IN!B799","v":0},{"$f":"Blad3!E799","v":""},{"$f":"Blad3!G799","v":0},"Oanmäld frånvaro"]
["FRÅNVARO",{"$f":"IN!B800","v":0},{"$f":"Blad3!E800","v":""},{"$f":"Blad3!G800","v":0},"Oanmäld frånvaro"]
["FRÅNVARO",{"$f":"IN!B801","v":0},{"$f":"Blad3!E801","v":""},{"$f":"Blad3!G801","v":0},"Oanmäld frånvaro"]
["FRÅNVARO",{"$f":"IN!B802","v":0},{"$f":"Blad3!E802","v":""},{"$f":"Blad3!G802","v":0},"Oanmäld frånvaro"]
["FRÅNVARO",{"$f":"IN!B803","v":0},{"$f":"Blad3!E803","v":""},{"$f":"Blad3!G803","v":0},"Oanmäld frånvaro"]
["FRÅNVARO",{"$f":"IN!B804","v":0},{"$f":"Blad3!E804","v":""},{"$f":"Blad3!G804","v":0},"Oanmäld frånvaro"]
["FRÅNVARO",{"$f":"IN!B805","v":0},{"$f":"Blad3!E805","v":""},{"$f":"Blad3!G805","v":0},"Oanmäld frånvaro"]
["FRÅNVARO",{"$f":"IN!B806","v":0},{"$f":"Blad3!E806","v":""},{"$f":"Blad3!G806","v":0},"Oanmäld frånvaro"]
["FRÅNVARO",{"$f":"IN!B807","v":0},{"$f":"Blad3!E807","v":""},{"$f":"Blad3!G807","v":0},"Oanmäld frånvaro"]
["FRÅNVARO",{"$f":"IN!B808","v":0},{"$f":"Blad3!E808","v":""},{"$f":"Blad3!G808","v":0},"Oanmäld frånvaro"]
["FRÅNVARO",{"$f":"IN!B809","v":0},{"$f":"Blad3!E809","v":""},{"$f":"Blad3!G809","v":0},"Oanmäld frånvaro"]
["FRÅNVARO",{"$f":"IN!B810","v":0},{"$f":"Blad3!E810","v":""},{"$f":"Blad3!G810","v":0},"Oanmäld frånvaro"]
["FRÅNVARO",{"$f":"IN!B811","v":0},{"$f":"Blad3!E811","v":""},{"$f":"Blad3!G811","v":0},"Oanmäld frånvaro"]
["FRÅNVARO",{"$f":"IN!B812","v":0},{"$f":"Blad3!E812","v":""},{"$f":"Blad3!G812","v":0},"Oanmäld frånvaro"]
["FRÅNVARO",{"$f":"IN!B813","v":0},{"$f":"Blad3!E813","v":""},{"$f":"Blad3!G813","v":0},"Oanmäld frånvaro"]
["FRÅNVARO",{"$f":"IN!B814","v":0},{"$f":"Blad3!E814","v":""},{"$f":"Blad3!G814","v":0},"Oanmäld frånvaro"]
["FRÅNVARO",{"$f":"IN!B815","v":0},{"$f":"Blad3!E815","v":""},{"$f":"Blad3!G815","v":0},"Oanmäld frånvaro"]
["FRÅNVARO",{"$f":"IN!B816","v":0},{"$f":"Blad3!E816","v":""},{"$f":"Blad3!G816","v":0},"Oanmäld frånvaro"]
["FRÅNVARO",{"$f":"IN!B817","v":0},{"$f":"Blad3!E817","v":""},{"$f":"Blad3!G817","v":0},"Oanmäld frånvaro"]
["FRÅNVARO",{"$f":"IN!B818","v":0},{"$f":"Blad3!E818","v":""},{"$f":"Blad3!G818","v":0},"Oanmäld frånvaro"]
["FRÅNVARO",{"$f":"IN!B819","v":0},{"$f":"Blad3!E819","v":""},{"$f":"Blad3!G819","v":0},"Oanmäld frånvaro"]
["FRÅNVARO",{"$f":"IN!B820","v":0},{"$f":"Blad3!E820","v":""},{"$f":"Blad3!G820","v":0},"Oanmäld frånvaro"]
["FRÅNVARO",{"$f":"IN!B821","v":0},{"$f":"Blad3!E821","v":""},{"$f":"Blad3!G821","v":0},"Oanmäld frånvaro"]
["FRÅNVARO",{"$f":"IN!B822","v":0},{"$f":"Blad3!E822","v":""},{"$f":"Blad3!G822","v":0},"Oanmäld frånvaro"]
["FRÅNVARO",{"$f":"IN!B823","v":0},{"$f":"Blad3!E823","v":""},{"$f":"Blad3!G823","v":0},"Oanmäld frånvaro"]
["FRÅNVARO",{"$f":"IN!B824","v":0},{"$f":"Blad3!E824","v":""},{"$f":"Blad3!G824","v":0},"Oanmäld frånvaro"]
["FRÅNVARO",{"$f":"IN!B825","v":0},{"$f":"Blad3!E825","v":""},{"$f":"Blad3!G825","v":0},"Oanmäld frånvaro"]
["FRÅNVARO",{"$f":"IN!B826","v":0},{"$f":"Blad3!E826","v":""},{"$f":"Blad3!G826","v":0},"Oanmäld frånvaro"]
["FRÅNVARO",{"$f":"IN!B827","v":0},{"$f":"Blad3!E827","v":""},{"$f":"Blad3!G827","v":0},"Oanmäld frånvaro"]
["FRÅNVARO",{"$f":"IN!B828","v":0},{"$f":"Blad3!E828","v":""},{"$f":"Blad3!G828","v":0},"Oanmäld frånvaro"]
["FRÅNVARO",{"$f":"IN!B829","v":0},{"$f":"Blad3!E829","v":""},{"$f":"Blad3!G829","v":0},"Oanmäld frånvaro"]
["FRÅNVARO",{"$f":"IN!B830","v":0},{"$f":"Blad3!E830","v":""},{"$f":"Blad3!G830","v":0},"Oanmäld frånvaro"]
["FRÅNVARO",{"$f":"IN!B831","v":0},{"$f":"Blad3!E831","v":""},{"$f":"Blad3!G831","v":0},"Oanmäld frånvaro"]
["FRÅNVARO",{"$f":"IN!B832","v":0},{"$f":"Blad3!E832","v":""},{"$f":"Blad3!G832","v":0},"Oanmäld frånvaro"]
["FRÅNVARO",{"$f":"IN!B833","v":0},{"$f":"Blad3!E833","v":""},{"$f":"Blad3!G833","v":0},"Oanmäld frånvaro"]
["FRÅNVARO",{"$f":"IN!B834","v":0},{"$f":"Blad3!E834","v":""},{"$f":"Blad3!G834","v":0},"Oanmäld frånvaro"]
["FRÅNVARO",{"$f":"IN!B835","v":0},{"$f":"Blad3!E835","v":""},{"$f":"Blad3!G835","v":0},"Oanmäld frånvaro"]
["FRÅNVARO",{"$f":"IN!B836","v":0},{"$f":"Blad3!E836","v":""},{"$f":"Blad3!G836","v":0},"Oanmäld frånvaro"]
["FRÅNVARO",{"$f":"IN!B837","v":0},{"$f":"Blad3!E837","v":""},{"$f":"Blad3!G837","v":0},"Oanmäld frånvaro"]
["FRÅNVARO",{"$f":"IN!B838","v":0},{"$f":"Blad3!E838","v":""},{"$f":"Blad3!G838","v":0},"Oanmäld frånvaro"]
["FRÅNVARO",{"$f":"IN!B839","v":0},{"$f":"Blad3!E839","v":""},{"$f":"Blad3!G839","v":0},"Oanmäld frånvaro"]
["FRÅNVARO",{"$f":"IN!B840","v":0},{"$f":"Blad3!E840","v":""},{"$f":"Blad3!G840","v":0},"Oanmäld frånvaro"]
["FRÅNVARO",{"$f":"IN!B841","v":0},{"$f":"Blad3!E841","v":""},{"$f":"Blad3!G841","v":0},"Oanmäld frånvaro"]
["FRÅNVARO",{"$f":"IN!B842","v":0},{"$f":"Blad3!E842","v":""},{"$f":"Blad3!G842","v":0},"Oanmäld frånvaro"]
["FRÅNVARO",{"$f":"IN!B843","v":0},{"$f":"Blad3!E843","v":""},{"$f":"Blad3!G843","v":0},"Oanmäld frånvaro"]
["FRÅNVARO",{"$f":"IN!B844","v":0},{"$f":"Blad3!E844","v":""},{"$f":"Blad3!G844","v":0},"Oanmäld frånvaro"]
["FRÅNVARO",{"$f":"IN!B845","v":0},{"$f":"Blad3!E845","v":""},{"$f":"Blad3!G845","v":0},"Oanmäld frånvaro"]
["FRÅNVARO",{"$f":"IN!B846","v":0},{"$f":"Blad3!E846","v":""},{"$f":"Blad3!G846","v":0},"Oanmäld frånvaro"]
["FRÅNVARO",{"$f":"IN!B847","v":0},{"$f":"Blad3!E847","v":""},{"$f":"Blad3!G847","v":0},"Oanmäld frånvaro"]
["FRÅNVARO",{"$f":"IN!B848","v":0},{"$f":"Blad3!E848","v":""},{"$f":"Blad3!G848","v":0},"Oanmäld frånvaro"]
["FRÅNVARO",{"$f":"IN!B849","v":0},{"$f":"Blad3!E849","v":""},{"$f":"Blad3!G849","v":0},"Oanmäld frånvaro"]
["FRÅNVARO",{"$f":"IN!B850","v":0},{"$f":"Blad3!E850","v":""},{"$f":"Blad3!G850","v":0},"Oanmäld frånvaro"]
["FRÅNVARO",{"$f":"IN!B851","v":0},{"$f":"Blad3!E851","v":""},{"$f":"Blad3!G851","v":0},"Oanmäld frånvaro"]
["FRÅNVARO",{"$f":"IN!B852","v":0},{"$f":"Blad3!E852","v":""},{"$f":"Blad3!G852","v":0},"Oanmäld frånvaro"]
["FRÅNVARO",{"$f":"IN!B853","v":0},{"$f":"Blad3!E853","v":""},{"$f":"Blad3!G853","v":0},"Oanmäld frånvaro"]
["FRÅNVARO",{"$f":"IN!B854","v":0},{"$f":"Blad3!E854","v":""},{"$f":"Blad3!G854","v":0},"Oanmäld frånvaro"]
["FRÅNVARO",{"$f":"IN!B855","v":0},{"$f":"Blad3!E855","v":""},{"$f":"Blad3!G855","v":0},"Oanmäld frånvaro"]
["FRÅNVARO",{"$f":"IN!B856","v":0},{"$f":"Blad3!E856","v":""},{"$f":"Blad3!G856","v":0},"Oanmäld frånvaro"]
["FRÅNVARO",{"$f":"IN!B857","v":0},{"$f":"Blad3!E857","v":""},{"$f":"Blad3!G857","v":0},"Oanmäld frånvaro"]
["FRÅNVARO",{"$f":"IN!B858","v":0},{"$f":"Blad3!E858","v":""},{"$f":"Blad3!G858","v":0},"Oanmäld frånvaro"]
["FRÅNVARO",{"$f":"IN!B859","v":0},{"$f":"Blad3!E859","v":""},{"$f":"Blad3!G859","v":0},"Oanmäld frånvaro"]
["FRÅNVARO",{"$f":"IN!B860","v":0},{"$f":"Blad3!E860","v":""},{"$f":"Blad3!G860","v":0},"Oanmäld frånvaro"]
["FRÅNVARO",{"$f":"IN!B861","v":0},{"$f":"Blad3!E861","v":""},{"$f":"Blad3!G861","v":0},"Oanmäld frånvaro"]
["FRÅNVARO",{"$f":"IN!B862","v":0},{"$f":"Blad3!E862","v":""},{"$f":"Blad3!G862","v":0},"Oanmäld frånvaro"]
["FRÅNVARO",{"$f":"IN!B863","v":0},{"$f":"Blad3!E863","v":""},{"$f":"Blad3!G863","v":0},"Oanmäld frånvaro"]
["FRÅNVARO",{"$f":"IN!B864","v":0},{"$f":"Blad3!E864","v":""},{"$f":"Blad3!G864","v":0},"Oanmäld frånvaro"]
["FRÅNVARO",{"$f":"IN!B865","v":0},{"$f":"Blad3!E865","v":""},{"$f":"Blad3!G865","v":0},"Oanmäld frånvaro"]
["FRÅNVARO",{"$f":"IN!B866","v":0},{"$f":"Blad3!E866","v":""},{"$f":"Blad3!G866","v":0},"Oanmäld frånvaro"]
["FRÅNVARO",{"$f":"IN!B867","v":0},{"$f":"Blad3!E867","v":""},{"$f":"Blad3!G867","v":0},"Oanmäld frånvaro"]
["FRÅNVARO",{"$f":"IN!B868","v":0},{"$f":"Blad3!E868","v":""},{"$f":"Blad3!G868","v":0},"Oanmäld frånvaro"]
["FRÅNVARO",{"$f":"IN!B869","v":0},{"$f":"Blad3!E869","v":""},{"$f":"Blad3!G869","v":0},"Oanmäld frånvaro"]
["FRÅNVARO",{"$f":"IN!B870","v":0},{"$f":"Blad3!E870","v":""},{"$f":"Blad3!G870","v":0},"Oanmäld frånvaro"]
["FRÅNVARO",{"$f":"IN!B871","v":0},{"$f":"Blad3!E871","v":""},{"$f":"Blad3!G871","v":0},"Oanmäld frånvaro"]
["FRÅNVARO",{"$f":"IN!B872","v":0},{"$f":"Blad3!E872","v":""},{"$f":"Blad3!G872","v":0},"Oanmäld frånvaro"]
["FRÅNVARO",{"$f":"IN!B873","v":0},{"$f":"Blad3!E873","v":""},{"$f":"Blad3!G873","v":0},"Oanmäld frånvaro"]
["FRÅNVARO",{"$f":"IN!B874","v":0},{"$f":"Blad3!E874","v":""},{"$f":"Blad3!G874","v":0},"Oanmäld frånvaro"]
["FRÅNVARO",{"$f":"IN!B875","v":0},{"$f":"Blad3!E875","v":""},{"$f":"Blad3!G875","v":0},"Oanmäld frånvaro"]
["FRÅNVARO",{"$f":"IN!B876","v":0},{"$f":"Blad3!E876","v":""},{"$f":"Blad3!G876","v":0},"Oanmäld frånvaro"]
["FRÅNVARO",{"$f":"IN!B877","v":0},{"$f":"Blad3!E877","v":""},{"$f":"Blad3!G877","v":0},"Oanmäld frånvaro"]
["FRÅNVARO",{"$f":"IN!B878","v":0},{"$f":"Blad3!E878","v":""},{"$f":"Blad3!G878","v":0},"Oanmäld frånvaro"]
["FRÅNVARO",{"$f":"IN!B879","v":0},{"$f":"Blad3!E879","v":""},{"$f":"Blad3!G879","v":0},"Oanmäld frånvaro"]
["FRÅNVARO",{"$f":"IN!B880","v":0},{"$f":"Blad3!E880","v":""},{"$f":"Blad3!G880","v":0},"Oanmäld frånvaro"]
["FRÅNVARO",{"$f":"IN!B881","v":0},{"$f":"Blad3!E881","v":""},{"$f":"Blad3!G881","v":0},"Oanmäld frånvaro"]
["FRÅNVARO",{"$f":"IN!B882","v":0},{"$f":"Blad3!E882","v":""},{"$f":"Blad3!G882","v":0},"Oanmäld frånvaro"]
["FRÅNVARO",{"$f":"IN!B883","v":0},{"$f":"Blad3!E883","v":""},{"$f":"Blad3!G883","v":0},"Oanmäld frånvaro"]
["FRÅNVARO",{"$f":"IN!B884","v":0},{"$f":"Blad3!E884","v":""},{"$f":"Blad3!G884","v":0},"Oanmäld frånvaro"]
["FRÅNVARO",{"$f":"IN!B885","v":0},{"$f":"Blad3!E885","v":""},{"$f":"Blad3!G885","v":0},"Oanmäld frånvaro"]
["FRÅNVARO",{"$f":"IN!B886","v":0},{"$f":"Blad3!E886","v":""},{"$f":"Blad3!G886","v":0},"Oanmäld frånvaro"]
["FRÅNVARO",{"$f":"IN!B887","v":0},{"$f":"Blad3!E887","v":""},{"$f":"Blad3!G887","v":0},"Oanmäld frånvaro"]
["FRÅNVARO",{"$f":"IN!B888","v":0},{"$f":"Blad3!E888","v":""},{"$f":"Blad3!G888","v":0},"Oanmäld frånvaro"]
["FRÅNVARO",{"$f":"IN!B889","v":0},{"$f":"Blad3!E889","v":""},{"$f":"Blad3!G889","v":0},"Oanmäld frånvaro"]
["FRÅNVARO",{"$f":"IN!B890","v":0},{"$f":"Blad3!E890","v":""},{"$f":"Blad3!G890","v":0},"Oanmäld frånvaro"]
["FRÅNVARO",{"$f":"IN!B891","v":0},{"$f":"Blad3!E891","v":""},{"$f":"Blad3!G891","v":0},"Oanmäld frånvaro"]
["FRÅNVARO",{"$f":"IN!B892","v":0},{"$f":"Blad3!E892","v":""},{"$f":"Blad3!G892","v":0},"Oanmäld frånvaro"]
["FRÅNVARO",{"$f":"IN!B893","v":0},{"$f":"Blad3!E893","v":""},{"$f":"Blad3!G893","v":0},"Oanmäld frånvaro"]
["FRÅNVARO",{"$f":"IN!B894","v":0},{"$f":"Blad3!E894","v":""},{"$f":"Blad3!G894","v":0},"Oanmäld frånvaro"]
["FRÅNVARO",{"$f":"IN!B895","v":0},{"$f":"Blad3!E895","v":""},{"$f":"Blad3!G895","v":0},"Oanmäld frånvaro"]
["FRÅNVARO",{"$f":"IN!B896","v":0},{"$f":"Blad3!E896","v":""},{"$f":"Blad3!G896","v":0},"Oanmäld frånvaro"]
["FRÅNVARO",{"$f":"IN!B897","v":0},{"$f":"Blad3!E897","v":""},{"$f":"Blad3!G897","v":0},"Oanmäld frånvaro"]
["FRÅNVARO",{"$f":"IN!B898","v":0},{"$f":"Blad3!E898","v":""},{"$f":"Blad3!G898","v":0},"Oanmäld frånvaro"]
["FRÅNVARO",{"$f":"IN!B899","v":0},{"$f":"Blad3!E899","v":""},{"$f":"Blad3!G899","v":0},"Oanmäld frånvaro"]
["FRÅNVARO",{"$f":"IN!B900","v":0},{"$f":"Blad3!E900","v":""},{"$f":"Blad3!G900","v":0},"Oanmäld frånvaro"]
["FRÅNVARO",{"$f":"IN!B901","v":0},{"$f":"Blad3!E901","v":""},{"$f":"Blad3!G901","v":0},"Oanmäld frånvaro"]
["FRÅNVARO",{"$f":"IN!B902","v":0},{"$f":"Blad3!E902","v":""},{"$f":"Blad3!G902","v":0},"Oanmäld frånvaro"]
["FRÅNVARO",{"$f":"IN!B903","v":0},{"$f":"Blad3!E903","v":""},{"$f":"Blad3!G903","v":0},"Oanmäld frånvaro"]
["FRÅNVARO",{"$f":"IN!B904","v":0},{"$f":"Blad3!E904","v":""},{"$f":"Blad3!G904","v":0},"Oanmäld frånvaro"]
["FRÅNVARO",{"$f":"IN!B905","v":0},{"$f":"Blad3!E905","v":""},{"$f":"Blad3!G905","v":0},"Oanmäld frånvaro"]
["FRÅNVARO",{"$f":"IN!B906","v":0},{"$f":"Blad3!E906","v":""},{"$f":"Blad3!G906","v":0},"Oanmäld frånvaro"]
["FRÅNVARO",{"$f":"IN!B907","v":0},{"$f":"Blad3!E907","v":""},{"$f":"Blad3!G907","v":0},"Oanmäld frånvaro"]
["FRÅNVARO",{"$f":"IN!B908","v":0},{"$f":"Blad3!E908","v":""},{"$f":"Blad3!G908","v":0},"Oanmäld frånvaro"]
["FRÅNVARO",{"$f":"IN!B909","v":0},{"$f":"Blad3!E909","v":""},{"$f":"Blad3!G909","v":0},"Oanmäld frånvaro"]
["FRÅNVARO",{"$f":"IN!B910","v":0},{"$f":"Blad3!E910","v":""},{"$f":"Blad3!G910","v":0},"Oanmäld frånvaro"]
["FRÅNVARO",{"$f":"IN!B911","v":0},{"$f":"Blad3!E911","v":""},{"$f":"Blad3!G911","v":0},"Oanmäld frånvaro"]
["FRÅNVARO",{"$f":"IN!B912","v":0},{"$f":"Blad3!E912","v":""},{"$f":"Blad3!G912","v":0},"Oanmäld frånvaro"]
["FRÅNVARO",{"$f":"IN!B913","v":0},{"$f":"Blad3!E913","v":""},{"$f":"Blad3!G913","v":0},"Oanmäld frånvaro"]
["FRÅNVARO",{"$f":"IN!B914","v":0},{"$f":"Blad3!E914","v":""},{"$f":"Blad3!G914","v":0},"Oanmäld frånvaro"]
["FRÅNVARO",{"$f":"IN!B915","v":0},{"$f":"Blad3!E915","v":""},{"$f":"Blad3!G915","v":0},"Oanmäld frånvaro"]
["FRÅNVARO",{"$f":"IN!B916","v":0},{"$f":"Blad3!E916","v":""},{"$f":"Blad3!G916","v":0},"Oanmäld frånvaro"]
["FRÅNVARO",{"$f":"IN!B917","v":0},{"$f":"Blad3!E917","v":""},{"$f":"Blad3!G917","v":0},"Oanmäld frånvaro"]
["FRÅNVARO",{"$f":"IN!B918","v":0},{"$f":"Blad3!E918","v":""},{"$f":"Blad3!G918","v":0},"Oanmäld frånvaro"]
["FRÅNVARO",{"$f":"IN!B919","v":0},{"$f":"Blad3!E919","v":""},{"$f":"Blad3!G919","v":0},"Oanmäld frånvaro"]
["FRÅNVARO",{"$f":"IN!B920","v":0},{"$f":"Blad3!E920","v":""},{"$f":"Blad3!G920","v":0},"Oanmäld frånvaro"]
["FRÅNVARO",{"$f":"IN!B921","v":0},{"$f":"Blad3!E921","v":""},{"$f":"Blad3!G921","v":0},"Oanmäld frånvaro"]
["FRÅNVARO",{"$f":"IN!B922","v":0},{"$f":"Blad3!E922","v":""},{"$f":"Blad3!G922","v":0},"Oanmäld frånvaro"]
["FRÅNVARO",{"$f":"IN!B923","v":0},{"$f":"Blad3!E923","v":""},{"$f":"Blad3!G923","v":0},"Oanmäld frånvaro"]
["FRÅNVARO",{"$f":"IN!B924","v":0},{"$f":"Blad3!E924","v":""},{"$f":"Blad3!G924","v":0},"Oanmäld frånvaro"]
["FRÅNVARO",{"$f":"IN!B925","v":0},{"$f":"Blad3!E925","v":""},{"$f":"Blad3!G925","v":0},"Oanmäld frånvaro"]
["FRÅNVARO",{"$f":"IN!B926","v":0},{"$f":"Blad3!E926","v":""},{"$f":"Blad3!G926","v":0},"Oanmäld frånvaro"]
["FRÅNVARO",{"$f":"IN!B927","v":0},{"$f":"Blad3!E927","v":""},{"$f":"Blad3!G927","v":0},"Oanmäld frånvaro"]
["FRÅNVARO",{"$f":"IN!B928","v":0},{"$f":"Blad3!E928","v":""},{"$f":"Blad3!G928","v":0},"Oanmäld frånvaro"]
["FRÅNVARO",{"$f":"IN!B929","v":0},{"$f":"Blad3!E929","v":""},{"$f":"Blad3!G929","v":0},"Oanmäld frånvaro"]
["FRÅNVARO",{"$f":"IN!B930","v":0},{"$f":"Blad3!E930","v":""},{"$f":"Blad3!G930","v":0},"Oanmäld frånvaro"]
["FRÅNVARO",{"$f":"IN!B931","v":0},{"$f":"Blad3!E931","v":""},{"$f":"Blad3!G931","v":0},"Oanmäld frånvaro"]
["FRÅNVARO",{"$f":"IN!B932","v":0},{"$f":"Blad3!E932","v":""},{"$f":"Blad3!G932","v":0},"Oanmäld frånvaro"]
["FRÅNVARO",{"$f":"IN!B933","v":0},{"$f":"Blad3!E933","v":""},{"$f":"Blad3!G933","v":0},"Oanmäld frånvaro"]
["FRÅNVARO",{"$f":"IN!B934","v":0},{"$f":"Blad3!E934","v":""},{"$f":"Blad3!G934","v":0},"Oanmäld frånvaro"]
["FRÅNVARO",{"$f":"IN!B935","v":0},{"$f":"Blad3!E935","v":""},{"$f":"Blad3!G935","v":0},"Oanmäld frånvaro"]
["FRÅNVARO",{"$f":"IN!B936","v":0},{"$f":"Blad3!E936","v":""},{"$f":"Blad3!G936","v":0},"Oanmäld frånvaro"]
["FRÅNVARO",{"$f":"IN!B937","v":0},{"$f":"Blad3!E937","v":""},{"$f":"Blad3!G937","v":0},"Oanmäld frånvaro"]
["FRÅNVARO",{"$f":"IN!B938","v":0},{"$f":"Blad3!E938","v":""},{"$f":"Blad3!G938","v":0},"Oanmäld frånvaro"]
["FRÅNVARO",{"$f":"IN!B939","v":0},{"$f":"Blad3!E939","v":""},{"$f":"Blad3!G939","v":0},"Oanmäld frånvaro"]
["FRÅNVARO",{"$f":"IN!B940","v":0},{"$f":"Blad3!E940","v":""},{"$f":"Blad3!G940","v":0},"Oanmäld frånvaro"]
["FRÅNVARO",{"$f":"IN!B941","v":0},{"$f":"Blad3!E941","v":""},{"$f":"Blad3!G941","v":0},"Oanmäld frånvaro"]
["FRÅNVARO",{"$f":"IN!B942","v":0},{"$f":"Blad3!E942","v":""},{"$f":"Blad3!G942","v":0},"Oanmäld frånvaro"]
["FRÅNVARO",{"$f":"IN!B943","v":0},{"$f":"Blad3!E943","v":""},{"$f":"Blad3!G943","v":0},"Oanmäld frånvaro"]
["FRÅNVARO",{"$f":"IN!B944","v":0},{"$f":"Blad3!E944","v":""},{"$f":"Blad3!G944","v":0},"Oanmäld frånvaro"]
["FRÅNVARO",{"$f":"IN!B945","v":0},{"$f":"Blad3!E945","v":""},{"$f":"Blad3!G945","v":0},"Oanmäld frånvaro"]
["FRÅNVARO",{"$f":"IN!B946","v":0},{"$f":"Blad3!E946","v":""},{"$f":"Blad3!G946","v":0},"Oanmäld frånvaro"]
["FRÅNVARO",{"$f":"IN!B947","v":0},{"$f":"Blad3!E947","v":""},{"$f":"Blad3!G947","v":0},"Oanmäld frånvaro"]
["FRÅNVARO",{"$f":"IN!B948","v":0},{"$f":"Blad3!E948","v":""},{"$f":"Blad3!G948","v":0},"Oanmäld frånvaro"]
["FRÅNVARO",{"$f":"IN!B949","v":0},{"$f":"Blad3!E949","v":""},{"$f":"Blad3!G949","v":0},"Oanmäld frånvaro"]
["FRÅNVARO",{"$f":"IN!B950","v":0},{"$f":"Blad3!E950","v":""},{"$f":"Blad3!G950","v":0},"Oanmäld frånvaro"]
["FRÅNVARO",{"$f":"IN!B951","v":0},{"$f":"Blad3!E951","v":""},{"$f":"Blad3!G951","v":0},"Oanmäld frånvaro"]
["FRÅNVARO",{"$f":"IN!B952","v":0},{"$f":"Blad3!E952","v":""},{"$f":"Blad3!G952","v":0},"Oanmäld frånvaro"]
["FRÅNVARO",{"$f":"IN!B953","v":0},{"$f":"Blad3!E953","v":""},{"$f":"Blad3!G953","v":0},"Oanmäld frånvaro"]
["FRÅNVARO",{"$f":"IN!B954","v":0},{"$f":"Blad3!E954","v":""},{"$f":"Blad3!G954","v":0},"Oanmäld frånvaro"]
["FRÅNVARO",{"$f":"IN!B955","v":0},{"$f":"Blad3!E955","v":""},{"$f":"Blad3!G955","v":0},"Oanmäld frånvaro"]
["FRÅNVARO",{"$f":"IN!B956","v":0},{"$f":"Blad3!E956","v":""},{"$f":"Blad3!G956","v":0},"Oanmäld frånvaro"]
["FRÅNVARO",{"$f":"IN!B957","v":0},{"$f":"Blad3!E957","v":""},{"$f":"Blad3!G957","v":0},"Oanmäld frånvaro"]
["FRÅNVARO",{"$f":"IN!B958","v":0},{"$f":"Blad3!E958","v":""},{"$f":"Blad3!G958","v":0},"Oanmäld frånvaro"]
["FRÅNVARO",{"$f":"IN!B959","v":0},{"$f":"Blad3!E959","v":""},{"$f":"Blad3!G959","v":0},"Oanmäld frånvaro"]
["FRÅNVARO",{"$f":"IN!B960","v":0},{"$f":"Blad3!E960","v":""},{"$f":"Blad3!G960","v":0},"Oanmäld frånvaro"]
["FRÅNVARO",{"$f":"IN!B961","v":0},{"$f":"Blad3!E961","v":""},{"$f":"Blad3!G961","v":0},"Oanmäld frånvaro"]
["FRÅNVARO",{"$f":"IN!B962","v":0},{"$f":"Blad3!E962","v":""},{"$f":"Blad3!G962","v":0},"Oanmäld frånvaro"]
["FRÅNVARO",{"$f":"IN!B963","v":0},{"$f":"Blad3!E963","v":""},{"$f":"Blad3!G963","v":0},"Oanmäld frånvaro"]
["FRÅNVARO",{"$f":"IN!B964","v":0},{"$f":"Blad3!E964","v":""},{"$f":"Blad3!G964","v":0},"Oanmäld frånvaro"]
["FRÅNVARO",{"$f":"IN!B965","v":0},{"$f":"Blad3!E965","v":""},{"$f":"Blad3!G965","v":0},"Oanmäld frånvaro"]
["FRÅNVARO",{"$f":"IN!B966","v":0},{"$f":"Blad3!E966","v":""},{"$f":"Blad3!G966","v":0},"Oanmäld frånvaro"]
["FRÅNVARO",{"$f":"IN!B967","v":0},{"$f":"Blad3!E967","v":""},{"$f":"Blad3!G967","v":0},"Oanmäld frånvaro"]
["FRÅNVARO",{"$f":"IN!B968","v":0},{"$f":"Blad3!E968","v":""},{"$f":"Blad3!G968","v":0},"Oanmäld frånvaro"]
["FRÅNVARO",{"$f":"IN!B969","v":0},{"$f":"Blad3!E969","v":""},{"$f":"Blad3!G969","v":0},"Oanmäld frånvaro"]
["FRÅNVARO",{"$f":"IN!B970","v":0},{"$f":"Blad3!E970","v":""},{"$f":"Blad3!G970","v":0},"Oanmäld frånvaro"]
["FRÅNVARO",{"$f":"IN!B971","v":0},{"$f":"Blad3!E971","v":""},{"$f":"Blad3!G971","v":0},"Oanmäld frånvaro"]
["FRÅNVARO",{"$f":"IN!B972","v":0},{"$f":"Blad3!E972","v":""},{"$f":"Blad3!G972","v":0},"Oanmäld frånvaro"]
["FRÅNVARO",{"$f":"IN!B973","v":0},{"$f":"Blad3!E973","v":""},{"$f":"Blad3!G973","v":0},"Oanmäld frånvaro"]
["FRÅNVARO",{"$f":"IN!B974","v":0},{"$f":"Blad3!E974","v":""},{"$f":"Blad3!G974","v":0},"Oanmäld frånvaro"]
["FRÅNVARO",{"$f":"IN!B975","v":0},{"$f":"Blad3!E975","v":""},{"$f":"Blad3!G975","v":0},"Oanmäld frånvaro"]
["FRÅNVARO",{"$f":"IN!B976","v":0},{"$f":"Blad3!E976","v":""},{"$f":"Blad3!G976","v":0},"Oanmäld frånvaro"]
["FRÅNVARO",{"$f":"IN!B977","v":0},{"$f":"Blad3!E977","v":""},{"$f":"Blad3!G977","v":0},"Oanmäld frånvaro"]
["FRÅNVARO",{"$f":"IN!B978","v":0},{"$f":"Blad3!E978","v":""},{"$f":"Blad3!G978","v":0},"Oanmäld frånvaro"]
["FRÅNVARO",{"$f":"IN!B979","v":0},{"$f":"Blad3!E979","v":""},{"$f":"Blad3!G979","v":0},"Oanmäld frånvaro"]
["FRÅNVARO",{"$f":"IN!B980","v":0},{"$f":"Blad3!E980","v":""},{"$f":"Blad3!G980","v":0},"Oanmäld frånvaro"]
["FRÅNVARO",{"$f":"IN!B981","v":0},{"$f":"Blad3!E981","v":""},{"$f":"Blad3!G981","v":0},"Oanmäld frånvaro"]
["FRÅNVARO",{"$f":"IN!B982","v":0},{"$f":"Blad3!E982","v":""},{"$f":"Blad3!G982","v":0},"Oanmäld frånvaro"]
["FRÅNVARO",{"$f":"IN!B983","v":0},{"$f":"Blad3!E983","v":""},{"$f":"Blad3!G983","v":0},"Oanmäld frånvaro"]
["FRÅNVARO",{"$f":"IN!B984","v":0},{"$f":"Blad3!E984","v":""},{"$f":"Blad3!G984","v":0},"Oanmäld frånvaro"]
["FRÅNVARO",{"$f":"IN!B985","v":0},{"$f":"Blad3!E985","v":""},{"$f":"Blad3!G985","v":0},"Oanmäld frånvaro"]
["FRÅNVARO",{"$f":"IN!B986","v":0},{"$f":"Blad3!E986","v":""},{"$f":"Blad3!G986","v":0},"Oanmäld frånvaro"]
["FRÅNVARO",{"$f":"IN!B987","v":0},{"$f":"Blad3!E987","v":""},{"$f":"Blad3!G987","v":0},"Oanmäld frånvaro"]
["FRÅNVARO",{"$f":"IN!B988","v":0},{"$f":"Blad3!E988","v":""},{"$f":"Blad3!G988","v":0},"Oanmäld frånvaro"]
["FRÅNVARO",{"$f":"IN!B989","v":0},{"$f":"Blad3!E989","v":""},{"$f":"Blad3!G989","v":0},"Oanmäld frånvaro"]
["FRÅNVARO",{"$f":"IN!B990","v":0},{"$f":"Blad3!E990","v":""},{"$f":"Blad3!G990","v":0},"Oanmäld frånvaro"]
["FRÅNVARO",{"$f":"IN!B991","v":0},{"$f":"Blad3!E991","v":""},{"$f":"Blad3!G991","v":0},"Oanmäld frånvaro"]
["FRÅNVARO",{"$f":"IN!B992","v":0},{"$f":"Blad3!E992","v":""},{"$f":"Blad3!G992","v":0},"Oanmäld frånvaro"]
["FRÅNVARO",{"$f":"IN!B993","v":0},{"$f":"Blad3!E993","v":""},{"$f":"Blad3!G993","v":0},"Oanmäld frånvaro"]
["FRÅNVARO",{"$f":"IN!B994","v":0},{"$f":"Blad3!E994","v":""},{"$f":"Blad3!G994","v":0},"Oanmäld frånvaro"]
["FRÅNVARO",{"$f":"IN!B995","v":0},{"$f":"Blad3!E995","v":""},{"$f":"Blad3!G995","v":0},"Oanmäld frånvaro"]
["FRÅNVARO",{"$f":"IN!B996","v":0},{"$f":"Blad3!E996","v":""},{"$f":"Blad3!G996","v":0},"Oanmäld frånvaro"]
["FRÅNVARO",{"$f":"IN!B997","v":0},{"$f":"Blad3!E997","v":""},{"$f":"Blad3!G997","v":0},"Oanmäld frånvaro"]
["FRÅNVARO",{"$f":"IN!B998","v":0},{"$f":"Blad3!E998","v":""},{"$f":"Blad3!G998","v":0},"Oanmäld frånvaro"]
["FRÅNVARO",{"$f":"IN!B999","v":0},{"$f":"Blad3!E999","v":""},{"$f":"Blad3!G999","v":0},"Oanmäld frånvaro"]
["FRÅNVARO",{"$f":"IN!B1000","v":0},{"$f":"Blad3!E1000","v":""},{"$f":"Blad3!G1000","v":0},"Oanmäld frånvaro"]
["FRÅNVARO",{"$f":"IN!B1001","v":0},{"$f":"Blad3!E1001","v":""},{"$f":"Blad3!G1001","v":0},"Oanmäld frånvaro"]
["FRÅNVARO",{"$f":"IN!B1002","v":0},{"$f":"Blad3!E1002","v":""},{"$f":"Blad3!G1002","v":0},"Oanmäld frånvaro"]
["FRÅNVARO",{"$f":"IN!B1003","v":0},{"$f":"Blad3!E1003","v":""},{"$f":"Blad3!G1003","v":0},"Oanmäld frånvaro"]
["FRÅNVARO",{"$f":"IN!B1004","v":0},{"$f":"Blad3!E1004","v":""},{"$f":"Blad3!G1004","v":0},"Oanmäld frånvaro"]
["FRÅNVARO",{"$f":"IN!B1005","v":0},{"$f":"Blad3!E1005","v":""},{"$f":"Blad3!G1005","v":0},"Oanmäld frånvaro"]
["FRÅNVARO",{"$f":"IN!B1006","v":0},{"$f":"Blad3!E1006","v":""},{"$f":"Blad3!G1006","v":0},"Oanmäld frånvaro"]
["FRÅNVARO",{"$f":"IN!B1007","v":0},{"$f":"Blad3!E1007","v":""},{"$f":"Blad3!G1007","v":0},"Oanmäld frånvaro"]
["FRÅNVARO",{"$f":"IN!B1008","v":0},{"$f":"Blad3!E1008","v":""},{"$f":"Blad3!G1008","v":0},"Oanmäld frånvaro"]
["FRÅNVARO",{"$f":"IN!B1009","v":0},{"$f":"Blad3!E1009","v":""},{"$f":"Blad3!G1009","v":0},"Oanmäld frånvaro"]
["FRÅNVARO",{"$f":"IN!B1010","v":0},{"$f":"Blad3!E1010","v":""},{"$f":"Blad3!G1010","v":0},"Oanmäld frånvaro"]
["FRÅNVARO",{"$f":"IN!B1011","v":0},{"$f":"Blad3!E1011","v":""},{"$f":"Blad3!G1011","v":0},"Oanmäld frånvaro"]
["FRÅNVARO",{"$f":"IN!B1012","v":0},{"$f":"Blad3!E1012","v":""},{"$f":"Blad3!G1012","v":0},"Oanmäld frånvaro"]
["FRÅNVARO",{"$f":"IN!B1013","v":0},{"$f":"Blad3!E1013","v":""},{"$f":"Blad3!G1013","v":0},"Oanmäld frånvaro"]
["FRÅNVARO",{"$f":"IN!B1014","v":0},{"$f":"Blad3!E1014","v":""},{"$f":"Blad3!G1014","v":0},"Oanmäld frånvaro"]
["FRÅNVARO",{"$f":"IN!B1015","v":0},{"$f":"Blad3!E1015","v":""},{"$f":"Blad3!G1015","v":0},"Oanmäld frånvaro"]
["FRÅNVARO",{"$f":"IN!B1016","v":0},{"$f":"Blad3!E1016","v":""},{"$f":"Blad3!G1016","v":0},"Oanmäld frånvaro"]
["FRÅNVARO",{"$f":"IN!B1017","v":0},{"$f":"Blad3!E1017","v":""},{"$f":"Blad3!G1017","v":0},"Oanmäld frånvaro"]
["FRÅNVARO",{"$f":"IN!B1018","v":0},{"$f":"Blad3!E1018","v":""},{"$f":"Blad3!G1018","v":0},"Oanmäld frånvaro"]
["FRÅNVARO",{"$f":"IN!B1019","v":0},{"$f":"Blad3!E1019","v":""},{"$f":"Blad3!G1019","v":0},"Oanmäld frånvaro"]
["FRÅNVARO",{"$f":"IN!B1020","v":0},{"$f":"Blad3!E1020","v":""},{"$f":"Blad3!G1020","v":0},"Oanmäld frånvaro"]
["FRÅNVARO",{"$f":"IN!B1021","v":0},{"$f":"Blad3!E1021","v":""},{"$f":"Blad3!G1021","v":0},"Oanmäld frånvaro"]
["FRÅNVARO",{"$f":"IN!B1022","v":0},{"$f":"Blad3!E1022","v":""},{"$f":"Blad3!G1022","v":0},"Oanmäld frånvaro"]
["FRÅNVARO",{"$f":"IN!B1023","v":0},{"$f":"Blad3!E1023","v":""},{"$f":"Blad3!G1023","v":0},"Oanmäld frånvaro"]
["FRÅNVARO",{"$f":"IN!B1024","v":0},{"$f":"Blad3!E1024","v":""},{"$f":"Blad3!G1024","v":0},"Oanmäld frånvaro"]
["FRÅNVARO",{"$f":"IN!B1025","v":0},{"$f":"Blad3!E1025","v":""},{"$f":"Blad3!G1025","v":0},"Oanmäld frånvaro"]
["FRÅNVARO",{"$f":"IN!B1026","v":0},{"$f":"Blad3!E1026","v":""},{"$f":"Blad3!G1026","v":0},"Oanmäld frånvaro"]
["FRÅNVARO",{"$f":"IN!B1027","v":0},{"$f":"Blad3!E1027","v":""},{"$f":"Blad3!G1027","v":0},"Oanmäld frånvaro"]
["FRÅNVARO",{"$f":"IN!B1028","v":0},{"$f":"Blad3!E1028","v":""},{"$f":"Blad3!G1028","v":0},"Oanmäld frånvaro"]
["FRÅNVARO",{"$f":"IN!B1029","v":0},{"$f":"Blad3!E1029","v":""},{"$f":"Blad3!G1029","v":0},"Oanmäld frånvaro"]
["FRÅNVARO",{"$f":"IN!B1030","v":0},{"$f":"Blad3!E1030","v":""},{"$f":"Blad3!G1030","v":0},"Oanmäld frånvaro"]
["FRÅNVARO",{"$f":"IN!B1031","v":0},{"$f":"Blad3!E1031","v":""},{"$f":"Blad3!G1031","v":0},"Oanmäld frånvaro"]
["FRÅNVARO",{"$f":"IN!B1032","v":0},{"$f":"Blad3!E1032","v":""},{"$f":"Blad3!G1032","v":0},"Oanmäld frånvaro"]
["FRÅNVARO",{"$f":"IN!B1033","v":0},{"$f":"Blad3!E1033","v":""},{"$f":"Blad3!G1033","v":0},"Oanmäld frånvaro"]
["FRÅNVARO",{"$f":"IN!B1034","v":0},{"$f":"Blad3!E1034","v":""},{"$f":"Blad3!G1034","v":0},"Oanmäld frånvaro"]
["FRÅNVARO",{"$f":"IN!B1035","v":0},{"$f":"Blad3!E1035","v":""},{"$f":"Blad3!G1035","v":0},"Oanmäld frånvaro"]
["FRÅNVARO",{"$f":"IN!B1036","v":0},{"$f":"Blad3!E1036","v":""},{"$f":"Blad3!G1036","v":0},"Oanmäld frånvaro"]
["FRÅNVARO",{"$f":"IN!B1037","v":0},{"$f":"Blad3!E1037","v":""},{"$f":"Blad3!G1037","v":0},"Oanmäld frånvaro"]
["FRÅNVARO",{"$f":"IN!B1038","v":0},{"$f":"Blad3!E1038","v":""},{"$f":"Blad3!G1038","v":0},"Oanmäld frånvaro"]
["FRÅNVARO",{"$f":"IN!B1039","v":0},{"$f":"Blad3!E1039","v":""},{"$f":"Blad3!G1039","v":0},"Oanmäld frånvaro"]
["FRÅNVARO",{"$f":"IN!B1040","v":0},{"$f":"Blad3!E1040","v":""},{"$f":"Blad3!G1040","v":0},"Oanmäld frånvaro"]
["FRÅNVARO",{"$f":"IN!B1041","v":0},{"$f":"Blad3!E1041","v":""},{"$f":"Blad3!G1041","v":0},"Oanmäld frånvaro"]
["FRÅNVARO",{"$f":"IN!B1042","v":0},{"$f":"Blad3!E1042","v":""},{"$f":"Blad3!G1042","v":0},"Oanmäld frånvaro"]
["FRÅNVARO",{"$f":"IN!B1043","v":0},{"$f":"Blad3!E1043","v":""},{"$f":"Blad3!G1043","v":0},"Oanmäld frånvaro"]
["FRÅNVARO",{"$f":"IN!B1044","v":0},{"$f":"Blad3!E1044","v":""},{"$f":"Blad3!G1044","v":0},"Oanmäld frånvaro"]
["FRÅNVARO",{"$f":"IN!B1045","v":0},{"$f":"Blad3!E1045","v":""},{"$f":"Blad3!G1045","v":0},"Oanmäld frånvaro"]
["FRÅNVARO",{"$f":"IN!B1046","v":0},{"$f":"Blad3!E1046","v":""},{"$f":"Blad3!G1046","v":0},"Oanmäld frånvaro"]
["FRÅNVARO",{"$f":"IN!B1047","v":0},{"$f":"Blad3!E1047","v":""},{"$f":"Blad3!G1047","v":0},"Oanmäld frånvaro"]
["FRÅNVARO",{"$f":"IN!B1048","v":0},{"$f":"Blad3!E1048","v":""},{"$f":"Blad3!G1048","v":0},"Oanmäld frånvaro"]
["FRÅNVARO",{"$f":"IN!B1049","v":0},{"$f":"Blad3!E1049","v":""},{"$f":"Blad3!G1049","v":0},"Oanmäld frånvaro"]
["FRÅNVARO",{"$f":"IN!B1050","v":0},{"$f":"Blad3!E1050","v":""},{"$f":"Blad3!G1050","v":0},"Oanmäld frånvaro"]
["FRÅNVARO",{"$f":"IN!B1051","v":0},{"$f":"Blad3!E1051","v":""},{"$f":"Blad3!G1051","v":0},"Oanmäld frånvaro"]
["FRÅNVARO",{"$f":"IN!B1052","v":0},{"$f":"Blad3!E1052","v":""},{"$f":"Blad3!G1052","v":0},"Oanmäld frånvaro"]
["FRÅNVARO",{"$f":"IN!B1053","v":0},{"$f":"Blad3!E1053","v":""},{"$f":"Blad3!G1053","v":0},"Oanmäld frånvaro"]
["FRÅNVARO",{"$f":"IN!B1054","v":0},{"$f":"Blad3!E1054","v":""},{"$f":"Blad3!G1054","v":0},"Oanmäld frånvaro"]
["FRÅNVARO",{"$f":"IN!B1055","v":0},{"$f":"Blad3!E1055","v":""},{"$f":"Blad3!G1055","v":0},"Oanmäld frånvaro"]
["FRÅNVARO",{"$f":"IN!B1056","v":0},{"$f":"Blad3!E1056","v":""},{"$f":"Blad3!G1056","v":0},"Oanmäld frånvaro"]
["FRÅNVARO",{"$f":"IN!B1057","v":0},{"$f":"Blad3!E1057","v":""},{"$f":"Blad3!G1057","v":0},"Oanmäld frånvaro"]
["FRÅNVARO",{"$f":"IN!B1058","v":0},{"$f":"Blad3!E1058","v":""},{"$f":"Blad3!G1058","v":0},"Oanmäld frånvaro"]
["FRÅNVARO",{"$f":"IN!B1059","v":0},{"$f":"Blad3!E1059","v":""},{"$f":"Blad3!G1059","v":0},"Oanmäld frånvaro"]
["FRÅNVARO",{"$f":"IN!B1060","v":0},{"$f":"Blad3!E1060","v":""},{"$f":"Blad3!G1060","v":0},"Oanmäld frånvaro"]
["FRÅNVARO",{"$f":"IN!B1061","v":0},{"$f":"Blad3!E1061","v":""},{"$f":"Blad3!G1061","v":0},"Oanmäld frånvaro"]
["FRÅNVARO",{"$f":"IN!B1062","v":0},{"$f":"Blad3!E1062","v":""},{"$f":"Blad3!G1062","v":0},"Oanmäld frånvaro"]
["FRÅNVARO",{"$f":"IN!B1063","v":0},{"$f":"Blad3!E1063","v":""},{"$f":"Blad3!G1063","v":0},"Oanmäld frånvaro"]
["FRÅNVARO",{"$f":"IN!B1064","v":0},{"$f":"Blad3!E1064","v":""},{"$f":"Blad3!G1064","v":0},"Oanmäld frånvaro"]
["FRÅNVARO",{"$f":"IN!B1065","v":0},{"$f":"Blad3!E1065","v":""},{"$f":"Blad3!G1065","v":0},"Oanmäld frånvaro"]
["FRÅNVARO",{"$f":"IN!B1066","v":0},{"$f":"Blad3!E1066","v":""},{"$f":"Blad3!G1066","v":0},"Oanmäld frånvaro"]
["FRÅNVARO",{"$f":"IN!B1067","v":0},{"$f":"Blad3!E1067","v":""},{"$f":"Blad3!G1067","v":0},"Oanmäld frånvaro"]
["FRÅNVARO",{"$f":"IN!B1068","v":0},{"$f":"Blad3!E1068","v":""},{"$f":"Blad3!G1068","v":0},"Oanmäld frånvaro"]
["FRÅNVARO",{"$f":"IN!B1069","v":0},{"$f":"Blad3!E1069","v":""},{"$f":"Blad3!G1069","v":0},"Oanmäld frånvaro"]
["FRÅNVARO",{"$f":"IN!B1070","v":0},{"$f":"Blad3!E1070","v":""},{"$f":"Blad3!G1070","v":0},"Oanmäld frånvaro"]
["FRÅNVARO",{"$f":"IN!B1071","v":0},{"$f":"Blad3!E1071","v":""},{"$f":"Blad3!G1071","v":0},"Oanmäld frånvaro"]
["FRÅNVARO",{"$f":"IN!B1072","v":0},{"$f":"Blad3!E1072","v":""},{"$f":"Blad3!G1072","v":0},"Oanmäld frånvaro"]
["FRÅNVARO",{"$f":"IN!B1073","v":0},{"$f":"Blad3!E1073","v":""},{"$f":"Blad3!G1073","v":0},"Oanmäld frånvaro"]
["FRÅNVARO",{"$f":"IN!B1074","v":0},{"$f":"Blad3!E1074","v":""},{"$f":"Blad3!G1074","v":0},"Oanmäld frånvaro"]
["FRÅNVARO",{"$f":"IN!B1075","v":0},{"$f":"Blad3!E1075","v":""},{"$f":"Blad3!G1075","v":0},"Oanmäld frånvaro"]
["FRÅNVARO",{"$f":"IN!B1076","v":0},{"$f":"Blad3!E1076","v":""},{"$f":"Blad3!G1076","v":0},"Oanmäld frånvaro"]
["FRÅNVARO",{"$f":"IN!B1077","v":0},{"$f":"Blad3!E1077","v":""},{"$f":"Blad3!G1077","v":0},"Oanmäld frånvaro"]
["FRÅNVARO",{"$f":"IN!B1078","v":0},{"$f":"Blad3!E1078","v":""},{"$f":"Blad3!G1078","v":0},"Oanmäld frånvaro"]
["FRÅNVARO",{"$f":"IN!B1079","v":0},{"$f":"Blad3!E1079","v":""},{"$f":"Blad3!G1079","v":0},"Oanmäld frånvaro"]
["FRÅNVARO",{"$f":"IN!B1080","v":0},{"$f":"Blad3!E1080","v":""},{"$f":"Blad3!G1080","v":0},"Oanmäld frånvaro"]
["FRÅNVARO",{"$f":"IN!B1081","v":0},{"$f":"Blad3!E1081","v":""},{"$f":"Blad3!G1081","v":0},"Oanmäld frånvaro"]
["FRÅNVARO",{"$f":"IN!B1082","v":0},{"$f":"Blad3!E1082","v":""},{"$f":"Blad3!G1082","v":0},"Oanmäld frånvaro"]
["FRÅNVARO",{"$f":"IN!B1083","v":0},{"$f":"Blad3!E1083","v":""},{"$f":"Blad3!G1083","v":0},"Oanmäld frånvaro"]
["FRÅNVARO",{"$f":"IN!B1084","v":0},{"$f":"Blad3!E1084","v":""},{"$f":"Blad3!G1084","v":0},"Oanmäld frånvaro"]
["FRÅNVARO",{"$f":"IN!B1085","v":0},{"$f":"Blad3!E1085","v":""},{"$f":"Blad3!G1085","v":0},"Oanmäld frånvaro"]
["FRÅNVARO",{"$f":"IN!B1086","v":0},{"$f":"Blad3!E1086","v":""},{"$f":"Blad3!G1086","v":0},"Oanmäld frånvaro"]
["FRÅNVARO",{"$f":"IN!B1087","v":0},{"$f":"Blad3!E1087","v":""},{"$f":"Blad3!G1087","v":0},"Oanmäld frånvaro"]
["FRÅNVARO",{"$f":"IN!B1088","v":0},{"$f":"Blad3!E1088","v":""},{"$f":"Blad3!G1088","v":0},"Oanmäld frånvaro"]
["FRÅNVARO",{"$f":"IN!B1089","v":0},{"$f":"Blad3!E1089","v":""},{"$f":"Blad3!G1089","v":0},"Oanmäld frånvaro"]
["FRÅNVARO",{"$f":"IN!B1090","v":0},{"$f":"Blad3!E1090","v":""},{"$f":"Blad3!G1090","v":0},"Oanmäld frånvaro"]
["FRÅNVARO",{"$f":"IN!B1091","v":0},{"$f":"Blad3!E1091","v":""},{"$f":"Blad3!G1091","v":0},"Oanmäld frånvaro"]
["FRÅNVARO",{"$f":"IN!B1092","v":0},{"$f":"Blad3!E1092","v":""},{"$f":"Blad3!G1092","v":0},"Oanmäld frånvaro"]
["FRÅNVARO",{"$f":"IN!B1093","v":0},{"$f":"Blad3!E1093","v":""},{"$f":"Blad3!G1093","v":0},"Oanmäld frånvaro"]
["FRÅNVARO",{"$f":"IN!B1094","v":0},{"$f":"Blad3!E1094","v":""},{"$f":"Blad3!G1094","v":0},"Oanmäld frånvaro"]
["FRÅNVARO",{"$f":"IN!B1095","v":0},{"$f":"Blad3!E1095","v":""},{"$f":"Blad3!G1095","v":0},"Oanmäld frånvaro"]
["FRÅNVARO",{"$f":"IN!B1096","v":0},{"$f":"Blad3!E1096","v":""},{"$f":"Blad3!G1096","v":0},"Oanmäld frånvaro"]
["FRÅNVARO",{"$f":"IN!B1097","v":0},{"$f":"Blad3!E1097","v":""},{"$f":"Blad3!G1097","v":0},"Oanmäld frånvaro"]
["FRÅNVARO",{"$f":"IN!B1098","v":0},{"$f":"Blad3!E1098","v":""},{"$f":"Blad3!G1098","v":0},"Oanmäld frånvaro"]
["FRÅNVARO",{"$f":"IN!B1099","v":0},{"$f":"Blad3!E1099","v":""},{"$f":"Blad3!G1099","v":0},"Oanmäld frånvaro"]
["FRÅNVARO",{"$f":"IN!B1100","v":0},{"$f":"Blad3!E1100","v":""},{"$f":"Blad3!G1100","v":0},"Oanmäld frånvaro"]
["FRÅNVARO",{"$f":"IN!B1101","v":0},{"$f":"Blad3!E1101","v":""},{"$f":"Blad3!G1101","v":0},"Oanmäld frånvaro"]
["FRÅNVARO",{"$f":"IN!B1102","v":0},{"$f":"Blad3!E1102","v":""},{"$f":"Blad3!G1102","v":0},"Oanmäld frånvaro"]
["FRÅNVARO",{"$f":"IN!B1103","v":0},{"$f":"Blad3!E1103","v":""},{"$f":"Blad3!G1103","v":0},"Oanmäld frånvaro"]
["FRÅNVARO",{"$f":"IN!B1104","v":0},{"$f":"Blad3!E1104","v":""},{"$f":"Blad3!G1104","v":0},"Oanmäld frånvaro"]
["FRÅNVARO",{"$f":"IN!B1105","v":0},{"$f":"Blad3!E1105","v":""},{"$f":"Blad3!G1105","v":0},"Oanmäld frånvaro"]
["FRÅNVARO",{"$f":"IN!B1106","v":0},{"$f":"Blad3!E1106","v":""},{"$f":"Blad3!G1106","v":0},"Oanmäld frånvaro"]
["FRÅNVARO",{"$f":"IN!B1107","v":0},{"$f":"Blad3!E1107","v":""},{"$f":"Blad3!G1107","v":0},"Oanmäld frånvaro"]
["FRÅNVARO",{"$f":"IN!B1108","v":0},{"$f":"Blad3!E1108","v":""},{"$f":"Blad3!G1108","v":0},"Oanmäld frånvaro"]
["FRÅNVARO",{"$f":"IN!B1109","v":0},{"$f":"Blad3!E1109","v":""},{"$f":"Blad3!G1109","v":0},"Oanmäld frånvaro"]
["FRÅNVARO",{"$f":"IN!B1110","v":0},{"$f":"Blad3!E1110","v":""},{"$f":"Blad3!G1110","v":0},"Oanmäld frånvaro"]
["FRÅNVARO",{"$f":"IN!B1111","v":0},{"$f":"Blad3!E1111","v":""},{"$f":"Blad3!G1111","v":0},"Oanmäld frånvaro"]
["FRÅNVARO",{"$f":"IN!B1112","v":0},{"$f":"Blad3!E1112","v":""},{"$f":"Blad3!G1112","v":0},"Oanmäld frånvaro"]
["FRÅNVARO",{"$f":"IN!B1113","v":0},{"$f":"Blad3!E1113","v":""},{"$f":"Blad3!G1113","v":0},"Oanmäld frånvaro"]
["FRÅNVARO",{"$f":"IN!B1114","v":0},{"$f":"Blad3!E1114","v":""},{"$f":"Blad3!G1114","v":0},"Oanmäld frånvaro"]
["FRÅNVARO",{"$f":"IN!B1115","v":0},{"$f":"Blad3!E1115","v":""},{"$f":"Blad3!G1115","v":0},"Oanmäld frånvaro"]
["FRÅNVARO",{"$f":"IN!B1116","v":0},{"$f":"Blad3!E1116","v":""},{"$f":"Blad3!G1116","v":0},"Oanmäld frånvaro"]
["FRÅNVARO",{"$f":"IN!B1117","v":0},{"$f":"Blad3!E1117","v":""},{"$f":"Blad3!G1117","v":0},"Oanmäld frånvaro"]
["FRÅNVARO",{"$f":"IN!B1118","v":0},{"$f":"Blad3!E1118","v":""},{"$f":"Blad3!G1118","v":0},"Oanmäld frånvaro"]
["FRÅNVARO",{"$f":"IN!B1119","v":0},{"$f":"Blad3!E1119","v":""},{"$f":"Blad3!G1119","v":0},"Oanmäld frånvaro"]
["FRÅNVARO",{"$f":"IN!B1120","v":0},{"$f":"Blad3!E1120","v":""},{"$f":"Blad3!G1120","v":0},"Oanmäld frånvaro"]
["FRÅNVARO",{"$f":"IN!B1121","v":0},{"$f":"Blad3!E1121","v":""},{"$f":"Blad3!G1121","v":0},"Oanmäld frånvaro"]
["FRÅNVARO",{"$f":"IN!B1122","v":0},{"$f":"Blad3!E1122","v":""},{"$f":"Blad3!G1122","v":0},"Oanmäld frånvaro"]
["FRÅNVARO",{"$f":"IN!B1123","v":0},{"$f":"Blad3!E1123","v":""},{"$f":"Blad3!G1123","v":0},"Oanmäld frånvaro"]
["FRÅNVARO",{"$f":"IN!B1124","v":0},{"$f":"Blad3!E1124","v":""},{"$f":"Blad3!G1124","v":0},"Oanmäld frånvaro"]
["FRÅNVARO",{"$f":"IN!B1125","v":0},{"$f":"Blad3!E1125","v":""},{"$f":"Blad3!G1125","v":0},"Oanmäld frånvaro"]
["FRÅNVARO",{"$f":"IN!B1126","v":0},{"$f":"Blad3!E1126","v":""},{"$f":"Blad3!G1126","v":0},"Oanmäld frånvaro"]
["FRÅNVARO",{"$f":"IN!B1127","v":0},{"$f":"Blad3!E1127","v":""},{"$f":"Blad3!G1127","v":0},"Oanmäld frånvaro"]
["FRÅNVARO",{"$f":"IN!B1128","v":0},{"$f":"Blad3!E1128","v":""},{"$f":"Blad3!G1128","v":0},"Oanmäld frånvaro"]
["FRÅNVARO",{"$f":"IN!B1129","v":0},{"$f":"Blad3!E1129","v":""},{"$f":"Blad3!G1129","v":0},"Oanmäld frånvaro"]
["FRÅNVARO",{"$f":"IN!B1130","v":0},{"$f":"Blad3!E1130","v":""},{"$f":"Blad3!G1130","v":0},"Oanmäld frånvaro"]
["FRÅNVARO",{"$f":"IN!B1131","v":0},{"$f":"Blad3!E1131","v":""},{"$f":"Blad3!G1131","v":0},"Oanmäld frånvaro"]
["FRÅNVARO",{"$f":"IN!B1132","v":0},{"$f":"Blad3!E1132","v":""},{"$f":"Blad3!G1132","v":0},"Oanmäld frånvaro"]
["FRÅNVARO",{"$f":"IN!B1133","v":0},{"$f":"Blad3!E1133","v":""},{"$f":"Blad3!G1133","v":0},"Oanmäld frånvaro"]
["FRÅNVARO",{"$f":"IN!B1134","v":0},{"$f":"Blad3!E1134","v":""},{"$f":"Blad3!G1134","v":0},"Oanmäld frånvaro"]
["FRÅNVARO",{"$f":"IN!B1135","v":0},{"$f":"Blad3!E1135","v":""},{"$f":"Blad3!G1135","v":0},"Oanmäld frånvaro"]
["FRÅNVARO",{"$f":"IN!B1136","v":0},{"$f":"Blad3!E1136","v":""},{"$f":"Blad3!G1136","v":0},"Oanmäld frånvaro"]
["FRÅNVARO",{"$f":"IN!B1137","v":0},{"$f":"Blad3!E1137","v":""},{"$f":"Blad3!G1137","v":0},"Oanmäld frånvaro"]
["FRÅNVARO",{"$f":"IN!B1138","v":0},{"$f":"Blad3!E1138","v":""},{"$f":"Blad3!G1138","v":0},"Oanmäld frånvaro"]
["FRÅNVARO",{"$f":"IN!B1139","v":0},{"$f":"Blad3!E1139","v":""},{"$f":"Blad3!G1139","v":0},"Oanmäld frånvaro"]
["FRÅNVARO",{"$f":"IN!B1140","v":0},{"$f":"Blad3!E1140","v":""},{"$f":"Blad3!G1140","v":0},"Oanmäld frånvaro"]
["FRÅNVARO",{"$f":"IN!B1141","v":0},{"$f":"Blad3!E1141","v":""},{"$f":"Blad3!G1141","v":0},"Oanmäld frånvaro"]
["FRÅNVARO",{"$f":"IN!B1142","v":0},{"$f":"Blad3!E1142","v":""},{"$f":"Blad3!G1142","v":0},"Oanmäld frånvaro"]
["FRÅNVARO",{"$f":"IN!B1143","v":0},{"$f":"Blad3!E1143","v":""},{"$f":"Blad3!G1143","v":0},"Oanmäld frånvaro"]
["FRÅNVARO",{"$f":"IN!B1144","v":0},{"$f":"Blad3!E1144","v":""},{"$f":"Blad3!G1144","v":0},"Oanmäld frånvaro"]
["FRÅNVARO",{"$f":"IN!B1145","v":0},{"$f":"Blad3!E1145","v":""},{"$f":"Blad3!G1145","v":0},"Oanmäld frånvaro"]
["FRÅNVARO",{"$f":"IN!B1146","v":0},{"$f":"Blad3!E1146","v":""},{"$f":"Blad3!G1146","v":0},"Oanmäld frånvaro"]
["FRÅNVARO",{"$f":"IN!B1147","v":0},{"$f":"Blad3!E1147","v":""},{"$f":"Blad3!G1147","v":0},"Oanmäld frånvaro"]
["FRÅNVARO",{"$f":"IN!B1148","v":0},{"$f":"Blad3!E1148","v":""},{"$f":"Blad3!G1148","v":0},"Oanmäld frånvaro"]
["FRÅNVARO",{"$f":"IN!B1149","v":0},{"$f":"Blad3!E1149","v":""},{"$f":"Blad3!G1149","v":0},"Oanmäld frånvaro"]
["FRÅNVARO",{"$f":"IN!B1150","v":0},{"$f":"Blad3!E1150","v":""},{"$f":"Blad3!G1150","v":0},"Oanmäld frånvaro"]
["FRÅNVARO",{"$f":"IN!B1151","v":0},{"$f":"Blad3!E1151","v":""},{"$f":"Blad3!G1151","v":0},"Oanmäld frånvaro"]
["FRÅNVARO",{"$f":"IN!B1152","v":0},{"$f":"Blad3!E1152","v":""},{"$f":"Blad3!G1152","v":0},"Oanmäld frånvaro"]
["FRÅNVARO",{"$f":"IN!B1153","v":0},{"$f":"Blad3!E1153","v":""},{"$f":"Blad3!G1153","v":0},"Oanmäld frånvaro"]
["FRÅNVARO",{"$f":"IN!B1154","v":0},{"$f":"Blad3!E1154","v":""},{"$f":"Blad3!G1154","v":0},"Oanmäld frånvaro"]
["FRÅNVARO",{"$f":"IN!B1155","v":0},{"$f":"Blad3!E1155","v":""},{"$f":"Blad3!G1155","v":0},"Oanmäld frånvaro"]
["FRÅNVARO",{"$f":"IN!B1156","v":0},{"$f":"Blad3!E1156","v":""},{"$f":"Blad3!G1156","v":0},"Oanmäld frånvaro"]
["FRÅNVARO",{"$f":"IN!B1157","v":0},{"$f":"Blad3!E1157","v":""},{"$f":"Blad3!G1157","v":0},"Oanmäld frånvaro"]
["FRÅNVARO",{"$f":"IN!B1158","v":0},{"$f":"Blad3!E1158","v":""},{"$f":"Blad3!G1158","v":0},"Oanmäld frånvaro"]
["FRÅNVARO",{"$f":"IN!B1159","v":0},{"$f":"Blad3!E1159","v":""},{"$f":"Blad3!G1159","v":0},"Oanmäld frånvaro"]
["FRÅNVARO",{"$f":"IN!B1160","v":0},{"$f":"Blad3!E1160","v":""},{"$f":"Blad3!G1160","v":0},"Oanmäld frånvaro"]
["FRÅNVARO",{"$f":"IN!B1161","v":0},{"$f":"Blad3!E1161","v":""},{"$f":"Blad3!G1161","v":0},"Oanmäld frånvaro"]
["FRÅNVARO",{"$f":"IN!B1162","v":0},{"$f":"Blad3!E1162","v":""},{"$f":"Blad3!G1162","v":0},"Oanmäld frånvaro"]
["FRÅNVARO",{"$f":"IN!B1163","v":0},{"$f":"Blad3!E1163","v":""},{"$f":"Blad3!G1163","v":0},"Oanmäld frånvaro"]
["FRÅNVARO",{"$f":"IN!B1164","v":0},{"$f":"Blad3!E1164","v":""},{"$f":"Blad3!G1164","v":0},"Oanmäld frånvaro"]
["FRÅNVARO",{"$f":"IN!B1165","v":0},{"$f":"Blad3!E1165","v":""},{"$f":"Blad3!G1165","v":0},"Oanmäld frånvaro"]
["FRÅNVARO",{"$f":"IN!B1166","v":0},{"$f":"Blad3!E1166","v":""},{"$f":"Blad3!G1166","v":0},"Oanmäld frånvaro"]
["FRÅNVARO",{"$f":"IN!B1167","v":0},{"$f":"Blad3!E1167","v":""},{"$f":"Blad3!G1167","v":0},"Oanmäld frånvaro"]
["FRÅNVARO",{"$f":"IN!B1168","v":0},{"$f":"Blad3!E1168","v":""},{"$f":"Blad3!G1168","v":0},"Oanmäld frånvaro"]
["FRÅNVARO",{"$f":"IN!B1169","v":0},{"$f":"Blad3!E1169","v":""},{"$f":"Blad3!G1169","v":0},"Oanmäld frånvaro"]
["FRÅNVARO",{"$f":"IN!B1170","v":0},{"$f":"Blad3!E1170","v":""},{"$f":"Blad3!G1170","v":0},"Oanmäld frånvaro"]
["FRÅNVARO",{"$f":"IN!B1171","v":0},{"$f":"Blad3!E1171","v":""},{"$f":"Blad3!G1171","v":0},"Oanmäld frånvaro"]
["FRÅNVARO",{"$f":"IN!B1172","v":0},{"$f":"Blad3!E1172","v":""},{"$f":"Blad3!G1172","v":0},"Oanmäld frånvaro"]
["FRÅNVARO",{"$f":"IN!B1173","v":0},{"$f":"Blad3!E1173","v":""},{"$f":"Blad3!G1173","v":0},"Oanmäld frånvaro"]
["FRÅNVARO",{"$f":"IN!B1174","v":0},{"$f":"Blad3!E1174","v":""},{"$f":"Blad3!G1174","v":0},"Oanmäld frånvaro"]
["FRÅNVARO",{"$f":"IN!B1175","v":0},{"$f":"Blad3!E1175","v":""},{"$f":"Blad3!G1175","v":0},"Oanmäld frånvaro"]
["FRÅNVARO",{"$f":"IN!B1176","v":0},{"$f":"Blad3!E1176","v":""},{"$f":"Blad3!G1176","v":0},"Oanmäld frånvaro"]
["FRÅNVARO",{"$f":"IN!B1177","v":0},{"$f":"Blad3!E1177","v":""},{"$f":"Blad3!G1177","v":0},"Oanmäld frånvaro"]
["FRÅNVARO",{"$f":"IN!B1178","v":0},{"$f":"Blad3!E1178","v":""},{"$f":"Blad3!G1178","v":0},"Oanmäld frånvaro"]
["FRÅNVARO",{"$f":"IN!B1179","v":0},{"$f":"Blad3!E1179","v":""},{"$f":"Blad3!G1179","v":0},"Oanmäld frånvaro"]
["FRÅNVARO",{"$f":"IN!B1180","v":0},{"$f":"Blad3!E1180","v":""},{"$f":"Blad3!G1180","v":0},"Oanmäld frånvaro"]
["FRÅNVARO",{"$f":"IN!B1181","v":0},{"$f":"Blad3!E1181","v":""},{"$f":"Blad3!G1181","v":0},"Oanmäld frånvaro"]
["FRÅNVARO",{"$f":"IN!B1182","v":0},{"$f":"Blad3!E1182","v":""},{"$f":"Blad3!G1182","v":0},"Oanmäld frånvaro"]
["FRÅNVARO",{"$f":"IN!B1183","v":0},{"$f":"Blad3!E1183","v":""},{"$f":"Blad3!G1183","v":0},"Oanmäld frånvaro"]
["FRÅNVARO",{"$f":"IN!B1184","v":0},{"$f":"Blad3!E1184","v":""},{"$f":"Blad3!G1184","v":0},"Oanmäld frånvaro"]
["FRÅNVARO",{"$f":"IN!B1185","v":0},{"$f":"Blad3!E1185","v":""},{"$f":"Blad3!G1185","v":0},"Oanmäld frånvaro"]
["FRÅNVARO",{"$f":"IN!B1186","v":0},{"$f":"Blad3!E1186","v":""},{"$f":"Blad3!G1186","v":0},"Oanmäld frånvaro"]
["FRÅNVARO",{"$f":"IN!B1187","v":0},{"$f":"Blad3!E1187","v":""},{"$f":"Blad3!G1187","v":0},"Oanmäld frånvaro"]
["FRÅNVARO",{"$f":"IN!B1188","v":0},{"$f":"Blad3!E1188","v":""},{"$f":"Blad3!G1188","v":0},"Oanmäld frånvaro"]
["FRÅNVARO",{"$f":"IN!B1189","v":0},{"$f":"Blad3!E1189","v":""},{"$f":"Blad3!G1189","v":0},"Oanmäld frånvaro"]
["FRÅNVARO",{"$f":"IN!B1190","v":0},{"$f":"Blad3!E1190","v":""},{"$f":"Blad3!G1190","v":0},"Oanmäld frånvaro"]
["FRÅNVARO",{"$f":"IN!B1191","v":0},{"$f":"Blad3!E1191","v":""},{"$f":"Blad3!G1191","v":0},"Oanmäld frånvaro"]
["FRÅNVARO",{"$f":"IN!B1192","v":0},{"$f":"Blad3!E1192","v":""},{"$f":"Blad3!G1192","v":0},"Oanmäld frånvaro"]
["FRÅNVARO",{"$f":"IN!B1193","v":0},{"$f":"Blad3!E1193","v":""},{"$f":"Blad3!G1193","v":0},"Oanmäld frånvaro"]
["FRÅNVARO",{"$f":"IN!B1194","v":0},{"$f":"Blad3!E1194","v":""},{"$f":"Blad3!G1194","v":0},"Oanmäld frånvaro"]
["FRÅNVARO",{"$f":"IN!B1195","v":0},{"$f":"Blad3!E1195","v":""},{"$f":"Blad3!G1195","v":0},"Oanmäld frånvaro"]
["FRÅNVARO",{"$f":"IN!B1196","v":0},{"$f":"Blad3!E1196","v":""},{"$f":"Blad3!G1196","v":0},"Oanmäld frånvaro"]
["FRÅNVARO",{"$f":"IN!B1197","v":0},{"$f":"Blad3!E1197","v":""},{"$f":"Blad3!G1197","v":0},"Oanmäld frånvaro"]
["FRÅNVARO",{"$f":"IN!B1198","v":0},{"$f":"Blad3!E1198","v":""},{"$f":"Blad3!G1198","v":0},"Oanmäld frånvaro"]
["FRÅNVARO",{"$f":"IN!B1199","v":0},{"$f":"Blad3!E1199","v":""},{"$f":"Blad3!G1199","v":0},"Oanmäld frånvaro"]
["FRÅNVARO",{"$f":"IN!B1200","v":0},{"$f":"Blad3!E1200","v":""},{"$f":"Blad3!G1200","v":0},"Oanmäld frånvaro"]
["FRÅNVARO",{"$f":"IN!B1201","v":0},{"$f":"Blad3!E1201","v":""},{"$f":"Blad3!G1201","v":0},"Oanmäld frånvaro"]
["FRÅNVARO",{"$f":"IN!B1202","v":0},{"$f":"Blad3!E1202","v":""},{"$f":"Blad3!G1202","v":0},"Oanmäld frånvaro"]
["FRÅNVARO",{"$f":"IN!B1203","v":0},{"$f":"Blad3!E1203","v":""},{"$f":"Blad3!G1203","v":0},"Oanmäld frånvaro"]
["FRÅNVARO",{"$f":"IN!B1204","v":0},{"$f":"Blad3!E1204","v":""},{"$f":"Blad3!G1204","v":0},"Oanmäld frånvaro"]
["FRÅNVARO",{"$f":"IN!B1205","v":0},{"$f":"Blad3!E1205","v":""},{"$f":"Blad3!G1205","v":0},"Oanmäld frånvaro"]
["FRÅNVARO",{"$f":"IN!B1206","v":0},{"$f":"Blad3!E1206","v":""},{"$f":"Blad3!G1206","v":0},"Oanmäld frånvaro"]
["FRÅNVARO",{"$f":"IN!B1207","v":0},{"$f":"Blad3!E1207","v":""},{"$f":"Blad3!G1207","v":0},"Oanmäld frånvaro"]
["FRÅNVARO",{"$f":"IN!B1208","v":0},{"$f":"Blad3!E1208","v":""},{"$f":"Blad3!G1208","v":0},"Oanmäld frånvaro"]
["FRÅNVARO",{"$f":"IN!B1209","v":0},{"$f":"Blad3!E1209","v":""},{"$f":"Blad3!G1209","v":0},"Oanmäld frånvaro"]
["FRÅNVARO",{"$f":"IN!B1210","v":0},{"$f":"Blad3!E1210","v":""},{"$f":"Blad3!G1210","v":0},"Oanmäld frånvaro"]
["FRÅNVARO",{"$f":"IN!B1211","v":0},{"$f":"Blad3!E1211","v":""},{"$f":"Blad3!G1211","v":0},"Oanmäld frånvaro"]
["FRÅNVARO",{"$f":"IN!B1212","v":0},{"$f":"Blad3!E1212","v":""},{"$f":"Blad3!G1212","v":0},"Oanmäld frånvaro"]
["FRÅNVARO",{"$f":"IN!B1213","v":0},{"$f":"Blad3!E1213","v":""},{"$f":"Blad3!G1213","v":0},"Oanmäld frånvaro"]
["FRÅNVARO",{"$f":"IN!B1214","v":0},{"$f":"Blad3!E1214","v":""},{"$f":"Blad3!G1214","v":0},"Oanmäld frånvaro"]
["FRÅNVARO",{"$f":"IN!B1215","v":0},{"$f":"Blad3!E1215","v":""},{"$f":"Blad3!G1215","v":0},"Oanmäld frånvaro"]
["FRÅNVARO",{"$f":"IN!B1216","v":0},{"$f":"Blad3!E1216","v":""},{"$f":"Blad3!G1216","v":0},"Oanmäld frånvaro"]
["FRÅNVARO",{"$f":"IN!B1217","v":0},{"$f":"Blad3!E1217","v":""},{"$f":"Blad3!G1217","v":0},"Oanmäld frånvaro"]
["FRÅNVARO",{"$f":"IN!B1218","v":0},{"$f":"Blad3!E1218","v":""},{"$f":"Blad3!G1218","v":0},"Oanmäld frånvaro"]
["FRÅNVARO",{"$f":"IN!B1219","v":0},{"$f":"Blad3!E1219","v":""},{"$f":"Blad3!G1219","v":0},"Oanmäld frånvaro"]
["FRÅNVARO",{"$f":"IN!B1220","v":0},{"$f":"Blad3!E1220","v":""},{"$f":"Blad3!G1220","v":0},"Oanmäld frånvaro"]
["FRÅNVARO",{"$f":"IN!B1221","v":0},{"$f":"Blad3!E1221","v":""},{"$f":"Blad3!G1221","v":0},"Oanmäld frånvaro"]
["FRÅNVARO",{"$f":"IN!B1222","v":0},{"$f":"Blad3!E1222","v":""},{"$f":"Blad3!G1222","v":0},"Oanmäld frånvaro"]
["FRÅNVARO",{"$f":"IN!B1223","v":0},{"$f":"Blad3!E1223","v":""},{"$f":"Blad3!G1223","v":0},"Oanmäld frånvaro"]
["FRÅNVARO",{"$f":"IN!B1224","v":0},{"$f":"Blad3!E1224","v":""},{"$f":"Blad3!G1224","v":0},"Oanmäld frånvaro"]
["FRÅNVARO",{"$f":"IN!B1225","v":0},{"$f":"Blad3!E1225","v":""},{"$f":"Blad3!G1225","v":0},"Oanmäld frånvaro"]
["FRÅNVARO",{"$f":"IN!B1226","v":0},{"$f":"Blad3!E1226","v":""},{"$f":"Blad3!G1226","v":0},"Oanmäld frånvaro"]
["FRÅNVARO",{"$f":"IN!B1227","v":0},{"$f":"Blad3!E1227","v":""},{"$f":"Blad3!G1227","v":0},"Oanmäld frånvaro"]
["FRÅNVARO",{"$f":"IN!B1228","v":0},{"$f":"Blad3!E1228","v":""},{"$f":"Blad3!G1228","v":0},"Oanmäld frånvaro"]
["FRÅNVARO",{"$f":"IN!B1229","v":0},{"$f":"Blad3!E1229","v":""},{"$f":"Blad3!G1229","v":0},"Oanmäld frånvaro"]
["FRÅNVARO",{"$f":"IN!B1230","v":0},{"$f":"Blad3!E1230","v":""},{"$f":"Blad3!G1230","v":0},"Oanmäld frånvaro"]
["FRÅNVARO",{"$f":"IN!B1231","v":0},{"$f":"Blad3!E1231","v":""},{"$f":"Blad3!G1231","v":0},"Oanmäld frånvaro"]
["FRÅNVARO",{"$f":"IN!B1232","v":0},{"$f":"Blad3!E1232","v":""},{"$f":"Blad3!G1232","v":0},"Oanmäld frånvaro"]
["FRÅNVARO",{"$f":"IN!B1233","v":0},{"$f":"Blad3!E1233","v":""},{"$f":"Blad3!G1233","v":0},"Oanmäld frånvaro"]
["FRÅNVARO",{"$f":"IN!B1234","v":0},{"$f":"Blad3!E1234","v":""},{"$f":"Blad3!G1234","v":0},"Oanmäld frånvaro"]
["FRÅNVARO",{"$f":"IN!B1235","v":0},{"$f":"Blad3!E1235","v":""},{"$f":"Blad3!G1235","v":0},"Oanmäld frånvaro"]
["FRÅNVARO",{"$f":"IN!B1236","v":0},{"$f":"Blad3!E1236","v":""},{"$f":"Blad3!G1236","v":0},"Oanmäld frånvaro"]
["FRÅNVARO",{"$f":"IN!B1237","v":0},{"$f":"Blad3!E1237","v":""},{"$f":"Blad3!G1237","v":0},"Oanmäld frånvaro"]
["FRÅNVARO",{"$f":"IN!B1238","v":0},{"$f":"Blad3!E1238","v":""},{"$f":"Blad3!G1238","v":0},"Oanmäld frånvaro"]
["FRÅNVARO",{"$f":"IN!B1239","v":0},{"$f":"Blad3!E1239","v":""},{"$f":"Blad3!G1239","v":0},"Oanmäld frånvaro"]
["FRÅNVARO",{"$f":"IN!B1240","v":0},{"$f":"Blad3!E1240","v":""},{"$f":"Blad3!G1240","v":0},"Oanmäld frånvaro"]
["FRÅNVARO",{"$f":"IN!B1241","v":0},{"$f":"Blad3!E1241","v":""},{"$f":"Blad3!G1241","v":0},"Oanmäld frånvaro"]
["FRÅNVARO",{"$f":"IN!B1242","v":0},{"$f":"Blad3!E1242","v":""},{"$f":"Blad3!G1242","v":0},"Oanmäld frånvaro"]
["FRÅNVARO",{"$f":"IN!B1243","v":0},{"$f":"Blad3!E1243","v":""},{"$f":"Blad3!G1243","v":0},"Oanmäld frånvaro"]
["FRÅNVARO",{"$f":"IN!B1244","v":0},{"$f":"Blad3!E1244","v":""},{"$f":"Blad3!G1244","v":0},"Oanmäld frånvaro"]
["FRÅNVARO",{"$f":"IN!B1245","v":0},{"$f":"Blad3!E1245","v":""},{"$f":"Blad3!G1245","v":0},"Oanmäld frånvaro"]
["FRÅNVARO",{"$f":"IN!B1246","v":0},{"$f":"Blad3!E1246","v":""},{"$f":"Blad3!G1246","v":0},"Oanmäld frånvaro"]
["FRÅNVARO",{"$f":"IN!B1247","v":0},{"$f":"Blad3!E1247","v":""},{"$f":"Blad3!G1247","v":0},"Oanmäld frånvaro"]
["FRÅNVARO",{"$f":"IN!B1248","v":0},{"$f":"Blad3!E1248","v":""},{"$f":"Blad3!G1248","v":0},"Oanmäld frånvaro"]
["FRÅNVARO",{"$f":"IN!B1249","v":0},{"$f":"Blad3!E1249","v":""},{"$f":"Blad3!G1249","v":0},"Oanmäld frånvaro"]
["FRÅNVARO",{"$f":"IN!B1250","v":0},{"$f":"Blad3!E1250","v":""},{"$f":"Blad3!G1250","v":0},"Oanmäld frånvaro"]
["FRÅNVARO",{"$f":"IN!B1251","v":0},{"$f":"Blad3!E1251","v":""},{"$f":"Blad3!G1251","v":0},"Oanmäld frånvaro"]
["FRÅNVARO",{"$f":"IN!B1252","v":0},{"$f":"Blad3!E1252","v":""},{"$f":"Blad3!G1252","v":0},"Oanmäld frånvaro"]
["FRÅNVARO",{"$f":"IN!B1253","v":0},{"$f":"Blad3!E1253","v":""},{"$f":"Blad3!G1253","v":0},"Oanmäld frånvaro"]
["FRÅNVARO",{"$f":"IN!B1254","v":0},{"$f":"Blad3!E1254","v":""},{"$f":"Blad3!G1254","v":0},"Oanmäld frånvaro"]
["FRÅNVARO",{"$f":"IN!B1255","v":0},{"$f":"Blad3!E1255","v":""},{"$f":"Blad3!G1255","v":0},"Oanmäld frånvaro"]
["FRÅNVARO",{"$f":"IN!B1256","v":0},{"$f":"Blad3!E1256","v":""},{"$f":"Blad3!G1256","v":0},"Oanmäld frånvaro"]
["FRÅNVARO",{"$f":"IN!B1257","v":0},{"$f":"Blad3!E1257","v":""},{"$f":"Blad3!G1257","v":0},"Oanmäld frånvaro"]
["FRÅNVARO",{"$f":"IN!B1258","v":0},{"$f":"Blad3!E1258","v":""},{"$f":"Blad3!G1258","v":0},"Oanmäld frånvaro"]
["FRÅNVARO",{"$f":"IN!B1259","v":0},{"$f":"Blad3!E1259","v":""},{"$f":"Blad3!G1259","v":0},"Oanmäld frånvaro"]
["FRÅNVARO",{"$f":"IN!B1260","v":0},{"$f":"Blad3!E1260","v":""},{"$f":"Blad3!G1260","v":0},"Oanmäld frånvaro"]
["FRÅNVARO",{"$f":"IN!B1261","v":0},{"$f":"Blad3!E1261","v":""},{"$f":"Blad3!G1261","v":0},"Oanmäld frånvaro"]
["FRÅNVARO",{"$f":"IN!B1262","v":0},{"$f":"Blad3!E1262","v":""},{"$f":"Blad3!G1262","v":0},"Oanmäld frånvaro"]
["FRÅNVARO",{"$f":"IN!B1263","v":0},{"$f":"Blad3!E1263","v":""},{"$f":"Blad3!G1263","v":0},"Oanmäld frånvaro"]
["FRÅNVARO",{"$f":"IN!B1264","v":0},{"$f":"Blad3!E1264","v":""},{"$f":"Blad3!G1264","v":0},"Oanmäld frånvaro"]
["FRÅNVARO",{"$f":"IN!B1265","v":0},{"$f":"Blad3!E1265","v":""},{"$f":"Blad3!G1265","v":0},"Oanmäld frånvaro"]
["FRÅNVARO",{"$f":"IN!B1266","v":0},{"$f":"Blad3!E1266","v":""},{"$f":"Blad3!G1266","v":0},"Oanmäld frånvaro"]
["FRÅNVARO",{"$f":"IN!B1267","v":0},{"$f":"Blad3!E1267","v":""},{"$f":"Blad3!G1267","v":0},"Oanmäld frånvaro"]
["FRÅNVARO",{"$f":"IN!B1268","v":0},{"$f":"Blad3!E1268","v":""},{"$f":"Blad3!G1268","v":0},"Oanmäld frånvaro"]
["FRÅNVARO",{"$f":"IN!B1269","v":0},{"$f":"Blad3!E1269","v":""},{"$f":"Blad3!G1269","v":0},"Oanmäld frånvaro"]
["FRÅNVARO",{"$f":"IN!B1270","v":0},{"$f":"Blad3!E1270","v":""},{"$f":"Blad3!G1270","v":0},"Oanmäld frånvaro"]
["FRÅNVARO",{"$f":"IN!B1271","v":0},{"$f":"Blad3!E1271","v":""},{"$f":"Blad3!G1271","v":0},"Oanmäld frånvaro"]
["FRÅNVARO",{"$f":"IN!B1272","v":0},{"$f":"Blad3!E1272","v":""},{"$f":"Blad3!G1272","v":0},"Oanmäld frånvaro"]
["FRÅNVARO",{"$f":"IN!B1273","v":0},{"$f":"Blad3!E1273","v":""},{"$f":"Blad3!G1273","v":0},"Oanmäld frånvaro"]
["FRÅNVARO",{"$f":"IN!B1274","v":0},{"$f":"Blad3!E1274","v":""},{"$f":"Blad3!G1274","v":0},"Oanmäld frånvaro"]
["FRÅNVARO",{"$f":"IN!B1275","v":0},{"$f":"Blad3!E1275","v":""},{"$f":"Blad3!G1275","v":0},"Oanmäld frånvaro"]
["FRÅNVARO",{"$f":"IN!B1276","v":0},{"$f":"Blad3!E1276","v":""},{"$f":"Blad3!G1276","v":0},"Oanmäld frånvaro"]
["FRÅNVARO",{"$f":"IN!B1277","v":0},{"$f":"Blad3!E1277","v":""},{"$f":"Blad3!G1277","v":0},"Oanmäld frånvaro"]
["FRÅNVARO",{"$f":"IN!B1278","v":0},{"$f":"Blad3!E1278","v":""},{"$f":"Blad3!G1278","v":0},"Oanmäld frånvaro"]
["FRÅNVARO",{"$f":"IN!B1279","v":0},{"$f":"Blad3!E1279","v":""},{"$f":"Blad3!G1279","v":0},"Oanmäld frånvaro"]
["FRÅNVARO",{"$f":"IN!B1280","v":0},{"$f":"Blad3!E1280","v":""},{"$f":"Blad3!G1280","v":0},"Oanmäld frånvaro"]
["FRÅNVARO",{"$f":"IN!B1281","v":0},{"$f":"Blad3!E1281","v":""},{"$f":"Blad3!G1281","v":0},"Oanmäld frånvaro"]
["FRÅNVARO",{"$f":"IN!B1282","v":0},{"$f":"Blad3!E1282","v":""},{"$f":"Blad3!G1282","v":0},"Oanmäld frånvaro"]
["FRÅNVARO",{"$f":"IN!B1283","v":0},{"$f":"Blad3!E1283","v":""},{"$f":"Blad3!G1283","v":0},"Oanmäld frånvaro"]
["FRÅNVARO",{"$f":"IN!B1284","v":0},{"$f":"Blad3!E1284","v":""},{"$f":"Blad3!G1284","v":0},"Oanmäld frånvaro"]
["FRÅNVARO",{"$f":"IN!B1285","v":0},{"$f":"Blad3!E1285","v":""},{"$f":"Blad3!G1285","v":0},"Oanmäld frånvaro"]
["FRÅNVARO",{"$f":"IN!B1286","v":0},{"$f":"Blad3!E1286","v":""},{"$f":"Blad3!G1286","v":0},"Oanmäld frånvaro"]
["FRÅNVARO",{"$f":"IN!B1287","v":0},{"$f":"Blad3!E1287","v":""},{"$f":"Blad3!G1287","v":0},"Oanmäld frånvaro"]
["FRÅNVARO",{"$f":"IN!B1288","v":0},{"$f":"Blad3!E1288","v":""},{"$f":"Blad3!G1288","v":0},"Oanmäld frånvaro"]
["FRÅNVARO",{"$f":"IN!B1289","v":0},{"$f":"Blad3!E1289","v":""},{"$f":"Blad3!G1289","v":0},"Oanmäld frånvaro"]
["FRÅNVARO",{"$f":"IN!B1290","v":0},{"$f":"Blad3!E1290","v":""},{"$f":"Blad3!G1290","v":0},"Oanmäld frånvaro"]
["FRÅNVARO",{"$f":"IN!B1291","v":0},{"$f":"Blad3!E1291","v":""},{"$f":"Blad3!G1291","v":0},"Oanmäld frånvaro"]
["FRÅNVARO",{"$f":"IN!B1292","v":0},{"$f":"Blad3!E1292","v":""},{"$f":"Blad3!G1292","v":0},"Oanmäld frånvaro"]
["FRÅNVARO",{"$f":"IN!B1293","v":0},{"$f":"Blad3!E1293","v":""},{"$f":"Blad3!G1293","v":0},"Oanmäld frånvaro"]
["FRÅNVARO",{"$f":"IN!B1294","v":0},{"$f":"Blad3!E1294","v":""},{"$f":"Blad3!G1294","v":0},"Oanmäld frånvaro"]
["FRÅNVARO",{"$f":"IN!B1295","v":0},{"$f":"Blad3!E1295","v":""},{"$f":"Blad3!G1295","v":0},"Oanmäld frånvaro"]
["FRÅNVARO",{"$f":"IN!B1296","v":0},{"$f":"Blad3!E1296","v":""},{"$f":"Blad3!G1296","v":0},"Oanmäld frånvaro"]
["FRÅNVARO",{"$f":"IN!B1297","v":0},{"$f":"Blad3!E1297","v":""},{"$f":"Blad3!G1297","v":0},"Oanmäld frånvaro"]
["FRÅNVARO",{"$f":"IN!B1298","v":0},{"$f":"Blad3!E1298","v":""},{"$f":"Blad3!G1298","v":0},"Oanmäld frånvaro"]
["FRÅNVARO",{"$f":"IN!B1299","v":0},{"$f":"Blad3!E1299","v":""},{"$f":"Blad3!G1299","v":0},"Oanmäld frånvaro"]
["FRÅNVARO",{"$f":"IN!B1300","v":0},{"$f":"Blad3!E1300","v":""},{"$f":"Blad3!G1300","v":0},"Oanmäld frånvaro"]
["FRÅNVARO",{"$f":"IN!B1301","v":0},{"$f":"Blad3!E1301","v":""},{"$f":"Blad3!G1301","v":0},"Oanmäld frånvaro"]
["FRÅNVARO",{"$f":"IN!B1302","v":0},{"$f":"Blad3!E1302","v":""},{"$f":"Blad3!G1302","v":0},"Oanmäld frånvaro"]
["FRÅNVARO",{"$f":"IN!B1303","v":0},{"$f":"Blad3!E1303","v":""},{"$f":"Blad3!G1303","v":0},"Oanmäld frånvaro"]
["FRÅNVARO",{"$f":"IN!B1304","v":0},{"$f":"Blad3!E1304","v":""},{"$f":"Blad3!G1304","v":0},"Oanmäld frånvaro"]
["FRÅNVARO",{"$f":"IN!B1305","v":0},{"$f":"Blad3!E1305","v":""},{"$f":"Blad3!G1305","v":0},"Oanmäld frånvaro"]
["FRÅNVARO",{"$f":"IN!B1306","v":0},{"$f":"Blad3!E1306","v":""},{"$f":"Blad3!G1306","v":0},"Oanmäld frånvaro"]
["FRÅNVARO",{"$f":"IN!B1307","v":0},{"$f":"Blad3!E1307","v":""},{"$f":"Blad3!G1307","v":0},"Oanmäld frånvaro"]
["FRÅNVARO",{"$f":"IN!B1308","v":0},{"$f":"Blad3!E1308","v":""},{"$f":"Blad3!G1308","v":0},"Oanmäld frånvaro"]
["FRÅNVARO",{"$f":"IN!B1309","v":0},{"$f":"Blad3!E1309","v":""},{"$f":"Blad3!G1309","v":0},"Oanmäld frånvaro"]
["FRÅNVARO",{"$f":"IN!B1310","v":0},{"$f":"Blad3!E1310","v":""},{"$f":"Blad3!G1310","v":0},"Oanmäld frånvaro"]
["FRÅNVARO",{"$f":"IN!B1311","v":0},{"$f":"Blad3!E1311","v":""},{"$f":"Blad3!G1311","v":0},"Oanmäld frånvaro"]
["FRÅNVARO",{"$f":"IN!B1312","v":0},{"$f":"Blad3!E1312","v":""},{"$f":"Blad3!G1312","v":0},"Oanmäld frånvaro"]
["FRÅNVARO",{"$f":"IN!B1313","v":0},{"$f":"Blad3!E1313","v":""},{"$f":"Blad3!G1313","v":0},"Oanmäld frånvaro"]
["FRÅNVARO",{"$f":"IN!B1314","v":0},{"$f":"Blad3!E1314","v":""},{"$f":"Blad3!G1314","v":0},"Oanmäld frånvaro"]
["FRÅNVARO",{"$f":"IN!B1315","v":0},{"$f":"Blad3!E1315","v":""},{"$f":"Blad3!G1315","v":0},"Oanmäld frånvaro"]
["FRÅNVARO",{"$f":"IN!B1316","v":0},{"$f":"Blad3!E1316","v":""},{"$f":"Blad3!G1316","v":0},"Oanmäld frånvaro"]
["FRÅNVARO",{"$f":"IN!B1317","v":0},{"$f":"Blad3!E1317","v":""},{"$f":"Blad3!G1317","v":0},"Oanmäld frånvaro"]
["FRÅNVARO",{"$f":"IN!B1318","v":0},{"$f":"Blad3!E1318","v":""},{"$f":"Blad3!G1318","v":0},"Oanmäld frånvaro"]
["FRÅNVARO",{"$f":"IN!B1319","v":0},{"$f":"Blad3!E1319","v":""},{"$f":"Blad3!G1319","v":0},"Oanmäld frånvaro"]
["FRÅNVARO",{"$f":"IN!B1320","v":0},{"$f":"Blad3!E1320","v":""},{"$f":"Blad3!G1320","v":0},"Oanmäld frånvaro"]
["FRÅNVARO",{"$f":"IN!B1321","v":0},{"$f":"Blad3!E1321","v":""},{"$f":"Blad3!G1321","v":0},"Oanmäld frånvaro"]
["FRÅNVARO",{"$f":"IN!B1322","v":0},{"$f":"Blad3!E1322","v":""},{"$f":"Blad3!G1322","v":0},"Oanmäld frånvaro"]
["FRÅNVARO",{"$f":"IN!B1323","v":0},{"$f":"Blad3!E1323","v":""},{"$f":"Blad3!G1323","v":0},"Oanmäld frånvaro"]
["FRÅNVARO",{"$f":"IN!B1324","v":0},{"$f":"Blad3!E1324","v":""},{"$f":"Blad3!G1324","v":0},"Oanmäld frånvaro"]
["FRÅNVARO",{"$f":"IN!B1325","v":0},{"$f":"Blad3!E1325","v":""},{"$f":"Blad3!G1325","v":0},"Oanmäld frånvaro"]
["FRÅNVARO",{"$f":"IN!B1326","v":0},{"$f":"Blad3!E1326","v":""},{"$f":"Blad3!G1326","v":0},"Oanmäld frånvaro"]
["FRÅNVARO",{"$f":"IN!B1327","v":0},{"$f":"Blad3!E1327","v":""},{"$f":"Blad3!G1327","v":0},"Oanmäld frånvaro"]
["FRÅNVARO",{"$f":"IN!B1328","v":0},{"$f":"Blad3!E1328","v":""},{"$f":"Blad3!G1328","v":0},"Oanmäld frånvaro"]
["FRÅNVARO",{"$f":"IN!B1329","v":0},{"$f":"Blad3!E1329","v":""},{"$f":"Blad3!G1329","v":0},"Oanmäld frånvaro"]
["FRÅNVARO",{"$f":"IN!B1330","v":0},{"$f":"Blad3!E1330","v":""},{"$f":"Blad3!G1330","v":0},"Oanmäld frånvaro"]
["FRÅNVARO",{"$f":"IN!B1331","v":0},{"$f":"Blad3!E1331","v":""},{"$f":"Blad3!G1331","v":0},"Oanmäld frånvaro"]
["FRÅNVARO",{"$f":"IN!B1332","v":0},{"$f":"Blad3!E1332","v":""},{"$f":"Blad3!G1332","v":0},"Oanmäld frånvaro"]
["FRÅNVARO",{"$f":"IN!B1333","v":0},{"$f":"Blad3!E1333","v":""},{"$f":"Blad3!G1333","v":0},"Oanmäld frånvaro"]
["FRÅNVARO",{"$f":"IN!B1334","v":0},{"$f":"Blad3!E1334","v":""},{"$f":"Blad3!G1334","v":0},"Oanmäld frånvaro"]
["FRÅNVARO",{"$f":"IN!B1335","v":0},{"$f":"Blad3!E1335","v":""},{"$f":"Blad3!G1335","v":0},"Oanmäld frånvaro"]
["FRÅNVARO",{"$f":"IN!B1336","v":0},{"$f":"Blad3!E1336","v":""},{"$f":"Blad3!G1336","v":0},"Oanmäld frånvaro"]
["FRÅNVARO",{"$f":"IN!B1337","v":0},{"$f":"Blad3!E1337","v":""},{"$f":"Blad3!G1337","v":0},"Oanmäld frånvaro"]
["FRÅNVARO",{"$f":"IN!B1338","v":0},{"$f":"Blad3!E1338","v":""},{"$f":"Blad3!G1338","v":0},"Oanmäld frånvaro"]
["FRÅNVARO",{"$f":"IN!B1339","v":0},{"$f":"Blad3!E1339","v":""},{"$f":"Blad3!G1339","v":0},"Oanmäld frånvaro"]
["FRÅNVARO",{"$f":"IN!B1340","v":0},{"$f":"Blad3!E1340","v":""},{"$f":"Blad3!G1340","v":0},"Oanmäld frånvaro"]
["FRÅNVARO",{"$f":"IN!B1341","v":0},{"$f":"Blad3!E1341","v":""},{"$f":"Blad3!G1341","v":0},"Oanmäld frånvaro"]
["FRÅNVARO",{"$f":"IN!B1342","v":0},{"$f":"Blad3!E1342","v":""},{"$f":"Blad3!G1342","v":0},"Oanmäld frånvaro"]
["FRÅNVARO",{"$f":"IN!B1343","v":0},{"$f":"Blad3!E1343","v":""},{"$f":"Blad3!G1343","v":0},"Oanmäld frånvaro"]
["FRÅNVARO",{"$f":"IN!B1344","v":0},{"$f":"Blad3!E1344","v":""},{"$f":"Blad3!G1344","v":0},"Oanmäld frånvaro"]
["FRÅNVARO",{"$f":"IN!B1345","v":0},{"$f":"Blad3!E1345","v":""},{"$f":"Blad3!G1345","v":0},"Oanmäld frånvaro"]
["FRÅNVARO",{"$f":"IN!B1346","v":0},{"$f":"Blad3!E1346","v":""},{"$f":"Blad3!G1346","v":0},"Oanmäld frånvaro"]
["FRÅNVARO",{"$f":"IN!B1347","v":0},{"$f":"Blad3!E1347","v":""},{"$f":"Blad3!G1347","v":0},"Oanmäld frånvaro"]
["FRÅNVARO",{"$f":"IN!B1348","v":0},{"$f":"Blad3!E1348","v":""},{"$f":"Blad3!G1348","v":0},"Oanmäld frånvaro"]
["FRÅNVARO",{"$f":"IN!B1349","v":0},{"$f":"Blad3!E1349","v":""},{"$f":"Blad3!G1349","v":0},"Oanmäld frånvaro"]
["FRÅNVARO",{"$f":"IN!B1350","v":0},{"$f":"Blad3!E1350","v":""},{"$f":"Blad3!G1350","v":0},"Oanmäld frånvaro"]
["FRÅNVARO",{"$f":"IN!B1351","v":0},{"$f":"Blad3!E1351","v":""},{"$f":"Blad3!G1351","v":0},"Oanmäld frånvaro"]
["FRÅNVARO",{"$f":"IN!B1352","v":0},{"$f":"Blad3!E1352","v":""},{"$f":"Blad3!G1352","v":0},"Oanmäld frånvaro"]
["FRÅNVARO",{"$f":"IN!B1353","v":0},{"$f":"Blad3!E1353","v":""},{"$f":"Blad3!G1353","v":0},"Oanmäld frånvaro"]
["FRÅNVARO",{"$f":"IN!B1354","v":0},{"$f":"Blad3!E1354","v":""},{"$f":"Blad3!G1354","v":0},"Oanmäld frånvaro"]
["FRÅNVARO",{"$f":"IN!B1355","v":0},{"$f":"Blad3!E1355","v":""},{"$f":"Blad3!G1355","v":0},"Oanmäld frånvaro"]
["FRÅNVARO",{"$f":"IN!B1356","v":0},{"$f":"Blad3!E1356","v":""},{"$f":"Blad3!G1356","v":0},"Oanmäld frånvaro"]
["FRÅNVARO",{"$f":"IN!B1357","v":0},{"$f":"Blad3!E1357","v":""},{"$f":"Blad3!G1357","v":0},"Oanmäld frånvaro"]
["FRÅNVARO",{"$f":"IN!B1358","v":0},{"$f":"Blad3!E1358","v":""},{"$f":"Blad3!G1358","v":0},"Oanmäld frånvaro"]
["FRÅNVARO",{"$f":"IN!B1359","v":0},{"$f":"Blad3!E1359","v":""},{"$f":"Blad3!G1359","v":0},"Oanmäld frånvaro"]
["FRÅNVARO",{"$f":"IN!B1360","v":0},{"$f":"Blad3!E1360","v":""},{"$f":"Blad3!G1360","v":0},"Oanmäld frånvaro"]
["FRÅNVARO",{"$f":"IN!B1361","v":0},{"$f":"Blad3!E1361","v":""},{"$f":"Blad3!G1361","v":0},"Oanmäld frånvaro"]
["FRÅNVARO",{"$f":"IN!B1362","v":0},{"$f":"Blad3!E1362","v":""},{"$f":"Blad3!G1362","v":0},"Oanmäld frånvaro"]
["FRÅNVARO",{"$f":"IN!B1363","v":0},{"$f":"Blad3!E1363","v":""},{"$f":"Blad3!G1363","v":0},"Oanmäld frånvaro"]
["FRÅNVARO",{"$f":"IN!B1364","v":0},{"$f":"Blad3!E1364","v":""},{"$f":"Blad3!G1364","v":0},"Oanmäld frånvaro"]
["FRÅNVARO",{"$f":"IN!B1365","v":0},{"$f":"Blad3!E1365","v":""},{"$f":"Blad3!G1365","v":0},"Oanmäld frånvaro"]
["FRÅNVARO",{"$f":"IN!B1366","v":0},{"$f":"Blad3!E1366","v":""},{"$f":"Blad3!G1366","v":0},"Oanmäld frånvaro"]
["FRÅNVARO",{"$f":"IN!B1367","v":0},{"$f":"Blad3!E1367","v":""},{"$f":"Blad3!G1367","v":0},"Oanmäld frånvaro"]
["FRÅNVARO",{"$f":"IN!B1368","v":0},{"$f":"Blad3!E1368","v":""},{"$f":"Blad3!G1368","v":0},"Oanmäld frånvaro"]
["FRÅNVARO",{"$f":"IN!B1369","v":0},{"$f":"Blad3!E1369","v":""},{"$f":"Blad3!G1369","v":0},"Oanmäld frånvaro"]
["FRÅNVARO",{"$f":"IN!B1370","v":0},{"$f":"Blad3!E1370","v":""},{"$f":"Blad3!G1370","v":0},"Oanmäld frånvaro"]
["FRÅNVARO",{"$f":"IN!B1371","v":0},{"$f":"Blad3!E1371","v":""},{"$f":"Blad3!G1371","v":0},"Oanmäld frånvaro"]
["FRÅNVARO",{"$f":"IN!B1372","v":0},{"$f":"Blad3!E1372","v":""},{"$f":"Blad3!G1372","v":0},"Oanmäld frånvaro"]
["FRÅNVARO",{"$f":"IN!B1373","v":0},{"$f":"Blad3!E1373","v":""},{"$f":"Blad3!G1373","v":0},"Oanmäld frånvaro"]
["FRÅNVARO",{"$f":"IN!B1374","v":0},{"$f":"Blad3!E1374","v":""},{"$f":"Blad3!G1374","v":0},"Oanmäld frånvaro"]
["FRÅNVARO",{"$f":"IN!B1375","v":0},{"$f":"Blad3!E1375","v":""},{"$f":"Blad3!G1375","v":0},"Oanmäld frånvaro"]
["FRÅNVARO",{"$f":"IN!B1376","v":0},{"$f":"Blad3!E1376","v":""},{"$f":"Blad3!G1376","v":0},"Oanmäld frånvaro"]
["FRÅNVARO",{"$f":"IN!B1377","v":0},{"$f":"Blad3!E1377","v":""},{"$f":"Blad3!G1377","v":0},"Oanmäld frånvaro"]
["FRÅNVARO",{"$f":"IN!B1378","v":0},{"$f":"Blad3!E1378","v":""},{"$f":"Blad3!G1378","v":0},"Oanmäld frånvaro"]
["FRÅNVARO",{"$f":"IN!B1379","v":0},{"$f":"Blad3!E1379","v":""},{"$f":"Blad3!G1379","v":0},"Oanmäld frånvaro"]
["FRÅNVARO",{"$f":"IN!B1380","v":0},{"$f":"Blad3!E1380","v":""},{"$f":"Blad3!G1380","v":0},"Oanmäld frånvaro"]
["FRÅNVARO",{"$f":"IN!B1381","v":0},{"$f":"Blad3!E1381","v":""},{"$f":"Blad3!G1381","v":0},"Oanmäld frånvaro"]
["FRÅNVARO",{"$f":"IN!B1382","v":0},{"$f":"Blad3!E1382","v":""},{"$f":"Blad3!G1382","v":0},"Oanmäld frånvaro"]
["FRÅNVARO",{"$f":"IN!B1383","v":0},{"$f":"Blad3!E1383","v":""},{"$f":"Blad3!G1383","v":0},"Oanmäld frånvaro"]
["FRÅNVARO",{"$f":"IN!B1384","v":0},{"$f":"Blad3!E1384","v":""},{"$f":"Blad3!G1384","v":0},"Oanmäld frånvaro"]
["FRÅNVARO",{"$f":"IN!B1385","v":0},{"$f":"Blad3!E1385","v":""},{"$f":"Blad3!G1385","v":0},"Oanmäld frånvaro"]
["FRÅNVARO",{"$f":"IN!B1386","v":0},{"$f":"Blad3!E1386","v":""},{"$f":"Blad3!G1386","v":0},"Oanmäld frånvaro"]
["FRÅNVARO",{"$f":"IN!B1387","v":0},{"$f":"Blad3!E1387","v":""},{"$f":"Blad3!G1387","v":0},"Oanmäld frånvaro"]
["FRÅNVARO",{"$f":"IN!B1388","v":0},{"$f":"Blad3!E1388","v":""},{"$f":"Blad3!G1388","v":0},"Oanmäld frånvaro"]
["FRÅNVARO",{"$f":"IN!B1389","v":0},{"$f":"Blad3!E1389","v":""},{"$f":"Blad3!G1389","v":0},"Oanmäld frånvaro"]
["FRÅNVARO",{"$f":"IN!B1390","v":0},{"$f":"Blad3!E1390","v":""},{"$f":"Blad3!G1390","v":0},"Oanmäld frånvaro"]
["FRÅNVARO",{"$f":"IN!B1391","v":0},{"$f":"Blad3!E1391","v":""},{"$f":"Blad3!G1391","v":0},"Oanmäld frånvaro"]
["FRÅNVARO",{"$f":"IN!B1392","v":0},{"$f":"Blad3!E1392","v":""},{"$f":"Blad3!G1392","v":0},"Oanmäld frånvaro"]
["FRÅNVARO",{"$f":"IN!B1393","v":0},{"$f":"Blad3!E1393","v":""},{"$f":"Blad3!G1393","v":0},"Oanmäld frånvaro"]
["FRÅNVARO",{"$f":"IN!B1394","v":0},{"$f":"Blad3!E1394","v":""},{"$f":"Blad3!G1394","v":0},"Oanmäld frånvaro"]
["FRÅNVARO",{"$f":"IN!B1395","v":0},{"$f":"Blad3!E1395","v":""},{"$f":"Blad3!G1395","v":0},"Oanmäld frånvaro"]
["FRÅNVARO",{"$f":"IN!B1396","v":0},{"$f":"Blad3!E1396","v":""},{"$f":"Blad3!G1396","v":0},"Oanmäld frånvaro"]
["FRÅNVARO",{"$f":"IN!B1397","v":0},{"$f":"Blad3!E1397","v":""},{"$f":"Blad3!G1397","v":0},"Oanmäld frånvaro"]
["FRÅNVARO",{"$f":"IN!B1398","v":0},{"$f":"Blad3!E1398","v":""},{"$f":"Blad3!G1398","v":0},"Oanmäld frånvaro"]
["FRÅNVARO",{"$f":"IN!B1399","v":0},{"$f":"Blad3!E1399","v":""},{"$f":"Blad3!G1399","v":0},"Oanmäld frånvaro"]
["FRÅNVARO",{"$f":"IN!B1400","v":0},{"$f":"Blad3!E1400","v":""},{"$f":"Blad3!G1400","v":0},"Oanmäld frånvaro"]
["FRÅNVARO",{"$f":"IN!B1401","v":0},{"$f":"Blad3!E1401","v":""},{"$f":"Blad3!G1401","v":0},"Oanmäld frånvaro"]
["FRÅNVARO",{"$f":"IN!B1402","v":0},{"$f":"Blad3!E1402","v":""},{"$f":"Blad3!G1402","v":0},"Oanmäld frånvaro"]
["FRÅNVARO",{"$f":"IN!B1403","v":0},{"$f":"Blad3!E1403","v":""},{"$f":"Blad3!G1403","v":0},"Oanmäld frånvaro"]
["FRÅNVARO",{"$f":"IN!B1404","v":0},{"$f":"Blad3!E1404","v":""},{"$f":"Blad3!G1404","v":0},"Oanmäld frånvaro"]
["FRÅNVARO",{"$f":"IN!B1405","v":0},{"$f":"Blad3!E1405","v":""},{"$f":"Blad3!G1405","v":0},"Oanmäld frånvaro"]
["FRÅNVARO",{"$f":"IN!B1406","v":0},{"$f":"Blad3!E1406","v":""},{"$f":"Blad3!G1406","v":0},"Oanmäld frånvaro"]
["FRÅNVARO",{"$f":"IN!B1407","v":0},{"$f":"Blad3!E1407","v":""},{"$f":"Blad3!G1407","v":0},"Oanmäld frånvaro"]
["FRÅNVARO",{"$f":"IN!B1408","v":0},{"$f":"Blad3!E1408","v":""},{"$f":"Blad3!G1408","v":0},"Oanmäld frånvaro"]
["FRÅNVARO",{"$f":"IN!B1409","v":0},{"$f":"Blad3!E1409","v":""},{"$f":"Blad3!G1409","v":0},"Oanmäld frånvaro"]
["FRÅNVARO",{"$f":"IN!B1410","v":0},{"$f":"Blad3!E1410","v":""},{"$f":"Blad3!G1410","v":0},"Oanmäld frånvaro"]
["FRÅNVARO",{"$f":"IN!B1411","v":0},{"$f":"Blad3!E1411","v":""},{"$f":"Blad3!G1411","v":0},"Oanmäld frånvaro"]
["FRÅNVARO",{"$f":"IN!B1412","v":0},{"$f":"Blad3!E1412","v":""},{"$f":"Blad3!G1412","v":0},"Oanmäld frånvaro"]
["FRÅNVARO",{"$f":"IN!B1413","v":0},{"$f":"Blad3!E1413","v":""},{"$f":"Blad3!G1413","v":0},"Oanmäld frånvaro"]
["FRÅNVARO",{"$f":"IN!B1414","v":0},{"$f":"Blad3!E1414","v":""},{"$f":"Blad3!G1414","v":0},"Oanmäld frånvaro"]
["FRÅNVARO",{"$f":"IN!B1415","v":0},{"$f":"Blad3!E1415","v":""},{"$f":"Blad3!G1415","v":0},"Oanmäld frånvaro"]
["FRÅNVARO",{"$f":"IN!B1416","v":0},{"$f":"Blad3!E1416","v":""},{"$f":"Blad3!G1416","v":0},"Oanmäld frånvaro"]
["FRÅNVARO",{"$f":"IN!B1417","v":0},{"$f":"Blad3!E1417","v":""},{"$f":"Blad3!G1417","v":0},"Oanmäld frånvaro"]
["FRÅNVARO",{"$f":"IN!B1418","v":0},{"$f":"Blad3!E1418","v":""},{"$f":"Blad3!G1418","v":0},"Oanmäld frånvaro"]
["FRÅNVARO",{"$f":"IN!B1419","v":0},{"$f":"Blad3!E1419","v":""},{"$f":"Blad3!G1419","v":0},"Oanmäld frånvaro"]
["FRÅNVARO",{"$f":"IN!B1420","v":0},{"$f":"Blad3!E1420","v":""},{"$f":"Blad3!G1420","v":0},"Oanmäld frånvaro"]
["FRÅNVARO",{"$f":"IN!B1421","v":0},{"$f":"Blad3!E1421","v":""},{"$f":"Blad3!G1421","v":0},"Oanmäld frånvaro"]
["FRÅNVARO",{"$f":"IN!B1422","v":0},{"$f":"Blad3!E1422","v":""},{"$f":"Blad3!G1422","v":0},"Oanmäld frånvaro"]
["FRÅNVARO",{"$f":"IN!B1423","v":0},{"$f":"Blad3!E1423","v":""},{"$f":"Blad3!G1423","v":0},"Oanmäld frånvaro"]
["FRÅNVARO",{"$f":"IN!B1424","v":0},{"$f":"Blad3!E1424","v":""},{"$f":"Blad3!G1424","v":0},"Oanmäld frånvaro"]
["FRÅNVARO",{"$f":"IN!B1425","v":0},{"$f":"Blad3!E1425","v":""},{"$f":"Blad3!G1425","v":0},"Oanmäld frånvaro"]
["FRÅNVARO",{"$f":"IN!B1426","v":0},{"$f":"Blad3!E1426","v":""},{"$f":"Blad3!G1426","v":0},"Oanmäld frånvaro"]
["FRÅNVARO",{"$f":"IN!B1427","v":0},{"$f":"Blad3!E1427","v":""},{"$f":"Blad3!G1427","v":0},"Oanmäld frånvaro"]
["FRÅNVARO",{"$f":"IN!B1428","v":0},{"$f":"Blad3!E1428","v":""},{"$f":"Blad3!G1428","v":0},"Oanmäld frånvaro"]
["FRÅNVARO",{"$f":"IN!B1429","v":0},{"$f":"Blad3!E1429","v":""},{"$f":"Blad3!G1429","v":0},"Oanmäld frånvaro"]
["FRÅNVARO",{"$f":"IN!B1430","v":0},{"$f":"Blad3!E1430","v":""},{"$f":"Blad3!G1430","v":0},"Oanmäld frånvaro"]
["FRÅNVARO",{"$f":"IN!B1431","v":0},{"$f":"Blad3!E1431","v":""},{"$f":"Blad3!G1431","v":0},"Oanmäld frånvaro"]
["FRÅNVARO",{"$f":"IN!B1432","v":0},{"$f":"Blad3!E1432","v":""},{"$f":"Blad3!G1432","v":0},"Oanmäld frånvaro"]
["FRÅNVARO",{"$f":"IN!B1433","v":0},{"$f":"Blad3!E1433","v":""},{"$f":"Blad3!G1433","v":0},"Oanmäld frånvaro"]
["FRÅNVARO",{"$f":"IN!B1434","v":0},{"$f":"Blad3!E1434","v":""},{"$f":"Blad3!G1434","v":0},"Oanmäld frånvaro"]
["FRÅNVARO",{"$f":"IN!B1435","v":0},{"$f":"Blad3!E1435","v":""},{"$f":"Blad3!G1435","v":0},"Oanmäld frånvaro"]
["FRÅNVARO",{"$f":"IN!B1436","v":0},{"$f":"Blad3!E1436","v":""},{"$f":"Blad3!G1436","v":0},"Oanmäld frånvaro"]
["FRÅNVARO",{"$f":"IN!B1437","v":0},{"$f":"Blad3!E1437","v":""},{"$f":"Blad3!G1437","v":0},"Oanmäld frånvaro"]
["FRÅNVARO",{"$f":"IN!B1438","v":0},{"$f":"Blad3!E1438","v":""},{"$f":"Blad3!G1438","v":0},"Oanmäld frånvaro"]
["FRÅNVARO",{"$f":"IN!B1439","v":0},{"$f":"Blad3!E1439","v":""},{"$f":"Blad3!G1439","v":0},"Oanmäld frånvaro"]
["FRÅNVARO",{"$f":"IN!B1440","v":0},{"$f":"Blad3!E1440","v":""},{"$f":"Blad3!G1440","v":0},"Oanmäld frånvaro"]
["FRÅNVARO",{"$f":"IN!B1441","v":0},{"$f":"Blad3!E1441","v":""},{"$f":"Blad3!G1441","v":0},"Oanmäld frånvaro"]
["FRÅNVARO",{"$f":"IN!B1442","v":0},{"$f":"Blad3!E1442","v":""},{"$f":"Blad3!G1442","v":0},"Oanmäld frånvaro"]
["FRÅNVARO",{"$f":"IN!B1443","v":0},{"$f":"Blad3!E1443","v":""},{"$f":"Blad3!G1443","v":0},"Oanmäld frånvaro"]
["FRÅNVARO",{"$f":"IN!B1444","v":0},{"$f":"Blad3!E1444","v":""},{"$f":"Blad3!G1444","v":0},"Oanmäld frånvaro"]
["FRÅNVARO",{"$f":"IN!B1445","v":0},{"$f":"Blad3!E1445","v":""},{"$f":"Blad3!G1445","v":0},"Oanmäld frånvaro"]
["FRÅNVARO",{"$f":"IN!B1446","v":0},{"$f":"Blad3!E1446","v":""},{"$f":"Blad3!G1446","v":0},"Oanmäld frånvaro"]
["FRÅNVARO",{"$f":"IN!B1447","v":0},{"$f":"Blad3!E1447","v":""},{"$f":"Blad3!G1447","v":0},"Oanmäld frånvaro"]
["FRÅNVARO",{"$f":"IN!B1448","v":0},{"$f":"Blad3!E1448","v":""},{"$f":"Blad3!G1448","v":0},"Oanmäld frånvaro"]
["FRÅNVARO",{"$f":"IN!B1449","v":0},{"$f":"Blad3!E1449","v":""},{"$f":"Blad3!G1449","v":0},"Oanmäld frånvaro"]
["FRÅNVARO",{"$f":"IN!B1450","v":0},{"$f":"Blad3!E1450","v":""},{"$f":"Blad3!G1450","v":0},"Oanmäld frånvaro"]
["FRÅNVARO",{"$f":"IN!B1451","v":0},{"$f":"Blad3!E1451","v":""},{"$f":"Blad3!G1451","v":0},"Oanmäld frånvaro"]
["FRÅNVARO",{"$f":"IN!B1452","v":0},{"$f":"Blad3!E1452","v":""},{"$f":"Blad3!G1452","v":0},"Oanmäld frånvaro"]
["FRÅNVARO",{"$f":"IN!B1453","v":0},{"$f":"Blad3!E1453","v":""},{"$f":"Blad3!G1453","v":0},"Oanmäld frånvaro"]
["FRÅNVARO",{"$f":"IN!B1454","v":0},{"$f":"Blad3!E1454","v":""},{"$f":"Blad3!G1454","v":0},"Oanmäld frånvaro"]
["FRÅNVARO",{"$f":"IN!B1455","v":0},{"$f":"Blad3!E1455","v":""},{"$f":"Blad3!G1455","v":0},"Oanmäld frånvaro"]
["FRÅNVARO",{"$f":"IN!B1456","v":0},{"$f":"Blad3!E1456","v":""},{"$f":"Blad3!G1456","v":0},"Oanmäld frånvaro"]
["FRÅNVARO",{"$f":"IN!B1457","v":0},{"$f":"Blad3!E1457","v":""},{"$f":"Blad3!G1457","v":0},"Oanmäld frånvaro"]
["FRÅNVARO",{"$f":"IN!B1458","v":0},{"$f":"Blad3!E1458","v":""},{"$f":"Blad3!G1458","v":0},"Oanmäld frånvaro"]
["FRÅNVARO",{"$f":"IN!B1459","v":0},{"$f":"Blad3!E1459","v":""},{"$f":"Blad3!G1459","v":0},"Oanmäld frånvaro"]
["FRÅNVARO",{"$f":"IN!B1460","v":0},{"$f":"Blad3!E1460","v":""},{"$f":"Blad3!G1460","v":0},"Oanmäld frånvaro"]
["FRÅNVARO",{"$f":"IN!B1461","v":0},{"$f":"Blad3!E1461","v":""},{"$f":"Blad3!G1461","v":0},"Oanmäld frånvaro"]
["FRÅNVARO",{"$f":"IN!B1462","v":0},{"$f":"Blad3!E1462","v":""},{"$f":"Blad3!G1462","v":0},"Oanmäld frånvaro"]
["FRÅNVARO",{"$f":"IN!B1463","v":0},{"$f":"Blad3!E1463","v":""},{"$f":"Blad3!G1463","v":0},"Oanmäld frånvaro"]
["FRÅNVARO",{"$f":"IN!B1464","v":0},{"$f":"Blad3!E1464","v":""},{"$f":"Blad3!G1464","v":0},"Oanmäld frånvaro"]
["FRÅNVARO",{"$f":"IN!B1465","v":0},{"$f":"Blad3!E1465","v":""},{"$f":"Blad3!G1465","v":0},"Oanmäld frånvaro"]
["FRÅNVARO",{"$f":"IN!B1466","v":0},{"$f":"Blad3!E1466","v":""},{"$f":"Blad3!G1466","v":0},"Oanmäld frånvaro"]
["FRÅNVARO",{"$f":"IN!B1467","v":0},{"$f":"Blad3!E1467","v":""},{"$f":"Blad3!G1467","v":0},"Oanmäld frånvaro"]
["FRÅNVARO",{"$f":"IN!B1468","v":0},{"$f":"Blad3!E1468","v":""},{"$f":"Blad3!G1468","v":0},"Oanmäld frånvaro"]
["FRÅNVARO",{"$f":"IN!B1469","v":0},{"$f":"Blad3!E1469","v":""},{"$f":"Blad3!G1469","v":0},"Oanmäld frånvaro"]
["FRÅNVARO",{"$f":"IN!B1470","v":0},{"$f":"Blad3!E1470","v":""},{"$f":"Blad3!G1470","v":0},"Oanmäld frånvaro"]
["FRÅNVARO",{"$f":"IN!B1471","v":0},{"$f":"Blad3!E1471","v":""},{"$f":"Blad3!G1471","v":0},"Oanmäld frånvaro"]
["FRÅNVARO",{"$f":"IN!B1472","v":0},{"$f":"Blad3!E1472","v":""},{"$f":"Blad3!G1472","v":0},"Oanmäld frånvaro"]
["FRÅNVARO",{"$f":"IN!B1473","v":0},{"$f":"Blad3!E1473","v":""},{"$f":"Blad3!G1473","v":0},"Oanmäld frånvaro"]
["FRÅNVARO",{"$f":"IN!B1474","v":0},{"$f":"Blad3!E1474","v":""},{"$f":"Blad3!G1474","v":0},"Oanmäld frånvaro"]
["FRÅNVARO",{"$f":"IN!B1475","v":0},{"$f":"Blad3!E1475","v":""},{"$f":"Blad3!G1475","v":0},"Oanmäld frånvaro"]
["FRÅNVARO",{"$f":"IN!B1476","v":0},{"$f":"Blad3!E1476","v":""},{"$f":"Blad3!G1476","v":0},"Oanmäld frånvaro"]
["FRÅNVARO",{"$f":"IN!B1477","v":0},{"$f":"Blad3!E1477","v":""},{"$f":"Blad3!G1477","v":0},"Oanmäld frånvaro"]
["FRÅNVARO",{"$f":"IN!B1478","v":0},{"$f":"Blad3!E1478","v":""},{"$f":"Blad3!G1478","v":0},"Oanmäld frånvaro"]
["FRÅNVARO",{"$f":"IN!B1479","v":0},{"$f":"Blad3!E1479","v":""},{"$f":"Blad3!G1479","v":0},"Oanmäld frånvaro"]
["FRÅNVARO",{"$f":"IN!B1480","v":0},{"$f":"Blad3!E1480","v":""},{"$f":"Blad3!G1480","v":0},"Oanmäld frånvaro"]
["FRÅNVARO",{"$f":"IN!B1481","v":0},{"$f":"Blad3!E1481","v":""},{"$f":"Blad3!G1481","v":0},"Oanmäld frånvaro"]
["FRÅNVARO",{"$f":"IN!B1482","v":0},{"$f":"Blad3!E1482","v":""},{"$f":"Blad3!G1482","v":0},"Oanmäld frånvaro"]
["FRÅNVARO",{"$f":"IN!B1483","v":0},{"$f":"Blad3!E1483","v":""},{"$f":"Blad3!G1483","v":0},"Oanmäld frånvaro"]
["FRÅNVARO",{"$f":"IN!B1484","v":0},{"$f":"Blad3!E1484","v":""},{"$f":"Blad3!G1484","v":0},"Oanmäld frånvaro"]
["FRÅNVARO",{"$f":"IN!B1485","v":0},{"$f":"Blad3!E1485","v":""},{"$f":"Blad3!G1485","v":0},"Oanmäld frånvaro"]
["FRÅNVARO",{"$f":"IN!B1486","v":0},{"$f":"Blad3!E1486","v":""},{"$f":"Blad3!G1486","v":0},"Oanmäld frånvaro"]
["FRÅNVARO",{"$f":"IN!B1487","v":0},{"$f":"Blad3!E1487","v":""},{"$f":"Blad3!G1487","v":0},"Oanmäld frånvaro"]
["FRÅNVARO",{"$f":"IN!B1488","v":0},{"$f":"Blad3!E1488","v":""},{"$f":"Blad3!G1488","v":0},"Oanmäld frånvaro"]
["FRÅNVARO",{"$f":"IN!B1489","v":0},{"$f":"Blad3!E1489","v":""},{"$f":"Blad3!G1489","v":0},"Oanmäld frånvaro"]
["FRÅNVARO",{"$f":"IN!B1490","v":0},{"$f":"Blad3!E1490","v":""},{"$f":"Blad3!G1490","v":0},"Oanmäld frånvaro"]
["FRÅNVARO",{"$f":"IN!B1491","v":0},{"$f":"Blad3!E1491","v":""},{"$f":"Blad3!G1491","v":0},"Oanmäld frånvaro"]
["FRÅNVARO",{"$f":"IN!B1492","v":0},{"$f":"Blad3!E1492","v":""},{"$f":"Blad3!G1492","v":0},"Oanmäld frånvaro"]
["FRÅNVARO",{"$f":"IN!B1493","v":0},{"$f":"Blad3!E1493","v":""},{"$f":"Blad3!G1493","v":0},"Oanmäld frånvaro"]
["FRÅNVARO",{"$f":"IN!B1494","v":0},{"$f":"Blad3!E1494","v":""},{"$f":"Blad3!G1494","v":0},"Oanmäld frånvaro"]
["FRÅNVARO",{"$f":"IN!B1495","v":0},{"$f":"Blad3!E1495","v":""},{"$f":"Blad3!G1495","v":0},"Oanmäld frånvaro"]
["FRÅNVARO",{"$f":"IN!B1496","v":0},{"$f":"Blad3!E1496","v":""},{"$f":"Blad3!G1496","v":0},"Oanmäld frånvaro"]
["FRÅNVARO",{"$f":"IN!B1497","v":0},{"$f":"Blad3!E1497","v":""},{"$f":"Blad3!G1497","v":0},"Oanmäld frånvaro"]
["FRÅNVARO",{"$f":"IN!B1498","v":0},{"$f":"Blad3!E1498","v":""},{"$f":"Blad3!G1498","v":0},"Oanmäld frånvaro"]
["FRÅNVARO",{"$f":"IN!B1499","v":0},{"$f":"Blad3!E1499","v":""},{"$f":"Blad3!G1499","v":0},"Oanmäld frånvaro"]
["FRÅNVARO",{"$f":"IN!B1500","v":0},{"$f":"Blad3!E1500","v":""},{"$f":"Blad3!G1500","v":0},"Oanmäld frånvaro"]
["FRÅNVARO",{"$f":"IN!B1501","v":0},{"$f":"Blad3!E1501","v":""},{"$f":"Blad3!G1501","v":0},"Oanmäld frånvaro"]
["FRÅNVARO",{"$f":"IN!B1502","v":0},{"$f":"Blad3!E1502","v":""},{"$f":"Blad3!G1502","v":0},"Oanmäld frånvaro"]
["FRÅNVARO",{"$f":"IN!B1503","v":0},{"$f":"Blad3!E1503","v":""},{"$f":"Blad3!G1503","v":0},"Oanmäld frånvaro"]
["FRÅNVARO",{"$f":"IN!B1504","v":0},{"$f":"Blad3!E1504","v":""},{"$f":"Blad3!G1504","v":0},"Oanmäld frånvaro"]
["FRÅNVARO",{"$f":"IN!B1505","v":0},{"$f":"Blad3!E1505","v":""},{"$f":"Blad3!G1505","v":0},"Oanmäld frånvaro"]
["FRÅNVARO",{"$f":"IN!B1506","v":0},{"$f":"Blad3!E1506","v":""},{"$f":"Blad3!G1506","v":0},"Oanmäld frånvaro"]
["FRÅNVARO",{"$f":"IN!B1507","v":0},{"$f":"Blad3!E1507","v":""},{"$f":"Blad3!G1507","v":0},"Oanmäld frånvaro"]
["FRÅNVARO",{"$f":"IN!B1508","v":0},{"$f":"Blad3!E1508","v":""},{"$f":"Blad3!G1508","v":0},"Oanmäld frånvaro"]
["FRÅNVARO",{"$f":"IN!B1509","v":0},{"$f":"Blad3!E1509","v":""},{"$f":"Blad3!G1509","v":0},"Oanmäld frånvaro"]
["FRÅNVARO",{"$f":"IN!B1510","v":0},{"$f":"Blad3!E1510","v":""},{"$f":"Blad3!G1510","v":0},"Oanmäld frånvaro"]
["FRÅNVARO",{"$f":"IN!B1511","v":0},{"$f":"Blad3!E1511","v":""},{"$f":"Blad3!G1511","v":0},"Oanmäld frånvaro"]
["FRÅNVARO",{"$f":"IN!B1512","v":0},{"$f":"Blad3!E1512","v":""},{"$f":"Blad3!G1512","v":0},"Oanmäld frånvaro"]
["FRÅNVARO",{"$f":"IN!B1513","v":0},{"$f":"Blad3!E1513","v":""},{"$f":"Blad3!G1513","v":0},"Oanmäld frånvaro"]
["FRÅNVARO",{"$f":"IN!B1514","v":0},{"$f":"Blad3!E1514","v":""},{"$f":"Blad3!G1514","v":0},"Oanmäld frånvaro"]
["FRÅNVARO",{"$f":"IN!B1515","v":0},{"$f":"Blad3!E1515","v":""},{"$f":"Blad3!G1515","v":0},"Oanmäld frånvaro"]
["FRÅNVARO",{"$f":"IN!B1516","v":0},{"$f":"Blad3!E1516","v":""},{"$f":"Blad3!G1516","v":0},"Oanmäld frånvaro"]
["FRÅNVARO",{"$f":"IN!B1517","v":0},{"$f":"Blad3!E1517","v":""},{"$f":"Blad3!G1517","v":0},"Oanmäld frånvaro"]
["FRÅNVARO",{"$f":"IN!B1518","v":0},{"$f":"Blad3!E1518","v":""},{"$f":"Blad3!G1518","v":0},"Oanmäld frånvaro"]
["FRÅNVARO",{"$f":"IN!B1519","v":0},{"$f":"Blad3!E1519","v":""},{"$f":"Blad3!G1519","v":0},"Oanmäld frånvaro"]
["FRÅNVARO",{"$f":"IN!B1520","v":0},{"$f":"Blad3!E1520","v":""},{"$f":"Blad3!G1520","v":0},"Oanmäld frånvaro"]
["FRÅNVARO",{"$f":"IN!B1521","v":0},{"$f":"Blad3!E1521","v":""},{"$f":"Blad3!G1521","v":0},"Oanmäld frånvaro"]
["FRÅNVARO",{"$f":"IN!B1522","v":0},{"$f":"Blad3!E1522","v":""},{"$f":"Blad3!G1522","v":0},"Oanmäld frånvaro"]
["FRÅNVARO",{"$f":"IN!B1523","v":0},{"$f":"Blad3!E1523","v":""},{"$f":"Blad3!G1523","v":0},"Oanmäld frånvaro"]
["FRÅNVARO",{"$f":"IN!B1524","v":0},{"$f":"Blad3!E1524","v":""},{"$f":"Blad3!G1524","v":0},"Oanmäld frånvaro"]
["FRÅNVARO",{"$f":"IN!B1525","v":0},{"$f":"Blad3!E1525","v":""},{"$f":"Blad3!G1525","v":0},"Oanmäld frånvaro"]
["FRÅNVARO",{"$f":"IN!B1526","v":0},{"$f":"Blad3!E1526","v":""},{"$f":"Blad3!G1526","v":0},"Oanmäld frånvaro"]
["FRÅNVARO",{"$f":"IN!B1527","v":0},{"$f":"Blad3!E1527","v":""},{"$f":"Blad3!G1527","v":0},"Oanmäld frånvaro"]
["FRÅNVARO",{"$f":"IN!B1528","v":0},{"$f":"Blad3!E1528","v":""},{"$f":"Blad3!G1528","v":0},"Oanmäld frånvaro"]
["FRÅNVARO",{"$f":"IN!B1529","v":0},{"$f":"Blad3!E1529","v":""},{"$f":"Blad3!G1529","v":0},"Oanmäld frånvaro"]
["FRÅNVARO",{"$f":"IN!B1530","v":0},{"$f":"Blad3!E1530","v":""},{"$f":"Blad3!G1530","v":0},"Oanmäld frånvaro"]
["FRÅNVARO",{"$f":"IN!B1531","v":0},{"$f":"Blad3!E1531","v":""},{"$f":"Blad3!G1531","v":0},"Oanmäld frånvaro"]
["FRÅNVARO",{"$f":"IN!B1532","v":0},{"$f":"Blad3!E1532","v":""},{"$f":"Blad3!G1532","v":0},"Oanmäld frånvaro"]
["FRÅNVARO",{"$f":"IN!B1533","v":0},{"$f":"Blad3!E1533","v":""},{"$f":"Blad3!G1533","v":0},"Oanmäld frånvaro"]
["FRÅNVARO",{"$f":"IN!B1534","v":0},{"$f":"Blad3!E1534","v":""},{"$f":"Blad3!G1534","v":0},"Oanmäld frånvaro"]
["FRÅNVARO",{"$f":"IN!B1535","v":0},{"$f":"Blad3!E1535","v":""},{"$f":"Blad3!G1535","v":0},"Oanmäld frånvaro"]
["FRÅNVARO",{"$f":"IN!B1536","v":0},{"$f":"Blad3!E1536","v":""},{"$f":"Blad3!G1536","v":0},"Oanmäld frånvaro"]
["FRÅNVARO",{"$f":"IN!B1537","v":0},{"$f":"Blad3!E1537","v":""},{"$f":"Blad3!G1537","v":0},"Oanmäld frånvaro"]
["FRÅNVARO",{"$f":"IN!B1538","v":0},{"$f":"Blad3!E1538","v":""},{"$f":"Blad3!G1538","v":0},"Oanmäld frånvaro"]
["FRÅNVARO",{"$f":"IN!B1539","v":0},{"$f":"Blad3!E1539","v":""},{"$f":"Blad3!G1539","v":0},"Oanmäld frånvaro"]
["FRÅNVARO",{"$f":"IN!B1540","v":0},{"$f":"Blad3!E1540","v":""},{"$f":"Blad3!G1540","v":0},"Oanmäld frånvaro"]
["FRÅNVARO",{"$f":"IN!B1541","v":0},{"$f":"Blad3!E1541","v":""},{"$f":"Blad3!G1541","v":0},"Oanmäld frånvaro"]
["FRÅNVARO",{"$f":"IN!B1542","v":0},{"$f":"Blad3!E1542","v":""},{"$f":"Blad3!G1542","v":0},"Oanmäld frånvaro"]
["FRÅNVARO",{"$f":"IN!B1543","v":0},{"$f":"Blad3!E1543","v":""},{"$f":"Blad3!G1543","v":0},"Oanmäld frånvaro"]
["FRÅNVARO",{"$f":"IN!B1544","v":0},{"$f":"Blad3!E1544","v":""},{"$f":"Blad3!G1544","v":0},"Oanmäld frånvaro"]
["FRÅNVARO",{"$f":"IN!B1545","v":0},{"$f":"Blad3!E1545","v":""},{"$f":"Blad3!G1545","v":0},"Oanmäld frånvaro"]
["FRÅNVARO",{"$f":"IN!B1546","v":0},{"$f":"Blad3!E1546","v":""},{"$f":"Blad3!G1546","v":0},"Oanmäld frånvaro"]
["FRÅNVARO",{"$f":"IN!B1547","v":0},{"$f":"Blad3!E1547","v":""},{"$f":"Blad3!G1547","v":0},"Oanmäld frånvaro"]
["FRÅNVARO",{"$f":"IN!B1548","v":0},{"$f":"Blad3!E1548","v":""},{"$f":"Blad3!G1548","v":0},"Oanmäld frånvaro"]
["FRÅNVARO",{"$f":"IN!B1549","v":0},{"$f":"Blad3!E1549","v":""},{"$f":"Blad3!G1549","v":0},"Oanmäld frånvaro"]
["FRÅNVARO",{"$f":"IN!B1550","v":0},{"$f":"Blad3!E1550","v":""},{"$f":"Blad3!G1550","v":0},"Oanmäld frånvaro"]
["FRÅNVARO",{"$f":"IN!B1551","v":0},{"$f":"Blad3!E1551","v":""},{"$f":"Blad3!G1551","v":0},"Oanmäld frånvaro"]
["FRÅNVARO",{"$f":"IN!B1552","v":0},{"$f":"Blad3!E1552","v":""},{"$f":"Blad3!G1552","v":0},"Oanmäld frånvaro"]
["FRÅNVARO",{"$f":"IN!B1553","v":0},{"$f":"Blad3!E1553","v":""},{"$f":"Blad3!G1553","v":0},"Oanmäld frånvaro"]
["FRÅNVARO",{"$f":"IN!B1554","v":0},{"$f":"Blad3!E1554","v":""},{"$f":"Blad3!G1554","v":0},"Oanmäld frånvaro"]
["FRÅNVARO",{"$f":"IN!B1555","v":0},{"$f":"Blad3!E1555","v":""},{"$f":"Blad3!G1555","v":0},"Oanmäld frånvaro"]
["FRÅNVARO",{"$f":"IN!B1556","v":0},{"$f":"Blad3!E1556","v":""},{"$f":"Blad3!G1556","v":0},"Oanmäld frånvaro"]
["FRÅNVARO",{"$f":"IN!B1557","v":0},{"$f":"Blad3!E1557","v":""},{"$f":"Blad3!G1557","v":0},"Oanmäld frånvaro"]
["FRÅNVARO",{"$f":"IN!B1558","v":0},{"$f":"Blad3!E1558","v":""},{"$f":"Blad3!G1558","v":0},"Oanmäld frånvaro"]
["FRÅNVARO",{"$f":"IN!B1559","v":0},{"$f":"Blad3!E1559","v":""},{"$f":"Blad3!G1559","v":0},"Oanmäld frånvaro"]
["FRÅNVARO",{"$f":"IN!B1560","v":0},{"$f":"Blad3!E1560","v":""},{"$f":"Blad3!G1560","v":0},"Oanmäld frånvaro"]
["FRÅNVARO",{"$f":"IN!B1561","v":0},{"$f":"Blad3!E1561","v":""},{"$f":"Blad3!G1561","v":0},"Oanmäld frånvaro"]
["FRÅNVARO",{"$f":"IN!B1562","v":0},{"$f":"Blad3!E1562","v":""},{"$f":"Blad3!G1562","v":0},"Oanmäld frånvaro"]
["FRÅNVARO",{"$f":"IN!B1563","v":0},{"$f":"Blad3!E1563","v":""},{"$f":"Blad3!G1563","v":0},"Oanmäld frånvaro"]
["FRÅNVARO",{"$f":"IN!B1564","v":0},{"$f":"Blad3!E1564","v":""},{"$f":"Blad3!G1564","v":0},"Oanmäld frånvaro"]
["FRÅNVARO",{"$f":"IN!B1565","v":0},{"$f":"Blad3!E1565","v":""},{"$f":"Blad3!G1565","v":0},"Oanmäld frånvaro"]
["FRÅNVARO",{"$f":"IN!B1566","v":0},{"$f":"Blad3!E1566","v":""},{"$f":"Blad3!G1566","v":0},"Oanmäld frånvaro"]
["FRÅNVARO",{"$f":"IN!B1567","v":0},{"$f":"Blad3!E1567","v":""},{"$f":"Blad3!G1567","v":0},"Oanmäld frånvaro"]
["FRÅNVARO",{"$f":"IN!B1568","v":0},{"$f":"Blad3!E1568","v":""},{"$f":"Blad3!G1568","v":0},"Oanmäld frånvaro"]
["FRÅNVARO",{"$f":"IN!B1569","v":0},{"$f":"Blad3!E1569","v":""},{"$f":"Blad3!G1569","v":0},"Oanmäld frånvaro"]
["FRÅNVARO",{"$f":"IN!B1570","v":0},{"$f":"Blad3!E1570","v":""},{"$f":"Blad3!G1570","v":0},"Oanmäld frånvaro"]
["FRÅNVARO",{"$f":"IN!B1571","v":0},{"$f":"Blad3!E1571","v":""},{"$f":"Blad3!G1571","v":0},"Oanmäld frånvaro"]
["FRÅNVARO",{"$f":"IN!B1572","v":0},{"$f":"Blad3!E1572","v":""},{"$f":"Blad3!G1572","v":0},"Oanmäld frånvaro"]
["FRÅNVARO",{"$f":"IN!B1573","v":0},{"$f":"Blad3!E1573","v":""},{"$f":"Blad3!G1573","v":0},"Oanmäld frånvaro"]
["FRÅNVARO",{"$f":"IN!B1574","v":0},{"$f":"Blad3!E1574","v":""},{"$f":"Blad3!G1574","v":0},"Oanmäld frånvaro"]
["FRÅNVARO",{"$f":"IN!B1575","v":0},{"$f":"Blad3!E1575","v":""},{"$f":"Blad3!G1575","v":0},"Oanmäld frånvaro"]
["FRÅNVARO",{"$f":"IN!B1576","v":0},{"$f":"Blad3!E1576","v":""},{"$f":"Blad3!G1576","v":0},"Oanmäld frånvaro"]
["FRÅNVARO",{"$f":"IN!B1577","v":0},{"$f":"Blad3!E1577","v":""},{"$f":"Blad3!G1577","v":0},"Oanmäld frånvaro"]
["FRÅNVARO",{"$f":"IN!B1578","v":0},{"$f":"Blad3!E1578","v":""},{"$f":"Blad3!G1578","v":0},"Oanmäld frånvaro"]
["FRÅNVARO",{"$f":"IN!B1579","v":0},{"$f":"Blad3!E1579","v":""},{"$f":"Blad3!G1579","v":0},"Oanmäld frånvaro"]
["FRÅNVARO",{"$f":"IN!B1580","v":0},{"$f":"Blad3!E1580","v":""},{"$f":"Blad3!G1580","v":0},"Oanmäld frånvaro"]
["FRÅNVARO",{"$f":"IN!B1581","v":0},{"$f":"Blad3!E1581","v":""},{"$f":"Blad3!G1581","v":0},"Oanmäld frånvaro"]
["FRÅNVARO",{"$f":"IN!B1582","v":0},{"$f":"Blad3!E1582","v":""},{"$f":"Blad3!G1582","v":0},"Oanmäld frånvaro"]
["FRÅNVARO",{"$f":"IN!B1583","v":0},{"$f":"Blad3!E1583","v":""},{"$f":"Blad3!G1583","v":0},"Oanmäld frånvaro"]
["FRÅNVARO",{"$f":"IN!B1584","v":0},{"$f":"Blad3!E1584","v":""},{"$f":"Blad3!G1584","v":0},"Oanmäld frånvaro"]
["FRÅNVARO",{"$f":"IN!B1585","v":0},{"$f":"Blad3!E1585","v":""},{"$f":"Blad3!G1585","v":0},"Oanmäld frånvaro"]
["FRÅNVARO",{"$f":"IN!B1586","v":0},{"$f":"Blad3!E1586","v":""},{"$f":"Blad3!G1586","v":0},"Oanmäld frånvaro"]
["FRÅNVARO",{"$f":"IN!B1587","v":0},{"$f":"Blad3!E1587","v":""},{"$f":"Blad3!G1587","v":0},"Oanmäld frånvaro"]
["FRÅNVARO",{"$f":"IN!B1588","v":0},{"$f":"Blad3!E1588","v":""},{"$f":"Blad3!G1588","v":0},"Oanmäld frånvaro"]
["FRÅNVARO",{"$f":"IN!B1589","v":0},{"$f":"Blad3!E1589","v":""},{"$f":"Blad3!G1589","v":0},"Oanmäld frånvaro"]
["FRÅNVARO",{"$f":"IN!B1590","v":0},{"$f":"Blad3!E1590","v":""},{"$f":"Blad3!G1590","v":0},"Oanmäld frånvaro"]
["FRÅNVARO",{"$f":"IN!B1591","v":0},{"$f":"Blad3!E1591","v":""},{"$f":"Blad3!G1591","v":0},"Oanmäld frånvaro"]
["FRÅNVARO",{"$f":"IN!B1592","v":0},{"$f":"Blad3!E1592","v":""},{"$f":"Blad3!G1592","v":0},"Oanmäld frånvaro"]
["FRÅNVARO",{"$f":"IN!B1593","v":0},{"$f":"Blad3!E1593","v":""},{"$f":"Blad3!G1593","v":0},"Oanmäld frånvaro"]
["FRÅNVARO",{"$f":"IN!B1594","v":0},{"$f":"Blad3!E1594","v":""},{"$f":"Blad3!G1594","v":0},"Oanmäld frånvaro"]
["FRÅNVARO",{"$f":"IN!B1595","v":0},{"$f":"Blad3!E1595","v":""},{"$f":"Blad3!G1595","v":0},"Oanmäld frånvaro"]
["FRÅNVARO",{"$f":"IN!B1596","v":0},{"$f":"Blad3!E1596","v":""},{"$f":"Blad3!G1596","v":0},"Oanmäld frånvaro"]
["FRÅNVARO",{"$f":"IN!B1597","v":0},{"$f":"Blad3!E1597","v":""},{"$f":"Blad3!G1597","v":0},"Oanmäld frånvaro"]
["FRÅNVARO",{"$f":"IN!B1598","v":0},{"$f":"Blad3!E1598","v":""},{"$f":"Blad3!G1598","v":0},"Oanmäld frånvaro"]
["FRÅNVARO",{"$f":"IN!B1599","v":0},{"$f":"Blad3!E1599","v":""},{"$f":"Blad3!G1599","v":0},"Oanmäld frånvaro"]
["FRÅNVARO",{"$f":"IN!B1600","v":0},{"$f":"Blad3!E1600","v":""},{"$f":"Blad3!G1600","v":0},"Oanmäld frånvaro"]
["FRÅNVARO",{"$f":"IN!B1601","v":0},{"$f":"Blad3!E1601","v":""},{"$f":"Blad3!G1601","v":0},"Oanmäld frånvaro"]
["FRÅNVARO",{"$f":"IN!B1602","v":0},{"$f":"Blad3!E1602","v":""},{"$f":"Blad3!G1602","v":0},"Oanmäld frånvaro"]
["FRÅNVARO",{"$f":"IN!B1603","v":0},{"$f":"Blad3!E1603","v":""},{"$f":"Blad3!G1603","v":0},"Oanmäld frånvaro"]
["FRÅNVARO",{"$f":"IN!B1604","v":0},{"$f":"Blad3!E1604","v":""},{"$f":"Blad3!G1604","v":0},"Oanmäld frånvaro"]
["FRÅNVARO",{"$f":"IN!B1605","v":0},{"$f":"Blad3!E1605","v":""},{"$f":"Blad3!G1605","v":0},"Oanmäld frånvaro"]
["FRÅNVARO",{"$f":"IN!B1606","v":0},{"$f":"Blad3!E1606","v":""},{"$f":"Blad3!G1606","v":0},"Oanmäld frånvaro"]
["FRÅNVARO",{"$f":"IN!B1607","v":0},{"$f":"Blad3!E1607","v":""},{"$f":"Blad3!G1607","v":0},"Oanmäld frånvaro"]
["FRÅNVARO",{"$f":"IN!B1608","v":0},{"$f":"Blad3!E1608","v":""},{"$f":"Blad3!G1608","v":0},"Oanmäld frånvaro"]
["FRÅNVARO",{"$f":"IN!B1609","v":0},{"$f":"Blad3!E1609","v":""},{"$f":"Blad3!G1609","v":0},"Oanmäld frånvaro"]
["FRÅNVARO",{"$f":"IN!B1610","v":0},{"$f":"Blad3!E1610","v":""},{"$f":"Blad3!G1610","v":0},"Oanmäld frånvaro"]
["FRÅNVARO",{"$f":"IN!B1611","v":0},{"$f":"Blad3!E1611","v":""},{"$f":"Blad3!G1611","v":0},"Oanmäld frånvaro"]
["FRÅNVARO",{"$f":"IN!B1612","v":0},{"$f":"Blad3!E1612","v":""},{"$f":"Blad3!G1612","v":0},"Oanmäld frånvaro"]
["FRÅNVARO",{"$f":"IN!B1613","v":0},{"$f":"Blad3!E1613","v":""},{"$f":"Blad3!G1613","v":0},"Oanmäld frånvaro"]
["FRÅNVARO",{"$f":"IN!B1614","v":0},{"$f":"Blad3!E1614","v":""},{"$f":"Blad3!G1614","v":0},"Oanmäld frånvaro"]
["FRÅNVARO",{"$f":"IN!B1615","v":0},{"$f":"Blad3!E1615","v":""},{"$f":"Blad3!G1615","v":0},"Oanmäld frånvaro"]
["FRÅNVARO",{"$f":"IN!B1616","v":0},{"$f":"Blad3!E1616","v":""},{"$f":"Blad3!G1616","v":0},"Oanmäld frånvaro"]
["FRÅNVARO",{"$f":"IN!B1617","v":0},{"$f":"Blad3!E1617","v":""},{"$f":"Blad3!G1617","v":0},"Oanmäld frånvaro"]
["FRÅNVARO",{"$f":"IN!B1618","v":0},{"$f":"Blad3!E1618","v":""},{"$f":"Blad3!G1618","v":0},"Oanmäld frånvaro"]
["FRÅNVARO",{"$f":"IN!B1619","v":0},{"$f":"Blad3!E1619","v":""},{"$f":"Blad3!G1619","v":0},"Oanmäld frånvaro"]
["FRÅNVARO",{"$f":"IN!B1620","v":0},{"$f":"Blad3!E1620","v":""},{"$f":"Blad3!G1620","v":0},"Oanmäld frånvaro"]
["FRÅNVARO",{"$f":"IN!B1621","v":0},{"$f":"Blad3!E1621","v":""},{"$f":"Blad3!G1621","v":0},"Oanmäld frånvaro"]
["FRÅNVARO",{"$f":"IN!B1622","v":0},{"$f":"Blad3!E1622","v":""},{"$f":"Blad3!G1622","v":0},"Oanmäld frånvaro"]
["FRÅNVARO",{"$f":"IN!B1623","v":0},{"$f":"Blad3!E1623","v":""},{"$f":"Blad3!G1623","v":0},"Oanmäld frånvaro"]
["FRÅNVARO",{"$f":"IN!B1624","v":0},{"$f":"Blad3!E1624","v":""},{"$f":"Blad3!G1624","v":0},"Oanmäld frånvaro"]
["FRÅNVARO",{"$f":"IN!B1625","v":0},{"$f":"Blad3!E1625","v":""},{"$f":"Blad3!G1625","v":0},"Oanmäld frånvaro"]
["FRÅNVARO",{"$f":"IN!B1626","v":0},{"$f":"Blad3!E1626","v":""},{"$f":"Blad3!G1626","v":0},"Oanmäld frånvaro"]
["FRÅNVARO",{"$f":"IN!B1627","v":0},{"$f":"Blad3!E1627","v":""},{"$f":"Blad3!G1627","v":0},"Oanmäld frånvaro"]
["FRÅNVARO",{"$f":"IN!B1628","v":0},{"$f":"Blad3!E1628","v":""},{"$f":"Blad3!G1628","v":0},"Oanmäld frånvaro"]
["FRÅNVARO",{"$f":"IN!B1629","v":0},{"$f":"Blad3!E1629","v":""},{"$f":"Blad3!G1629","v":0},"Oanmäld frånvaro"]
["FRÅNVARO",{"$f":"IN!B1630","v":0},{"$f":"Blad3!E1630","v":""},{"$f":"Blad3!G1630","v":0},"Oanmäld frånvaro"]
["FRÅNVARO",{"$f":"IN!B1631","v":0},{"$f":"Blad3!E1631","v":""},{"$f":"Blad3!G1631","v":0},"Oanmäld frånvaro"]
["FRÅNVARO",{"$f":"IN!B1632","v":0},{"$f":"Blad3!E1632","v":""},{"$f":"Blad3!G1632","v":0},"Oanmäld frånvaro"]
["FRÅNVARO",{"$f":"IN!B1633","v":0},{"$f":"Blad3!E1633","v":""},{"$f":"Blad3!G1633","v":0},"Oanmäld frånvaro"]
["FRÅNVARO",{"$f":"IN!B1634","v":0},{"$f":"Blad3!E1634","v":""},{"$f":"Blad3!G1634","v":0},"Oanmäld frånvaro"]
["FRÅNVARO",{"$f":"IN!B1635","v":0},{"$f":"Blad3!E1635","v":""},{"$f":"Blad3!G1635","v":0},"Oanmäld frånvaro"]
["FRÅNVARO",{"$f":"IN!B1636","v":0},{"$f":"Blad3!E1636","v":""},{"$f":"Blad3!G1636","v":0},"Oanmäld frånvaro"]
["FRÅNVARO",{"$f":"IN!B1637","v":0},{"$f":"Blad3!E1637","v":""},{"$f":"Blad3!G1637","v":0},"Oanmäld frånvaro"]
["FRÅNVARO",{"$f":"IN!B1638","v":0},{"$f":"Blad3!E1638","v":""},{"$f":"Blad3!G1638","v":0},"Oanmäld frånvaro"]
["FRÅNVARO",{"$f":"IN!B1639","v":0},{"$f":"Blad3!E1639","v":""},{"$f":"Blad3!G1639","v":0},"Oanmäld frånvaro"]
["FRÅNVARO",{"$f":"IN!B1640","v":0},{"$f":"Blad3!E1640","v":""},{"$f":"Blad3!G1640","v":0},"Oanmäld frånvaro"]
["FRÅNVARO",{"$f":"IN!B1641","v":0},{"$f":"Blad3!E1641","v":""},{"$f":"Blad3!G1641","v":0},"Oanmäld frånvaro"]
["FRÅNVARO",{"$f":"IN!B1642","v":0},{"$f":"Blad3!E1642","v":""},{"$f":"Blad3!G1642","v":0},"Oanmäld frånvaro"]
["FRÅNVARO",{"$f":"IN!B1643","v":0},{"$f":"Blad3!E1643","v":""},{"$f":"Blad3!G1643","v":0},"Oanmäld frånvaro"]
["FRÅNVARO",{"$f":"IN!B1644","v":0},{"$f":"Blad3!E1644","v":""},{"$f":"Blad3!G1644","v":0},"Oanmäld frånvaro"]
["FRÅNVARO",{"$f":"IN!B1645","v":0},{"$f":"Blad3!E1645","v":""},{"$f":"Blad3!G1645","v":0},"Oanmäld frånvaro"]
["FRÅNVARO",{"$f":"IN!B1646","v":0},{"$f":"Blad3!E1646","v":""},{"$f":"Blad3!G1646","v":0},"Oanmäld frånvaro"]
["FRÅNVARO",{"$f":"IN!B1647","v":0},{"$f":"Blad3!E1647","v":""},{"$f":"Blad3!G1647","v":0},"Oanmäld frånvaro"]
["FRÅNVARO",{"$f":"IN!B1648","v":0},{"$f":"Blad3!E1648","v":""},{"$f":"Blad3!G1648","v":0},"Oanmäld frånvaro"]
["FRÅNVARO",{"$f":"IN!B1649","v":0},{"$f":"Blad3!E1649","v":""},{"$f":"Blad3!G1649","v":0},"Oanmäld frånvaro"]
["FRÅNVARO",{"$f":"IN!B1650","v":0},{"$f":"Blad3!E1650","v":""},{"$f":"Blad3!G1650","v":0},"Oanmäld frånvaro"]
["FRÅNVARO",{"$f":"IN!B1651","v":0},{"$f":"Blad3!E1651","v":""},{"$f":"Blad3!G1651","v":0},"Oanmäld frånvaro"]
["FRÅNVARO",{"$f":"IN!B1652","v":0},{"$f":"Blad3!E1652","v":""},{"$f":"Blad3!G1652","v":0},"Oanmäld frånvaro"]
["FRÅNVARO",{"$f":"IN!B1653","v":0},{"$f":"Blad3!E1653","v":""},{"$f":"Blad3!G1653","v":0},"Oanmäld frånvaro"]
["FRÅNVARO",{"$f":"IN!B1654","v":0},{"$f":"Blad3!E1654","v":""},{"$f":"Blad3!G1654","v":0},"Oanmäld frånvaro"]
["FRÅNVARO",{"$f":"IN!B1655","v":0},{"$f":"Blad3!E1655","v":""},{"$f":"Blad3!G1655","v":0},"Oanmäld frånvaro"]
["FRÅNVARO",{"$f":"IN!B1656","v":0},{"$f":"Blad3!E1656","v":""},{"$f":"Blad3!G1656","v":0},"Oanmäld frånvaro"]
["FRÅNVARO",{"$f":"IN!B1657","v":0},{"$f":"Blad3!E1657","v":""},{"$f":"Blad3!G1657","v":0},"Oanmäld frånvaro"]
["FRÅNVARO",{"$f":"IN!B1658","v":0},{"$f":"Blad3!E1658","v":""},{"$f":"Blad3!G1658","v":0},"Oanmäld frånvaro"]
["FRÅNVARO",{"$f":"IN!B1659","v":0},{"$f":"Blad3!E1659","v":""},{"$f":"Blad3!G1659","v":0},"Oanmäld frånvaro"]
["FRÅNVARO",{"$f":"IN!B1660","v":0},{"$f":"Blad3!E1660","v":""},{"$f":"Blad3!G1660","v":0},"Oanmäld frånvaro"]
["FRÅNVARO",{"$f":"IN!B1661","v":0},{"$f":"Blad3!E1661","v":""},{"$f":"Blad3!G1661","v":0},"Oanmäld frånvaro"]
["FRÅNVARO",{"$f":"IN!B1662","v":0},{"$f":"Blad3!E1662","v":""},{"$f":"Blad3!G1662","v":0},"Oanmäld frånvaro"]
["FRÅNVARO",{"$f":"IN!B1663","v":0},{"$f":"Blad3!E1663","v":""},{"$f":"Blad3!G1663","v":0},"Oanmäld frånvaro"]
["FRÅNVARO",{"$f":"IN!B1664","v":0},{"$f":"Blad3!E1664","v":""},{"$f":"Blad3!G1664","v":0},"Oanmäld frånvaro"]
["FRÅNVARO",{"$f":"IN!B1665","v":0},{"$f":"Blad3!E1665","v":""},{"$f":"Blad3!G1665","v":0},"Oanmäld frånvaro"]
["FRÅNVARO",{"$f":"IN!B1666","v":0},{"$f":"Blad3!E1666","v":""},{"$f":"Blad3!G1666","v":0},"Oanmäld frånvaro"]
["FRÅNVARO",{"$f":"IN!B1667","v":0},{"$f":"Blad3!E1667","v":""},{"$f":"Blad3!G1667","v":0},"Oanmäld frånvaro"]
["FRÅNVARO",{"$f":"IN!B1668","v":0},{"$f":"Blad3!E1668","v":""},{"$f":"Blad3!G1668","v":0},"Oanmäld frånvaro"]
["FRÅNVARO",{"$f":"IN!B1669","v":0},{"$f":"Blad3!E1669","v":""},{"$f":"Blad3!G1669","v":0},"Oanmäld frånvaro"]
["FRÅNVARO",{"$f":"IN!B1670","v":0},{"$f":"Blad3!E1670","v":""},{"$f":"Blad3!G1670","v":0},"Oanmäld frånvaro"]
["FRÅNVARO",{"$f":"IN!B1671","v":0},{"$f":"Blad3!E1671","v":""},{"$f":"Blad3!G1671","v":0},"Oanmäld frånvaro"]
["FRÅNVARO",{"$f":"IN!B1672","v":0},{"$f":"Blad3!E1672","v":""},{"$f":"Blad3!G1672","v":0},"Oanmäld frånvaro"]
["FRÅNVARO",{"$f":"IN!B1673","v":0},{"$f":"Blad3!E1673","v":""},{"$f":"Blad3!G1673","v":0},"Oanmäld frånvaro"]
["FRÅNVARO",{"$f":"IN!B1674","v":0},{"$f":"Blad3!E1674","v":""},{"$f":"Blad3!G1674","v":0},"Oanmäld frånvaro"]
["FRÅNVARO",{"$f":"IN!B1675","v":0},{"$f":"Blad3!E1675","v":""},{"$f":"Blad3!G1675","v":0},"Oanmäld frånvaro"]
["FRÅNVARO",{"$f":"IN!B1676","v":0},{"$f":"Blad3!E1676","v":""},{"$f":"Blad3!G1676","v":0},"Oanmäld frånvaro"]
["FRÅNVARO",{"$f":"IN!B1677","v":0},{"$f":"Blad3!E1677","v":""},{"$f":"Blad3!G1677","v":0},"Oanmäld frånvaro"]
["FRÅNVARO",{"$f":"IN!B1678","v":0},{"$f":"Blad3!E1678","v":""},{"$f":"Blad3!G1678","v":0},"Oanmäld frånvaro"]
["FRÅNVARO",{"$f":"IN!B1679","v":0},{"$f":"Blad3!E1679","v":""},{"$f":"Blad3!G1679","v":0},"Oanmäld frånvaro"]
["FRÅNVARO",{"$f":"IN!B1680","v":0},{"$f":"Blad3!E1680","v":""},{"$f":"Blad3!G1680","v":0},"Oanmäld frånvaro"]
["FRÅNVARO",{"$f":"IN!B1681","v":0},{"$f":"Blad3!E1681","v":""},{"$f":"Blad3!G1681","v":0},"Oanmäld frånvaro"]
["FRÅNVARO",{"$f":"IN!B1682","v":0},{"$f":"Blad3!E1682","v":""},{"$f":"Blad3!G1682","v":0},"Oanmäld frånvaro"]
["FRÅNVARO",{"$f":"IN!B1683","v":0},{"$f":"Blad3!E1683","v":""},{"$f":"Blad3!G1683","v":0},"Oanmäld frånvaro"]
["FRÅNVARO",{"$f":"IN!B1684","v":0},{"$f":"Blad3!E1684","v":""},{"$f":"Blad3!G1684","v":0},"Oanmäld frånvaro"]
["FRÅNVARO",{"$f":"IN!B1685","v":0},{"$f":"Blad3!E1685","v":""},{"$f":"Blad3!G1685","v":0},"Oanmäld frånvaro"]
["FRÅNVARO",{"$f":"IN!B1686","v":0},{"$f":"Blad3!E1686","v":""},{"$f":"Blad3!G1686","v":0},"Oanmäld frånvaro"]
["FRÅNVARO",{"$f":"IN!B1687","v":0},{"$f":"Blad3!E1687","v":""},{"$f":"Blad3!G1687","v":0},"Oanmäld frånvaro"]
["FRÅNVARO",{"$f":"IN!B1688","v":0},{"$f":"Blad3!E1688","v":""},{"$f":"Blad3!G1688","v":0},"Oanmäld frånvaro"]
["FRÅNVARO",{"$f":"IN!B1689","v":0},{"$f":"Blad3!E1689","v":""},{"$f":"Blad3!G1689","v":0},"Oanmäld frånvaro"]
["FRÅNVARO",{"$f":"IN!B1690","v":0},{"$f":"Blad3!E1690","v":""},{"$f":"Blad3!G1690","v":0},"Oanmäld frånvaro"]
["FRÅNVARO",{"$f":"IN!B1691","v":0},{"$f":"Blad3!E1691","v":""},{"$f":"Blad3!G1691","v":0},"Oanmäld frånvaro"]
["FRÅNVARO",{"$f":"IN!B1692","v":0},{"$f":"Blad3!E1692","v":""},{"$f":"Blad3!G1692","v":0},"Oanmäld frånvaro"]
["FRÅNVARO",{"$f":"IN!B1693","v":0},{"$f":"Blad3!E1693","v":""},{"$f":"Blad3!G1693","v":0},"Oanmäld frånvaro"]
["FRÅNVARO",{"$f":"IN!B1694","v":0},{"$f":"Blad3!E1694","v":""},{"$f":"Blad3!G1694","v":0},"Oanmäld frånvaro"]
["FRÅNVARO",{"$f":"IN!B1695","v":0},{"$f":"Blad3!E1695","v":""},{"$f":"Blad3!G1695","v":0},"Oanmäld frånvaro"]
["FRÅNVARO",{"$f":"IN!B1696","v":0},{"$f":"Blad3!E1696","v":""},{"$f":"Blad3!G1696","v":0},"Oanmäld frånvaro"]
["FRÅNVARO",{"$f":"IN!B1697","v":0},{"$f":"Blad3!E1697","v":""},{"$f":"Blad3!G1697","v":0},"Oanmäld frånvaro"]
["FRÅNVARO",{"$f":"IN!B1698","v":0},{"$f":"Blad3!E1698","v":""},{"$f":"Blad3!G1698","v":0},"Oanmäld frånvaro"]
["FRÅNVARO",{"$f":"IN!B1699","v":0},{"$f":"Blad3!E1699","v":""},{"$f":"Blad3!G1699","v":0},"Oanmäld frånvaro"]
["FRÅNVARO",{"$f":"IN!B1700","v":0},{"$f":"Blad3!E1700","v":""},{"$f":"Blad3!G1700","v":0},"Oanmäld frånvaro"]
["FRÅNVARO",{"$f":"IN!B1701","v":0},{"$f":"Blad3!E1701","v":""},{"$f":"Blad3!G1701","v":0},"Oanmäld frånvaro"]
["FRÅNVARO",{"$f":"IN!B1702","v":0},{"$f":"Blad3!E1702","v":""},{"$f":"Blad3!G1702","v":0},"Oanmäld frånvaro"]
["FRÅNVARO",{"$f":"IN!B1703","v":0},{"$f":"Blad3!E1703","v":""},{"$f":"Blad3!G1703","v":0},"Oanmäld frånvaro"]
["FRÅNVARO",{"$f":"IN!B1704","v":0},{"$f":"Blad3!E1704","v":""},{"$f":"Blad3!G1704","v":0},"Oanmäld frånvaro"]
["FRÅNVARO",{"$f":"IN!B1705","v":0},{"$f":"Blad3!E1705","v":""},{"$f":"Blad3!G1705","v":0},"Oanmäld frånvaro"]
["FRÅNVARO",{"$f":"IN!B1706","v":0},{"$f":"Blad3!E1706","v":""},{"$f":"Blad3!G1706","v":0},"Oanmäld frånvaro"]
["FRÅNVARO",{"$f":"IN!B1707","v":0},{"$f":"Blad3!E1707","v":""},{"$f":"Blad3!G1707","v":0},"Oanmäld frånvaro"]
["FRÅNVARO",{"$f":"IN!B1708","v":0},{"$f":"Blad3!E1708","v":""},{"$f":"Blad3!G1708","v":0},"Oanmäld frånvaro"]
["FRÅNVARO",{"$f":"IN!B1709","v":0},{"$f":"Blad3!E1709","v":""},{"$f":"Blad3!G1709","v":0},"Oanmäld frånvaro"]
["FRÅNVARO",{"$f":"IN!B1710","v":0},{"$f":"Blad3!E1710","v":""},{"$f":"Blad3!G1710","v":0},"Oanmäld frånvaro"]
["FRÅNVARO",{"$f":"IN!B1711","v":0},{"$f":"Blad3!E1711","v":""},{"$f":"Blad3!G1711","v":0},"Oanmäld frånvaro"]
["FRÅNVARO",{"$f":"IN!B1712","v":0},{"$f":"Blad3!E1712","v":""},{"$f":"Blad3!G1712","v":0},"Oanmäld frånvaro"]
["FRÅNVARO",{"$f":"IN!B1713","v":0},{"$f":"Blad3!E1713","v":""},{"$f":"Blad3!G1713","v":0},"Oanmäld frånvaro"]
["FRÅNVARO",{"$f":"IN!B1714","v":0},{"$f":"Blad3!E1714","v":""},{"$f":"Blad3!G1714","v":0},"Oanmäld frånvaro"]
["FRÅNVARO",{"$f":"IN!B1715","v":0},{"$f":"Blad3!E1715","v":""},{"$f":"Blad3!G1715","v":0},"Oanmäld frånvaro"]
["FRÅNVARO",{"$f":"IN!B1716","v":0},{"$f":"Blad3!E1716","v":""},{"$f":"Blad3!G1716","v":0},"Oanmäld frånvaro"]
["FRÅNVARO",{"$f":"IN!B1717","v":0},{"$f":"Blad3!E1717","v":""},{"$f":"Blad3!G1717","v":0},"Oanmäld frånvaro"]
["FRÅNVARO",{"$f":"IN!B1718","v":0},{"$f":"Blad3!E1718","v":""},{"$f":"Blad3!G1718","v":0},"Oanmäld frånvaro"]
["FRÅNVARO",{"$f":"IN!B1719","v":0},{"$f":"Blad3!E1719","v":""},{"$f":"Blad3!G1719","v":0},"Oanmäld frånvaro"]
["FRÅNVARO",{"$f":"IN!B1720","v":0},{"$f":"Blad3!E1720","v":""},{"$f":"Blad3!G1720","v":0},"Oanmäld frånvaro"]
["FRÅNVARO",{"$f":"IN!B1721","v":0},{"$f":"Blad3!E1721","v":""},{"$f":"Blad3!G1721","v":0},"Oanmäld frånvaro"]
["FRÅNVARO",{"$f":"IN!B1722","v":0},{"$f":"Blad3!E1722","v":""},{"$f":"Blad3!G1722","v":0},"Oanmäld frånvaro"]
["FRÅNVARO",{"$f":"IN!B1723","v":0},{"$f":"Blad3!E1723","v":""},{"$f":"Blad3!G1723","v":0},"Oanmäld frånvaro"]
["FRÅNVARO",{"$f":"IN!B1724","v":0},{"$f":"Blad3!E1724","v":""},{"$f":"Blad3!G1724","v":0},"Oanmäld frånvaro"]
["FRÅNVARO",{"$f":"IN!B1725","v":0},{"$f":"Blad3!E1725","v":""},{"$f":"Blad3!G1725","v":0},"Oanmäld frånvaro"]
["FRÅNVARO",{"$f":"IN!B1726","v":0},{"$f":"Blad3!E1726","v":""},{"$f":"Blad3!G1726","v":0},"Oanmäld frånvaro"]
["FRÅNVARO",{"$f":"IN!B1727","v":0},{"$f":"Blad3!E1727","v":""},{"$f":"Blad3!G1727","v":0},"Oanmäld frånvaro"]
["FRÅNVARO",{"$f":"IN!B1728","v":0},{"$f":"Blad3!E1728","v":""},{"$f":"Blad3!G1728","v":0},"Oanmäld frånvaro"]
["FRÅNVARO",{"$f":"IN!B1729","v":0},{"$f":"Blad3!E1729","v":""},{"$f":"Blad3!G1729","v":0},"Oanmäld frånvaro"]
["FRÅNVARO",{"$f":"IN!B1730","v":0},{"$f":"Blad3!E1730","v":""},{"$f":"Blad3!G1730","v":0},"Oanmäld frånvaro"]
["FRÅNVARO",{"$f":"IN!B1731","v":0},{"$f":"Blad3!E1731","v":""},{"$f":"Blad3!G1731","v":0},"Oanmäld frånvaro"]
["FRÅNVARO",{"$f":"IN!B1732","v":0},{"$f":"Blad3!E1732","v":""},{"$f":"Blad3!G1732","v":0},"Oanmäld frånvaro"]
["FRÅNVARO",{"$f":"IN!B1733","v":0},{"$f":"Blad3!E1733","v":""},{"$f":"Blad3!G1733","v":0},"Oanmäld frånvaro"]
["FRÅNVARO",{"$f":"IN!B1734","v":0},{"$f":"Blad3!E1734","v":""},{"$f":"Blad3!G1734","v":0},"Oanmäld frånvaro"]
["FRÅNVARO",{"$f":"IN!B1735","v":0},{"$f":"Blad3!E1735","v":""},{"$f":"Blad3!G1735","v":0},"Oanmäld frånvaro"]
["FRÅNVARO",{"$f":"IN!B1736","v":0},{"$f":"Blad3!E1736","v":""},{"$f":"Blad3!G1736","v":0},"Oanmäld frånvaro"]
["FRÅNVARO",{"$f":"IN!B1737","v":0},{"$f":"Blad3!E1737","v":""},{"$f":"Blad3!G1737","v":0},"Oanmäld frånvaro"]
["FRÅNVARO",{"$f":"IN!B1738","v":0},{"$f":"Blad3!E1738","v":""},{"$f":"Blad3!G1738","v":0},"Oanmäld frånvaro"]
["FRÅNVARO",{"$f":"IN!B1739","v":0},{"$f":"Blad3!E1739","v":""},{"$f":"Blad3!G1739","v":0},"Oanmäld frånvaro"]
["FRÅNVARO",{"$f":"IN!B1740","v":0},{"$f":"Blad3!E1740","v":""},{"$f":"Blad3!G1740","v":0},"Oanmäld frånvaro"]
["FRÅNVARO",{"$f":"IN!B1741","v":0},{"$f":"Blad3!E1741","v":""},{"$f":"Blad3!G1741","v":0},"Oanmäld frånvaro"]
["FRÅNVARO",{"$f":"IN!B1742","v":0},{"$f":"Blad3!E1742","v":""},{"$f":"Blad3!G1742","v":0},"Oanmäld frånvaro"]
["FRÅNVARO",{"$f":"IN!B1743","v":0},{"$f":"Blad3!E1743","v":""},{"$f":"Blad3!G1743","v":0},"Oanmäld frånvaro"]
["FRÅNVARO",{"$f":"IN!B1744","v":0},{"$f":"Blad3!E1744","v":""},{"$f":"Blad3!G1744","v":0},"Oanmäld frånvaro"]
["FRÅNVARO",{"$f":"IN!B1745","v":0},{"$f":"Blad3!E1745","v":""},{"$f":"Blad3!G1745","v":0},"Oanmäld frånvaro"]
["FRÅNVARO",{"$f":"IN!B1746","v":0},{"$f":"Blad3!E1746","v":""},{"$f":"Blad3!G1746","v":0},"Oanmäld frånvaro"]
["FRÅNVARO",{"$f":"IN!B1747","v":0},{"$f":"Blad3!E1747","v":""},{"$f":"Blad3!G1747","v":0},"Oanmäld frånvaro"]
["FRÅNVARO",{"$f":"IN!B1748","v":0},{"$f":"Blad3!E1748","v":""},{"$f":"Blad3!G1748","v":0},"Oanmäld frånvaro"]
["FRÅNVARO",{"$f":"IN!B1749","v":0},{"$f":"Blad3!E1749","v":""},{"$f":"Blad3!G1749","v":0},"Oanmäld frånvaro"]
["FRÅNVARO",{"$f":"IN!B1750","v":0},{"$f":"Blad3!E1750","v":""},{"$f":"Blad3!G1750","v":0},"Oanmäld frånvaro"]
["FRÅNVARO",{"$f":"IN!B1751","v":0},{"$f":"Blad3!E1751","v":""},{"$f":"Blad3!G1751","v":0},"Oanmäld frånvaro"]
["FRÅNVARO",{"$f":"IN!B1752","v":0},{"$f":"Blad3!E1752","v":""},{"$f":"Blad3!G1752","v":0},"Oanmäld frånvaro"]
["FRÅNVARO",{"$f":"IN!B1753","v":0},{"$f":"Blad3!E1753","v":""},{"$f":"Blad3!G1753","v":0},"Oanmäld frånvaro"]
["FRÅNVARO",{"$f":"IN!B1754","v":0},{"$f":"Blad3!E1754","v":""},{"$f":"Blad3!G1754","v":0},"Oanmäld frånvaro"]
["FRÅNVARO",{"$f":"IN!B1755","v":0},{"$f":"Blad3!E1755","v":""},{"$f":"Blad3!G1755","v":0},"Oanmäld frånvaro"]
["FRÅNVARO",{"$f":"IN!B1756","v":0},{"$f":"Blad3!E1756","v":""},{"$f":"Blad3!G1756","v":0},"Oanmäld frånvaro"]
["FRÅNVARO",{"$f":"IN!B1757","v":0},{"$f":"Blad3!E1757","v":""},{"$f":"Blad3!G1757","v":0},"Oanmäld frånvaro"]
["FRÅNVARO",{"$f":"IN!B1758","v":0},{"$f":"Blad3!E1758","v":""},{"$f":"Blad3!G1758","v":0},"Oanmäld frånvaro"]
["FRÅNVARO",{"$f":"IN!B1759","v":0},{"$f":"Blad3!E1759","v":""},{"$f":"Blad3!G1759","v":0},"Oanmäld frånvaro"]
["FRÅNVARO",{"$f":"IN!B1760","v":0},{"$f":"Blad3!E1760","v":""},{"$f":"Blad3!G1760","v":0},"Oanmäld frånvaro"]
["FRÅNVARO",{"$f":"IN!B1761","v":0},{"$f":"Blad3!E1761","v":""},{"$f":"Blad3!G1761","v":0},"Oanmäld frånvaro"]
["FRÅNVARO",{"$f":"IN!B1762","v":0},{"$f":"Blad3!E1762","v":""},{"$f":"Blad3!G1762","v":0},"Oanmäld frånvaro"]
["FRÅNVARO",{"$f":"IN!B1763","v":0},{"$f":"Blad3!E1763","v":""},{"$f":"Blad3!G1763","v":0},"Oanmäld frånvaro"]
["FRÅNVARO",{"$f":"IN!B1764","v":0},{"$f":"Blad3!E1764","v":""},{"$f":"Blad3!G1764","v":0},"Oanmäld frånvaro"]
["FRÅNVARO",{"$f":"IN!B1765","v":0},{"$f":"Blad3!E1765","v":""},{"$f":"Blad3!G1765","v":0},"Oanmäld frånvaro"]
["FRÅNVARO",{"$f":"IN!B1766","v":0},{"$f":"Blad3!E1766","v":""},{"$f":"Blad3!G1766","v":0},"Oanmäld frånvaro"]
["FRÅNVARO",{"$f":"IN!B1767","v":0},{"$f":"Blad3!E1767","v":""},{"$f":"Blad3!G1767","v":0},"Oanmäld frånvaro"]
["FRÅNVARO",{"$f":"IN!B1768","v":0},{"$f":"Blad3!E1768","v":""},{"$f":"Blad3!G1768","v":0},"Oanmäld frånvaro"]
["FRÅNVARO",{"$f":"IN!B1769","v":0},{"$f":"Blad3!E1769","v":""},{"$f":"Blad3!G1769","v":0},"Oanmäld frånvaro"]
["FRÅNVARO",{"$f":"IN!B1770","v":0},{"$f":"Blad3!E1770","v":""},{"$f":"Blad3!G1770","v":0},"Oanmäld frånvaro"]
["FRÅNVARO",{"$f":"IN!B1771","v":0},{"$f":"Blad3!E1771","v":""},{"$f":"Blad3!G1771","v":0},"Oanmäld frånvaro"]
["FRÅNVARO",{"$f":"IN!B1772","v":0},{"$f":"Blad3!E1772","v":""},{"$f":"Blad3!G1772","v":0},"Oanmäld frånvaro"]
["FRÅNVARO",{"$f":"IN!B1773","v":0},{"$f":"Blad3!E1773","v":""},{"$f":"Blad3!G1773","v":0},"Oanmäld frånvaro"]
["FRÅNVARO",{"$f":"IN!B1774","v":0},{"$f":"Blad3!E1774","v":""},{"$f":"Blad3!G1774","v":0},"Oanmäld frånvaro"]
["FRÅNVARO",{"$f":"IN!B1775","v":0},{"$f":"Blad3!E1775","v":""},{"$f":"Blad3!G1775","v":0},"Oanmäld frånvaro"]
["FRÅNVARO",{"$f":"IN!B1776","v":0},{"$f":"Blad3!E1776","v":""},{"$f":"Blad3!G1776","v":0},"Oanmäld frånvaro"]
["FRÅNVARO",{"$f":"IN!B1777","v":0},{"$f":"Blad3!E1777","v":""},{"$f":"Blad3!G1777","v":0},"Oanmäld frånvaro"]
["FRÅNVARO",{"$f":"IN!B1778","v":0},{"$f":"Blad3!E1778","v":""},{"$f":"Blad3!G1778","v":0},"Oanmäld frånvaro"]
["FRÅNVARO",{"$f":"IN!B1779","v":0},{"$f":"Blad3!E1779","v":""},{"$f":"Blad3!G1779","v":0},"Oanmäld frånvaro"]
["FRÅNVARO",{"$f":"IN!B1780","v":0},{"$f":"Blad3!E1780","v":""},{"$f":"Blad3!G1780","v":0},"Oanmäld frånvaro"]
["FRÅNVARO",{"$f":"IN!B1781","v":0},{"$f":"Blad3!E1781","v":""},{"$f":"Blad3!G1781","v":0},"Oanmäld frånvaro"]
["FRÅNVARO",{"$f":"IN!B1782","v":0},{"$f":"Blad3!E1782","v":""},{"$f":"Blad3!G1782","v":0},"Oanmäld frånvaro"]
["FRÅNVARO",{"$f":"IN!B1783","v":0},{"$f":"Blad3!E1783","v":""},{"$f":"Blad3!G1783","v":0},"Oanmäld frånvaro"]
["FRÅNVARO",{"$f":"IN!B1784","v":0},{"$f":"Blad3!E1784","v":""},{"$f":"Blad3!G1784","v":0},"Oanmäld frånvaro"]
["FRÅNVARO",{"$f":"IN!B1785","v":0},{"$f":"Blad3!E1785","v":""},{"$f":"Blad3!G1785","v":0},"Oanmäld frånvaro"]
["FRÅNVARO",{"$f":"IN!B1786","v":0},{"$f":"Blad3!E1786","v":""},{"$f":"Blad3!G1786","v":0},"Oanmäld frånvaro"]
["FRÅNVARO",{"$f":"IN!B1787","v":0},{"$f":"Blad3!E1787","v":""},{"$f":"Blad3!G1787","v":0},"Oanmäld frånvaro"]
["FRÅNVARO",{"$f":"IN!B1788","v":0},{"$f":"Blad3!E1788","v":""},{"$f":"Blad3!G1788","v":0},"Oanmäld frånvaro"]
["FRÅNVARO",{"$f":"IN!B1789","v":0},{"$f":"Blad3!E1789","v":""},{"$f":"Blad3!G1789","v":0},"Oanmäld frånvaro"]
["FRÅNVARO",{"$f":"IN!B1790","v":0},{"$f":"Blad3!E1790","v":""},{"$f":"Blad3!G1790","v":0},"Oanmäld frånvaro"]
["FRÅNVARO",{"$f":"IN!B1791","v":0},{"$f":"Blad3!E1791","v":""},{"$f":"Blad3!G1791","v":0},"Oanmäld frånvaro"]
["FRÅNVARO",{"$f":"IN!B1792","v":0},{"$f":"Blad3!E1792","v":""},{"$f":"Blad3!G1792","v":0},"Oanmäld frånvaro"]
["FRÅNVARO",{"$f":"IN!B1793","v":0},{"$f":"Blad3!E1793","v":""},{"$f":"Blad3!G1793","v":0},"Oanmäld frånvaro"]
["FRÅNVARO",{"$f":"IN!B1794","v":0},{"$f":"Blad3!E1794","v":""},{"$f":"Blad3!G1794","v":0},"Oanmäld frånvaro"]
["FRÅNVARO",{"$f":"IN!B1795","v":0},{"$f":"Blad3!E1795","v":""},{"$f":"Blad3!G1795","v":0},"Oanmäld frånvaro"]
["FRÅNVARO",{"$f":"IN!B1796","v":0},{"$f":"Blad3!E1796","v":""},{"$f":"Blad3!G1796","v":0},"Oanmäld frånvaro"]
["FRÅNVARO",{"$f":"IN!B1797","v":0},{"$f":"Blad3!E1797","v":""},{"$f":"Blad3!G1797","v":0},"Oanmäld frånvaro"]
["FRÅNVARO",{"$f":"IN!B1798","v":0},{"$f":"Blad3!E1798","v":""},{"$f":"Blad3!G1798","v":0},"Oanmäld frånvaro"]
["FRÅNVARO",{"$f":"IN!B1799","v":0},{"$f":"Blad3!E1799","v":""},{"$f":"Blad3!G1799","v":0},"Oanmäld frånvaro"]
["FRÅNVARO",{"$f":"IN!B1800","v":0},{"$f":"Blad3!E1800","v":""},{"$f":"Blad3!G1800","v":0},"Oanmäld frånvaro"]
["FRÅNVARO",{"$f":"IN!B1801","v":0},{"$f":"Blad3!E1801","v":""},{"$f":"Blad3!G1801","v":0},"Oanmäld frånvaro"]
["FRÅNVARO",{"$f":"IN!B1802","v":0},{"$f":"Blad3!E1802","v":""},{"$f":"Blad3!G1802","v":0},"Oanmäld frånvaro"]
["FRÅNVARO",{"$f":"IN!B1803","v":0},{"$f":"Blad3!E1803","v":""},{"$f":"Blad3!G1803","v":0},"Oanmäld frånvaro"]
["FRÅNVARO",{"$f":"IN!B1804","v":0},{"$f":"Blad3!E1804","v":""},{"$f":"Blad3!G1804","v":0},"Oanmäld frånvaro"]
["FRÅNVARO",{"$f":"IN!B1805","v":0},{"$f":"Blad3!E1805","v":""},{"$f":"Blad3!G1805","v":0},"Oanmäld frånvaro"]
["FRÅNVARO",{"$f":"IN!B1806","v":0},{"$f":"Blad3!E1806","v":""},{"$f":"Blad3!G1806","v":0},"Oanmäld frånvaro"]
["FRÅNVARO",{"$f":"IN!B1807","v":0},{"$f":"Blad3!E1807","v":""},{"$f":"Blad3!G1807","v":0},"Oanmäld frånvaro"]
["FRÅNVARO",{"$f":"IN!B1808","v":0},{"$f":"Blad3!E1808","v":""},{"$f":"Blad3!G1808","v":0},"Oanmäld frånvaro"]
["FRÅNVARO",{"$f":"IN!B1809","v":0},{"$f":"Blad3!E1809","v":""},{"$f":"Blad3!G1809","v":0},"Oanmäld frånvaro"]
["FRÅNVARO",{"$f":"IN!B1810","v":0},{"$f":"Blad3!E1810","v":""},{"$f":"Blad3!G1810","v":0},"Oanmäld frånvaro"]
["FRÅNVARO",{"$f":"IN!B1811","v":0},{"$f":"Blad3!E1811","v":""},{"$f":"Blad3!G1811","v":0},"Oanmäld frånvaro"]
["FRÅNVARO",{"$f":"IN!B1812","v":0},{"$f":"Blad3!E1812","v":""},{"$f":"Blad3!G1812","v":0},"Oanmäld frånvaro"]
["FRÅNVARO",{"$f":"IN!B1813","v":0},{"$f":"Blad3!E1813","v":""},{"$f":"Blad3!G1813","v":0},"Oanmäld frånvaro"]
["FRÅNVARO",{"$f":"IN!B1814","v":0},{"$f":"Blad3!E1814","v":""},{"$f":"Blad3!G1814","v":0},"Oanmäld frånvaro"]
["FRÅNVARO",{"$f":"IN!B1815","v":0},{"$f":"Blad3!E1815","v":""},{"$f":"Blad3!G1815","v":0},"Oanmäld frånvaro"]
["FRÅNVARO",{"$f":"IN!B1816","v":0},{"$f":"Blad3!E1816","v":""},{"$f":"Blad3!G1816","v":0},"Oanmäld frånvaro"]
["FRÅNVARO",{"$f":"IN!B1817","v":0},{"$f":"Blad3!E1817","v":""},{"$f":"Blad3!G1817","v":0},"Oanmäld frånvaro"]
["FRÅNVARO",{"$f":"IN!B1818","v":0},{"$f":"Blad3!E1818","v":""},{"$f":"Blad3!G1818","v":0},"Oanmäld frånvaro"]
["FRÅNVARO",{"$f":"IN!B1819","v":0},{"$f":"Blad3!E1819","v":""},{"$f":"Blad3!G1819","v":0},"Oanmäld frånvaro"]
["FRÅNVARO",{"$f":"IN!B1820","v":0},{"$f":"Blad3!E1820","v":""},{"$f":"Blad3!G1820","v":0},"Oanmäld frånvaro"]
["FRÅNVARO",{"$f":"IN!B1821","v":0},{"$f":"Blad3!E1821","v":""},{"$f":"Blad3!G1821","v":0},"Oanmäld frånvaro"]
["FRÅNVARO",{"$f":"IN!B1822","v":0},{"$f":"Blad3!E1822","v":""},{"$f":"Blad3!G1822","v":0},"Oanmäld frånvaro"]
["FRÅNVARO",{"$f":"IN!B1823","v":0},{"$f":"Blad3!E1823","v":""},{"$f":"Blad3!G1823","v":0},"Oanmäld frånvaro"]
["FRÅNVARO",{"$f":"IN!B1824","v":0},{"$f":"Blad3!E1824","v":""},{"$f":"Blad3!G1824","v":0},"Oanmäld frånvaro"]
["FRÅNVARO",{"$f":"IN!B1825","v":0},{"$f":"Blad3!E1825","v":""},{"$f":"Blad3!G1825","v":0},"Oanmäld frånvaro"]
["FRÅNVARO",{"$f":"IN!B1826","v":0},{"$f":"Blad3!E1826","v":""},{"$f":"Blad3!G1826","v":0},"Oanmäld frånvaro"]
["FRÅNVARO",{"$f":"IN!B1827","v":0},{"$f":"Blad3!E1827","v":""},{"$f":"Blad3!G1827","v":0},"Oanmäld frånvaro"]
["FRÅNVARO",{"$f":"IN!B1828","v":0},{"$f":"Blad3!E1828","v":""},{"$f":"Blad3!G1828","v":0},"Oanmäld frånvaro"]
["FRÅNVARO",{"$f":"IN!B1829","v":0},{"$f":"Blad3!E1829","v":""},{"$f":"Blad3!G1829","v":0},"Oanmäld frånvaro"]
["FRÅNVARO",{"$f":"IN!B1830","v":0},{"$f":"Blad3!E1830","v":""},{"$f":"Blad3!G1830","v":0},"Oanmäld frånvaro"]
["FRÅNVARO",{"$f":"IN!B1831","v":0},{"$f":"Blad3!E1831","v":""},{"$f":"Blad3!G1831","v":0},"Oanmäld frånvaro"]
["FRÅNVARO",{"$f":"IN!B1832","v":0},{"$f":"Blad3!E1832","v":""},{"$f":"Blad3!G1832","v":0},"Oanmäld frånvaro"]
["FRÅNVARO",{"$f":"IN!B1833","v":0},{"$f":"Blad3!E1833","v":""},{"$f":"Blad3!G1833","v":0},"Oanmäld frånvaro"]
["FRÅNVARO",{"$f":"IN!B1834","v":0},{"$f":"Blad3!E1834","v":""},{"$f":"Blad3!G1834","v":0},"Oanmäld frånvaro"]
["FRÅNVARO",{"$f":"IN!B1835","v":0},{"$f":"Blad3!E1835","v":""},{"$f":"Blad3!G1835","v":0},"Oanmäld frånvaro"]
["FRÅNVARO",{"$f":"IN!B1836","v":0},{"$f":"Blad3!E1836","v":""},{"$f":"Blad3!G1836","v":0},"Oanmäld frånvaro"]
["FRÅNVARO",{"$f":"IN!B1837","v":0},{"$f":"Blad3!E1837","v":""},{"$f":"Blad3!G1837","v":0},"Oanmäld frånvaro"]
["FRÅNVARO",{"$f":"IN!B1838","v":0},{"$f":"Blad3!E1838","v":""},{"$f":"Blad3!G1838","v":0},"Oanmäld frånvaro"]
["FRÅNVARO",{"$f":"IN!B1839","v":0},{"$f":"Blad3!E1839","v":""},{"$f":"Blad3!G1839","v":0},"Oanmäld frånvaro"]
["FRÅNVARO",{"$f":"IN!B1840","v":0},{"$f":"Blad3!E1840","v":""},{"$f":"Blad3!G1840","v":0},"Oanmäld frånvaro"]
["FRÅNVARO",{"$f":"IN!B1841","v":0},{"$f":"Blad3!E1841","v":""},{"$f":"Blad3!G1841","v":0},"Oanmäld frånvaro"]
["FRÅNVARO",{"$f":"IN!B1842","v":0},{"$f":"Blad3!E1842","v":""},{"$f":"Blad3!G1842","v":0},"Oanmäld frånvaro"]
["FRÅNVARO",{"$f":"IN!B1843","v":0},{"$f":"Blad3!E1843","v":""},{"$f":"Blad3!G1843","v":0},"Oanmäld frånvaro"]
["FRÅNVARO",{"$f":"IN!B1844","v":0},{"$f":"Blad3!E1844","v":""},{"$f":"Blad3!G1844","v":0},"Oanmäld frånvaro"]
["FRÅNVARO",{"$f":"IN!B1845","v":0},{"$f":"Blad3!E1845","v":""},{"$f":"Blad3!G1845","v":0},"Oanmäld frånvaro"]
["FRÅNVARO",{"$f":"IN!B1846","v":0},{"$f":"Blad3!E1846","v":""},{"$f":"Blad3!G1846","v":0},"Oanmäld frånvaro"]
["FRÅNVARO",{"$f":"IN!B1847","v":0},{"$f":"Blad3!E1847","v":""},{"$f":"Blad3!G1847","v":0},"Oanmäld frånvaro"]
["FRÅNVARO",{"$f":"IN!B1848","v":0},{"$f":"Blad3!E1848","v":""},{"$f":"Blad3!G1848","v":0},"Oanmäld frånvaro"]
["FRÅNVARO",{"$f":"IN!B1849","v":0},{"$f":"Blad3!E1849","v":""},{"$f":"Blad3!G1849","v":0},"Oanmäld frånvaro"]
["FRÅNVARO",{"$f":"IN!B1850","v":0},{"$f":"Blad3!E1850","v":""},{"$f":"Blad3!G1850","v":0},"Oanmäld frånvaro"]
["FRÅNVARO",{"$f":"IN!B1851","v":0},{"$f":"Blad3!E1851","v":""},{"$f":"Blad3!G1851","v":0},"Oanmäld frånvaro"]
["FRÅNVARO",{"$f":"IN!B1852","v":0},{"$f":"Blad3!E1852","v":""},{"$f":"Blad3!G1852","v":0},"Oanmäld frånvaro"]
["FRÅNVARO",{"$f":"IN!B1853","v":0},{"$f":"Blad3!E1853","v":""},{"$f":"Blad3!G1853","v":0},"Oanmäld frånvaro"]
["FRÅNVARO",{"$f":"IN!B1854","v":0},{"$f":"Blad3!E1854","v":""},{"$f":"Blad3!G1854","v":0},"Oanmäld frånvaro"]
["FRÅNVARO",{"$f":"IN!B1855","v":0},{"$f":"Blad3!E1855","v":""},{"$f":"Blad3!G1855","v":0},"Oanmäld frånvaro"]
["FRÅNVARO",{"$f":"IN!B1856","v":0},{"$f":"Blad3!E1856","v":""},{"$f":"Blad3!G1856","v":0},"Oanmäld frånvaro"]
["FRÅNVARO",{"$f":"IN!B1857","v":0},{"$f":"Blad3!E1857","v":""},{"$f":"Blad3!G1857","v":0},"Oanmäld frånvaro"]
["FRÅNVARO",{"$f":"IN!B1858","v":0},{"$f":"Blad3!E1858","v":""},{"$f":"Blad3!G1858","v":0},"Oanmäld frånvaro"]
["FRÅNVARO",{"$f":"IN!B1859","v":0},{"$f":"Blad3!E1859","v":""},{"$f":"Blad3!G1859","v":0},"Oanmäld frånvaro"]
["FRÅNVARO",{"$f":"IN!B1860","v":0},{"$f":"Blad3!E1860","v":""},{"$f":"Blad3!G1860","v":0},"Oanmäld frånvaro"]
["FRÅNVARO",{"$f":"IN!B1861","v":0},{"$f":"Blad3!E1861","v":""},{"$f":"Blad3!G1861","v":0},"Oanmäld frånvaro"]
["FRÅNVARO",{"$f":"IN!B1862","v":0},{"$f":"Blad3!E1862","v":""},{"$f":"Blad3!G1862","v":0},"Oanmäld frånvaro"]
["FRÅNVARO",{"$f":"IN!B1863","v":0},{"$f":"Blad3!E1863","v":""},{"$f":"Blad3!G1863","v":0},"Oanmäld frånvaro"]
["FRÅNVARO",{"$f":"IN!B1864","v":0},{"$f":"Blad3!E1864","v":""},{"$f":"Blad3!G1864","v":0},"Oanmäld frånvaro"]
["FRÅNVARO",{"$f":"IN!B1865","v":0},{"$f":"Blad3!E1865","v":""},{"$f":"Blad3!G1865","v":0},"Oanmäld frånvaro"]
["FRÅNVARO",{"$f":"IN!B1866","v":0},{"$f":"Blad3!E1866","v":""},{"$f":"Blad3!G1866","v":0},"Oanmäld frånvaro"]
["FRÅNVARO",{"$f":"IN!B1867","v":0},{"$f":"Blad3!E1867","v":""},{"$f":"Blad3!G1867","v":0},"Oanmäld frånvaro"]
["FRÅNVARO",{"$f":"IN!B1868","v":0},{"$f":"Blad3!E1868","v":""},{"$f":"Blad3!G1868","v":0},"Oanmäld frånvaro"]
["FRÅNVARO",{"$f":"IN!B1869","v":0},{"$f":"Blad3!E1869","v":""},{"$f":"Blad3!G1869","v":0},"Oanmäld frånvaro"]
["FRÅNVARO",{"$f":"IN!B1870","v":0},{"$f":"Blad3!E1870","v":""},{"$f":"Blad3!G1870","v":0},"Oanmäld frånvaro"]
["FRÅNVARO",{"$f":"IN!B1871","v":0},{"$f":"Blad3!E1871","v":""},{"$f":"Blad3!G1871","v":0},"Oanmäld frånvaro"]
["FRÅNVARO",{"$f":"IN!B1872","v":0},{"$f":"Blad3!E1872","v":""},{"$f":"Blad3!G1872","v":0},"Oanmäld frånvaro"]
["FRÅNVARO",{"$f":"IN!B1873","v":0},{"$f":"Blad3!E1873","v":""},{"$f":"Blad3!G1873","v":0},"Oanmäld frånvaro"]
["FRÅNVARO",{"$f":"IN!B1874","v":0},{"$f":"Blad3!E1874","v":""},{"$f":"Blad3!G1874","v":0},"Oanmäld frånvaro"]
["FRÅNVARO",{"$f":"IN!B1875","v":0},{"$f":"Blad3!E1875","v":""},{"$f":"Blad3!G1875","v":0},"Oanmäld frånvaro"]
["FRÅNVARO",{"$f":"IN!B1876","v":0},{"$f":"Blad3!E1876","v":""},{"$f":"Blad3!G1876","v":0},"Oanmäld frånvaro"]
["FRÅNVARO",{"$f":"IN!B1877","v":0},{"$f":"Blad3!E1877","v":""},{"$f":"Blad3!G1877","v":0},"Oanmäld frånvaro"]
["FRÅNVARO",{"$f":"IN!B1878","v":0},{"$f":"Blad3!E1878","v":""},{"$f":"Blad3!G1878","v":0},"Oanmäld frånvaro"]
["FRÅNVARO",{"$f":"IN!B1879","v":0},{"$f":"Blad3!E1879","v":""},{"$f":"Blad3!G1879","v":0},"Oanmäld frånvaro"]
["FRÅNVARO",{"$f":"IN!B1880","v":0},{"$f":"Blad3!E1880","v":""},{"$f":"Blad3!G1880","v":0},"Oanmäld frånvaro"]
["FRÅNVARO",{"$f":"IN!B1881","v":0},{"$f":"Blad3!E1881","v":""},{"$f":"Blad3!G1881","v":0},"Oanmäld frånvaro"]
["FRÅNVARO",{"$f":"IN!B1882","v":0},{"$f":"Blad3!E1882","v":""},{"$f":"Blad3!G1882","v":0},"Oanmäld frånvaro"]
["FRÅNVARO",{"$f":"IN!B1883","v":0},{"$f":"Blad3!E1883","v":""},{"$f":"Blad3!G1883","v":0},"Oanmäld frånvaro"]
["FRÅNVARO",{"$f":"IN!B1884","v":0},{"$f":"Blad3!E1884","v":""},{"$f":"Blad3!G1884","v":0},"Oanmäld frånvaro"]
["FRÅNVARO",{"$f":"IN!B1885","v":0},{"$f":"Blad3!E1885","v":""},{"$f":"Blad3!G1885","v":0},"Oanmäld frånvaro"]
["FRÅNVARO",{"$f":"IN!B1886","v":0},{"$f":"Blad3!E1886","v":""},{"$f":"Blad3!G1886","v":0},"Oanmäld frånvaro"]
["FRÅNVARO",{"$f":"IN!B1887","v":0},{"$f":"Blad3!E1887","v":""},{"$f":"Blad3!G1887","v":0},"Oanmäld frånvaro"]
["FRÅNVARO",{"$f":"IN!B1888","v":0},{"$f":"Blad3!E1888","v":""},{"$f":"Blad3!G1888","v":0},"Oanmäld frånvaro"]
["FRÅNVARO",{"$f":"IN!B1889","v":0},{"$f":"Blad3!E1889","v":""},{"$f":"Blad3!G1889","v":0},"Oanmäld frånvaro"]
["FRÅNVARO",{"$f":"IN!B1890","v":0},{"$f":"Blad3!E1890","v":""},{"$f":"Blad3!G1890","v":0},"Oanmäld frånvaro"]
["FRÅNVARO",{"$f":"IN!B1891","v":0},{"$f":"Blad3!E1891","v":""},{"$f":"Blad3!G1891","v":0},"Oanmäld frånvaro"]
["FRÅNVARO",{"$f":"IN!B1892","v":0},{"$f":"Blad3!E1892","v":""},{"$f":"Blad3!G1892","v":0},"Oanmäld frånvaro"]
["FRÅNVARO",{"$f":"IN!B1893","v":0},{"$f":"Blad3!E1893","v":""},{"$f":"Blad3!G1893","v":0},"Oanmäld frånvaro"]
["FRÅNVARO",{"$f":"IN!B1894","v":0},{"$f":"Blad3!E1894","v":""},{"$f":"Blad3!G1894","v":0},"Oanmäld frånvaro"]
["FRÅNVARO",{"$f":"IN!B1895","v":0},{"$f":"Blad3!E1895","v":""},{"$f":"Blad3!G1895","v":0},"Oanmäld frånvaro"]
["FRÅNVARO",{"$f":"IN!B1896","v":0},{"$f":"Blad3!E1896","v":""},{"$f":"Blad3!G1896","v":0},"Oanmäld frånvaro"]
["FRÅNVARO",{"$f":"IN!B1897","v":0},{"$f":"Blad3!E1897","v":""},{"$f":"Blad3!G1897","v":0},"Oanmäld frånvaro"]
["FRÅNVARO",{"$f":"IN!B1898","v":0},{"$f":"Blad3!E1898","v":""},{"$f":"Blad3!G1898","v":0},"Oanmäld frånvaro"]
["FRÅNVARO",{"$f":"IN!B1899","v":0},{"$f":"Blad3!E1899","v":""},{"$f":"Blad3!G1899","v":0},"Oanmäld frånvaro"]
["FRÅNVARO",{"$f":"IN!B1900","v":0},{"$f":"Blad3!E1900","v":""},{"$f":"Blad3!G1900","v":0},"Oanmäld frånvaro"]
["FRÅNVARO",{"$f":"IN!B1901","v":0},{"$f":"Blad3!E1901","v":""},{"$f":"Blad3!G1901","v":0},"Oanmäld frånvaro"]
["FRÅNVARO",{"$f":"IN!B1902","v":0},{"$f":"Blad3!E1902","v":""},{"$f":"Blad3!G1902","v":0},"Oanmäld frånvaro"]
["FRÅNVARO",{"$f":"IN!B1903","v":0},{"$f":"Blad3!E1903","v":""},{"$f":"Blad3!G1903","v":0},"Oanmäld frånvaro"]
["FRÅNVARO",{"$f":"IN!B1904","v":0},{"$f":"Blad3!E1904","v":""},{"$f":"Blad3!G1904","v":0},"Oanmäld frånvaro"]
["FRÅNVARO",{"$f":"IN!B1905","v":0},{"$f":"Blad3!E1905","v":""},{"$f":"Blad3!G1905","v":0},"Oanmäld frånvaro"]
["FRÅNVARO",{"$f":"IN!B1906","v":0},{"$f":"Blad3!E1906","v":""},{"$f":"Blad3!G1906","v":0},"Oanmäld frånvaro"]
["FRÅNVARO",{"$f":"IN!B1907","v":0},{"$f":"Blad3!E1907","v":""},{"$f":"Blad3!G1907","v":0},"Oanmäld frånvaro"]
["FRÅNVARO",{"$f":"IN!B1908","v":0},{"$f":"Blad3!E1908","v":""},{"$f":"Blad3!G1908","v":0},"Oanmäld frånvaro"]
["FRÅNVARO",{"$f":"IN!B1909","v":0},{"$f":"Blad3!E1909","v":""},{"$f":"Blad3!G1909","v":0},"Oanmäld frånvaro"]
["FRÅNVARO",{"$f":"IN!B1910","v":0},{"$f":"Blad3!E1910","v":""},{"$f":"Blad3!G1910","v":0},"Oanmäld frånvaro"]
["FRÅNVARO",{"$f":"IN!B1911","v":0},{"$f":"Blad3!E1911","v":""},{"$f":"Blad3!G1911","v":0},"Oanmäld frånvaro"]
["FRÅNVARO",{"$f":"IN!B1912","v":0},{"$f":"Blad3!E1912","v":""},{"$f":"Blad3!G1912","v":0},"Oanmäld frånvaro"]
["FRÅNVARO",{"$f":"IN!B1913","v":0},{"$f":"Blad3!E1913","v":""},{"$f":"Blad3!G1913","v":0},"Oanmäld frånvaro"]
["FRÅNVARO",{"$f":"IN!B1914","v":0},{"$f":"Blad3!E1914","v":""},{"$f":"Blad3!G1914","v":0},"Oanmäld frånvaro"]
["FRÅNVARO",{"$f":"IN!B1915","v":0},{"$f":"Blad3!E1915","v":""},{"$f":"Blad3!G1915","v":0},"Oanmäld frånvaro"]
["FRÅNVARO",{"$f":"IN!B1916","v":0},{"$f":"Blad3!E1916","v":""},{"$f":"Blad3!G1916","v":0},"Oanmäld frånvaro"]
["FRÅNVARO",{"$f":"IN!B1917","v":0},{"$f":"Blad3!E1917","v":""},{"$f":"Blad3!G1917","v":0},"Oanmäld frånvaro"]
["FRÅNVARO",{"$f":"IN!B1918","v":0},{"$f":"Blad3!E1918","v":""},{"$f":"Blad3!G1918","v":0},"Oanmäld frånvaro"]
["FRÅNVARO",{"$f":"IN!B1919","v":0},{"$f":"Blad3!E1919","v":""},{"$f":"Blad3!G1919","v":0},"Oanmäld frånvaro"]
["FRÅNVARO",{"$f":"IN!B1920","v":0},{"$f":"Blad3!E1920","v":""},{"$f":"Blad3!G1920","v":0},"Oanmäld frånvaro"]
["FRÅNVARO",{"$f":"IN!B1921","v":0},{"$f":"Blad3!E1921","v":""},{"$f":"Blad3!G1921","v":0},"Oanmäld frånvaro"]
["FRÅNVARO",{"$f":"IN!B1922","v":0},{"$f":"Blad3!E1922","v":""},{"$f":"Blad3!G1922","v":0},"Oanmäld frånvaro"]
["FRÅNVARO",{"$f":"IN!B1923","v":0},{"$f":"Blad3!E1923","v":""},{"$f":"Blad3!G1923","v":0},"Oanmäld frånvaro"]
["FRÅNVARO",{"$f":"IN!B1924","v":0},{"$f":"Blad3!E1924","v":""},{"$f":"Blad3!G1924","v":0},"Oanmäld frånvaro"]
["FRÅNVARO",{"$f":"IN!B1925","v":0},{"$f":"Blad3!E1925","v":""},{"$f":"Blad3!G1925","v":0},"Oanmäld frånvaro"]
["FRÅNVARO",{"$f":"IN!B1926","v":0},{"$f":"Blad3!E1926","v":""},{"$f":"Blad3!G1926","v":0},"Oanmäld frånvaro"]
["FRÅNVARO",{"$f":"IN!B1927","v":0},{"$f":"Blad3!E1927","v":""},{"$f":"Blad3!G1927","v":0},"Oanmäld frånvaro"]
["FRÅNVARO",{"$f":"IN!B1928","v":0},{"$f":"Blad3!E1928","v":""},{"$f":"Blad3!G1928","v":0},"Oanmäld frånvaro"]
["FRÅNVARO",{"$f":"IN!B1929","v":0},{"$f":"Blad3!E1929","v":""},{"$f":"Blad3!G1929","v":0},"Oanmäld frånvaro"]
["FRÅNVARO",{"$f":"IN!B1930","v":0},{"$f":"Blad3!E1930","v":""},{"$f":"Blad3!G1930","v":0},"Oanmäld frånvaro"]
["FRÅNVARO",{"$f":"IN!B1931","v":0},{"$f":"Blad3!E1931","v":""},{"$f":"Blad3!G1931","v":0},"Oanmäld frånvaro"]
["FRÅNVARO",{"$f":"IN!B1932","v":0},{"$f":"Blad3!E1932","v":""},{"$f":"Blad3!G1932","v":0},"Oanmäld frånvaro"]
["FRÅNVARO",{"$f":"IN!B1933","v":0},{"$f":"Blad3!E1933","v":""},{"$f":"Blad3!G1933","v":0},"Oanmäld frånvaro"]
["FRÅNVARO",{"$f":"IN!B1934","v":0},{"$f":"Blad3!E1934","v":""},{"$f":"Blad3!G1934","v":0},"Oanmäld frånvaro"]
["FRÅNVARO",{"$f":"IN!B1935","v":0},{"$f":"Blad3!E1935","v":""},{"$f":"Blad3!G1935","v":0},"Oanmäld frånvaro"]
["FRÅNVARO",{"$f":"IN!B1936","v":0},{"$f":"Blad3!E1936","v":""},{"$f":"Blad3!G1936","v":0},"Oanmäld frånvaro"]
["FRÅNVARO",{"$f":"IN!B1937","v":0},{"$f":"Blad3!E1937","v":""},{"$f":"Blad3!G1937","v":0},"Oanmäld frånvaro"]
["FRÅNVARO",{"$f":"IN!B1938","v":0},{"$f":"Blad3!E1938","v":""},{"$f":"Blad3!G1938","v":0},"Oanmäld frånvaro"]
["FRÅNVARO",{"$f":"IN!B1939","v":0},{"$f":"Blad3!E1939","v":""},{"$f":"Blad3!G1939","v":0},"Oanmäld frånvaro"]
["FRÅNVARO",{"$f":"IN!B1940","v":0},{"$f":"Blad3!E1940","v":""},{"$f":"Blad3!G1940","v":0},"Oanmäld frånvaro"]
["FRÅNVARO",{"$f":"IN!B1941","v":0},{"$f":"Blad3!E1941","v":""},{"$f":"Blad3!G1941","v":0},"Oanmäld frånvaro"]
["FRÅNVARO",{"$f":"IN!B1942","v":0},{"$f":"Blad3!E1942","v":""},{"$f":"Blad3!G1942","v":0},"Oanmäld frånvaro"]
["FRÅNVARO",{"$f":"IN!B1943","v":0},{"$f":"Blad3!E1943","v":""},{"$f":"Blad3!G1943","v":0},"Oanmäld frånvaro"]
["FRÅNVARO",{"$f":"IN!B1944","v":0},{"$f":"Blad3!E1944","v":""},{"$f":"Blad3!G1944","v":0},"Oanmäld frånvaro"]
["FRÅNVARO",{"$f":"IN!B1945","v":0},{"$f":"Blad3!E1945","v":""},{"$f":"Blad3!G1945","v":0},"Oanmäld frånvaro"]
["FRÅNVARO",{"$f":"IN!B1946","v":0},{"$f":"Blad3!E1946","v":""},{"$f":"Blad3!G1946","v":0},"Oanmäld frånvaro"]
["FRÅNVARO",{"$f":"IN!B1947","v":0},{"$f":"Blad3!E1947","v":""},{"$f":"Blad3!G1947","v":0},"Oanmäld frånvaro"]
["FRÅNVARO",{"$f":"IN!B1948","v":0},{"$f":"Blad3!E1948","v":""},{"$f":"Blad3!G1948","v":0},"Oanmäld frånvaro"]
["FRÅNVARO",{"$f":"IN!B1949","v":0},{"$f":"Blad3!E1949","v":""},{"$f":"Blad3!G1949","v":0},"Oanmäld frånvaro"]
["FRÅNVARO",{"$f":"IN!B1950","v":0},{"$f":"Blad3!E1950","v":""},{"$f":"Blad3!G1950","v":0},"Oanmäld frånvaro"]
["FRÅNVARO",{"$f":"IN!B1951","v":0},{"$f":"Blad3!E1951","v":""},{"$f":"Blad3!G1951","v":0},"Oanmäld frånvaro"]
["FRÅNVARO",{"$f":"IN!B1952","v":0},{"$f":"Blad3!E1952","v":""},{"$f":"Blad3!G1952","v":0},"Oanmäld frånvaro"]
["FRÅNVARO",{"$f":"IN!B1953","v":0},{"$f":"Blad3!E1953","v":""},{"$f":"Blad3!G1953","v":0},"Oanmäld frånvaro"]
["FRÅNVARO",{"$f":"IN!B1954","v":0},{"$f":"Blad3!E1954","v":""},{"$f":"Blad3!G1954","v":0},"Oanmäld frånvaro"]
["FRÅNVARO",{"$f":"IN!B1955","v":0},{"$f":"Blad3!E1955","v":""},{"$f":"Blad3!G1955","v":0},"Oanmäld frånvaro"]
["FRÅNVARO",{"$f":"IN!B1956","v":0},{"$f":"Blad3!E1956","v":""},{"$f":"Blad3!G1956","v":0},"Oanmäld frånvaro"]
["FRÅNVARO",{"$f":"IN!B1957","v":0},{"$f":"Blad3!E1957","v":""},{"$f":"Blad3!G1957","v":0},"Oanmäld frånvaro"]
["FRÅNVARO",{"$f":"IN!B1958","v":0},{"$f":"Blad3!E1958","v":""},{"$f":"Blad3!G1958","v":0},"Oanmäld frånvaro"]
["FRÅNVARO",{"$f":"IN!B1959","v":0},{"$f":"Blad3!E1959","v":""},{"$f":"Blad3!G1959","v":0},"Oanmäld frånvaro"]
["FRÅNVARO",{"$f":"IN!B1960","v":0},{"$f":"Blad3!E1960","v":""},{"$f":"Blad3!G1960","v":0},"Oanmäld frånvaro"]
["FRÅNVARO",{"$f":"IN!B1961","v":0},{"$f":"Blad3!E1961","v":""},{"$f":"Blad3!G1961","v":0},"Oanmäld frånvaro"]
["FRÅNVARO",{"$f":"IN!B1962","v":0},{"$f":"Blad3!E1962","v":""},{"$f":"Blad3!G1962","v":0},"Oanmäld frånvaro"]
["FRÅNVARO",{"$f":"IN!B1963","v":0},{"$f":"Blad3!E1963","v":""},{"$f":"Blad3!G1963","v":0},"Oanmäld frånvaro"]
["FRÅNVARO",{"$f":"IN!B1964","v":0},{"$f":"Blad3!E1964","v":""},{"$f":"Blad3!G1964","v":0},"Oanmäld frånvaro"]
["FRÅNVARO",{"$f":"IN!B1965","v":0},{"$f":"Blad3!E1965","v":""},{"$f":"Blad3!G1965","v":0},"Oanmäld frånvaro"]
["FRÅNVARO",{"$f":"IN!B1966","v":0},{"$f":"Blad3!E1966","v":""},{"$f":"Blad3!G1966","v":0},"Oanmäld frånvaro"]
["FRÅNVARO",{"$f":"IN!B1967","v":0},{"$f":"Blad3!E1967","v":""},{"$f":"Blad3!G1967","v":0},"Oanmäld frånvaro"]
["FRÅNVARO",{"$f":"IN!B1968","v":0},{"$f":"Blad3!E1968","v":""},{"$f":"Blad3!G1968","v":0},"Oanmäld frånvaro"]
["FRÅNVARO",{"$f":"IN!B1969","v":0},{"$f":"Blad3!E1969","v":""},{"$f":"Blad3!G1969","v":0},"Oanmäld frånvaro"]
["FRÅNVARO",{"$f":"IN!B1970","v":0},{"$f":"Blad3!E1970","v":""},{"$f":"Blad3!G1970","v":0},"Oanmäld frånvaro"]
["FRÅNVARO",{"$f":"IN!B1971","v":0},{"$f":"Blad3!E1971","v":""},{"$f":"Blad3!G1971","v":0},"Oanmäld frånvaro"]
["FRÅNVARO",{"$f":"IN!B1972","v":0},{"$f":"Blad3!E1972","v":""},{"$f":"Blad3!G1972","v":0},"Oanmäld frånvaro"]
["FRÅNVARO",{"$f":"IN!B1973","v":0},{"$f":"Blad3!E1973","v":""},{"$f":"Blad3!G1973","v":0},"Oanmäld frånvaro"]
["FRÅNVARO",{"$f":"IN!B1974","v":0},{"$f":"Blad3!E1974","v":""},{"$f":"Blad3!G1974","v":0},"Oanmäld frånvaro"]
["FRÅNVARO",{"$f":"IN!B1975","v":0},{"$f":"Blad3!E1975","v":""},{"$f":"Blad3!G1975","v":0},"Oanmäld frånvaro"]
["FRÅNVARO",{"$f":"IN!B1976","v":0},{"$f":"Blad3!E1976","v":""},{"$f":"Blad3!G1976","v":0},"Oanmäld frånvaro"]
["FRÅNVARO",{"$f":"IN!B1977","v":0},{"$f":"Blad3!E1977","v":""},{"$f":"Blad3!G1977","v":0},"Oanmäld frånvaro"]
["FRÅNVARO",{"$f":"IN!B1978","v":0},{"$f":"Blad3!E1978","v":""},{"$f":"Blad3!G1978","v":0},"Oanmäld frånvaro"]
["FRÅNVARO",{"$f":"IN!B1979","v":0},{"$f":"Blad3!E1979","v":""},{"$f":"Blad3!G1979","v":0},"Oanmäld frånvaro"]
["FRÅNVARO",{"$f":"IN!B1980","v":0},{"$f":"Blad3!E1980","v":""},{"$f":"Blad3!G1980","v":0},"Oanmäld frånvaro"]
["FRÅNVARO",{"$f":"IN!B1981","v":0},{"$f":"Blad3!E1981","v":""},{"$f":"Blad3!G1981","v":0},"Oanmäld frånvaro"]
["FRÅNVARO",{"$f":"IN!B1982","v":0},{"$f":"Blad3!E1982","v":""},{"$f":"Blad3!G1982","v":0},"Oanmäld frånvaro"]
["FRÅNVARO",{"$f":"IN!B1983","v":0},{"$f":"Blad3!E1983","v":""},{"$f":"Blad3!G1983","v":0},"Oanmäld frånvaro"]
["FRÅNVARO",{"$f":"IN!B1984","v":0},{"$f":"Blad3!E1984","v":""},{"$f":"Blad3!G1984","v":0},"Oanmäld frånvaro"]
["FRÅNVARO",{"$f":"IN!B1985","v":0},{"$f":"Blad3!E1985","v":""},{"$f":"Blad3!G1985","v":0},"Oanmäld frånvaro"]
["FRÅNVARO",{"$f":"IN!B1986","v":0},{"$f":"Blad3!E1986","v":""},{"$f":"Blad3!G1986","v":0},"Oanmäld frånvaro"]
["FRÅNVARO",{"$f":"IN!B1987","v":0},{"$f":"Blad3!E1987","v":""},{"$f":"Blad3!G1987","v":0},"Oanmäld frånvaro"]
["FRÅNVARO",{"$f":"IN!B1988","v":0},{"$f":"Blad3!E1988","v":""},{"$f":"Blad3!G1988","v":0},"Oanmäld frånvaro"]
["FRÅNVARO",{"$f":"IN!B1989","v":0},{"$f":"Blad3!E1989","v":""},{"$f":"Blad3!G1989","v":0},"Oanmäld frånvaro"]
["FRÅNVARO",{"$f":"IN!B1990","v":0},{"$f":"Blad3!E1990","v":""},{"$f":"Blad3!G1990","v":0},"Oanmäld frånvaro"]
["FRÅNVARO",{"$f":"IN!B1991","v":0},{"$f":"Blad3!E1991","v":""},{"$f":"Blad3!G1991","v":0},"Oanmäld frånvaro"]
["FRÅNVARO",{"$f":"IN!B1992","v":0},{"$f":"Blad3!E1992","v":""},{"$f":"Blad3!G1992","v":0},"Oanmäld frånvaro"]
["FRÅNVARO",{"$f":"IN!B1993","v":0},{"$f":"Blad3!E1993","v":""},{"$f":"Blad3!G1993","v":0},"Oanmäld frånvaro"]
["FRÅNVARO",{"$f":"IN!B1994","v":0},{"$f":"Blad3!E1994","v":""},{"$f":"Blad3!G1994","v":0},"Oanmäld frånvaro"]
["FRÅNVARO",{"$f":"IN!B1995","v":0},{"$f":"Blad3!E1995","v":""},{"$f":"Blad3!G1995","v":0},"Oanmäld frånvaro"]
["FRÅNVARO",{"$f":"IN!B1996","v":0},{"$f":"Blad3!E1996","v":""},{"$f":"Blad3!G1996","v":0},"Oanmäld frånvaro"]
["FRÅNVARO",{"$f":"IN!B1997","v":0},{"$f":"Blad3!E1997","v":""},{"$f":"Blad3!G1997","v":0},"Oanmäld frånvaro"]
["FRÅNVARO",{"$f":"IN!B1998","v":0},{"$f":"Blad3!E1998","v":""},{"$f":"Blad3!G1998","v":0},"Oanmäld frånvaro"]
["FRÅNVARO",{"$f":"IN!B1999","v":0},{"$f":"Blad3!E1999","v":""},{"$f":"Blad3!G1999","v":0},"Oanmäld frånvaro"]
["FRÅNVARO",{"$f":"IN!B2000","v":0},{"$f":"Blad3!E2000","v":""},{"$f":"Blad3!G2000","v":0},"Oanmäld frånvaro"]
["FRÅNVARO",{"$f":"IN!B2001","v":0},{"$f":"Blad3!E2001","v":""},{"$f":"Blad3!G2001","v":0},"Oanmäld frånvaro"]
["FRÅNVARO",{"$f":"IN!B2002","v":0},{"$f":"Blad3!E2002","v":""},{"$f":"Blad3!G2002","v":0},"Oanmäld frånvaro"]
["FRÅNVARO",{"$f":"IN!B2003","v":0},{"$f":"Blad3!E2003","v":""},{"$f":"Blad3!G2003","v":0},"Oanmäld frånvaro"]
["FRÅNVARO",{"$f":"IN!B2004","v":0},{"$f":"Blad3!E2004","v":""},{"$f":"Blad3!G2004","v":0},"Oanmäld frånvaro"]
["FRÅNVARO",{"$f":"IN!B2005","v":0},{"$f":"Blad3!E2005","v":""},{"$f":"Blad3!G2005","v":0},"Oanmäld frånvaro"]
["FRÅNVARO",{"$f":"IN!B2006","v":0},{"$f":"Blad3!E2006","v":""},{"$f":"Blad3!G2006","v":0},"Oanmäld frånvaro"]
["FRÅNVARO",{"$f":"IN!B2007","v":0},{"$f":"Blad3!E2007","v":""},{"$f":"Blad3!G2007","v":0},"Oanmäld frånvaro"]
["FRÅNVARO",{"$f":"IN!B2008","v":0},{"$f":"Blad3!E2008","v":""},{"$f":"Blad3!G2008","v":0},"Oanmäld frånvaro"]
["FRÅNVARO",{"$f":"IN!B2009","v":0},{"$f":"Blad3!E2009","v":""},{"$f":"Blad3!G2009","v":0},"Oanmäld frånvaro"]
["FRÅNVARO",{"$f":"IN!B2010","v":0},{"$f":"Blad3!E2010","v":""},{"$f":"Blad3!G2010","v":0},"Oanmäld frånvaro"]
["FRÅNVARO",{"$f":"IN!B2011","v":0},{"$f":"Blad3!E2011","v":""},{"$f":"Blad3!G2011","v":0},"Oanmäld frånvaro"]
["FRÅNVARO",{"$f":"IN!B2012","v":0},{"$f":"Blad3!E2012","v":""},{"$f":"Blad3!G2012","v":0},"Oanmäld frånvaro"]
["FRÅNVARO",{"$f":"IN!B2013","v":0},{"$f":"Blad3!E2013","v":""},{"$f":"Blad3!G2013","v":0},"Oanmäld frånvaro"]
["FRÅNVARO",{"$f":"IN!B2014","v":0},{"$f":"Blad3!E2014","v":""},{"$f":"Blad3!G2014","v":0},"Oanmäld frånvaro"]
["FRÅNVARO",{"$f":"IN!B2015","v":0},{"$f":"Blad3!E2015","v":""},{"$f":"Blad3!G2015","v":0},"Oanmäld frånvaro"]
["FRÅNVARO",{"$f":"IN!B2016","v":0},{"$f":"Blad3!E2016","v":""},{"$f":"Blad3!G2016","v":0},"Oanmäld frånvaro"]
["FRÅNVARO",{"$f":"IN!B2017","v":0},{"$f":"Blad3!E2017","v":""},{"$f":"Blad3!G2017","v":0},"Oanmäld frånvaro"]
["FRÅNVARO",{"$f":"IN!B2018","v":0},{"$f":"Blad3!E2018","v":""},{"$f":"Blad3!G2018","v":0},"Oanmäld frånvaro"]
["FRÅNVARO",{"$f":"IN!B2019","v":0},{"$f":"Blad3!E2019","v":""},{"$f":"Blad3!G2019","v":0},"Oanmäld frånvaro"]
["FRÅNVARO",{"$f":"IN!B2020","v":0},{"$f":"Blad3!E2020","v":""},{"$f":"Blad3!G2020","v":0},"Oanmäld frånvaro"]
["FRÅNVARO",{"$f":"IN!B2021","v":0},{"$f":"Blad3!E2021","v":""},{"$f":"Blad3!G2021","v":0},"Oanmäld frånvaro"]
["FRÅNVARO",{"$f":"IN!B2022","v":0},{"$f":"Blad3!E2022","v":""},{"$f":"Blad3!G2022","v":0},"Oanmäld frånvaro"]
["FRÅNVARO",{"$f":"IN!B2023","v":0},{"$f":"Blad3!E2023","v":""},{"$f":"Blad3!G2023","v":0},"Oanmäld frånvaro"]
["FRÅNVARO",{"$f":"IN!B2024","v":0},{"$f":"Blad3!E2024","v":""},{"$f":"Blad3!G2024","v":0},"Oanmäld frånvaro"]
["FRÅNVARO",{"$f":"IN!B2025","v":0},{"$f":"Blad3!E2025","v":""},{"$f":"Blad3!G2025","v":0},"Oanmäld frånvaro"]
["FRÅNVARO",{"$f":"IN!B2026","v":0},{"$f":"Blad3!E2026","v":""},{"$f":"Blad3!G2026","v":0},"Oanmäld frånvaro"]
["FRÅNVARO",{"$f":"IN!B2027","v":0},{"$f":"Blad3!E2027","v":""},{"$f":"Blad3!G2027","v":0},"Oanmäld frånvaro"]
["FRÅNVARO",{"$f":"IN!B2028","v":0},{"$f":"Blad3!E2028","v":""},{"$f":"Blad3!G2028","v":0},"Oanmäld frånvaro"]
["FRÅNVARO",{"$f":"IN!B2029","v":0},{"$f":"Blad3!E2029","v":""},{"$f":"Blad3!G2029","v":0},"Oanmäld frånvaro"]
["FRÅNVARO",{"$f":"IN!B2030","v":0},{"$f":"Blad3!E2030","v":""},{"$f":"Blad3!G2030","v":0},"Oanmäld frånvaro"]
["FRÅNVARO",{"$f":"IN!B2031","v":0},{"$f":"Blad3!E2031","v":""},{"$f":"Blad3!G2031","v":0},"Oanmäld frånvaro"]
["FRÅNVARO",{"$f":"IN!B2032","v":0},{"$f":"Blad3!E2032","v":""},{"$f":"Blad3!G2032","v":0},"Oanmäld frånvaro"]
["FRÅNVARO",{"$f":"IN!B2033","v":0},{"$f":"Blad3!E2033","v":""},{"$f":"Blad3!G2033","v":0},"Oanmäld frånvaro"]
["FRÅNVARO",{"$f":"IN!B2034","v":0},{"$f":"Blad3!E2034","v":""},{"$f":"Blad3!G2034","v":0},"Oanmäld frånvaro"]
["FRÅNVARO",{"$f":"IN!B2035","v":0},{"$f":"Blad3!E2035","v":""},{"$f":"Blad3!G2035","v":0},"Oanmäld frånvaro"]
["FRÅNVARO",{"$f":"IN!B2036","v":0},{"$f":"Blad3!E2036","v":""},{"$f":"Blad3!G2036","v":0},"Oanmäld frånvaro"]
["FRÅNVARO",{"$f":"IN!B2037","v":0},{"$f":"Blad3!E2037","v":""},{"$f":"Blad3!G2037","v":0},"Oanmäld frånvaro"]
["FRÅNVARO",{"$f":"IN!B2038","v":0},{"$f":"Blad3!E2038","v":""},{"$f":"Blad3!G2038","v":0},"Oanmäld frånvaro"]
["FRÅNVARO",{"$f":"IN!B2039","v":0},{"$f":"Blad3!E2039","v":""},{"$f":"Blad3!G2039","v":0},"Oanmäld frånvaro"]
["FRÅNVARO",{"$f":"IN!B2040","v":0},{"$f":"Blad3!E2040","v":""},{"$f":"Blad3!G2040","v":0},"Oanmäld frånvaro"]
["FRÅNVARO",{"$f":"IN!B2041","v":0},{"$f":"Blad3!E2041","v":""},{"$f":"Blad3!G2041","v":0},"Oanmäld frånvaro"]
["FRÅNVARO",{"$f":"IN!B2042","v":0},{"$f":"Blad3!E2042","v":""},{"$f":"Blad3!G2042","v":0},"Oanmäld frånvaro"]
["FRÅNVARO",{"$f":"IN!B2043","v":0},{"$f":"Blad3!E2043","v":""},{"$f":"Blad3!G2043","v":0},"Oanmäld frånvaro"]
["FRÅNVARO",{"$f":"IN!B2044","v":0},{"$f":"Blad3!E2044","v":""},{"$f":"Blad3!G2044","v":0},"Oanmäld frånvaro"]
["FRÅNVARO",{"$f":"IN!B2045","v":0},{"$f":"Blad3!E2045","v":""},{"$f":"Blad3!G2045","v":0},"Oanmäld frånvaro"]
["FRÅNVARO",{"$f":"IN!B2046","v":0},{"$f":"Blad3!E2046","v":""},{"$f":"Blad3!G2046","v":0},"Oanmäld frånvaro"]
["FRÅNVARO",{"$f":"IN!B2047","v":0},{"$f":"Blad3!E2047","v":""},{"$f":"Blad3!G2047","v":0},"Oanmäld frånvaro"]
["FRÅNVARO",{"$f":"IN!B2048","v":0},{"$f":"Blad3!E2048","v":""},{"$f":"Blad3!G2048","v":0},"Oanmäld frånvaro"]
["FRÅNVARO",{"$f":"IN!B2049","v":0},{"$f":"Blad3!E2049","v":""},{"$f":"Blad3!G2049","v":0},"Oanmäld frånvaro"]
["FRÅNVARO",{"$f":"IN!B2050","v":0},{"$f":"Blad3!E2050","v":""},{"$f":"Blad3!G2050","v":0},"Oanmäld frånvaro"]
["FRÅNVARO",{"$f":"IN!B2051","v":0},{"$f":"Blad3!E2051","v":""},{"$f":"Blad3!G2051","v":0},"Oanmäld frånvaro"]
["FRÅNVARO",{"$f":"IN!B2052","v":0},{"$f":"Blad3!E2052","v":""},{"$f":"Blad3!G2052","v":0},"Oanmäld frånvaro"]
["FRÅNVARO",{"$f":"IN!B2053","v":0},{"$f":"Blad3!E2053","v":""},{"$f":"Blad3!G2053","v":0},"Oanmäld frånvaro"]
["FRÅNVARO",{"$f":"IN!B2054","v":0},{"$f":"Blad3!E2054","v":""},{"$f":"Blad3!G2054","v":0},"Oanmäld frånvaro"]
["FRÅNVARO",{"$f":"IN!B2055","v":0},{"$f":"Blad3!E2055","v":""},{"$f":"Blad3!G2055","v":0},"Oanmäld frånvaro"]
["FRÅNVARO",{"$f":"IN!B2056","v":0},{"$f":"Blad3!E2056","v":""},{"$f":"Blad3!G2056","v":0},"Oanmäld frånvaro"]
["FRÅNVARO",{"$f":"IN!B2057","v":0},{"$f":"Blad3!E2057","v":""},{"$f":"Blad3!G2057","v":0},"Oanmäld frånvaro"]
["FRÅNVARO",{"$f":"IN!B2058","v":0},{"$f":"Blad3!E2058","v":""},{"$f":"Blad3!G2058","v":0},"Oanmäld frånvaro"]
["FRÅNVARO",{"$f":"IN!B2059","v":0},{"$f":"Blad3!E2059","v":""},{"$f":"Blad3!G2059","v":0},"Oanmäld frånvaro"]
["FRÅNVARO",{"$f":"IN!B2060","v":0},{"$f":"Blad3!E2060","v":""},{"$f":"Blad3!G2060","v":0},"Oanmäld frånvaro"]
["FRÅNVARO",{"$f":"IN!B2061","v":0},{"$f":"Blad3!E2061","v":""},{"$f":"Blad3!G2061","v":0},"Oanmäld frånvaro"]
["FRÅNVARO",{"$f":"IN!B2062","v":0},{"$f":"Blad3!E2062","v":""},{"$f":"Blad3!G2062","v":0},"Oanmäld frånvaro"]
["FRÅNVARO",{"$f":"IN!B2063","v":0},{"$f":"Blad3!E2063","v":""},{"$f":"Blad3!G2063","v":0},"Oanmäld frånvaro"]
["FRÅNVARO",{"$f":"IN!B2064","v":0},{"$f":"Blad3!E2064","v":""},{"$f":"Blad3!G2064","v":0},"Oanmäld frånvaro"]
["FRÅNVARO",{"$f":"IN!B2065","v":0},{"$f":"Blad3!E2065","v":""},{"$f":"Blad3!G2065","v":0},"Oanmäld frånvaro"]
["FRÅNVARO",{"$f":"IN!B2066","v":0},{"$f":"Blad3!E2066","v":""},{"$f":"Blad3!G2066","v":0},"Oanmäld frånvaro"]
["FRÅNVARO",{"$f":"IN!B2067","v":0},{"$f":"Blad3!E2067","v":""},{"$f":"Blad3!G2067","v":0},"Oanmäld frånvaro"]
["FRÅNVARO",{"$f":"IN!B2068","v":0},{"$f":"Blad3!E2068","v":""},{"$f":"Blad3!G2068","v":0},"Oanmäld frånvaro"]
["FRÅNVARO",{"$f":"IN!B2069","v":0},{"$f":"Blad3!E2069","v":""},{"$f":"Blad3!G2069","v":0},"Oanmäld frånvaro"]
["FRÅNVARO",{"$f":"IN!B2070","v":0},{"$f":"Blad3!E2070","v":""},{"$f":"Blad3!G2070","v":0},"Oanmäld frånvaro"]
["FRÅNVARO",{"$f":"IN!B2071","v":0},{"$f":"Blad3!E2071","v":""},{"$f":"Blad3!G2071","v":0},"Oanmäld frånvaro"]
["FRÅNVARO",{"$f":"IN!B2072","v":0},{"$f":"Blad3!E2072","v":""},{"$f":"Blad3!G2072","v":0},"Oanmäld frånvaro"]
["FRÅNVARO",{"$f":"IN!B2073","v":0},{"$f":"Blad3!E2073","v":""},{"$f":"Blad3!G2073","v":0},"Oanmäld frånvaro"]
["FRÅNVARO",{"$f":"IN!B2074","v":0},{"$f":"Blad3!E2074","v":""},{"$f":"Blad3!G2074","v":0},"Oanmäld frånvaro"]
["FRÅNVARO",{"$f":"IN!B2075","v":0},{"$f":"Blad3!E2075","v":""},{"$f":"Blad3!G2075","v":0},"Oanmäld frånvaro"]
["FRÅNVARO",{"$f":"IN!B2076","v":0},{"$f":"Blad3!E2076","v":""},{"$f":"Blad3!G2076","v":0},"Oanmäld frånvaro"]
["FRÅNVARO",{"$f":"IN!B2077","v":0},{"$f":"Blad3!E2077","v":""},{"$f":"Blad3!G2077","v":0},"Oanmäld frånvaro"]
["FRÅNVARO",{"$f":"IN!B2078","v":0},{"$f":"Blad3!E2078","v":""},{"$f":"Blad3!G2078","v":0},"Oanmäld frånvaro"]
["FRÅNVARO",{"$f":"IN!B2079","v":0},{"$f":"Blad3!E2079","v":""},{"$f":"Blad3!G2079","v":0},"Oanmäld frånvaro"]
["FRÅNVARO",{"$f":"IN!B2080","v":0},{"$f":"Blad3!E2080","v":""},{"$f":"Blad3!G2080","v":0},"Oanmäld frånvaro"]
["FRÅNVARO",{"$f":"IN!B2081","v":0},{"$f":"Blad3!E2081","v":""},{"$f":"Blad3!G2081","v":0},"Oanmäld frånvaro"]
["FRÅNVARO",{"$f":"IN!B2082","v":0},{"$f":"Blad3!E2082","v":""},{"$f":"Blad3!G2082","v":0},"Oanmäld frånvaro"]
["FRÅNVARO",{"$f":"IN!B2083","v":0},{"$f":"Blad3!E2083","v":""},{"$f":"Blad3!G2083","v":0},"Oanmäld frånvaro"]
["FRÅNVARO",{"$f":"IN!B2084","v":0},{"$f":"Blad3!E2084","v":""},{"$f":"Blad3!G2084","v":0},"Oanmäld frånvaro"]
["FRÅNVARO",{"$f":"IN!B2085","v":0},{"$f":"Blad3!E2085","v":""},{"$f":"Blad3!G2085","v":0},"Oanmäld frånvaro"]
["FRÅNVARO",{"$f":"IN!B2086","v":0},{"$f":"Blad3!E2086","v":""},{"$f":"Blad3!G2086","v":0},"Oanmäld frånvaro"]
["FRÅNVARO",{"$f":"IN!B2087","v":0},{"$f":"Blad3!E2087","v":""},{"$f":"Blad3!G2087","v":0},"Oanmäld frånvaro"]
["FRÅNVARO",{"$f":"IN!B2088","v":0},{"$f":"Blad3!E2088","v":""},{"$f":"Blad3!G2088","v":0},"Oanmäld frånvaro"]
["FRÅNVARO",{"$f":"IN!B2089","v":0},{"$f":"Blad3!E2089","v":""},{"$f":"Blad3!G2089","v":0},"Oanmäld frånvaro"]
["FRÅNVARO",{"$f":"IN!B2090","v":0},{"$f":"Blad3!E2090","v":""},{"$f":"Blad3!G2090","v":0},"Oanmäld frånvaro"]
["FRÅNVARO",{"$f":"IN!B2091","v":0},{"$f":"Blad3!E2091","v":""},{"$f":"Blad3!G2091","v":0},"Oanmäld frånvaro"]
["FRÅNVARO",{"$f":"IN!B2092","v":0},{"$f":"Blad3!E2092","v":""},{"$f":"Blad3!G2092","v":0},"Oanmäld frånvaro"]
["FRÅNVARO",{"$f":"IN!B2093","v":0},{"$f":"Blad3!E2093","v":""},{"$f":"Blad3!G2093","v":0},"Oanmäld frånvaro"]
["FRÅNVARO",{"$f":"IN!B2094","v":0},{"$f":"Blad3!E2094","v":""},{"$f":"Blad3!G2094","v":0},"Oanmäld frånvaro"]
["FRÅNVARO",{"$f":"IN!B2095","v":0},{"$f":"Blad3!E2095","v":""},{"$f":"Blad3!G2095","v":0},"Oanmäld frånvaro"]
["FRÅNVARO",{"$f":"IN!B2096","v":0},{"$f":"Blad3!E2096","v":""},{"$f":"Blad3!G2096","v":0},"Oanmäld frånvaro"]
["FRÅNVARO",{"$f":"IN!B2097","v":0},{"$f":"Blad3!E2097","v":""},{"$f":"Blad3!G2097","v":0},"Oanmäld frånvaro"]
["FRÅNVARO",{"$f":"IN!B2098","v":0},{"$f":"Blad3!E2098","v":""},{"$f":"Blad3!G2098","v":0},"Oanmäld frånvaro"]
["FRÅNVARO",{"$f":"IN!B2099","v":0},{"$f":"Blad3!E2099","v":""},{"$f":"Blad3!G2099","v":0},"Oanmäld frånvaro"]
["FRÅNVARO",{"$f":"IN!B2100","v":0},{"$f":"Blad3!E2100","v":""},{"$f":"Blad3!G2100","v":0},"Oanmäld frånvaro"]
["FRÅNVARO",{"$f":"IN!B2101","v":0},{"$f":"Blad3!E2101","v":""},{"$f":"Blad3!G2101","v":0},"Oanmäld frånvaro"]
["FRÅNVARO",{"$f":"IN!B2102","v":0},{"$f":"Blad3!E2102","v":""},{"$f":"Blad3!G2102","v":0},"Oanmäld frånvaro"]
["FRÅNVARO",{"$f":"IN!B2103","v":0},{"$f":"Blad3!E2103","v":""},{"$f":"Blad3!G2103","v":0},"Oanmäld frånvaro"]
["FRÅNVARO",{"$f":"IN!B2104","v":0},{"$f":"Blad3!E2104","v":""},{"$f":"Blad3!G2104","v":0},"Oanmäld frånvaro"]
["FRÅNVARO",{"$f":"IN!B2105","v":0},{"$f":"Blad3!E2105","v":""},{"$f":"Blad3!G2105","v":0},"Oanmäld frånvaro"]
["FRÅNVARO",{"$f":"IN!B2106","v":0},{"$f":"Blad3!E2106","v":""},{"$f":"Blad3!G2106","v":0},"Oanmäld frånvaro"]
["FRÅNVARO",{"$f":"IN!B2107","v":0},{"$f":"Blad3!E2107","v":""},{"$f":"Blad3!G2107","v":0},"Oanmäld frånvaro"]
["FRÅNVARO",{"$f":"IN!B2108","v":0},{"$f":"Blad3!E2108","v":""},{"$f":"Blad3!G2108","v":0},"Oanmäld frånvaro"]
["FRÅNVARO",{"$f":"IN!B2109","v":0},{"$f":"Blad3!E2109","v":""},{"$f":"Blad3!G2109","v":0},"Oanmäld frånvaro"]
["FRÅNVARO",{"$f":"IN!B2110","v":0},{"$f":"Blad3!E2110","v":""},{"$f":"Blad3!G2110","v":0},"Oanmäld frånvaro"]
["FRÅNVARO",{"$f":"IN!B2111","v":0},{"$f":"Blad3!E2111","v":""},{"$f":"Blad3!G2111","v":0},"Oanmäld frånvaro"]
["FRÅNVARO",{"$f":"IN!B2112","v":0},{"$f":"Blad3!E2112","v":""},{"$f":"Blad3!G2112","v":0},"Oanmäld frånvaro"]
["FRÅNVARO",{"$f":"IN!B2113","v":0},{"$f":"Blad3!E2113","v":""},{"$f":"Blad3!G2113","v":0},"Oanmäld frånvaro"]
["FRÅNVARO",{"$f":"IN!B2114","v":0},{"$f":"Blad3!E2114","v":""},{"$f":"Blad3!G2114","v":0},"Oanmäld frånvaro"]
["FRÅNVARO",{"$f":"IN!B2115","v":0},{"$f":"Blad3!E2115","v":""},{"$f":"Blad3!G2115","v":0},"Oanmäld frånvaro"]
["FRÅNVARO",{"$f":"IN!B2116","v":0},{"$f":"Blad3!E2116","v":""},{"$f":"Blad3!G2116","v":0},"Oanmäld frånvaro"]
["FRÅNVARO",{"$f":"IN!B2117","v":0},{"$f":"Blad3!E2117","v":""},{"$f":"Blad3!G2117","v":0},"Oanmäld frånvaro"]
["FRÅNVARO",{"$f":"IN!B2118","v":0},{"$f":"Blad3!E2118","v":""},{"$f":"Blad3!G2118","v":0},"Oanmäld frånvaro"]
["FRÅNVARO",{"$f":"IN!B2119","v":0},{"$f":"Blad3!E2119","v":""},{"$f":"Blad3!G2119","v":0},"Oanmäld frånvaro"]
["FRÅNVARO",{"$f":"IN!B2120","v":0},{"$f":"Blad3!E2120","v":""},{"$f":"Blad3!G2120","v":0},"Oanmäld frånvaro"]
["FRÅNVARO",{"$f":"IN!B2121","v":0},{"$f":"Blad3!E2121","v":""},{"$f":"Blad3!G2121","v":0},"Oanmäld frånvaro"]
["FRÅNVARO",{"$f":"IN!B2122","v":0},{"$f":"Blad3!E2122","v":""},{"$f":"Blad3!G2122","v":0},"Oanmäld frånvaro"]
["FRÅNVARO",{"$f":"IN!B2123","v":0},{"$f":"Blad3!E2123","v":""},{"$f":"Blad3!G2123","v":0},"Oanmäld frånvaro"]
["FRÅNVARO",{"$f":"IN!B2124","v":0},{"$f":"Blad3!E2124","v":""},{"$f":"Blad3!G2124","v":0},"Oanmäld frånvaro"]
["FRÅNVARO",{"$f":"IN!B2125","v":0},{"$f":"Blad3!E2125","v":""},{"$f":"Blad3!G2125","v":0},"Oanmäld frånvaro"]
["FRÅNVARO",{"$f":"IN!B2126","v":0},{"$f":"Blad3!E2126","v":""},{"$f":"Blad3!G2126","v":0},"Oanmäld frånvaro"]
["FRÅNVARO",{"$f":"IN!B2127","v":0},{"$f":"Blad3!E2127","v":""},{"$f":"Blad3!G2127","v":0},"Oanmäld frånvaro"]
["FRÅNVARO",{"$f":"IN!B2128","v":0},{"$f":"Blad3!E2128","v":""},{"$f":"Blad3!G2128","v":0},"Oanmäld frånvaro"]
["FRÅNVARO",{"$f":"IN!B2129","v":0},{"$f":"Blad3!E2129","v":""},{"$f":"Blad3!G2129","v":0},"Oanmäld frånvaro"]
["FRÅNVARO",{"$f":"IN!B2130","v":0},{"$f":"Blad3!E2130","v":""},{"$f":"Blad3!G2130","v":0},"Oanmäld frånvaro"]
["FRÅNVARO",{"$f":"IN!B2131","v":0},{"$f":"Blad3!E2131","v":""},{"$f":"Blad3!G2131","v":0},"Oanmäld frånvaro"]
["FRÅNVARO",{"$f":"IN!B2132","v":0},{"$f":"Blad3!E2132","v":""},{"$f":"Blad3!G2132","v":0},"Oanmäld frånvaro"]
["FRÅNVARO",{"$f":"IN!B2133","v":0},{"$f":"Blad3!E2133","v":""},{"$f":"Blad3!G2133","v":0},"Oanmäld frånvaro"]
["FRÅNVARO",{"$f":"IN!B2134","v":0},{"$f":"Blad3!E2134","v":""},{"$f":"Blad3!G2134","v":0},"Oanmäld frånvaro"]
["FRÅNVARO",{"$f":"IN!B2135","v":0},{"$f":"Blad3!E2135","v":""},{"$f":"Blad3!G2135","v":0},"Oanmäld frånvaro"]
["FRÅNVARO",{"$f":"IN!B2136","v":0},{"$f":"Blad3!E2136","v":""},{"$f":"Blad3!G2136","v":0},"Oanmäld frånvaro"]
["FRÅNVARO",{"$f":"IN!B2137","v":0},{"$f":"Blad3!E2137","v":""},{"$f":"Blad3!G2137","v":0},"Oanmäld frånvaro"]
["FRÅNVARO",{"$f":"IN!B2138","v":0},{"$f":"Blad3!E2138","v":""},{"$f":"Blad3!G2138","v":0},"Oanmäld frånvaro"]
["FRÅNVARO",{"$f":"IN!B2139","v":0},{"$f":"Blad3!E2139","v":""},{"$f":"Blad3!G2139","v":0},"Oanmäld frånvaro"]
["FRÅNVARO",{"$f":"IN!B2140","v":0},{"$f":"Blad3!E2140","v":""},{"$f":"Blad3!G2140","v":0},"Oanmäld frånvaro"]
["FRÅNVARO",{"$f":"IN!B2141","v":0},{"$f":"Blad3!E2141","v":""},{"$f":"Blad3!G2141","v":0},"Oanmäld frånvaro"]
["FRÅNVARO",{"$f":"IN!B2142","v":0},{"$f":"Blad3!E2142","v":""},{"$f":"Blad3!G2142","v":0},"Oanmäld frånvaro"]
["FRÅNVARO",{"$f":"IN!B2143","v":0},{"$f":"Blad3!E2143","v":""},{"$f":"Blad3!G2143","v":0},"Oanmäld frånvaro"]
["FRÅNVARO",{"$f":"IN!B2144","v":0},{"$f":"Blad3!E2144","v":""},{"$f":"Blad3!G2144","v":0},"Oanmäld frånvaro"]
["FRÅNVARO",{"$f":"IN!B2145","v":0},{"$f":"Blad3!E2145","v":""},{"$f":"Blad3!G2145","v":0},"Oanmäld frånvaro"]
["FRÅNVARO",{"$f":"IN!B2146","v":0},{"$f":"Blad3!E2146","v":""},{"$f":"Blad3!G2146","v":0},"Oanmäld frånvaro"]
["FRÅNVARO",{"$f":"IN!B2147","v":0},{"$f":"Blad3!E2147","v":""},{"$f":"Blad3!G2147","v":0},"Oanmäld frånvaro"]
["FRÅNVARO",{"$f":"IN!B2148","v":0},{"$f":"Blad3!E2148","v":""},{"$f":"Blad3!G2148","v":0},"Oanmäld frånvaro"]
["FRÅNVARO",{"$f":"IN!B2149","v":0},{"$f":"Blad3!E2149","v":""},{"$f":"Blad3!G2149","v":0},"Oanmäld frånvaro"]
["FRÅNVARO",{"$f":"IN!B2150","v":0},{"$f":"Blad3!E2150","v":""},{"$f":"Blad3!G2150","v":0},"Oanmäld frånvaro"]
["FRÅNVARO",{"$f":"IN!B2151","v":0},{"$f":"Blad3!E2151","v":""},{"$f":"Blad3!G2151","v":0},"Oanmäld frånvaro"]
["FRÅNVARO",{"$f":"IN!B2152","v":0},{"$f":"Blad3!E2152","v":""},{"$f":"Blad3!G2152","v":0},"Oanmäld frånvaro"]
["FRÅNVARO",{"$f":"IN!B2153","v":0},{"$f":"Blad3!E2153","v":""},{"$f":"Blad3!G2153","v":0},"Oanmäld frånvaro"]
["FRÅNVARO",{"$f":"IN!B2154","v":0},{"$f":"Blad3!E2154","v":""},{"$f":"Blad3!G2154","v":0},"Oanmäld frånvaro"]
["FRÅNVARO",{"$f":"IN!B2155","v":0},{"$f":"Blad3!E2155","v":""},{"$f":"Blad3!G2155","v":0},"Oanmäld frånvaro"]
["FRÅNVARO",{"$f":"IN!B2156","v":0},{"$f":"Blad3!E2156","v":""},{"$f":"Blad3!G2156","v":0},"Oanmäld frånvaro"]
["FRÅNVARO",{"$f":"IN!B2157","v":0},{"$f":"Blad3!E2157","v":""},{"$f":"Blad3!G2157","v":0},"Oanmäld frånvaro"]
["FRÅNVARO",{"$f":"IN!B2158","v":0},{"$f":"Blad3!E2158","v":""},{"$f":"Blad3!G2158","v":0},"Oanmäld frånvaro"]
["FRÅNVARO",{"$f":"IN!B2159","v":0},{"$f":"Blad3!E2159","v":""},{"$f":"Blad3!G2159","v":0},"Oanmäld frånvaro"]
["FRÅNVARO",{"$f":"IN!B2160","v":0},{"$f":"Blad3!E2160","v":""},{"$f":"Blad3!G2160","v":0},"Oanmäld frånvaro"]
["FRÅNVARO",{"$f":"IN!B2161","v":0},{"$f":"Blad3!E2161","v":""},{"$f":"Blad3!G2161","v":0},"Oanmäld frånvaro"]
["FRÅNVARO",{"$f":"IN!B2162","v":0},{"$f":"Blad3!E2162","v":""},{"$f":"Blad3!G2162","v":0},"Oanmäld frånvaro"]
["FRÅNVARO",{"$f":"IN!B2163","v":0},{"$f":"Blad3!E2163","v":""},{"$f":"Blad3!G2163","v":0},"Oanmäld frånvaro"]
["FRÅNVARO",{"$f":"IN!B2164","v":0},{"$f":"Blad3!E2164","v":""},{"$f":"Blad3!G2164","v":0},"Oanmäld frånvaro"]
["FRÅNVARO",{"$f":"IN!B2165","v":0},{"$f":"Blad3!E2165","v":""},{"$f":"Blad3!G2165","v":0},"Oanmäld frånvaro"]
["FRÅNVARO",{"$f":"IN!B2166","v":0},{"$f":"Blad3!E2166","v":""},{"$f":"Blad3!G2166","v":0},"Oanmäld frånvaro"]
["FRÅNVARO",{"$f":"IN!B2167","v":0},{"$f":"Blad3!E2167","v":""},{"$f":"Blad3!G2167","v":0},"Oanmäld frånvaro"]
["FRÅNVARO",{"$f":"IN!B2168","v":0},{"$f":"Blad3!E2168","v":""},{"$f":"Blad3!G2168","v":0},"Oanmäld frånvaro"]
["FRÅNVARO",{"$f":"IN!B2169","v":0},{"$f":"Blad3!E2169","v":""},{"$f":"Blad3!G2169","v":0},"Oanmäld frånvaro"]
["FRÅNVARO",{"$f":"IN!B2170","v":0},{"$f":"Blad3!E2170","v":""},{"$f":"Blad3!G2170","v":0},"Oanmäld frånvaro"]
["FRÅNVARO",{"$f":"IN!B2171","v":0},{"$f":"Blad3!E2171","v":""},{"$f":"Blad3!G2171","v":0},"Oanmäld frånvaro"]
["FRÅNVARO",{"$f":"IN!B2172","v":0},{"$f":"Blad3!E2172","v":""},{"$f":"Blad3!G2172","v":0},"Oanmäld frånvaro"]
["FRÅNVARO",{"$f":"IN!B2173","v":0},{"$f":"Blad3!E2173","v":""},{"$f":"Blad3!G2173","v":0},"Oanmäld frånvaro"]
["FRÅNVARO",{"$f":"IN!B2174","v":0},{"$f":"Blad3!E2174","v":""},{"$f":"Blad3!G2174","v":0},"Oanmäld frånvaro"]
["FRÅNVARO",{"$f":"IN!B2175","v":0},{"$f":"Blad3!E2175","v":""},{"$f":"Blad3!G2175","v":0},"Oanmäld frånvaro"]
["FRÅNVARO",{"$f":"IN!B2176","v":0},{"$f":"Blad3!E2176","v":""},{"$f":"Blad3!G2176","v":0},"Oanmäld frånvaro"]
["FRÅNVARO",{"$f":"IN!B2177","v":0},{"$f":"Blad3!E2177","v":""},{"$f":"Blad3!G2177","v":0},"Oanmäld frånvaro"]
["FRÅNVARO",{"$f":"IN!B2178","v":0},{"$f":"Blad3!E2178","v":""},{"$f":"Blad3!G2178","v":0},"Oanmäld frånvaro"]
["FRÅNVARO",{"$f":"IN!B2179","v":0},{"$f":"Blad3!E2179","v":""},{"$f":"Blad3!G2179","v":0},"Oanmäld frånvaro"]
["FRÅNVARO",{"$f":"IN!B2180","v":0},{"$f":"Blad3!E2180","v":""},{"$f":"Blad3!G2180","v":0},"Oanmäld frånvaro"]
["FRÅNVARO",{"$f":"IN!B2181","v":0},{"$f":"Blad3!E2181","v":""},{"$f":"Blad3!G2181","v":0},"Oanmäld frånvaro"]
["FRÅNVARO",{"$f":"IN!B2182","v":0},{"$f":"Blad3!E2182","v":""},{"$f":"Blad3!G2182","v":0},"Oanmäld frånvaro"]
["FRÅNVARO",{"$f":"IN!B2183","v":0},{"$f":"Blad3!E2183","v":""},{"$f":"Blad3!G2183","v":0},"Oanmäld frånvaro"]
["FRÅNVARO",{"$f":"IN!B2184","v":0},{"$f":"Blad3!E2184","v":""},{"$f":"Blad3!G2184","v":0},"Oanmäld frånvaro"]
["FRÅNVARO",{"$f":"IN!B2185","v":0},{"$f":"Blad3!E2185","v":""},{"$f":"Blad3!G2185","v":0},"Oanmäld frånvaro"]
["FRÅNVARO",{"$f":"IN!B2186","v":0},{"$f":"Blad3!E2186","v":""},{"$f":"Blad3!G2186","v":0},"Oanmäld frånvaro"]
["FRÅNVARO",{"$f":"IN!B2187","v":0},{"$f":"Blad3!E2187","v":""},{"$f":"Blad3!G2187","v":0},"Oanmäld frånvaro"]
["FRÅNVARO",{"$f":"IN!B2188","v":0},{"$f":"Blad3!E2188","v":""},{"$f":"Blad3!G2188","v":0},"Oanmäld frånvaro"]
["FRÅNVARO",{"$f":"IN!B2189","v":0},{"$f":"Blad3!E2189","v":""},{"$f":"Blad3!G2189","v":0},"Oanmäld frånvaro"]
["FRÅNVARO",{"$f":"IN!B2190","v":0},{"$f":"Blad3!E2190","v":""},{"$f":"Blad3!G2190","v":0},"Oanmäld frånvaro"]
["FRÅNVARO",{"$f":"IN!B2191","v":0},{"$f":"Blad3!E2191","v":""},{"$f":"Blad3!G2191","v":0},"Oanmäld frånvaro"]
["FRÅNVARO",{"$f":"IN!B2192","v":0},{"$f":"Blad3!E2192","v":""},{"$f":"Blad3!G2192","v":0},"Oanmäld frånvaro"]
["FRÅNVARO",{"$f":"IN!B2193","v":0},{"$f":"Blad3!E2193","v":""},{"$f":"Blad3!G2193","v":0},"Oanmäld frånvaro"]
["FRÅNVARO",{"$f":"IN!B2194","v":0},{"$f":"Blad3!E2194","v":""},{"$f":"Blad3!G2194","v":0},"Oanmäld frånvaro"]
["FRÅNVARO",{"$f":"IN!B2195","v":0},{"$f":"Blad3!E2195","v":""},{"$f":"Blad3!G2195","v":0},"Oanmäld frånvaro"]
["FRÅNVARO",{"$f":"IN!B2196","v":0},{"$f":"Blad3!E2196","v":""},{"$f":"Blad3!G2196","v":0},"Oanmäld frånvaro"]
["FRÅNVARO",{"$f":"IN!B2197","v":0},{"$f":"Blad3!E2197","v":""},{"$f":"Blad3!G2197","v":0},"Oanmäld frånvaro"]
["FRÅNVARO",{"$f":"IN!B2198","v":0},{"$f":"Blad3!E2198","v":""},{"$f":"Blad3!G2198","v":0},"Oanmäld frånvaro"]
["FRÅNVARO",{"$f":"IN!B2199","v":0},{"$f":"Blad3!E2199","v":""},{"$f":"Blad3!G2199","v":0},"Oanmäld frånvaro"]
["FRÅNVARO",{"$f":"IN!B2200","v":0},{"$f":"Blad3!E2200","v":""},{"$f":"Blad3!G2200","v":0},"Oanmäld frånvaro"]
["FRÅNVARO",{"$f":"IN!B2201","v":0},{"$f":"Blad3!E2201","v":""},{"$f":"Blad3!G2201","v":0},"Oanmäld frånvaro"]
["FRÅNVARO",{"$f":"IN!B2202","v":0},{"$f":"Blad3!E2202","v":""},{"$f":"Blad3!G2202","v":0},"Oanmäld frånvaro"]
["FRÅNVARO",{"$f":"IN!B2203","v":0},{"$f":"Blad3!E2203","v":""},{"$f":"Blad3!G2203","v":0},"Oanmäld frånvaro"]
["FRÅNVARO",{"$f":"IN!B2204","v":0},{"$f":"Blad3!E2204","v":""},{"$f":"Blad3!G2204","v":0},"Oanmäld frånvaro"]
["FRÅNVARO",{"$f":"IN!B2205","v":0},{"$f":"Blad3!E2205","v":""},{"$f":"Blad3!G2205","v":0},"Oanmäld frånvaro"]
["FRÅNVARO",{"$f":"IN!B2206","v":0},{"$f":"Blad3!E2206","v":""},{"$f":"Blad3!G2206","v":0},"Oanmäld frånvaro"]
["FRÅNVARO",{"$f":"IN!B2207","v":0},{"$f":"Blad3!E2207","v":""},{"$f":"Blad3!G2207","v":0},"Oanmäld frånvaro"]
["FRÅNVARO",{"$f":"IN!B2208","v":0},{"$f":"Blad3!E2208","v":""},{"$f":"Blad3!G2208","v":0},"Oanmäld frånvaro"]
["FRÅNVARO",{"$f":"IN!B2209","v":0},{"$f":"Blad3!E2209","v":""},{"$f":"Blad3!G2209","v":0},"Oanmäld frånvaro"]
["FRÅNVARO",{"$f":"IN!B2210","v":0},{"$f":"Blad3!E2210","v":""},{"$f":"Blad3!G2210","v":0},"Oanmäld frånvaro"]
["FRÅNVARO",{"$f":"IN!B2211","v":0},{"$f":"Blad3!E2211","v":""},{"$f":"Blad3!G2211","v":0},"Oanmäld frånvaro"]
["FRÅNVARO",{"$f":"IN!B2212","v":0},{"$f":"Blad3!E2212","v":""},{"$f":"Blad3!G2212","v":0},"Oanmäld frånvaro"]
["FRÅNVARO",{"$f":"IN!B2213","v":0},{"$f":"Blad3!E2213","v":""},{"$f":"Blad3!G2213","v":0},"Oanmäld frånvaro"]
["FRÅNVARO",{"$f":"IN!B2214","v":0},{"$f":"Blad3!E2214","v":""},{"$f":"Blad3!G2214","v":0},"Oanmäld frånvaro"]
["FRÅNVARO",{"$f":"IN!B2215","v":0},{"$f":"Blad3!E2215","v":""},{"$f":"Blad3!G2215","v":0},"Oanmäld frånvaro"]
["FRÅNVARO",{"$f":"IN!B2216","v":0},{"$f":"Blad3!E2216","v":""},{"$f":"Blad3!G2216","v":0},"Oanmäld frånvaro"]
["FRÅNVARO",{"$f":"IN!B2217","v":0},{"$f":"Blad3!E2217","v":""},{"$f":"Blad3!G2217","v":0},"Oanmäld frånvaro"]
["FRÅNVARO",{"$f":"IN!B2218","v":0},{"$f":"Blad3!E2218","v":""},{"$f":"Blad3!G2218","v":0},"Oanmäld frånvaro"]
["FRÅNVARO",{"$f":"IN!B2219","v":0},{"$f":"Blad3!E2219","v":""},{"$f":"Blad3!G2219","v":0},"Oanmäld frånvaro"]
["FRÅNVARO",{"$f":"IN!B2220","v":0},{"$f":"Blad3!E2220","v":""},{"$f":"Blad3!G2220","v":0},"Oanmäld frånvaro"]
["FRÅNVARO",{"$f":"IN!B2221","v":0},{"$f":"Blad3!E2221","v":""},{"$f":"Blad3!G2221","v":0},"Oanmäld frånvaro"]
["FRÅNVARO",{"$f":"IN!B2222","v":0},{"$f":"Blad3!E2222","v":""},{"$f":"Blad3!G2222","v":0},"Oanmäld frånvaro"]
["FRÅNVARO",{"$f":"IN!B2223","v":0},{"$f":"Blad3!E2223","v":""},{"$f":"Blad3!G2223","v":0},"Oanmäld frånvaro"]
["FRÅNVARO",{"$f":"IN!B2224","v":0},{"$f":"Blad3!E2224","v":""},{"$f":"Blad3!G2224","v":0},"Oanmäld frånvaro"]
["FRÅNVARO",{"$f":"IN!B2225","v":0},{"$f":"Blad3!E2225","v":""},{"$f":"Blad3!G2225","v":0},"Oanmäld frånvaro"]
["FRÅNVARO",{"$f":"IN!B2226","v":0},{"$f":"Blad3!E2226","v":""},{"$f":"Blad3!G2226","v":0},"Oanmäld frånvaro"]
["FRÅNVARO",{"$f":"IN!B2227","v":0},{"$f":"Blad3!E2227","v":""},{"$f":"Blad3!G2227","v":0},"Oanmäld frånvaro"]
["FRÅNVARO",{"$f":"IN!B2228","v":0},{"$f":"Blad3!E2228","v":""},{"$f":"Blad3!G2228","v":0},"Oanmäld frånvaro"]
["FRÅNVARO",{"$f":"IN!B2229","v":0},{"$f":"Blad3!E2229","v":""},{"$f":"Blad3!G2229","v":0},"Oanmäld frånvaro"]
["FRÅNVARO",{"$f":"IN!B2230","v":0},{"$f":"Blad3!E2230","v":""},{"$f":"Blad3!G2230","v":0},"Oanmäld frånvaro"]
["FRÅNVARO",{"$f":"IN!B2231","v":0},{"$f":"Blad3!E2231","v":""},{"$f":"Blad3!G2231","v":0},"Oanmäld frånvaro"]
["FRÅNVARO",{"$f":"IN!B2232","v":0},{"$f":"Blad3!E2232","v":""},{"$f":"Blad3!G2232","v":0},"Oanmäld frånvaro"]
["FRÅNVARO",{"$f":"IN!B2233","v":0},{"$f":"Blad3!E2233","v":""},{"$f":"Blad3!G2233","v":0},"Oanmäld frånvaro"]
["FRÅNVARO",{"$f":"IN!B2234","v":0},{"$f":"Blad3!E2234","v":""},{"$f":"Blad3!G2234","v":0},"Oanmäld frånvaro"]
["FRÅNVARO",{"$f":"IN!B2235","v":0},{"$f":"Blad3!E2235","v":""},{"$f":"Blad3!G2235","v":0},"Oanmäld frånvaro"]
["FRÅNVARO",{"$f":"IN!B2236","v":0},{"$f":"Blad3!E2236","v":""},{"$f":"Blad3!G2236","v":0},"Oanmäld frånvaro"]
["FRÅNVARO",{"$f":"IN!B2237","v":0},{"$f":"Blad3!E2237","v":""},{"$f":"Blad3!G2237","v":0},"Oanmäld frånvaro"]
["FRÅNVARO",{"$f":"IN!B2238","v":0},{"$f":"Blad3!E2238","v":""},{"$f":"Blad3!G2238","v":0},"Oanmäld frånvaro"]
["FRÅNVARO",{"$f":"IN!B2239","v":0},{"$f":"Blad3!E2239","v":""},{"$f":"Blad3!G2239","v":0},"Oanmäld frånvaro"]
["FRÅNVARO",{"$f":"IN!B2240","v":0},{"$f":"Blad3!E2240","v":""},{"$f":"Blad3!G2240","v":0},"Oanmäld frånvaro"]
["FRÅNVARO",{"$f":"IN!B2241","v":0},{"$f":"Blad3!E2241","v":""},{"$f":"Blad3!G2241","v":0},"Oanmäld frånvaro"]
["FRÅNVARO",{"$f":"IN!B2242","v":0},{"$f":"Blad3!E2242","v":""},{"$f":"Blad3!G2242","v":0},"Oanmäld frånvaro"]
["FRÅNVARO",{"$f":"IN!B2243","v":0},{"$f":"Blad3!E2243","v":""},{"$f":"Blad3!G2243","v":0},"Oanmäld frånvaro"]
["FRÅNVARO",{"$f":"IN!B2244","v":0},{"$f":"Blad3!E2244","v":""},{"$f":"Blad3!G2244","v":0},"Oanmäld frånvaro"]
["FRÅNVARO",{"$f":"IN!B2245","v":0},{"$f":"Blad3!E2245","v":""},{"$f":"Blad3!G2245","v":0},"Oanmäld frånvaro"]
["FRÅNVARO",{"$f":"IN!B2246","v":0},{"$f":"Blad3!E2246","v":""},{"$f":"Blad3!G2246","v":0},"Oanmäld frånvaro"]
["FRÅNVARO",{"$f":"IN!B2247","v":0},{"$f":"Blad3!E2247","v":""},{"$f":"Blad3!G2247","v":0},"Oanmäld frånvaro"]
["FRÅNVARO",{"$f":"IN!B2248","v":0},{"$f":"Blad3!E2248","v":""},{"$f":"Blad3!G2248","v":0},"Oanmäld frånvaro"]
["FRÅNVARO",{"$f":"IN!B2249","v":0},{"$f":"Blad3!E2249","v":""},{"$f":"Blad3!G2249","v":0},"Oanmäld frånvaro"]
["FRÅNVARO",{"$f":"IN!B2250","v":0},{"$f":"Blad3!E2250","v":""},{"$f":"Blad3!G2250","v":0},"Oanmäld frånvaro"]
["FRÅNVARO",{"$f":"IN!B2251","v":0},{"$f":"Blad3!E2251","v":""},{"$f":"Blad3!G2251","v":0},"Oanmäld frånvaro"]
["FRÅNVARO",{"$f":"IN!B2252","v":0},{"$f":"Blad3!E2252","v":""},{"$f":"Blad3!G2252","v":0},"Oanmäld frånvaro"]
["FRÅNVARO",{"$f":"IN!B2253","v":0},{"$f":"Blad3!E2253","v":""},{"$f":"Blad3!G2253","v":0},"Oanmäld frånvaro"]
["FRÅNVARO",{"$f":"IN!B2254","v":0},{"$f":"Blad3!E2254","v":""},{"$f":"Blad3!G2254","v":0},"Oanmäld frånvaro"]
["FRÅNVARO",{"$f":"IN!B2255","v":0},{"$f":"Blad3!E2255","v":""},{"$f":"Blad3!G2255","v":0},"Oanmäld frånvaro"]
["FRÅNVARO",{"$f":"IN!B2256","v":0},{"$f":"Blad3!E2256","v":""},{"$f":"Blad3!G2256","v":0},"Oanmäld frånvaro"]
["FRÅNVARO",{"$f":"IN!B2257","v":0},{"$f":"Blad3!E2257","v":""},{"$f":"Blad3!G2257","v":0},"Oanmäld frånvaro"]
["FRÅNVARO",{"$f":"IN!B2258","v":0},{"$f":"Blad3!E2258","v":""},{"$f":"Blad3!G2258","v":0},"Oanmäld frånvaro"]
["FRÅNVARO",{"$f":"IN!B2259","v":0},{"$f":"Blad3!E2259","v":""},{"$f":"Blad3!G2259","v":0},"Oanmäld frånvaro"]
["FRÅNVARO",{"$f":"IN!B2260","v":0},{"$f":"Blad3!E2260","v":""},{"$f":"Blad3!G2260","v":0},"Oanmäld frånvaro"]
["FRÅNVARO",{"$f":"IN!B2261","v":0},{"$f":"Blad3!E2261","v":""},{"$f":"Blad3!G2261","v":0},"Oanmäld frånvaro"]
["FRÅNVARO",{"$f":"IN!B2262","v":0},{"$f":"Blad3!E2262","v":""},{"$f":"Blad3!G2262","v":0},"Oanmäld frånvaro"]
["FRÅNVARO",{"$f":"IN!B2263","v":0},{"$f":"Blad3!E2263","v":""},{"$f":"Blad3!G2263","v":0},"Oanmäld frånvaro"]
["FRÅNVARO",{"$f":"IN!B2264","v":0},{"$f":"Blad3!E2264","v":""},{"$f":"Blad3!G2264","v":0},"Oanmäld frånvaro"]
["FRÅNVARO",{"$f":"IN!B2265","v":0},{"$f":"Blad3!E2265","v":""},{"$f":"Blad3!G2265","v":0},"Oanmäld frånvaro"]
["FRÅNVARO",{"$f":"IN!B2266","v":0},{"$f":"Blad3!E2266","v":""},{"$f":"Blad3!G2266","v":0},"Oanmäld frånvaro"]
["FRÅNVARO",{"$f":"IN!B2267","v":0},{"$f":"Blad3!E2267","v":""},{"$f":"Blad3!G2267","v":0},"Oanmäld frånvaro"]
["FRÅNVARO",{"$f":"IN!B2268","v":0},{"$f":"Blad3!E2268","v":""},{"$f":"Blad3!G2268","v":0},"Oanmäld frånvaro"]
["FRÅNVARO",{"$f":"IN!B2269","v":0},{"$f":"Blad3!E2269","v":""},{"$f":"Blad3!G2269","v":0},"Oanmäld frånvaro"]
["FRÅNVARO",{"$f":"IN!B2270","v":0},{"$f":"Blad3!E2270","v":""},{"$f":"Blad3!G2270","v":0},"Oanmäld frånvaro"]
["FRÅNVARO",{"$f":"IN!B2271","v":0},{"$f":"Blad3!E2271","v":""},{"$f":"Blad3!G2271","v":0},"Oanmäld frånvaro"]
["FRÅNVARO",{"$f":"IN!B2272","v":0},{"$f":"Blad3!E2272","v":""},{"$f":"Blad3!G2272","v":0},"Oanmäld frånvaro"]
["FRÅNVARO",{"$f":"IN!B2273","v":0},{"$f":"Blad3!E2273","v":""},{"$f":"Blad3!G2273","v":0},"Oanmäld frånvaro"]
["FRÅNVARO",{"$f":"IN!B2274","v":0},{"$f":"Blad3!E2274","v":""},{"$f":"Blad3!G2274","v":0},"Oanmäld frånvaro"]
["FRÅNVARO",{"$f":"IN!B2275","v":0},{"$f":"Blad3!E2275","v":""},{"$f":"Blad3!G2275","v":0},"Oanmäld frånvaro"]
["FRÅNVARO",{"$f":"IN!B2276","v":0},{"$f":"Blad3!E2276","v":""},{"$f":"Blad3!G2276","v":0},"Oanmäld frånvaro"]
["FRÅNVARO",{"$f":"IN!B2277","v":0},{"$f":"Blad3!E2277","v":""},{"$f":"Blad3!G2277","v":0},"Oanmäld frånvaro"]
["FRÅNVARO",{"$f":"IN!B2278","v":0},{"$f":"Blad3!E2278","v":""},{"$f":"Blad3!G2278","v":0},"Oanmäld frånvaro"]
["FRÅNVARO",{"$f":"IN!B2279","v":0},{"$f":"Blad3!E2279","v":""},{"$f":"Blad3!G2279","v":0},"Oanmäld frånvaro"]
["FRÅNVARO",{"$f":"IN!B2280","v":0},{"$f":"Blad3!E2280","v":""},{"$f":"Blad3!G2280","v":0},"Oanmäld frånvaro"]
["FRÅNVARO",{"$f":"IN!B2281","v":0},{"$f":"Blad3!E2281","v":""},{"$f":"Blad3!G2281","v":0},"Oanmäld frånvaro"]
["FRÅNVARO",{"$f":"IN!B2282","v":0},{"$f":"Blad3!E2282","v":""},{"$f":"Blad3!G2282","v":0},"Oanmäld frånvaro"]
["FRÅNVARO",{"$f":"IN!B2283","v":0},{"$f":"Blad3!E2283","v":""},{"$f":"Blad3!G2283","v":0},"Oanmäld frånvaro"]
["FRÅNVARO",{"$f":"IN!B2284","v":0},{"$f":"Blad3!E2284","v":""},{"$f":"Blad3!G2284","v":0},"Oanmäld frånvaro"]
["FRÅNVARO",{"$f":"IN!B2285","v":0},{"$f":"Blad3!E2285","v":""},{"$f":"Blad3!G2285","v":0},"Oanmäld frånvaro"]
["FRÅNVARO",{"$f":"IN!B2286","v":0},{"$f":"Blad3!E2286","v":""},{"$f":"Blad3!G2286","v":0},"Oanmäld frånvaro"]
["FRÅNVARO",{"$f":"IN!B2287","v":0},{"$f":"Blad3!E2287","v":""},{"$f":"Blad3!G2287","v":0},"Oanmäld frånvaro"]
["FRÅNVARO",{"$f":"IN!B2288","v":0},{"$f":"Blad3!E2288","v":""},{"$f":"Blad3!G2288","v":0},"Oanmäld frånvaro"]
["FRÅNVARO",{"$f":"IN!B2289","v":0},{"$f":"Blad3!E2289","v":""},{"$f":"Blad3!G2289","v":0},"Oanmäld frånvaro"]
["FRÅNVARO",{"$f":"IN!B2290","v":0},{"$f":"Blad3!E2290","v":""},{"$f":"Blad3!G2290","v":0},"Oanmäld frånvaro"]
["FRÅNVARO",{"$f":"IN!B2291","v":0},{"$f":"Blad3!E2291","v":""},{"$f":"Blad3!G2291","v":0},"Oanmäld frånvaro"]
["FRÅNVARO",{"$f":"IN!B2292","v":0},{"$f":"Blad3!E2292","v":""},{"$f":"Blad3!G2292","v":0},"Oanmäld frånvaro"]
["FRÅNVARO",{"$f":"IN!B2293","v":0},{"$f":"Blad3!E2293","v":""},{"$f":"Blad3!G2293","v":0},"Oanmäld frånvaro"]
["FRÅNVARO",{"$f":"IN!B2294","v":0},{"$f":"Blad3!E2294","v":""},{"$f":"Blad3!G2294","v":0},"Oanmäld frånvaro"]
["FRÅNVARO",{"$f":"IN!B2295","v":0},{"$f":"Blad3!E2295","v":""},{"$f":"Blad3!G2295","v":0},"Oanmäld frånvaro"]
["FRÅNVARO",{"$f":"IN!B2296","v":0},{"$f":"Blad3!E2296","v":""},{"$f":"Blad3!G2296","v":0},"Oanmäld frånvaro"]
["FRÅNVARO",{"$f":"IN!B2297","v":0},{"$f":"Blad3!E2297","v":""},{"$f":"Blad3!G2297","v":0},"Oanmäld frånvaro"]
["FRÅNVARO",{"$f":"IN!B2298","v":0},{"$f":"Blad3!E2298","v":""},{"$f":"Blad3!G2298","v":0},"Oanmäld frånvaro"]
["FRÅNVARO",{"$f":"IN!B2299","v":0},{"$f":"Blad3!E2299","v":""},{"$f":"Blad3!G2299","v":0},"Oanmäld frånvaro"]
["FRÅNVARO",{"$f":"IN!B2300","v":0},{"$f":"Blad3!E2300","v":""},{"$f":"Blad3!G2300","v":0},"Oanmäld frånvaro"]
["FRÅNVARO",{"$f":"IN!B2301","v":0},{"$f":"Blad3!E2301","v":""},{"$f":"Blad3!G2301","v":0},"Oanmäld frånvaro"]
["FRÅNVARO",{"$f":"IN!B2302","v":0},{"$f":"Blad3!E2302","v":""},{"$f":"Blad3!G2302","v":0},"Oanmäld frånvaro"]
["FRÅNVARO",{"$f":"IN!B2303","v":0},{"$f":"Blad3!E2303","v":""},{"$f":"Blad3!G2303","v":0},"Oanmäld frånvaro"]
["FRÅNVARO",{"$f":"IN!B2304","v":0},{"$f":"Blad3!E2304","v":""},{"$f":"Blad3!G2304","v":0},"Oanmäld frånvaro"]
["FRÅNVARO",{"$f":"IN!B2305","v":0},{"$f":"Blad3!E2305","v":""},{"$f":"Blad3!G2305","v":0},"Oanmäld frånvaro"]
["FRÅNVARO",{"$f":"IN!B2306","v":0},{"$f":"Blad3!E2306","v":""},{"$f":"Blad3!G2306","v":0},"Oanmäld frånvaro"]
["FRÅNVARO",{"$f":"IN!B2307","v":0},{"$f":"Blad3!E2307","v":""},{"$f":"Blad3!G2307","v":0},"Oanmäld frånvaro"]
["FRÅNVARO",{"$f":"IN!B2308","v":0},{"$f":"Blad3!E2308","v":""},{"$f":"Blad3!G2308","v":0},"Oanmäld frånvaro"]
["FRÅNVARO",{"$f":"IN!B2309","v":0},{"$f":"Blad3!E2309","v":""},{"$f":"Blad3!G2309","v":0},"Oanmäld frånvaro"]
["FRÅNVARO",{"$f":"IN!B2310","v":0},{"$f":"Blad3!E2310","v":""},{"$f":"Blad3!G2310","v":0},"Oanmäld frånvaro"]
["FRÅNVARO",{"$f":"IN!B2311","v":0},{"$f":"Blad3!E2311","v":""},{"$f":"Blad3!G2311","v":0},"Oanmäld frånvaro"]
["FRÅNVARO",{"$f":"IN!B2312","v":0},{"$f":"Blad3!E2312","v":""},{"$f":"Blad3!G2312","v":0},"Oanmäld frånvaro"]
["FRÅNVARO",{"$f":"IN!B2313","v":0},{"$f":"Blad3!E2313","v":""},{"$f":"Blad3!G2313","v":0},"Oanmäld frånvaro"]
["FRÅNVARO",{"$f":"IN!B2314","v":0},{"$f":"Blad3!E2314","v":""},{"$f":"Blad3!G2314","v":0},"Oanmäld frånvaro"]
["FRÅNVARO",{"$f":"IN!B2315","v":0},{"$f":"Blad3!E2315","v":""},{"$f":"Blad3!G2315","v":0},"Oanmäld frånvaro"]
["FRÅNVARO",{"$f":"IN!B2316","v":0},{"$f":"Blad3!E2316","v":""},{"$f":"Blad3!G2316","v":0},"Oanmäld frånvaro"]
["FRÅNVARO",{"$f":"IN!B2317","v":0},{"$f":"Blad3!E2317","v":""},{"$f":"Blad3!G2317","v":0},"Oanmäld frånvaro"]
["FRÅNVARO",{"$f":"IN!B2318","v":0},{"$f":"Blad3!E2318","v":""},{"$f":"Blad3!G2318","v":0},"Oanmäld frånvaro"]
["FRÅNVARO",{"$f":"IN!B2319","v":0},{"$f":"Blad3!E2319","v":""},{"$f":"Blad3!G2319","v":0},"Oanmäld frånvaro"]
["FRÅNVARO",{"$f":"IN!B2320","v":0},{"$f":"Blad3!E2320","v":""},{"$f":"Blad3!G2320","v":0},"Oanmäld frånvaro"]
["FRÅNVARO",{"$f":"IN!B2321","v":0},{"$f":"Blad3!E2321","v":""},{"$f":"Blad3!G2321","v":0},"Oanmäld frånvaro"]
["FRÅNVARO",{"$f":"IN!B2322","v":0},{"$f":"Blad3!E2322","v":""},{"$f":"Blad3!G2322","v":0},"Oanmäld frånvaro"]
["FRÅNVARO",{"$f":"IN!B2323","v":0},{"$f":"Blad3!E2323","v":""},{"$f":"Blad3!G2323","v":0},"Oanmäld frånvaro"]
["FRÅNVARO",{"$f":"IN!B2324","v":0},{"$f":"Blad3!E2324","v":""},{"$f":"Blad3!G2324","v":0},"Oanmäld frånvaro"]
["FRÅNVARO",{"$f":"IN!B2325","v":0},{"$f":"Blad3!E2325","v":""},{"$f":"Blad3!G2325","v":0},"Oanmäld frånvaro"]
["FRÅNVARO",{"$f":"IN!B2326","v":0},{"$f":"Blad3!E2326","v":""},{"$f":"Blad3!G2326","v":0},"Oanmäld frånvaro"]
["FRÅNVARO",{"$f":"IN!B2327","v":0},{"$f":"Blad3!E2327","v":""},{"$f":"Blad3!G2327","v":0},"Oanmäld frånvaro"]
["FRÅNVARO",{"$f":"IN!B2328","v":0},{"$f":"Blad3!E2328","v":""},{"$f":"Blad3!G2328","v":0},"Oanmäld frånvaro"]
["FRÅNVARO",{"$f":"IN!B2329","v":0},{"$f":"Blad3!E2329","v":""},{"$f":"Blad3!G2329","v":0},"Oanmäld frånvaro"]
["FRÅNVARO",{"$f":"IN!B2330","v":0},{"$f":"Blad3!E2330","v":""},{"$f":"Blad3!G2330","v":0},"Oanmäld frånvaro"]
["FRÅNVARO",{"$f":"IN!B2331","v":0},{"$f":"Blad3!E2331","v":""},{"$f":"Blad3!G2331","v":0},"Oanmäld frånvaro"]
["FRÅNVARO",{"$f":"IN!B2332","v":0},{"$f":"Blad3!E2332","v":""},{"$f":"Blad3!G2332","v":0},"Oanmäld frånvaro"]
["FRÅNVARO",{"$f":"IN!B2333","v":0},{"$f":"Blad3!E2333","v":""},{"$f":"Blad3!G2333","v":0},"Oanmäld frånvaro"]
["FRÅNVARO",{"$f":"IN!B2334","v":0},{"$f":"Blad3!E2334","v":""},{"$f":"Blad3!G2334","v":0},"Oanmäld frånvaro"]
["FRÅNVARO",{"$f":"IN!B2335","v":0},{"$f":"Blad3!E2335","v":""},{"$f":"Blad3!G2335","v":0},"Oanmäld frånvaro"]
["FRÅNVARO",{"$f":"IN!B2336","v":0},{"$f":"Blad3!E2336","v":""},{"$f":"Blad3!G2336","v":0},"Oanmäld frånvaro"]
["FRÅNVARO",{"$f":"IN!B2337","v":0},{"$f":"Blad3!E2337","v":""},{"$f":"Blad3!G2337","v":0},"Oanmäld frånvaro"]
["FRÅNVARO",{"$f":"IN!B2338","v":0},{"$f":"Blad3!E2338","v":""},{"$f":"Blad3!G2338","v":0},"Oanmäld frånvaro"]
["FRÅNVARO",{"$f":"IN!B2339","v":0},{"$f":"Blad3!E2339","v":""},{"$f":"Blad3!G2339","v":0},"Oanmäld frånvaro"]
["FRÅNVARO",{"$f":"IN!B2340","v":0},{"$f":"Blad3!E2340","v":""},{"$f":"Blad3!G2340","v":0},"Oanmäld frånvaro"]
["FRÅNVARO",{"$f":"IN!B2341","v":0},{"$f":"Blad3!E2341","v":""},{"$f":"Blad3!G2341","v":0},"Oanmäld frånvaro"]
["FRÅNVARO",{"$f":"IN!B2342","v":0},{"$f":"Blad3!E2342","v":""},{"$f":"Blad3!G2342","v":0},"Oanmäld frånvaro"]
["FRÅNVARO",{"$f":"IN!B2343","v":0},{"$f":"Blad3!E2343","v":""},{"$f":"Blad3!G2343","v":0},"Oanmäld frånvaro"]
["FRÅNVARO",{"$f":"IN!B2344","v":0},{"$f":"Blad3!E2344","v":""},{"$f":"Blad3!G2344","v":0},"Oanmäld frånvaro"]
["FRÅNVARO",{"$f":"IN!B2345","v":0},{"$f":"Blad3!E2345","v":""},{"$f":"Blad3!G2345","v":0},"Oanmäld frånvaro"]
["FRÅNVARO",{"$f":"IN!B2346","v":0},{"$f":"Blad3!E2346","v":""},{"$f":"Blad3!G2346","v":0},"Oanmäld frånvaro"]
["FRÅNVARO",{"$f":"IN!B2347","v":0},{"$f":"Blad3!E2347","v":""},{"$f":"Blad3!G2347","v":0},"Oanmäld frånvaro"]
["FRÅNVARO",{"$f":"IN!B2348","v":0},{"$f":"Blad3!E2348","v":""},{"$f":"Blad3!G2348","v":0},"Oanmäld frånvaro"]
["FRÅNVARO",{"$f":"IN!B2349","v":0},{"$f":"Blad3!E2349","v":""},{"$f":"Blad3!G2349","v":0},"Oanmäld frånvaro"]
["FRÅNVARO",{"$f":"IN!B2350","v":0},{"$f":"Blad3!E2350","v":""},{"$f":"Blad3!G2350","v":0},"Oanmäld frånvaro"]
["FRÅNVARO",{"$f":"IN!B2351","v":0},{"$f":"Blad3!E2351","v":""},{"$f":"Blad3!G2351","v":0},"Oanmäld frånvaro"]
["FRÅNVARO",{"$f":"IN!B2352","v":0},{"$f":"Blad3!E2352","v":""},{"$f":"Blad3!G2352","v":0},"Oanmäld frånvaro"]
["FRÅNVARO",{"$f":"IN!B2353","v":0},{"$f":"Blad3!E2353","v":""},{"$f":"Blad3!G2353","v":0},"Oanmäld frånvaro"]
["FRÅNVARO",{"$f":"IN!B2354","v":0},{"$f":"Blad3!E2354","v":""},{"$f":"Blad3!G2354","v":0},"Oanmäld frånvaro"]
["FRÅNVARO",{"$f":"IN!B2355","v":0},{"$f":"Blad3!E2355","v":""},{"$f":"Blad3!G2355","v":0},"Oanmäld frånvaro"]
["FRÅNVARO",{"$f":"IN!B2356","v":0},{"$f":"Blad3!E2356","v":""},{"$f":"Blad3!G2356","v":0},"Oanmäld frånvaro"]
["FRÅNVARO",{"$f":"IN!B2357","v":0},{"$f":"Blad3!E2357","v":""},{"$f":"Blad3!G2357","v":0},"Oanmäld frånvaro"]
["FRÅNVARO",{"$f":"IN!B2358","v":0},{"$f":"Blad3!E2358","v":""},{"$f":"Blad3!G2358","v":0},"Oanmäld frånvaro"]
["FRÅNVARO",{"$f":"IN!B2359","v":0},{"$f":"Blad3!E2359","v":""},{"$f":"Blad3!G2359","v":0},"Oanmäld frånvaro"]
["FRÅNVARO",{"$f":"IN!B2360","v":0},{"$f":"Blad3!E2360","v":""},{"$f":"Blad3!G2360","v":0},"Oanmäld frånvaro"]
["FRÅNVARO",{"$f":"IN!B2361","v":0},{"$f":"Blad3!E2361","v":""},{"$f":"Blad3!G2361","v":0},"Oanmäld frånvaro"]
["FRÅNVARO",{"$f":"IN!B2362","v":0},{"$f":"Blad3!E2362","v":""},{"$f":"Blad3!G2362","v":0},"Oanmäld frånvaro"]
["FRÅNVARO",{"$f":"IN!B2363","v":0},{"$f":"Blad3!E2363","v":""},{"$f":"Blad3!G2363","v":0},"Oanmäld frånvaro"]
["FRÅNVARO",{"$f":"IN!B2364","v":0},{"$f":"Blad3!E2364","v":""},{"$f":"Blad3!G2364","v":0},"Oanmäld frånvaro"]
["FRÅNVARO",{"$f":"IN!B2365","v":0},{"$f":"Blad3!E2365","v":""},{"$f":"Blad3!G2365","v":0},"Oanmäld frånvaro"]
["FRÅNVARO",{"$f":"IN!B2366","v":0},{"$f":"Blad3!E2366","v":""},{"$f":"Blad3!G2366","v":0},"Oanmäld frånvaro"]
["FRÅNVARO",{"$f":"IN!B2367","v":0},{"$f":"Blad3!E2367","v":""},{"$f":"Blad3!G2367","v":0},"Oanmäld frånvaro"]
["FRÅNVARO",{"$f":"IN!B2368","v":0},{"$f":"Blad3!E2368","v":""},{"$f":"Blad3!G2368","v":0},"Oanmäld frånvaro"]
["FRÅNVARO",{"$f":"IN!B2369","v":0},{"$f":"Blad3!E2369","v":""},{"$f":"Blad3!G2369","v":0},"Oanmäld frånvaro"]
["FRÅNVARO",{"$f":"IN!B2370","v":0},{"$f":"Blad3!E2370","v":""},{"$f":"Blad3!G2370","v":0},"Oanmäld frånvaro"]
["FRÅNVARO",{"$f":"IN!B2371","v":0},{"$f":"Blad3!E2371","v":""},{"$f":"Blad3!G2371","v":0},"Oanmäld frånvaro"]
["FRÅNVARO",{"$f":"IN!B2372","v":0},{"$f":"Blad3!E2372","v":""},{"$f":"Blad3!G2372","v":0},"Oanmäld frånvaro"]
["FRÅNVARO",{"$f":"IN!B2373","v":0},{"$f":"Blad3!E2373","v":""},{"$f":"Blad3!G2373","v":0},"Oanmäld frånvaro"]
["FRÅNVARO",{"$f":"IN!B2374","v":0},{"$f":"Blad3!E2374","v":""},{"$f":"Blad3!G2374","v":0},"Oanmäld frånvaro"]
["FRÅNVARO",{"$f":"IN!B2375","v":0},{"$f":"Blad3!E2375","v":""},{"$f":"Blad3!G2375","v":0},"Oanmäld frånvaro"]
["FRÅNVARO",{"$f":"IN!B2376","v":0},{"$f":"Blad3!E2376","v":""},{"$f":"Blad3!G2376","v":0},"Oanmäld frånvaro"]
["FRÅNVARO",{"$f":"IN!B2377","v":0},{"$f":"Blad3!E2377","v":""},{"$f":"Blad3!G2377","v":0},"Oanmäld frånvaro"]
["FRÅNVARO",{"$f":"IN!B2378","v":0},{"$f":"Blad3!E2378","v":""},{"$f":"Blad3!G2378","v":0},"Oanmäld frånvaro"]
["FRÅNVARO",{"$f":"IN!B2379","v":0},{"$f":"Blad3!E2379","v":""},{"$f":"Blad3!G2379","v":0},"Oanmäld frånvaro"]
["FRÅNVARO",{"$f":"IN!B2380","v":0},{"$f":"Blad3!E2380","v":""},{"$f":"Blad3!G2380","v":0},"Oanmäld frånvaro"]
["FRÅNVARO",{"$f":"IN!B2381","v":0},{"$f":"Blad3!E2381","v":""},{"$f":"Blad3!G2381","v":0},"Oanmäld frånvaro"]
["FRÅNVARO",{"$f":"IN!B2382","v":0},{"$f":"Blad3!E2382","v":""},{"$f":"Blad3!G2382","v":0},"Oanmäld frånvaro"]
["FRÅNVARO",{"$f":"IN!B2383","v":0},{"$f":"Blad3!E2383","v":""},{"$f":"Blad3!G2383","v":0},"Oanmäld frånvaro"]
["FRÅNVARO",{"$f":"IN!B2384","v":0},{"$f":"Blad3!E2384","v":""},{"$f":"Blad3!G2384","v":0},"Oanmäld frånvaro"]
["FRÅNVARO",{"$f":"IN!B2385","v":0},{"$f":"Blad3!E2385","v":""},{"$f":"Blad3!G2385","v":0},"Oanmäld frånvaro"]
["FRÅNVARO",{"$f":"IN!B2386","v":0},{"$f":"Blad3!E2386","v":""},{"$f":"Blad3!G2386","v":0},"Oanmäld frånvaro"]
["FRÅNVARO",{"$f":"IN!B2387","v":0},{"$f":"Blad3!E2387","v":""},{"$f":"Blad3!G2387","v":0},"Oanmäld frånvaro"]
["FRÅNVARO",{"$f":"IN!B2388","v":0},{"$f":"Blad3!E2388","v":""},{"$f":"Blad3!G2388","v":0},"Oanmäld frånvaro"]
["FRÅNVARO",{"$f":"IN!B2389","v":0},{"$f":"Blad3!E2389","v":""},{"$f":"Blad3!G2389","v":0},"Oanmäld frånvaro"]
["FRÅNVARO",{"$f":"IN!B2390","v":0},{"$f":"Blad3!E2390","v":""},{"$f":"Blad3!G2390","v":0},"Oanmäld frånvaro"]
["FRÅNVARO",{"$f":"IN!B2391","v":0},{"$f":"Blad3!E2391","v":""},{"$f":"Blad3!G2391","v":0},"Oanmäld frånvaro"]
["FRÅNVARO",{"$f":"IN!B2392","v":0},{"$f":"Blad3!E2392","v":""},{"$f":"Blad3!G2392","v":0},"Oanmäld frånvaro"]
["FRÅNVARO",{"$f":"IN!B2393","v":0},{"$f":"Blad3!E2393","v":""},{"$f":"Blad3!G2393","v":0},"Oanmäld frånvaro"]
["FRÅNVARO",{"$f":"IN!B2394","v":0},{"$f":"Blad3!E2394","v":""},{"$f":"Blad3!G2394","v":0},"Oanmäld frånvaro"]
["FRÅNVARO",{"$f":"IN!B2395","v":0},{"$f":"Blad3!E2395","v":""},{"$f":"Blad3!G2395","v":0},"Oanmäld frånvaro"]
["FRÅNVARO",{"$f":"IN!B2396","v":0},{"$f":"Blad3!E2396","v":""},{"$f":"Blad3!G2396","v":0},"Oanmäld frånvaro"]
["FRÅNVARO",{"$f":"IN!B2397","v":0},{"$f":"Blad3!E2397","v":""},{"$f":"Blad3!G2397","v":0},"Oanmäld frånvaro"]
["FRÅNVARO",{"$f":"IN!B2398","v":0},{"$f":"Blad3!E2398","v":""},{"$f":"Blad3!G2398","v":0},"Oanmäld frånvaro"]
["FRÅNVARO",{"$f":"IN!B2399","v":0},{"$f":"Blad3!E2399","v":""},{"$f":"Blad3!G2399","v":0},"Oanmäld frånvaro"]
["FRÅNVARO",{"$f":"IN!B2400","v":0},{"$f":"Blad3!E2400","v":""},{"$f":"Blad3!G2400","v":0},"Oanmäld frånvaro"]
["FRÅNVARO",{"$f":"IN!B2401","v":0},{"$f":"Blad3!E2401","v":""},{"$f":"Blad3!G2401","v":0},"Oanmäld frånvaro"]
["FRÅNVARO",{"$f":"IN!B2402","v":0},{"$f":"Blad3!E2402","v":""},{"$f":"Blad3!G2402","v":0},"Oanmäld frånvaro"]
["FRÅNVARO",{"$f":"IN!B2403","v":0},{"$f":"Blad3!E2403","v":""},{"$f":"Blad3!G2403","v":0},"Oanmäld frånvaro"]
["FRÅNVARO",{"$f":"IN!B2404","v":0},{"$f":"Blad3!E2404","v":""},{"$f":"Blad3!G2404","v":0},"Oanmäld frånvaro"]
["FRÅNVARO",{"$f":"IN!B2405","v":0},{"$f":"Blad3!E2405","v":""},{"$f":"Blad3!G2405","v":0},"Oanmäld frånvaro"]
["FRÅNVARO",{"$f":"IN!B2406","v":0},{"$f":"Blad3!E2406","v":""},{"$f":"Blad3!G2406","v":0},"Oanmäld frånvaro"]
["FRÅNVARO",{"$f":"IN!B2407","v":0},{"$f":"Blad3!E2407","v":""},{"$f":"Blad3!G2407","v":0},"Oanmäld frånvaro"]
["FRÅNVARO",{"$f":"IN!B2408","v":0},{"$f":"Blad3!E2408","v":""},{"$f":"Blad3!G2408","v":0},"Oanmäld frånvaro"]
["FRÅNVARO",{"$f":"IN!B2409","v":0},{"$f":"Blad3!E2409","v":""},{"$f":"Blad3!G2409","v":0},"Oanmäld frånvaro"]
["FRÅNVARO",{"$f":"IN!B2410","v":0},{"$f":"Blad3!E2410","v":""},{"$f":"Blad3!G2410","v":0},"Oanmäld frånvaro"]
["FRÅNVARO",{"$f":"IN!B2411","v":0},{"$f":"Blad3!E2411","v":""},{"$f":"Blad3!G2411","v":0},"Oanmäld frånvaro"]
["FRÅNVARO",{"$f":"IN!B2412","v":0},{"$f":"Blad3!E2412","v":""},{"$f":"Blad3!G2412","v":0},"Oanmäld frånvaro"]
["FRÅNVARO",{"$f":"IN!B2413","v":0},{"$f":"Blad3!E2413","v":""},{"$f":"Blad3!G2413","v":0},"Oanmäld frånvaro"]
["FRÅNVARO",{"$f":"IN!B2414","v":0},{"$f":"Blad3!E2414","v":""},{"$f":"Blad3!G2414","v":0},"Oanmäld frånvaro"]
["FRÅNVARO",{"$f":"IN!B2415","v":0},{"$f":"Blad3!E2415","v":""},{"$f":"Blad3!G2415","v":0},"Oanmäld frånvaro"]
["FRÅNVARO",{"$f":"IN!B2416","v":0},{"$f":"Blad3!E2416","v":""},{"$f":"Blad3!G2416","v":0},"Oanmäld frånvaro"]
["FRÅNVARO",{"$f":"IN!B2417","v":0},{"$f":"Blad3!E2417","v":""},{"$f":"Blad3!G2417","v":0},"Oanmäld frånvaro"]
["FRÅNVARO",{"$f":"IN!B2418","v":0},{"$f":"Blad3!E2418","v":""},{"$f":"Blad3!G2418","v":0},"Oanmäld frånvaro"]
["FRÅNVARO",{"$f":"IN!B2419","v":0},{"$f":"Blad3!E2419","v":""},{"$f":"Blad3!G2419","v":0},"Oanmäld frånvaro"]
["FRÅNVARO",{"$f":"IN!B2420","v":0},{"$f":"Blad3!E2420","v":""},{"$f":"Blad3!G2420","v":0},"Oanmäld frånvaro"]
["FRÅNVARO",{"$f":"IN!B2421","v":0},{"$f":"Blad3!E2421","v":""},{"$f":"Blad3!G2421","v":0},"Oanmäld frånvaro"]
["FRÅNVARO",{"$f":"IN!B2422","v":0},{"$f":"Blad3!E2422","v":""},{"$f":"Blad3!G2422","v":0},"Oanmäld frånvaro"]
["FRÅNVARO",{"$f":"IN!B2423","v":0},{"$f":"Blad3!E2423","v":""},{"$f":"Blad3!G2423","v":0},"Oanmäld frånvaro"]
["FRÅNVARO",{"$f":"IN!B2424","v":0},{"$f":"Blad3!E2424","v":""},{"$f":"Blad3!G2424","v":0},"Oanmäld frånvaro"]
["FRÅNVARO",{"$f":"IN!B2425","v":0},{"$f":"Blad3!E2425","v":""},{"$f":"Blad3!G2425","v":0},"Oanmäld frånvaro"]
["FRÅNVARO",{"$f":"IN!B2426","v":0},{"$f":"Blad3!E2426","v":""},{"$f":"Blad3!G2426","v":0},"Oanmäld frånvaro"]
["FRÅNVARO",{"$f":"IN!B2427","v":0},{"$f":"Blad3!E2427","v":""},{"$f":"Blad3!G2427","v":0},"Oanmäld frånvaro"]
["FRÅNVARO",{"$f":"IN!B2428","v":0},{"$f":"Blad3!E2428","v":""},{"$f":"Blad3!G2428","v":0},"Oanmäld frånvaro"]
["FRÅNVARO",{"$f":"IN!B2429","v":0},{"$f":"Blad3!E2429","v":""},{"$f":"Blad3!G2429","v":0},"Oanmäld frånvaro"]
["FRÅNVARO",{"$f":"IN!B2430","v":0},{"$f":"Blad3!E2430","v":""},{"$f":"Blad3!G2430","v":0},"Oanmäld frånvaro"]
["FRÅNVARO",{"$f":"IN!B2431","v":0},{"$f":"Blad3!E2431","v":""},{"$f":"Blad3!G2431","v":0},"Oanmäld frånvaro"]
["FRÅNVARO",{"$f":"IN!B2432","v":0},{"$f":"Blad3!E2432","v":""},{"$f":"Blad3!G2432","v":0},"Oanmäld frånvaro"]
["FRÅNVARO",{"$f":"IN!B2433","v":0},{"$f":"Blad3!E2433","v":""},{"$f":"Blad3!G2433","v":0},"Oanmäld frånvaro"]
["FRÅNVARO",{"$f":"IN!B2434","v":0},{"$f":"Blad3!E2434","v":""},{"$f":"Blad3!G2434","v":0},"Oanmäld frånvaro"]
["FRÅNVARO",{"$f":"IN!B2435","v":0},{"$f":"Blad3!E2435","v":""},{"$f":"Blad3!G2435","v":0},"Oanmäld frånvaro"]
["FRÅNVARO",{"$f":"IN!B2436","v":0},{"$f":"Blad3!E2436","v":""},{"$f":"Blad3!G2436","v":0},"Oanmäld frånvaro"]
["FRÅNVARO",{"$f":"IN!B2437","v":0},{"$f":"Blad3!E2437","v":""},{"$f":"Blad3!G2437","v":0},"Oanmäld frånvaro"]
["FRÅNVARO",{"$f":"IN!B2438","v":0},{"$f":"Blad3!E2438","v":""},{"$f":"Blad3!G2438","v":0},"Oanmäld frånvaro"]
["FRÅNVARO",{"$f":"IN!B2439","v":0},{"$f":"Blad3!E2439","v":""},{"$f":"Blad3!G2439","v":0},"Oanmäld frånvaro"]
["FRÅNVARO",{"$f":"IN!B2440","v":0},{"$f":"Blad3!E2440","v":""},{"$f":"Blad3!G2440","v":0},"Oanmäld frånvaro"]
["FRÅNVARO",{"$f":"IN!B2441","v":0},{"$f":"Blad3!E2441","v":""},{"$f":"Blad3!G2441","v":0},"Oanmäld frånvaro"]
["FRÅNVARO",{"$f":"IN!B2442","v":0},{"$f":"Blad3!E2442","v":""},{"$f":"Blad3!G2442","v":0},"Oanmäld frånvaro"]
["FRÅNVARO",{"$f":"IN!B2443","v":0},{"$f":"Blad3!E2443","v":""},{"$f":"Blad3!G2443","v":0},"Oanmäld frånvaro"]
["FRÅNVARO",{"$f":"IN!B2444","v":0},{"$f":"Blad3!E2444","v":""},{"$f":"Blad3!G2444","v":0},"Oanmäld frånvaro"]
["FRÅNVARO",{"$f":"IN!B2445","v":0},{"$f":"Blad3!E2445","v":""},{"$f":"Blad3!G2445","v":0},"Oanmäld frånvaro"]
["FRÅNVARO",{"$f":"IN!B2446","v":0},{"$f":"Blad3!E2446","v":""},{"$f":"Blad3!G2446","v":0},"Oanmäld frånvaro"]
["FRÅNVARO",{"$f":"IN!B2447","v":0},{"$f":"Blad3!E2447","v":""},{"$f":"Blad3!G2447","v":0},"Oanmäld frånvaro"]
["FRÅNVARO",{"$f":"IN!B2448","v":0},{"$f":"Blad3!E2448","v":""},{"$f":"Blad3!G2448","v":0},"Oanmäld frånvaro"]
["FRÅNVARO",{"$f":"IN!B2449","v":0},{"$f":"Blad3!E2449","v":""},{"$f":"Blad3!G2449","v":0},"Oanmäld frånvaro"]
["FRÅNVARO",{"$f":"IN!B2450","v":0},{"$f":"Blad3!E2450","v":""},{"$f":"Blad3!G2450","v":0},"Oanmäld frånvaro"]
["FRÅNVARO",{"$f":"IN!B2451","v":0},{"$f":"Blad3!E2451","v":""},{"$f":"Blad3!G2451","v":0},"Oanmäld frånvaro"]
["FRÅNVARO",{"$f":"IN!B2452","v":0},{"$f":"Blad3!E2452","v":""},{"$f":"Blad3!G2452","v":0},"Oanmäld frånvaro"]
["FRÅNVARO",{"$f":"IN!B2453","v":0},{"$f":"Blad3!E2453","v":""},{"$f":"Blad3!G2453","v":0},"Oanmäld frånvaro"]
["FRÅNVARO",{"$f":"IN!B2454","v":0},{"$f":"Blad3!E2454","v":""},{"$f":"Blad3!G2454","v":0},"Oanmäld frånvaro"]
["FRÅNVARO",{"$f":"IN!B2455","v":0},{"$f":"Blad3!E2455","v":""},{"$f":"Blad3!G2455","v":0},"Oanmäld frånvaro"]
["FRÅNVARO",{"$f":"IN!B2456","v":0},{"$f":"Blad3!E2456","v":""},{"$f":"Blad3!G2456","v":0},"Oanmäld frånvaro"]
["FRÅNVARO",{"$f":"IN!B2457","v":0},{"$f":"Blad3!E2457","v":""},{"$f":"Blad3!G2457","v":0},"Oanmäld frånvaro"]
["FRÅNVARO",{"$f":"IN!B2458","v":0},{"$f":"Blad3!E2458","v":""},{"$f":"Blad3!G2458","v":0},"Oanmäld frånvaro"]
["FRÅNVARO",{"$f":"IN!B2459","v":0},{"$f":"Blad3!E2459","v":""},{"$f":"Blad3!G2459","v":0},"Oanmäld frånvaro"]
["FRÅNVARO",{"$f":"IN!B2460","v":0},{"$f":"Blad3!E2460","v":""},{"$f":"Blad3!G2460","v":0},"Oanmäld frånvaro"]
["FRÅNVARO",{"$f":"IN!B2461","v":0},{"$f":"Blad3!E2461","v":""},{"$f":"Blad3!G2461","v":0},"Oanmäld frånvaro"]
["FRÅNVARO",{"$f":"IN!B2462","v":0},{"$f":"Blad3!E2462","v":""},{"$f":"Blad3!G2462","v":0},"Oanmäld frånvaro"]
["FRÅNVARO",{"$f":"IN!B2463","v":0},{"$f":"Blad3!E2463","v":""},{"$f":"Blad3!G2463","v":0},"Oanmäld frånvaro"]
["FRÅNVARO",{"$f":"IN!B2464","v":0},{"$f":"Blad3!E2464","v":""},{"$f":"Blad3!G2464","v":0},"Oanmäld frånvaro"]
["FRÅNVARO",{"$f":"IN!B2465","v":0},{"$f":"Blad3!E2465","v":""},{"$f":"Blad3!G2465","v":0},"Oanmäld frånvaro"]
["FRÅNVARO",{"$f":"IN!B2466","v":0},{"$f":"Blad3!E2466","v":""},{"$f":"Blad3!G2466","v":0},"Oanmäld frånvaro"]
["FRÅNVARO",{"$f":"IN!B2467","v":0},{"$f":"Blad3!E2467","v":""},{"$f":"Blad3!G2467","v":0},"Oanmäld frånvaro"]
["FRÅNVARO",{"$f":"IN!B2468","v":0},{"$f":"Blad3!E2468","v":""},{"$f":"Blad3!G2468","v":0},"Oanmäld frånvaro"]
["FRÅNVARO",{"$f":"IN!B2469","v":0},{"$f":"Blad3!E2469","v":""},{"$f":"Blad3!G2469","v":0},"Oanmäld frånvaro"]
["FRÅNVARO",{"$f":"IN!B2470","v":0},{"$f":"Blad3!E2470","v":""},{"$f":"Blad3!G2470","v":0},"Oanmäld frånvaro"]
["FRÅNVARO",{"$f":"IN!B2471","v":0},{"$f":"Blad3!E2471","v":""},{"$f":"Blad3!G2471","v":0},"Oanmäld frånvaro"]
["FRÅNVARO",{"$f":"IN!B2472","v":0},{"$f":"Blad3!E2472","v":""},{"$f":"Blad3!G2472","v":0},"Oanmäld frånvaro"]
["FRÅNVARO",{"$f":"IN!B2473","v":0},{"$f":"Blad3!E2473","v":""},{"$f":"Blad3!G2473","v":0},"Oanmäld frånvaro"]
["FRÅNVARO",{"$f":"IN!B2474","v":0},{"$f":"Blad3!E2474","v":""},{"$f":"Blad3!G2474","v":0},"Oanmäld frånvaro"]
["FRÅNVARO",{"$f":"IN!B2475","v":0},{"$f":"Blad3!E2475","v":""},{"$f":"Blad3!G2475","v":0},"Oanmäld frånvaro"]
["FRÅNVARO",{"$f":"IN!B2476","v":0},{"$f":"Blad3!E2476","v":""},{"$f":"Blad3!G2476","v":0},"Oanmäld frånvaro"]
["FRÅNVARO",{"$f":"IN!B2477","v":0},{"$f":"Blad3!E2477","v":""},{"$f":"Blad3!G2477","v":0},"Oanmäld frånvaro"]
["FRÅNVARO",{"$f":"IN!B2478","v":0},{"$f":"Blad3!E2478","v":""},{"$f":"Blad3!G2478","v":0},"Oanmäld frånvaro"]
["FRÅNVARO",{"$f":"IN!B2479","v":0},{"$f":"Blad3!E2479","v":""},{"$f":"Blad3!G2479","v":0},"Oanmäld frånvaro"]
["FRÅNVARO",{"$f":"IN!B2480","v":0},{"$f":"Blad3!E2480","v":""},{"$f":"Blad3!G2480","v":0},"Oanmäld frånvaro"]
["FRÅNVARO",{"$f":"IN!B2481","v":0},{"$f":"Blad3!E2481","v":""},{"$f":"Blad3!G2481","v":0},"Oanmäld frånvaro"]
["FRÅNVARO",{"$f":"IN!B2482","v":0},{"$f":"Blad3!E2482","v":""},{"$f":"Blad3!G2482","v":0},"Oanmäld frånvaro"]
["FRÅNVARO",{"$f":"IN!B2483","v":0},{"$f":"Blad3!E2483","v":""},{"$f":"Blad3!G2483","v":0},"Oanmäld frånvaro"]
["FRÅNVARO",{"$f":"IN!B2484","v":0},{"$f":"Blad3!E2484","v":""},{"$f":"Blad3!G2484","v":0},"Oanmäld frånvaro"]
["FRÅNVARO",{"$f":"IN!B2485","v":0},{"$f":"Blad3!E2485","v":""},{"$f":"Blad3!G2485","v":0},"Oanmäld frånvaro"]
["FRÅNVARO",{"$f":"IN!B2486","v":0},{"$f":"Blad3!E2486","v":""},{"$f":"Blad3!G2486","v":0},"Oanmäld frånvaro"]
["FRÅNVARO",{"$f":"IN!B2487","v":0},{"$f":"Blad3!E2487","v":""},{"$f":"Blad3!G2487","v":0},"Oanmäld frånvaro"]
["FRÅNVARO",{"$f":"IN!B2488","v":0},{"$f":"Blad3!E2488","v":""},{"$f":"Blad3!G2488","v":0},"Oanmäld frånvaro"]
["FRÅNVARO",{"$f":"IN!B2489","v":0},{"$f":"Blad3!E2489","v":""},{"$f":"Blad3!G2489","v":0},"Oanmäld frånvaro"]
["FRÅNVARO",{"$f":"IN!B2490","v":0},{"$f":"Blad3!E2490","v":""},{"$f":"Blad3!G2490","v":0},"Oanmäld frånvaro"]
["FRÅNVARO",{"$f":"IN!B2491","v":0},{"$f":"Blad3!E2491","v":""},{"$f":"Blad3!G2491","v":0},"Oanmäld frånvaro"]
["FRÅNVARO",{"$f":"IN!B2492","v":0},{"$f":"Blad3!E2492","v":""},{"$f":"Blad3!G2492","v":0},"Oanmäld frånvaro"]
["FRÅNVARO",{"$f":"IN!B2493","v":0},{"$f":"Blad3!E2493","v":""},{"$f":"Blad3!G2493","v":0},"Oanmäld frånvaro"]
["FRÅNVARO",{"$f":"IN!B2494","v":0},{"$f":"Blad3!E2494","v":""},{"$f":"Blad3!G2494","v":0},"Oanmäld frånvaro"]
["FRÅNVARO",{"$f":"IN!B2495","v":0},{"$f":"Blad3!E2495","v":""},{"$f":"Blad3!G2495","v":0},"Oanmäld frånvaro"]
["FRÅNVARO",{"$f":"IN!B2496","v":0},{"$f":"Blad3!E2496","v":""},{"$f":"Blad3!G2496","v":0},"Oanmäld frånvaro"]
["FRÅNVARO",{"$f":"IN!B2497","v":0},{"$f":"Blad3!E2497","v":""},{"$f":"Blad3!G2497","v":0},"Oanmäld frånvaro"]
["FRÅNVARO",{"$f":"IN!B2498","v":0},{"$f":"Blad3!E2498","v":""},{"$f":"Blad3!G2498","v":0},"Oanmäld frånvaro"]
["FRÅNVARO",{"$f":"IN!B2499","v":0},{"$f":"Blad3!E2499","v":""},{"$f":"Blad3!G2499","v":0},"Oanmäld frånvaro"]
["FRÅNVARO",{"$f":"IN!B2500","v":0},{"$f":"Blad3!E2500","v":""},{"$f":"Blad3!G2500","v":0},"Oanmäld frånvaro"]
["FRÅNVARO",{"$f":"IN!B2501","v":0},{"$f":"Blad3!E2501","v":""},{"$f":"Blad3!G2501","v":0},"Oanmäld frånvaro"]
["FRÅNVARO",{"$f":"IN!B2502","v":0},{"$f":"Blad3!E2502","v":""},{"$f":"Blad3!G2502","v":0},"Oanmäld frånvaro"]
["FRÅNVARO",{"$f":"IN!B2503","v":0},{"$f":"Blad3!E2503","v":""},{"$f":"Blad3!G2503","v":0},"Oanmäld frånvaro"]
["FRÅNVARO",{"$f":"IN!B2504","v":0},{"$f":"Blad3!E2504","v":""},{"$f":"Blad3!G2504","v":0},"Oanmäld frånvaro"]
["FRÅNVARO",{"$f":"IN!B2505","v":0},{"$f":"Blad3!E2505","v":""},{"$f":"Blad3!G2505","v":0},"Oanmäld frånvaro"]
["FRÅNVARO",{"$f":"IN!B2506","v":0},{"$f":"Blad3!E2506","v":""},{"$f":"Blad3!G2506","v":0},"Oanmäld frånvaro"]
["FRÅNVARO",{"$f":"IN!B2507","v":0},{"$f":"Blad3!E2507","v":""},{"$f":"Blad3!G2507","v":0},"Oanmäld frånvaro"]
["FRÅNVARO",{"$f":"IN!B2508","v":0},{"$f":"Blad3!E2508","v":""},{"$f":"Blad3!G2508","v":0},"Oanmäld frånvaro"]
["FRÅNVARO",{"$f":"IN!B2509","v":0},{"$f":"Blad3!E2509","v":""},{"$f":"Blad3!G2509","v":0},"Oanmäld frånvaro"]
["FRÅNVARO",{"$f":"IN!B2510","v":0},{"$f":"Blad3!E2510","v":""},{"$f":"Blad3!G2510","v":0},"Oanmäld frånvaro"]
["FRÅNVARO",{"$f":"IN!B2511","v":0},{"$f":"Blad3!E2511","v":""},{"$f":"Blad3!G2511","v":0},"Oanmäld frånvaro"]
["FRÅNVARO",{"$f":"IN!B2512","v":0},{"$f":"Blad3!E2512","v":""},{"$f":"Blad3!G2512","v":0},"Oanmäld frånvaro"]
["FRÅNVARO",{"$f":"IN!B2513","v":0},{"$f":"Blad3!E2513","v":""},{"$f":"Blad3!G2513","v":0},"Oanmäld frånvaro"]
["FRÅNVARO",{"$f":"IN!B2514","v":0},{"$f":"Blad3!E2514","v":""},{"$f":"Blad3!G2514","v":0},"Oanmäld frånvaro"]
["FRÅNVARO",{"$f":"IN!B2515","v":0},{"$f":"Blad3!E2515","v":""},{"$f":"Blad3!G2515","v":0},"Oanmäld frånvaro"]
["FRÅNVARO",{"$f":"IN!B2516","v":0},{"$f":"Blad3!E2516","v":""},{"$f":"Blad3!G2516","v":0},"Oanmäld frånvaro"]
["FRÅNVARO",{"$f":"IN!B2517","v":0},{"$f":"Blad3!E2517","v":""},{"$f":"Blad3!G2517","v":0},"Oanmäld frånvaro"]
["FRÅNVARO",{"$f":"IN!B2518","v":0},{"$f":"Blad3!E2518","v":""},{"$f":"Blad3!G2518","v":0},"Oanmäld frånvaro"]
["FRÅNVARO",{"$f":"IN!B2519","v":0},{"$f":"Blad3!E2519","v":""},{"$f":"Blad3!G2519","v":0},"Oanmäld frånvaro"]
["FRÅNVARO",{"$f":"IN!B2520","v":0},{"$f":"Blad3!E2520","v":""},{"$f":"Blad3!G2520","v":0},"Oanmäld frånvaro"]
["FRÅNVARO",{"$f":"IN!B2521","v":0},{"$f":"Blad3!E2521","v":""},{"$f":"Blad3!G2521","v":0},"Oanmäld frånvaro"]
["FRÅNVARO",{"$f":"IN!B2522","v":0},{"$f":"Blad3!E2522","v":""},{"$f":"Blad3!G2522","v":0},"Oanmäld frånvaro"]
["FRÅNVARO",{"$f":"IN!B2523","v":0},{"$f":"Blad3!E2523","v":""},{"$f":"Blad3!G2523","v":0},"Oanmäld frånvaro"]
["FRÅNVARO",{"$f":"IN!B2524","v":0},{"$f":"Blad3!E2524","v":""},{"$f":"Blad3!G2524","v":0},"Oanmäld frånvaro"]
["FRÅNVARO",{"$f":"IN!B2525","v":0},{"$f":"Blad3!E2525","v":""},{"$f":"Blad3!G2525","v":0},"Oanmäld frånvaro"]
["FRÅNVARO",{"$f":"IN!B2526","v":0},{"$f":"Blad3!E2526","v":""},{"$f":"Blad3!G2526","v":0},"Oanmäld frånvaro"]
["FRÅNVARO",{"$f":"IN!B2527","v":0},{"$f":"Blad3!E2527","v":""},{"$f":"Blad3!G2527","v":0},"Oanmäld frånvaro"]
["FRÅNVARO",{"$f":"IN!B2528","v":0},{"$f":"Blad3!E2528","v":""},{"$f":"Blad3!G2528","v":0},"Oanmäld frånvaro"]
["FRÅNVARO",{"$f":"IN!B2529","v":0},{"$f":"Blad3!E2529","v":""},{"$f":"Blad3!G2529","v":0},"Oanmäld frånvaro"]
["FRÅNVARO",{"$f":"IN!B2530","v":0},{"$f":"Blad3!E2530","v":""},{"$f":"Blad3!G2530","v":0},"Oanmäld frånvaro"]
["FRÅNVARO",{"$f":"IN!B2531","v":0},{"$f":"Blad3!E2531","v":""},{"$f":"Blad3!G2531","v":0},"Oanmäld frånvaro"]
["FRÅNVARO",{"$f":"IN!B2532","v":0},{"$f":"Blad3!E2532","v":""},{"$f":"Blad3!G2532","v":0},"Oanmäld frånvaro"]
["FRÅNVARO",{"$f":"IN!B2533","v":0},{"$f":"Blad3!E2533","v":""},{"$f":"Blad3!G2533","v":0},"Oanmäld frånvaro"]
["FRÅNVARO",{"$f":"IN!B2534","v":0},{"$f":"Blad3!E2534","v":""},{"$f":"Blad3!G2534","v":0},"Oanmäld frånvaro"]
["FRÅNVARO",{"$f":"IN!B2535","v":0},{"$f":"Blad3!E2535","v":""},{"$f":"Blad3!G2535","v":0},"Oanmäld frånvaro"]
["FRÅNVARO",{"$f":"IN!B2536","v":0},{"$f":"Blad3!E2536","v":""},{"$f":"Blad3!G2536","v":0},"Oanmäld frånvaro"]
["FRÅNVARO",{"$f":"IN!B2537","v":0},{"$f":"Blad3!E2537","v":""},{"$f":"Blad3!G2537","v":0},"Oanmäld frånvaro"]
["FRÅNVARO",{"$f":"IN!B2538","v":0},{"$f":"Blad3!E2538","v":""},{"$f":"Blad3!G2538","v":0},"Oanmäld frånvaro"]
["FRÅNVARO",{"$f":"IN!B2539","v":0},{"$f":"Blad3!E2539","v":""},{"$f":"Blad3!G2539","v":0},"Oanmäld frånvaro"]
["FRÅNVARO",{"$f":"IN!B2540","v":0},{"$f":"Blad3!E2540","v":""},{"$f":"Blad3!G2540","v":0},"Oanmäld frånvaro"]
["FRÅNVARO",{"$f":"IN!B2541","v":0},{"$f":"Blad3!E2541","v":""},{"$f":"Blad3!G2541","v":0},"Oanmäld frånvaro"]
["FRÅNVARO",{"$f":"IN!B2542","v":0},{"$f":"Blad3!E2542","v":""},{"$f":"Blad3!G2542","v":0},"Oanmäld frånvaro"]
["FRÅNVARO",{"$f":"IN!B2543","v":0},{"$f":"Blad3!E2543","v":""},{"$f":"Blad3!G2543","v":0},"Oanmäld frånvaro"]
["FRÅNVARO",{"$f":"IN!B2544","v":0},{"$f":"Blad3!E2544","v":""},{"$f":"Blad3!G2544","v":0},"Oanmäld frånvaro"]
["FRÅNVARO",{"$f":"IN!B2545","v":0},{"$f":"Blad3!E2545","v":""},{"$f":"Blad3!G2545","v":0},"Oanmäld frånvaro"]
["FRÅNVARO",{"$f":"IN!B2546","v":0},{"$f":"Blad3!E2546","v":""},{"$f":"Blad3!G2546","v":0},"Oanmäld frånvaro"]
["FRÅNVARO",{"$f":"IN!B2547","v":0},{"$f":"Blad3!E2547","v":""},{"$f":"Blad3!G2547","v":0},"Oanmäld frånvaro"]
["FRÅNVARO",{"$f":"IN!B2548","v":0},{"$f":"Blad3!E2548","v":""},{"$f":"Blad3!G2548","v":0},"Oanmäld frånvaro"]
["FRÅNVARO",{"$f":"IN!B2549","v":0},{"$f":"Blad3!E2549","v":""},{"$f":"Blad3!G2549","v":0},"Oanmäld frånvaro"]
["FRÅNVARO",{"$f":"IN!B2550","v":0},{"$f":"Blad3!E2550","v":""},{"$f":"Blad3!G2550","v":0},"Oanmäld frånvaro"]
["FRÅNVARO",{"$f":"IN!B2551","v":0},{"$f":"Blad3!E2551","v":""},{"$f":"Blad3!G2551","v":0},"Oanmäld frånvaro"]
["FRÅNVARO",{"$f":"IN!B2552","v":0},{"$f":"Blad3!E2552","v":""},{"$f":"Blad3!G2552","v":0},"Oanmäld frånvaro"]
["FRÅNVARO",{"$f":"IN!B2553","v":0},{"$f":"Blad3!E2553","v":""},{"$f":"Blad3!G2553","v":0},"Oanmäld frånvaro"]
["FRÅNVARO",{"$f":"IN!B2554","v":0},{"$f":"Blad3!E2554","v":""},{"$f":"Blad3!G2554","v":0},"Oanmäld frånvaro"]
["FRÅNVARO",{"$f":"IN!B2555","v":0},{"$f":"Blad3!E2555","v":""},{"$f":"Blad3!G2555","v":0},"Oanmäld frånvaro"]
["FRÅNVARO",{"$f":"IN!B2556","v":0},{"$f":"Blad3!E2556","v":""},{"$f":"Blad3!G2556","v":0},"Oanmäld frånvaro"]
["FRÅNVARO",{"$f":"IN!B2557","v":0},{"$f":"Blad3!E2557","v":""},{"$f":"Blad3!G2557","v":0},"Oanmäld frånvaro"]
["FRÅNVARO",{"$f":"IN!B2558","v":0},{"$f":"Blad3!E2558","v":""},{"$f":"Blad3!G2558","v":0},"Oanmäld frånvaro"]
["FRÅNVARO",{"$f":"IN!B2559","v":0},{"$f":"Blad3!E2559","v":""},{"$f":"Blad3!G2559","v":0},"Oanmäld frånvaro"]
["FRÅNVARO",{"$f":"IN!B2560","v":0},{"$f":"Blad3!E2560","v":""},{"$f":"Blad3!G2560","v":0},"Oanmäld frånvaro"]
["FRÅNVARO",{"$f":"IN!B2561","v":0},{"$f":"Blad3!E2561","v":""},{"$f":"Blad3!G2561","v":0},"Oanmäld frånvaro"]
["FRÅNVARO",{"$f":"IN!B2562","v":0},{"$f":"Blad3!E2562","v":""},{"$f":"Blad3!G2562","v":0},"Oanmäld frånvaro"]
["FRÅNVARO",{"$f":"IN!B2563","v":0},{"$f":"Blad3!E2563","v":""},{"$f":"Blad3!G2563","v":0},"Oanmäld frånvaro"]
["FRÅNVARO",{"$f":"IN!B2564","v":0},{"$f":"Blad3!E2564","v":""},{"$f":"Blad3!G2564","v":0},"Oanmäld frånvaro"]
["FRÅNVARO",{"$f":"IN!B2565","v":0},{"$f":"Blad3!E2565","v":""},{"$f":"Blad3!G2565","v":0},"Oanmäld frånvaro"]
["FRÅNVARO",{"$f":"IN!B2566","v":0},{"$f":"Blad3!E2566","v":""},{"$f":"Blad3!G2566","v":0},"Oanmäld frånvaro"]
["FRÅNVARO",{"$f":"IN!B2567","v":0},{"$f":"Blad3!E2567","v":""},{"$f":"Blad3!G2567","v":0},"Oanmäld frånvaro"]
["FRÅNVARO",{"$f":"IN!B2568","v":0},{"$f":"Blad3!E2568","v":""},{"$f":"Blad3!G2568","v":0},"Oanmäld frånvaro"]
["FRÅNVARO",{"$f":"IN!B2569","v":0},{"$f":"Blad3!E2569","v":""},{"$f":"Blad3!G2569","v":0},"Oanmäld frånvaro"]
["FRÅNVARO",{"$f":"IN!B2570","v":0},{"$f":"Blad3!E2570","v":""},{"$f":"Blad3!G2570","v":0},"Oanmäld frånvaro"]
["FRÅNVARO",{"$f":"IN!B2571","v":0},{"$f":"Blad3!E2571","v":""},{"$f":"Blad3!G2571","v":0},"Oanmäld frånvaro"]
["FRÅNVARO",{"$f":"IN!B2572","v":0},{"$f":"Blad3!E2572","v":""},{"$f":"Blad3!G2572","v":0},"Oanmäld frånvaro"]
["FRÅNVARO",{"$f":"IN!B2573","v":0},{"$f":"Blad3!E2573","v":""},{"$f":"Blad3!G2573","v":0},"Oanmäld frånvaro"]
["FRÅNVARO",{"$f":"IN!B2574","v":0},{"$f":"Blad3!E2574","v":""},{"$f":"Blad3!G2574","v":0},"Oanmäld frånvaro"]
["FRÅNVARO",{"$f":"IN!B2575","v":0},{"$f":"Blad3!E2575","v":""},{"$f":"Blad3!G2575","v":0},"Oanmäld frånvaro"]
["FRÅNVARO",{"$f":"IN!B2576","v":0},{"$f":"Blad3!E2576","v":""},{"$f":"Blad3!G2576","v":0},"Oanmäld frånvaro"]
["FRÅNVARO",{"$f":"IN!B2577","v":0},{"$f":"Blad3!E2577","v":""},{"$f":"Blad3!G2577","v":0},"Oanmäld frånvaro"]
["FRÅNVARO",{"$f":"IN!B2578","v":0},{"$f":"Blad3!E2578","v":""},{"$f":"Blad3!G2578","v":0},"Oanmäld frånvaro"]
["FRÅNVARO",{"$f":"IN!B2579","v":0},{"$f":"Blad3!E2579","v":""},{"$f":"Blad3!G2579","v":0},"Oanmäld frånvaro"]
["FRÅNVARO",{"$f":"IN!B2580","v":0},{"$f":"Blad3!E2580","v":""},{"$f":"Blad3!G2580","v":0},"Oanmäld frånvaro"]
["FRÅNVARO",{"$f":"IN!B2581","v":0},{"$f":"Blad3!E2581","v":""},{"$f":"Blad3!G2581","v":0},"Oanmäld frånvaro"]
["FRÅNVARO",{"$f":"IN!B2582","v":0},{"$f":"Blad3!E2582","v":""},{"$f":"Blad3!G2582","v":0},"Oanmäld frånvaro"]
["FRÅNVARO",{"$f":"IN!B2583","v":0},{"$f":"Blad3!E2583","v":""},{"$f":"Blad3!G2583","v":0},"Oanmäld frånvaro"]
["FRÅNVARO",{"$f":"IN!B2584","v":0},{"$f":"Blad3!E2584","v":""},{"$f":"Blad3!G2584","v":0},"Oanmäld frånvaro"]
["FRÅNVARO",{"$f":"IN!B2585","v":0},{"$f":"Blad3!E2585","v":""},{"$f":"Blad3!G2585","v":0},"Oanmäld frånvaro"]
["FRÅNVARO",{"$f":"IN!B2586","v":0},{"$f":"Blad3!E2586","v":""},{"$f":"Blad3!G2586","v":0},"Oanmäld frånvaro"]
["FRÅNVARO",{"$f":"IN!B2587","v":0},{"$f":"Blad3!E2587","v":""},{"$f":"Blad3!G2587","v":0},"Oanmäld frånvaro"]
["FRÅNVARO",{"$f":"IN!B2588","v":0},{"$f":"Blad3!E2588","v":""},{"$f":"Blad3!G2588","v":0},"Oanmäld frånvaro"]
["FRÅNVARO",{"$f":"IN!B2589","v":0},{"$f":"Blad3!E2589","v":""},{"$f":"Blad3!G2589","v":0},"Oanmäld frånvaro"]
["FRÅNVARO",{"$f":"IN!B2590","v":0},{"$f":"Blad3!E2590","v":""},{"$f":"Blad3!G2590","v":0},"Oanmäld frånvaro"]
["FRÅNVARO",{"$f":"IN!B2591","v":0},{"$f":"Blad3!E2591","v":""},{"$f":"Blad3!G2591","v":0},"Oanmäld frånvaro"]
["FRÅNVARO",{"$f":"IN!B2592","v":0},{"$f":"Blad3!E2592","v":""},{"$f":"Blad3!G2592","v":0},"Oanmäld frånvaro"]
["FRÅNVARO",{"$f":"IN!B2593","v":0},{"$f":"Blad3!E2593","v":""},{"$f":"Blad3!G2593","v":0},"Oanmäld frånvaro"]
["FRÅNVARO",{"$f":"IN!B2594","v":0},{"$f":"Blad3!E2594","v":""},{"$f":"Blad3!G2594","v":0},"Oanmäld frånvaro"]
["FRÅNVARO",{"$f":"IN!B2595","v":0},{"$f":"Blad3!E2595","v":""},{"$f":"Blad3!G2595","v":0},"Oanmäld frånvaro"]
["FRÅNVARO",{"$f":"IN!B2596","v":0},{"$f":"Blad3!E2596","v":""},{"$f":"Blad3!G2596","v":0},"Oanmäld frånvaro"]
["FRÅNVARO",{"$f":"IN!B2597","v":0},{"$f":"Blad3!E2597","v":""},{"$f":"Blad3!G2597","v":0},"Oanmäld frånvaro"]
["FRÅNVARO",{"$f":"IN!B2598","v":0},{"$f":"Blad3!E2598","v":""},{"$f":"Blad3!G2598","v":0},"Oanmäld frånvaro"]
["FRÅNVARO",{"$f":"IN!B2599","v":0},{"$f":"Blad3!E2599","v":""},{"$f":"Blad3!G2599","v":0},"Oanmäld frånvaro"]
["FRÅNVARO",{"$f":"IN!B2600","v":0},{"$f":"Blad3!E2600","v":""},{"$f":"Blad3!G2600","v":0},"Oanmäld frånvaro"]
["FRÅNVARO",{"$f":"IN!B2601","v":0},{"$f":"Blad3!E2601","v":""},{"$f":"Blad3!G2601","v":0},"Oanmäld frånvaro"]
["FRÅNVARO",{"$f":"IN!B2602","v":0},{"$f":"Blad3!E2602","v":""},{"$f":"Blad3!G2602","v":0},"Oanmäld frånvaro"]
["FRÅNVARO",{"$f":"IN!B2603","v":0},{"$f":"Blad3!E2603","v":""},{"$f":"Blad3!G2603","v":0},"Oanmäld frånvaro"]
["FRÅNVARO",{"$f":"IN!B2604","v":0},{"$f":"Blad3!E2604","v":""},{"$f":"Blad3!G2604","v":0},"Oanmäld frånvaro"]
["FRÅNVARO",{"$f":"IN!B2605","v":0},{"$f":"Blad3!E2605","v":""},{"$f":"Blad3!G2605","v":0},"Oanmäld frånvaro"]
["FRÅNVARO",{"$f":"IN!B2606","v":0},{"$f":"Blad3!E2606","v":""},{"$f":"Blad3!G2606","v":0},"Oanmäld frånvaro"]
["FRÅNVARO",{"$f":"IN!B2607","v":0},{"$f":"Blad3!E2607","v":""},{"$f":"Blad3!G2607","v":0},"Oanmäld frånvaro"]
["FRÅNVARO",{"$f":"IN!B2608","v":0},{"$f":"Blad3!E2608","v":""},{"$f":"Blad3!G2608","v":0},"Oanmäld frånvaro"]
["FRÅNVARO",{"$f":"IN!B2609","v":0},{"$f":"Blad3!E2609","v":""},{"$f":"Blad3!G2609","v":0},"Oanmäld frånvaro"]
["FRÅNVARO",{"$f":"IN!B2610","v":0},{"$f":"Blad3!E2610","v":""},{"$f":"Blad3!G2610","v":0},"Oanmäld frånvaro"]
["FRÅNVARO",{"$f":"IN!B2611","v":0},{"$f":"Blad3!E2611","v":""},{"$f":"Blad3!G2611","v":0},"Oanmäld frånvaro"]
["FRÅNVARO",{"$f":"IN!B2612","v":0},{"$f":"Blad3!E2612","v":""},{"$f":"Blad3!G2612","v":0},"Oanmäld frånvaro"]
["FRÅNVARO",{"$f":"IN!B2613","v":0},{"$f":"Blad3!E2613","v":""},{"$f":"Blad3!G2613","v":0},"Oanmäld frånvaro"]
["FRÅNVARO",{"$f":"IN!B2614","v":0},{"$f":"Blad3!E2614","v":""},{"$f":"Blad3!G2614","v":0},"Oanmäld frånvaro"]
["FRÅNVARO",{"$f":"IN!B2615","v":0},{"$f":"Blad3!E2615","v":""},{"$f":"Blad3!G2615","v":0},"Oanmäld frånvaro"]
["FRÅNVARO",{"$f":"IN!B2616","v":0},{"$f":"Blad3!E2616","v":""},{"$f":"Blad3!G2616","v":0},"Oanmäld frånvaro"]
["FRÅNVARO",{"$f":"IN!B2617","v":0},{"$f":"Blad3!E2617","v":""},{"$f":"Blad3!G2617","v":0},"Oanmäld frånvaro"]
["FRÅNVARO",{"$f":"IN!B2618","v":0},{"$f":"Blad3!E2618","v":""},{"$f":"Blad3!G2618","v":0},"Oanmäld frånvaro"]
["FRÅNVARO",{"$f":"IN!B2619","v":0},{"$f":"Blad3!E2619","v":""},{"$f":"Blad3!G2619","v":0},"Oanmäld frånvaro"]
["FRÅNVARO",{"$f":"IN!B2620","v":0},{"$f":"Blad3!E2620","v":""},{"$f":"Blad3!G2620","v":0},"Oanmäld frånvaro"]
["FRÅNVARO",{"$f":"IN!B2621","v":0},{"$f":"Blad3!E2621","v":""},{"$f":"Blad3!G2621","v":0},"Oanmäld frånvaro"]
["FRÅNVARO",{"$f":"IN!B2622","v":0},{"$f":"Blad3!E2622","v":""},{"$f":"Blad3!G2622","v":0},"Oanmäld frånvaro"]
["FRÅNVARO",{"$f":"IN!B2623","v":0},{"$f":"Blad3!E2623","v":""},{"$f":"Blad3!G2623","v":0},"Oanmäld frånvaro"]
["FRÅNVARO",{"$f":"IN!B2624","v":0},{"$f":"Blad3!E2624","v":""},{"$f":"Blad3!G2624","v":0},"Oanmäld frånvaro"]
["FRÅNVARO",{"$f":"IN!B2625","v":0},{"$f":"Blad3!E2625","v":""},{"$f":"Blad3!G2625","v":0},"Oanmäld frånvaro"]
["FRÅNVARO",{"$f":"IN!B2626","v":0},{"$f":"Blad3!E2626","v":""},{"$f":"Blad3!G2626","v":0},"Oanmäld frånvaro"]
["FRÅNVARO",{"$f":"IN!B2627","v":0},{"$f":"Blad3!E2627","v":""},{"$f":"Blad3!G2627","v":0},"Oanmäld frånvaro"]
["FRÅNVARO",{"$f":"IN!B2628","v":0},{"$f":"Blad3!E2628","v":""},{"$f":"Blad3!G2628","v":0},"Oanmäld frånvaro"]
["FRÅNVARO",{"$f":"IN!B2629","v":0},{"$f":"Blad3!E2629","v":""},{"$f":"Blad3!G2629","v":0},"Oanmäld frånvaro"]
["FRÅNVARO",{"$f":"IN!B2630","v":0},{"$f":"Blad3!E2630","v":""},{"$f":"Blad3!G2630","v":0},"Oanmäld frånvaro"]
["FRÅNVARO",{"$f":"IN!B2631","v":0},{"$f":"Blad3!E2631","v":""},{"$f":"Blad3!G2631","v":0},"Oanmäld frånvaro"]
["FRÅNVARO",{"$f":"IN!B2632","v":0},{"$f":"Blad3!E2632","v":""},{"$f":"Blad3!G2632","v":0},"Oanmäld frånvaro"]
["FRÅNVARO",{"$f":"IN!B2633","v":0},{"$f":"Blad3!E2633","v":""},{"$f":"Blad3!G2633","v":0},"Oanmäld frånvaro"]
["FRÅNVARO",{"$f":"IN!B2634","v":0},{"$f":"Blad3!E2634","v":""},{"$f":"Blad3!G2634","v":0},"Oanmäld frånvaro"]
["FRÅNVARO",{"$f":"IN!B2635","v":0},{"$f":"Blad3!E2635","v":""},{"$f":"Blad3!G2635","v":0},"Oanmäld frånvaro"]
["FRÅNVARO",{"$f":"IN!B2636","v":0},{"$f":"Blad3!E2636","v":""},{"$f":"Blad3!G2636","v":0},"Oanmäld frånvaro"]
["FRÅNVARO",{"$f":"IN!B2637","v":0},{"$f":"Blad3!E2637","v":""},{"$f":"Blad3!G2637","v":0},"Oanmäld frånvaro"]
["FRÅNVARO",{"$f":"IN!B2638","v":0},{"$f":"Blad3!E2638","v":""},{"$f":"Blad3!G2638","v":0},"Oanmäld frånvaro"]
["FRÅNVARO",{"$f":"IN!B2639","v":0},{"$f":"Blad3!E2639","v":""},{"$f":"Blad3!G2639","v":0},"Oanmäld frånvaro"]
["FRÅNVARO",{"$f":"IN!B2640","v":0},{"$f":"Blad3!E2640","v":""},{"$f":"Blad3!G2640","v":0},"Oanmäld frånvaro"]
["FRÅNVARO",{"$f":"IN!B2641","v":0},{"$f":"Blad3!E2641","v":""},{"$f":"Blad3!G2641","v":0},"Oanmäld frånvaro"]
["FRÅNVARO",{"$f":"IN!B2642","v":0},{"$f":"Blad3!E2642","v":""},{"$f":"Blad3!G2642","v":0},"Oanmäld frånvaro"]
["FRÅNVARO",{"$f":"IN!B2643","v":0},{"$f":"Blad3!E2643","v":""},{"$f":"Blad3!G2643","v":0},"Oanmäld frånvaro"]
["FRÅNVARO",{"$f":"IN!B2644","v":0},{"$f":"Blad3!E2644","v":""},{"$f":"Blad3!G2644","v":0},"Oanmäld frånvaro"]
["FRÅNVARO",{"$f":"IN!B2645","v":0},{"$f":"Blad3!E2645","v":""},{"$f":"Blad3!G2645","v":0},"Oanmäld frånvaro"]
["FRÅNVARO",{"$f":"IN!B2646","v":0},{"$f":"Blad3!E2646","v":""},{"$f":"Blad3!G2646","v":0},"Oanmäld frånvaro"]
["FRÅNVARO",{"$f":"IN!B2647","v":0},{"$f":"Blad3!E2647","v":""},{"$f":"Blad3!G2647","v":0},"Oanmäld frånvaro"]
["FRÅNVARO",{"$f":"IN!B2648","v":0},{"$f":"Blad3!E2648","v":""},{"$f":"Blad3!G2648","v":0},"Oanmäld frånvaro"]
["FRÅNVARO",{"$f":"IN!B2649","v":0},{"$f":"Blad3!E2649","v":""},{"$f":"Blad3!G2649","v":0},"Oanmäld frånvaro"]
["FRÅNVARO",{"$f":"IN!B2650","v":0},{"$f":"Blad3!E2650","v":""},{"$f":"Blad3!G2650","v":0},"Oanmäld frånvaro"]
["FRÅNVARO",{"$f":"IN!B2651","v":0},{"$f":"Blad3!E2651","v":""},{"$f":"Blad3!G2651","v":0},"Oanmäld frånvaro"]
["FRÅNVARO",{"$f":"IN!B2652","v":0},{"$f":"Blad3!E2652","v":""},{"$f":"Blad3!G2652","v":0},"Oanmäld frånvaro"]
["FRÅNVARO",{"$f":"IN!B2653","v":0},{"$f":"Blad3!E2653","v":""},{"$f":"Blad3!G2653","v":0},"Oanmäld frånvaro"]
["FRÅNVARO",{"$f":"IN!B2654","v":0},{"$f":"Blad3!E2654","v":""},{"$f":"Blad3!G2654","v":0},"Oanmäld frånvaro"]
["FRÅNVARO",{"$f":"IN!B2655","v":0},{"$f":"Blad3!E2655","v":""},{"$f":"Blad3!G2655","v":0},"Oanmäld frånvaro"]
["FRÅNVARO",{"$f":"IN!B2656","v":0},{"$f":"Blad3!E2656","v":""},{"$f":"Blad3!G2656","v":0},"Oanmäld frånvaro"]
["FRÅNVARO",{"$f":"IN!B2657","v":0},{"$f":"Blad3!E2657","v":""},{"$f":"Blad3!G2657","v":0},"Oanmäld frånvaro"]
["FRÅNVARO",{"$f":"IN!B2658","v":0},{"$f":"Blad3!E2658","v":""},{"$f":"Blad3!G2658","v":0},"Oanmäld frånvaro"]
["FRÅNVARO",{"$f":"IN!B2659","v":0},{"$f":"Blad3!E2659","v":""},{"$f":"Blad3!G2659","v":0},"Oanmäld frånvaro"]
["FRÅNVARO",{"$f":"IN!B2660","v":0},{"$f":"Blad3!E2660","v":""},{"$f":"Blad3!G2660","v":0},"Oanmäld frånvaro"]
["FRÅNVARO",{"$f":"IN!B2661","v":0},{"$f":"Blad3!E2661","v":""},{"$f":"Blad3!G2661","v":0},"Oanmäld frånvaro"]
["FRÅNVARO",{"$f":"IN!B2662","v":0},{"$f":"Blad3!E2662","v":""},{"$f":"Blad3!G2662","v":0},"Oanmäld frånvaro"]
["FRÅNVARO",{"$f":"IN!B2663","v":0},{"$f":"Blad3!E2663","v":""},{"$f":"Blad3!G2663","v":0},"Oanmäld frånvaro"]
["FRÅNVARO",{"$f":"IN!B2664","v":0},{"$f":"Blad3!E2664","v":""},{"$f":"Blad3!G2664","v":0},"Oanmäld frånvaro"]
["FRÅNVARO",{"$f":"IN!B2665","v":0},{"$f":"Blad3!E2665","v":""},{"$f":"Blad3!G2665","v":0},"Oanmäld frånvaro"]
["FRÅNVARO",{"$f":"IN!B2666","v":0},{"$f":"Blad3!E2666","v":""},{"$f":"Blad3!G2666","v":0},"Oanmäld frånvaro"]
["FRÅNVARO",{"$f":"IN!B2667","v":0},{"$f":"Blad3!E2667","v":""},{"$f":"Blad3!G2667","v":0},"Oanmäld frånvaro"]
["FRÅNVARO",{"$f":"IN!B2668","v":0},{"$f":"Blad3!E2668","v":""},{"$f":"Blad3!G2668","v":0},"Oanmäld frånvaro"]
["FRÅNVARO",{"$f":"IN!B2669","v":0},{"$f":"Blad3!E2669","v":""},{"$f":"Blad3!G2669","v":0},"Oanmäld frånvaro"]
["FRÅNVARO",{"$f":"IN!B2670","v":0},{"$f":"Blad3!E2670","v":""},{"$f":"Blad3!G2670","v":0},"Oanmäld frånvaro"]
["FRÅNVARO",{"$f":"IN!B2671","v":0},{"$f":"Blad3!E2671","v":""},{"$f":"Blad3!G2671","v":0},"Oanmäld frånvaro"]
["FRÅNVARO",{"$f":"IN!B2672","v":0},{"$f":"Blad3!E2672","v":""},{"$f":"Blad3!G2672","v":0},"Oanmäld frånvaro"]
["FRÅNVARO",{"$f":"IN!B2673","v":0},{"$f":"Blad3!E2673","v":""},{"$f":"Blad3!G2673","v":0},"Oanmäld frånvaro"]
["FRÅNVARO",{"$f":"IN!B2674","v":0},{"$f":"Blad3!E2674","v":""},{"$f":"Blad3!G2674","v":0},"Oanmäld frånvaro"]
["FRÅNVARO",{"$f":"IN!B2675","v":0},{"$f":"Blad3!E2675","v":""},{"$f":"Blad3!G2675","v":0},"Oanmäld frånvaro"]
["FRÅNVARO",{"$f":"IN!B2676","v":0},{"$f":"Blad3!E2676","v":""},{"$f":"Blad3!G2676","v":0},"Oanmäld frånvaro"]
["FRÅNVARO",{"$f":"IN!B2677","v":0},{"$f":"Blad3!E2677","v":""},{"$f":"Blad3!G2677","v":0},"Oanmäld frånvaro"]
["FRÅNVARO",{"$f":"IN!B2678","v":0},{"$f":"Blad3!E2678","v":""},{"$f":"Blad3!G2678","v":0},"Oanmäld frånvaro"]
["FRÅNVARO",{"$f":"IN!B2679","v":0},{"$f":"Blad3!E2679","v":""},{"$f":"Blad3!G2679","v":0},"Oanmäld frånvaro"]
["FRÅNVARO",{"$f":"IN!B2680","v":0},{"$f":"Blad3!E2680","v":""},{"$f":"Blad3!G2680","v":0},"Oanmäld frånvaro"]
["FRÅNVARO",{"$f":"IN!B2681","v":0},{"$f":"Blad3!E2681","v":""},{"$f":"Blad3!G2681","v":0},"Oanmäld frånvaro"]
["FRÅNVARO",{"$f":"IN!B2682","v":0},{"$f":"Blad3!E2682","v":""},{"$f":"Blad3!G2682","v":0},"Oanmäld frånvaro"]
["FRÅNVARO",{"$f":"IN!B2683","v":0},{"$f":"Blad3!E2683","v":""},{"$f":"Blad3!G2683","v":0},"Oanmäld frånvaro"]
["FRÅNVARO",{"$f":"IN!B2684","v":0},{"$f":"Blad3!E2684","v":""},{"$f":"Blad3!G2684","v":0},"Oanmäld frånvaro"]
["FRÅNVARO",{"$f":"IN!B2685","v":0},{"$f":"Blad3!E2685","v":""},{"$f":"Blad3!G2685","v":0},"Oanmäld frånvaro"]
["FRÅNVARO",{"$f":"IN!B2686","v":0},{"$f":"Blad3!E2686","v":""},{"$f":"Blad3!G2686","v":0},"Oanmäld frånvaro"]
["FRÅNVARO",{"$f":"IN!B2687","v":0},{"$f":"Blad3!E2687","v":""},{"$f":"Blad3!G2687","v":0},"Oanmäld frånvaro"]
["FRÅNVARO",{"$f":"IN!B2688","v":0},{"$f":"Blad3!E2688","v":""},{"$f":"Blad3!G2688","v":0},"Oanmäld frånvaro"]
["FRÅNVARO",{"$f":"IN!B2689","v":0},{"$f":"Blad3!E2689","v":""},{"$f":"Blad3!G2689","v":0},"Oanmäld frånvaro"]
["FRÅNVARO",{"$f":"IN!B2690","v":0},{"$f":"Blad3!E2690","v":""},{"$f":"Blad3!G2690","v":0},"Oanmäld frånvaro"]
["FRÅNVARO",{"$f":"IN!B2691","v":0},{"$f":"Blad3!E2691","v":""},{"$f":"Blad3!G2691","v":0},"Oanmäld frånvaro"]
["FRÅNVARO",{"$f":"IN!B2692","v":0},{"$f":"Blad3!E2692","v":""},{"$f":"Blad3!G2692","v":0},"Oanmäld frånvaro"]
["FRÅNVARO",{"$f":"IN!B2693","v":0},{"$f":"Blad3!E2693","v":""},{"$f":"Blad3!G2693","v":0},"Oanmäld frånvaro"]
["FRÅNVARO",{"$f":"IN!B2694","v":0},{"$f":"Blad3!E2694","v":""},{"$f":"Blad3!G2694","v":0},"Oanmäld frånvaro"]
["FRÅNVARO",{"$f":"IN!B2695","v":0},{"$f":"Blad3!E2695","v":""},{"$f":"Blad3!G2695","v":0},"Oanmäld frånvaro"]
["FRÅNVARO",{"$f":"IN!B2696","v":0},{"$f":"Blad3!E2696","v":""},{"$f":"Blad3!G2696","v":0},"Oanmäld frånvaro"]
["FRÅNVARO",{"$f":"IN!B2697","v":0},{"$f":"Blad3!E2697","v":""},{"$f":"Blad3!G2697","v":0},"Oanmäld frånvaro"]
["FRÅNVARO",{"$f":"IN!B2698","v":0},{"$f":"Blad3!E2698","v":""},{"$f":"Blad3!G2698","v":0},"Oanmäld frånvaro"]
["FRÅNVARO",{"$f":"IN!B2699","v":0},{"$f":"Blad3!E2699","v":""},{"$f":"Blad3!G2699","v":0},"Oanmäld frånvaro"]
["FRÅNVARO",{"$f":"IN!B2700","v":0},{"$f":"Blad3!E2700","v":""},{"$f":"Blad3!G2700","v":0},"Oanmäld frånvaro"]
["FRÅNVARO",{"$f":"IN!B2701","v":0},{"$f":"Blad3!E2701","v":""},{"$f":"Blad3!G2701","v":0},"Oanmäld frånvaro"]
["FRÅNVARO",{"$f":"IN!B2702","v":0},{"$f":"Blad3!E2702","v":""},{"$f":"Blad3!G2702","v":0},"Oanmäld frånvaro"]
["FRÅNVARO",{"$f":"IN!B2703","v":0},{"$f":"Blad3!E2703","v":""},{"$f":"Blad3!G2703","v":0},"Oanmäld frånvaro"]
["FRÅNVARO",{"$f":"IN!B2704","v":0},{"$f":"Blad3!E2704","v":""},{"$f":"Blad3!G2704","v":0},"Oanmäld frånvaro"]
["FRÅNVARO",{"$f":"IN!B2705","v":0},{"$f":"Blad3!E2705","v":""},{"$f":"Blad3!G2705","v":0},"Oanmäld frånvaro"]
["FRÅNVARO",{"$f":"IN!B2706","v":0},{"$f":"Blad3!E2706","v":""},{"$f":"Blad3!G2706","v":0},"Oanmäld frånvaro"]
["FRÅNVARO",{"$f":"IN!B2707","v":0},{"$f":"Blad3!E2707","v":""},{"$f":"Blad3!G2707","v":0},"Oanmäld frånvaro"]
["FRÅNVARO",{"$f":"IN!B2708","v":0},{"$f":"Blad3!E2708","v":""},{"$f":"Blad3!G2708","v":0},"Oanmäld frånvaro"]
["FRÅNVARO",{"$f":"IN!B2709","v":0},{"$f":"Blad3!E2709","v":""},{"$f":"Blad3!G2709","v":0},"Oanmäld frånvaro"]
["FRÅNVARO",{"$f":"IN!B2710","v":0},{"$f":"Blad3!E2710","v":""},{"$f":"Blad3!G2710","v":0},"Oanmäld frånvaro"]
["FRÅNVARO",{"$f":"IN!B2711","v":0},{"$f":"Blad3!E2711","v":""},{"$f":"Blad3!G2711","v":0},"Oanmäld frånvaro"]
["FRÅNVARO",{"$f":"IN!B2712","v":0},{"$f":"Blad3!E2712","v":""},{"$f":"Blad3!G2712","v":0},"Oanmäld frånvaro"]
["FRÅNVARO",{"$f":"IN!B2713","v":0},{"$f":"Blad3!E2713","v":""},{"$f":"Blad3!G2713","v":0},"Oanmäld frånvaro"]
["FRÅNVARO",{"$f":"IN!B2714","v":0},{"$f":"Blad3!E2714","v":""},{"$f":"Blad3!G2714","v":0},"Oanmäld frånvaro"]
["FRÅNVARO",{"$f":"IN!B2715","v":0},{"$f":"Blad3!E2715","v":""},{"$f":"Blad3!G2715","v":0},"Oanmäld frånvaro"]
["FRÅNVARO",{"$f":"IN!B2716","v":0},{"$f":"Blad3!E2716","v":""},{"$f":"Blad3!G2716","v":0},"Oanmäld frånvaro"]
["FRÅNVARO",{"$f":"IN!B2717","v":0},{"$f":"Blad3!E2717","v":""},{"$f":"Blad3!G2717","v":0},"Oanmäld frånvaro"]
["FRÅNVARO",{"$f":"IN!B2718","v":0},{"$f":"Blad3!E2718","v":""},{"$f":"Blad3!G2718","v":0},"Oanmäld frånvaro"]
["FRÅNVARO",{"$f":"IN!B2719","v":0},{"$f":"Blad3!E2719","v":""},{"$f":"Blad3!G2719","v":0},"Oanmäld frånvaro"]
["FRÅNVARO",{"$f":"IN!B2720","v":0},{"$f":"Blad3!E2720","v":""},{"$f":"Blad3!G2720","v":0},"Oanmäld frånvaro"]
["FRÅNVARO",{"$f":"IN!B2721","v":0},{"$f":"Blad3!E2721","v":""},{"$f":"Blad3!G2721","v":0},"Oanmäld frånvaro"]
["FRÅNVARO",{"$f":"IN!B2722","v":0},{"$f":"Blad3!E2722","v":""},{"$f":"Blad3!G2722","v":0},"Oanmäld frånvaro"]
["FRÅNVARO",{"$f":"IN!B2723","v":0},{"$f":"Blad3!E2723","v":""},{"$f":"Blad3!G2723","v":0},"Oanmäld frånvaro"]
["FRÅNVARO",{"$f":"IN!B2724","v":0},{"$f":"Blad3!E2724","v":""},{"$f":"Blad3!G2724","v":0},"Oanmäld frånvaro"]
["FRÅNVARO",{"$f":"IN!B2725","v":0},{"$f":"Blad3!E2725","v":""},{"$f":"Blad3!G2725","v":0},"Oanmäld frånvaro"]
["FRÅNVARO",{"$f":"IN!B2726","v":0},{"$f":"Blad3!E2726","v":""},{"$f":"Blad3!G2726","v":0},"Oanmäld frånvaro"]
["FRÅNVARO",{"$f":"IN!B2727","v":0},{"$f":"Blad3!E2727","v":""},{"$f":"Blad3!G2727","v":0},"Oanmäld frånvaro"]
["FRÅNVARO",{"$f":"IN!B2728","v":0},{"$f":"Blad3!E2728","v":""},{"$f":"Blad3!G2728","v":0},"Oanmäld frånvaro"]
["FRÅNVARO",{"$f":"IN!B2729","v":0},{"$f":"Blad3!E2729","v":""},{"$f":"Blad3!G2729","v":0},"Oanmäld frånvaro"]
["FRÅNVARO",{"$f":"IN!B2730","v":0},{"$f":"Blad3!E2730","v":""},{"$f":"Blad3!G2730","v":0},"Oanmäld frånvaro"]
["FRÅNVARO",{"$f":"IN!B2731","v":0},{"$f":"Blad3!E2731","v":""},{"$f":"Blad3!G2731","v":0},"Oanmäld frånvaro"]
["FRÅNVARO",{"$f":"IN!B2732","v":0},{"$f":"Blad3!E2732","v":""},{"$f":"Blad3!G2732","v":0},"Oanmäld frånvaro"]
["FRÅNVARO",{"$f":"IN!B2733","v":0},{"$f":"Blad3!E2733","v":""},{"$f":"Blad3!G2733","v":0},"Oanmäld frånvaro"]
["FRÅNVARO",{"$f":"IN!B2734","v":0},{"$f":"Blad3!E2734","v":""},{"$f":"Blad3!G2734","v":0},"Oanmäld frånvaro"]
["FRÅNVARO",{"$f":"IN!B2735","v":0},{"$f":"Blad3!E2735","v":""},{"$f":"Blad3!G2735","v":0},"Oanmäld frånvaro"]
["FRÅNVARO",{"$f":"IN!B2736","v":0},{"$f":"Blad3!E2736","v":""},{"$f":"Blad3!G2736","v":0},"Oanmäld frånvaro"]
["FRÅNVARO",{"$f":"IN!B2737","v":0},{"$f":"Blad3!E2737","v":""},{"$f":"Blad3!G2737","v":0},"Oanmäld frånvaro"]
["FRÅNVARO",{"$f":"IN!B2738","v":0},{"$f":"Blad3!E2738","v":""},{"$f":"Blad3!G2738","v":0},"Oanmäld frånvaro"]
["FRÅNVARO",{"$f":"IN!B2739","v":0},{"$f":"Blad3!E2739","v":""},{"$f":"Blad3!G2739","v":0},"Oanmäld frånvaro"]
["FRÅNVARO",{"$f":"IN!B2740","v":0},{"$f":"Blad3!E2740","v":""},{"$f":"Blad3!G2740","v":0},"Oanmäld frånvaro"]
["FRÅNVARO",{"$f":"IN!B2741","v":0},{"$f":"Blad3!E2741","v":""},{"$f":"Blad3!G2741","v":0},"Oanmäld frånvaro"]
["FRÅNVARO",{"$f":"IN!B2742","v":0},{"$f":"Blad3!E2742","v":""},{"$f":"Blad3!G2742","v":0},"Oanmäld frånvaro"]
["FRÅNVARO",{"$f":"IN!B2743","v":0},{"$f":"Blad3!E2743","v":""},{"$f":"Blad3!G2743","v":0},"Oanmäld frånvaro"]
["FRÅNVARO",{"$f":"IN!B2744","v":0},{"$f":"Blad3!E2744","v":""},{"$f":"Blad3!G2744","v":0},"Oanmäld frånvaro"]
["FRÅNVARO",{"$f":"IN!B2745","v":0},{"$f":"Blad3!E2745","v":""},{"$f":"Blad3!G2745","v":0},"Oanmäld frånvaro"]
["FRÅNVARO",{"$f":"IN!B2746","v":0},{"$f":"Blad3!E2746","v":""},{"$f":"Blad3!G2746","v":0},"Oanmäld frånvaro"]
["FRÅNVARO",{"$f":"IN!B2747","v":0},{"$f":"Blad3!E2747","v":""},{"$f":"Blad3!G2747","v":0},"Oanmäld frånvaro"]
["FRÅNVARO",{"$f":"IN!B2748","v":0},{"$f":"Blad3!E2748","v":""},{"$f":"Blad3!G2748","v":0},"Oanmäld frånvaro"]
["FRÅNVARO",{"$f":"IN!B2749","v":0},{"$f":"Blad3!E2749","v":""},{"$f":"Blad3!G2749","v":0},"Oanmäld frånvaro"]
["FRÅNVARO",{"$f":"IN!B2750","v":0},{"$f":"Blad3!E2750","v":""},{"$f":"Blad3!G2750","v":0},"Oanmäld frånvaro"]
["FRÅNVARO",{"$f":"IN!B2751","v":0},{"$f":"Blad3!E2751","v":""},{"$f":"Blad3!G2751","v":0},"Oanmäld frånvaro"]
["FRÅNVARO",{"$f":"IN!B2752","v":0},{"$f":"Blad3!E2752","v":""},{"$f":"Blad3!G2752","v":0},"Oanmäld frånvaro"]
["FRÅNVARO",{"$f":"IN!B2753","v":0},{"$f":"Blad3!E2753","v":""},{"$f":"Blad3!G2753","v":0},"Oanmäld frånvaro"]
["FRÅNVARO",{"$f":"IN!B2754","v":0},{"$f":"Blad3!E2754","v":""},{"$f":"Blad3!G2754","v":0},"Oanmäld frånvaro"]
["FRÅNVARO",{"$f":"IN!B2755","v":0},{"$f":"Blad3!E2755","v":""},{"$f":"Blad3!G2755","v":0},"Oanmäld frånvaro"]
["FRÅNVARO",{"$f":"IN!B2756","v":0},{"$f":"Blad3!E2756","v":""},{"$f":"Blad3!G2756","v":0},"Oanmäld frånvaro"]
["FRÅNVARO",{"$f":"IN!B2757","v":0},{"$f":"Blad3!E2757","v":""},{"$f":"Blad3!G2757","v":0},"Oanmäld frånvaro"]
["FRÅNVARO",{"$f":"IN!B2758","v":0},{"$f":"Blad3!E2758","v":""},{"$f":"Blad3!G2758","v":0},"Oanmäld frånvaro"]
["FRÅNVARO",{"$f":"IN!B2759","v":0},{"$f":"Blad3!E2759","v":""},{"$f":"Blad3!G2759","v":0},"Oanmäld frånvaro"]
["FRÅNVARO",{"$f":"IN!B2760","v":0},{"$f":"Blad3!E2760","v":""},{"$f":"Blad3!G2760","v":0},"Oanmäld frånvaro"]
["FRÅNVARO",{"$f":"IN!B2761","v":0},{"$f":"Blad3!E2761","v":""},{"$f":"Blad3!G2761","v":0},"Oanmäld frånvaro"]
["FRÅNVARO",{"$f":"IN!B2762","v":0},{"$f":"Blad3!E2762","v":""},{"$f":"Blad3!G2762","v":0},"Oanmäld frånvaro"]
["FRÅNVARO",{"$f":"IN!B2763","v":0},{"$f":"Blad3!E2763","v":""},{"$f":"Blad3!G2763","v":0},"Oanmäld frånvaro"]
["FRÅNVARO",{"$f":"IN!B2764","v":0},{"$f":"Blad3!E2764","v":""},{"$f":"Blad3!G2764","v":0},"Oanmäld frånvaro"]
["FRÅNVARO",{"$f":"IN!B2765","v":0},{"$f":"Blad3!E2765","v":""},{"$f":"Blad3!G2765","v":0},"Oanmäld frånvaro"]
["FRÅNVARO",{"$f":"IN!B2766","v":0},{"$f":"Blad3!E2766","v":""},{"$f":"Blad3!G2766","v":0},"Oanmäld frånvaro"]
["FRÅNVARO",{"$f":"IN!B2767","v":0},{"$f":"Blad3!E2767","v":""},{"$f":"Blad3!G2767","v":0},"Oanmäld frånvaro"]
["FRÅNVARO",{"$f":"IN!B2768","v":0},{"$f":"Blad3!E2768","v":""},{"$f":"Blad3!G2768","v":0},"Oanmäld frånvaro"]
["FRÅNVARO",{"$f":"IN!B2769","v":0},{"$f":"Blad3!E2769","v":""},{"$f":"Blad3!G2769","v":0},"Oanmäld frånvaro"]
["FRÅNVARO",{"$f":"IN!B2770","v":0},{"$f":"Blad3!E2770","v":""},{"$f":"Blad3!G2770","v":0},"Oanmäld frånvaro"]
["FRÅNVARO",{"$f":"IN!B2771","v":0},{"$f":"Blad3!E2771","v":""},{"$f":"Blad3!G2771","v":0},"Oanmäld frånvaro"]
["FRÅNVARO",{"$f":"IN!B2772","v":0},{"$f":"Blad3!E2772","v":""},{"$f":"Blad3!G2772","v":0},"Oanmäld frånvaro"]
["FRÅNVARO",{"$f":"IN!B2773","v":0},{"$f":"Blad3!E2773","v":""},{"$f":"Blad3!G2773","v":0},"Oanmäld frånvaro"]
["FRÅNVARO",{"$f":"IN!B2774","v":0},{"$f":"Blad3!E2774","v":""},{"$f":"Blad3!G2774","v":0},"Oanmäld frånvaro"]
["FRÅNVARO",{"$f":"IN!B2775","v":0},{"$f":"Blad3!E2775","v":""},{"$f":"Blad3!G2775","v":0},"Oanmäld frånvaro"]
["FRÅNVARO",{"$f":"IN!B2776","v":0},{"$f":"Blad3!E2776","v":""},{"$f":"Blad3!G2776","v":0},"Oanmäld frånvaro"]
["FRÅNVARO",{"$f":"IN!B2777","v":0},{"$f":"Blad3!E2777","v":""},{"$f":"Blad3!G2777","v":0},"Oanmäld frånvaro"]
["FRÅNVARO",{"$f":"IN!B2778","v":0},{"$f":"Blad3!E2778","v":""},{"$f":"Blad3!G2778","v":0},"Oanmäld frånvaro"]
["FRÅNVARO",{"$f":"IN!B2779","v":0},{"$f":"Blad3!E2779","v":""},{"$f":"Blad3!G2779","v":0},"Oanmäld frånvaro"]
["FRÅNVARO",{"$f":"IN!B2780","v":0},{"$f":"Blad3!E2780","v":""},{"$f":"Blad3!G2780","v":0},"Oanmäld frånvaro"]
["FRÅNVARO",{"$f":"IN!B2781","v":0},{"$f":"Blad3!E2781","v":""},{"$f":"Blad3!G2781","v":0},"Oanmäld frånvaro"]
["FRÅNVARO",{"$f":"IN!B2782","v":0},{"$f":"Blad3!E2782","v":""},{"$f":"Blad3!G2782","v":0},"Oanmäld frånvaro"]
["FRÅNVARO",{"$f":"IN!B2783","v":0},{"$f":"Blad3!E2783","v":""},{"$f":"Blad3!G2783","v":0},"Oanmäld frånvaro"]
["FRÅNVARO",{"$f":"IN!B2784","v":0},{"$f":"Blad3!E2784","v":""},{"$f":"Blad3!G2784","v":0},"Oanmäld frånvaro"]
["FRÅNVARO",{"$f":"IN!B2785","v":0},{"$f":"Blad3!E2785","v":""},{"$f":"Blad3!G2785","v":0},"Oanmäld frånvaro"]
["FRÅNVARO",{"$f":"IN!B2786","v":0},{"$f":"Blad3!E2786","v":""},{"$f":"Blad3!G2786","v":0},"Oanmäld frånvaro"]
["FRÅNVARO",{"$f":"IN!B2787","v":0},{"$f":"Blad3!E2787","v":""},{"$f":"Blad3!G2787","v":0},"Oanmäld frånvaro"]
["FRÅNVARO",{"$f":"IN!B2788","v":0},{"$f":"Blad3!E2788","v":""},{"$f":"Blad3!G2788","v":0},"Oanmäld frånvaro"]
["FRÅNVARO",{"$f":"IN!B2789","v":0},{"$f":"Blad3!E2789","v":""},{"$f":"Blad3!G2789","v":0},"Oanmäld frånvaro"]
["FRÅNVARO",{"$f":"IN!B2790","v":0},{"$f":"Blad3!E2790","v":""},{"$f":"Blad3!G2790","v":0},"Oanmäld frånvaro"]
["FRÅNVARO",{"$f":"IN!B2791","v":0},{"$f":"Blad3!E2791","v":""},{"$f":"Blad3!G2791","v":0},"Oanmäld frånvaro"]
["FRÅNVARO",{"$f":"IN!B2792","v":0},{"$f":"Blad3!E2792","v":""},{"$f":"Blad3!G2792","v":0},"Oanmäld frånvaro"]
["FRÅNVARO",{"$f":"IN!B2793","v":0},{"$f":"Blad3!E2793","v":""},{"$f":"Blad3!G2793","v":0},"Oanmäld frånvaro"]
["FRÅNVARO",{"$f":"IN!B2794","v":0},{"$f":"Blad3!E2794","v":""},{"$f":"Blad3!G2794","v":0},"Oanmäld frånvaro"]
["FRÅNVARO",{"$f":"IN!B2795","v":0},{"$f":"Blad3!E2795","v":""},{"$f":"Blad3!G2795","v":0},"Oanmäld frånvaro"]
["FRÅNVARO",{"$f":"IN!B2796","v":0},{"$f":"Blad3!E2796","v":""},{"$f":"Blad3!G2796","v":0},"Oanmäld frånvaro"]
["FRÅNVARO",{"$f":"IN!B2797","v":0},{"$f":"Blad3!E2797","v":""},{"$f":"Blad3!G2797","v":0},"Oanmäld frånvaro"]
["FRÅNVARO",{"$f":"IN!B2798","v":0},{"$f":"Blad3!E2798","v":""},{"$f":"Blad3!G2798","v":0},"Oanmäld frånvaro"]
["FRÅNVARO",{"$f":"IN!B2799","v":0},{"$f":"Blad3!E2799","v":""},{"$f":"Blad3!G2799","v":0},"Oanmäld frånvaro"]
["FRÅNVARO",{"$f":"IN!B2800","v":0},{"$f":"Blad3!E2800","v":""},{"$f":"Blad3!G2800","v":0},"Oanmäld frånvaro"]
["FRÅNVARO",{"$f":"IN!B2801","v":0},{"$f":"Blad3!E2801","v":""},{"$f":"Blad3!G2801","v":0},"Oanmäld frånvaro"]
["FRÅNVARO",{"$f":"IN!B2802","v":0},{"$f":"Blad3!E2802","v":""},{"$f":"Blad3!G2802","v":0},"Oanmäld frånvaro"]
["FRÅNVARO",{"$f":"IN!B2803","v":0},{"$f":"Blad3!E2803","v":""},{"$f":"Blad3!G2803","v":0},"Oanmäld frånvaro"]
["FRÅNVARO",{"$f":"IN!B2804","v":0},{"$f":"Blad3!E2804","v":""},{"$f":"Blad3!G2804","v":0},"Oanmäld frånvaro"]
["FRÅNVARO",{"$f":"IN!B2805","v":0},{"$f":"Blad3!E2805","v":""},{"$f":"Blad3!G2805","v":0},"Oanmäld frånvaro"]
["FRÅNVARO",{"$f":"IN!B2806","v":0},{"$f":"Blad3!E2806","v":""},{"$f":"Blad3!G2806","v":0},"Oanmäld frånvaro"]
["FRÅNVARO",{"$f":"IN!B2807","v":0},{"$f":"Blad3!E2807","v":""},{"$f":"Blad3!G2807","v":0},"Oanmäld frånvaro"]
["FRÅNVARO",{"$f":"IN!B2808","v":0},{"$f":"Blad3!E2808","v":""},{"$f":"Blad3!G2808","v":0},"Oanmäld frånvaro"]
["FRÅNVARO",{"$f":"IN!B2809","v":0},{"$f":"Blad3!E2809","v":""},{"$f":"Blad3!G2809","v":0},"Oanmäld frånvaro"]
["FRÅNVARO",{"$f":"IN!B2810","v":0},{"$f":"Blad3!E2810","v":""},{"$f":"Blad3!G2810","v":0},"Oanmäld frånvaro"]
["FRÅNVARO",{"$f":"IN!B2811","v":0},{"$f":"Blad3!E2811","v":""},{"$f":"Blad3!G2811","v":0},"Oanmäld frånvaro"]
["FRÅNVARO",{"$f":"IN!B2812","v":0},{"$f":"Blad3!E2812","v":""},{"$f":"Blad3!G2812","v":0},"Oanmäld frånvaro"]
["FRÅNVARO",{"$f":"IN!B2813","v":0},{"$f":"Blad3!E2813","v":""},{"$f":"Blad3!G2813","v":0},"Oanmäld frånvaro"]
["FRÅNVARO",{"$f":"IN!B2814","v":0},{"$f":"Blad3!E2814","v":""},{"$f":"Blad3!G2814","v":0},"Oanmäld frånvaro"]
["FRÅNVARO",{"$f":"IN!B2815","v":0},{"$f":"Blad3!E2815","v":""},{"$f":"Blad3!G2815","v":0},"Oanmäld frånvaro"]
["FRÅNVARO",{"$f":"IN!B2816","v":0},{"$f":"Blad3!E2816","v":""},{"$f":"Blad3!G2816","v":0},"Oanmäld frånvaro"]
["FRÅNVARO",{"$f":"IN!B2817","v":0},{"$f":"Blad3!E2817","v":""},{"$f":"Blad3!G2817","v":0},"Oanmäld frånvaro"]
["FRÅNVARO",{"$f":"IN!B2818","v":0},{"$f":"Blad3!E2818","v":""},{"$f":"Blad3!G2818","v":0},"Oanmäld frånvaro"]
["FRÅNVARO",{"$f":"IN!B2819","v":0},{"$f":"Blad3!E2819","v":""},{"$f":"Blad3!G2819","v":0},"Oanmäld frånvaro"]
["FRÅNVARO",{"$f":"IN!B2820","v":0},{"$f":"Blad3!E2820","v":""},{"$f":"Blad3!G2820","v":0},"Oanmäld frånvaro"]
["FRÅNVARO",{"$f":"IN!B2821","v":0},{"$f":"Blad3!E2821","v":""},{"$f":"Blad3!G2821","v":0},"Oanmäld frånvaro"]
["FRÅNVARO",{"$f":"IN!B2822","v":0},{"$f":"Blad3!E2822","v":""},{"$f":"Blad3!G2822","v":0},"Oanmäld frånvaro"]
["FRÅNVARO",{"$f":"IN!B2823","v":0},{"$f":"Blad3!E2823","v":""},{"$f":"Blad3!G2823","v":0},"Oanmäld frånvaro"]
["FRÅNVARO",{"$f":"IN!B2824","v":0},{"$f":"Blad3!E2824","v":""},{"$f":"Blad3!G2824","v":0},"Oanmäld frånvaro"]
["FRÅNVARO",{"$f":"IN!B2825","v":0},{"$f":"Blad3!E2825","v":""},{"$f":"Blad3!G2825","v":0},"Oanmäld frånvaro"]
["FRÅNVARO",{"$f":"IN!B2826","v":0},{"$f":"Blad3!E2826","v":""},{"$f":"Blad3!G2826","v":0},"Oanmäld frånvaro"]
["FRÅNVARO",{"$f":"IN!B2827","v":0},{"$f":"Blad3!E2827","v":""},{"$f":"Blad3!G2827","v":0},"Oanmäld frånvaro"]
["FRÅNVARO",{"$f":"IN!B2828","v":0},{"$f":"Blad3!E2828","v":""},{"$f":"Blad3!G2828","v":0},"Oanmäld frånvaro"]
["FRÅNVARO",{"$f":"IN!B2829","v":0},{"$f":"Blad3!E2829","v":""},{"$f":"Blad3!G2829","v":0},"Oanmäld frånvaro"]
["FRÅNVARO",{"$f":"IN!B2830","v":0},{"$f":"Blad3!E2830","v":""},{"$f":"Blad3!G2830","v":0},"Oanmäld frånvaro"]
["FRÅNVARO",{"$f":"IN!B2831","v":0},{"$f":"Blad3!E2831","v":""},{"$f":"Blad3!G2831","v":0},"Oanmäld frånvaro"]
["FRÅNVARO",{"$f":"IN!B2832","v":0},{"$f":"Blad3!E2832","v":""},{"$f":"Blad3!G2832","v":0},"Oanmäld frånvaro"]
["FRÅNVARO",{"$f":"IN!B2833","v":0},{"$f":"Blad3!E2833","v":""},{"$f":"Blad3!G2833","v":0},"Oanmäld frånvaro"]
["FRÅNVARO",{"$f":"IN!B2834","v":0},{"$f":"Blad3!E2834","v":""},{"$f":"Blad3!G2834","v":0},"Oanmäld frånvaro"]
["FRÅNVARO",{"$f":"IN!B2835","v":0},{"$f":"Blad3!E2835","v":""},{"$f":"Blad3!G2835","v":0},"Oanmäld frånvaro"]
["FRÅNVARO",{"$f":"IN!B2836","v":0},{"$f":"Blad3!E2836","v":""},{"$f":"Blad3!G2836","v":0},"Oanmäld frånvaro"]
["FRÅNVARO",{"$f":"IN!B2837","v":0},{"$f":"Blad3!E2837","v":""},{"$f":"Blad3!G2837","v":0},"Oanmäld frånvaro"]
["FRÅNVARO",{"$f":"IN!B2838","v":0},{"$f":"Blad3!E2838","v":""},{"$f":"Blad3!G2838","v":0},"Oanmäld frånvaro"]
["FRÅNVARO",{"$f":"IN!B2839","v":0},{"$f":"Blad3!E2839","v":""},{"$f":"Blad3!G2839","v":0},"Oanmäld frånvaro"]
["FRÅNVARO",{"$f":"IN!B2840","v":0},{"$f":"Blad3!E2840","v":""},{"$f":"Blad3!G2840","v":0},"Oanmäld frånvaro"]
["FRÅNVARO",{"$f":"IN!B2841","v":0},{"$f":"Blad3!E2841","v":""},{"$f":"Blad3!G2841","v":0},"Oanmäld frånvaro"]
["FRÅNVARO",{"$f":"IN!B2842","v":0},{"$f":"Blad3!E2842","v":""},{"$f":"Blad3!G2842","v":0},"Oanmäld frånvaro"]
["FRÅNVARO",{"$f":"IN!B2843","v":0},{"$f":"Blad3!E2843","v":""},{"$f":"Blad3!G2843","v":0},"Oanmäld frånvaro"]
["FRÅNVARO",{"$f":"IN!B2844","v":0},{"$f":"Blad3!E2844","v":""},{"$f":"Blad3!G2844","v":0},"Oanmäld frånvaro"]
["FRÅNVARO",{"$f":"IN!B2845","v":0},{"$f":"Blad3!E2845","v":""},{"$f":"Blad3!G2845","v":0},"Oanmäld frånvaro"]
["FRÅNVARO",{"$f":"IN!B2846","v":0},{"$f":"Blad3!E2846","v":""},{"$f":"Blad3!G2846","v":0},"Oanmäld frånvaro"]
["FRÅNVARO",{"$f":"IN!B2847","v":0},{"$f":"Blad3!E2847","v":""},{"$f":"Blad3!G2847","v":0},"Oanmäld frånvaro"]
["FRÅNVARO",{"$f":"IN!B2848","v":0},{"$f":"Blad3!E2848","v":""},{"$f":"Blad3!G2848","v":0},"Oanmäld frånvaro"]
["FRÅNVARO",{"$f":"IN!B2849","v":0},{"$f":"Blad3!E2849","v":""},{"$f":"Blad3!G2849","v":0},"Oanmäld frånvaro"]
["FRÅNVARO",{"$f":"IN!B2850","v":0},{"$f":"Blad3!E2850","v":""},{"$f":"Blad3!G2850","v":0},"Oanmäld frånvaro"]
["FRÅNVARO",{"$f":"IN!B2851","v":0},{"$f":"Blad3!E2851","v":""},{"$f":"Blad3!G2851","v":0},"Oanmäld frånvaro"]
["FRÅNVARO",{"$f":"IN!B2852","v":0},{"$f":"Blad3!E2852","v":""},{"$f":"Blad3!G2852","v":0},"Oanmäld frånvaro"]
["FRÅNVARO",{"$f":"IN!B2853","v":0},{"$f":"Blad3!E2853","v":""},{"$f":"Blad3!G2853","v":0},"Oanmäld frånvaro"]
["FRÅNVARO",{"$f":"IN!B2854","v":0},{"$f":"Blad3!E2854","v":""},{"$f":"Blad3!G2854","v":0},"Oanmäld frånvaro"]
["FRÅNVARO",{"$f":"IN!B2855","v":0},{"$f":"Blad3!E2855","v":""},{"$f":"Blad3!G2855","v":0},"Oanmäld frånvaro"]
["FRÅNVARO",{"$f":"IN!B2856","v":0},{"$f":"Blad3!E2856","v":""},{"$f":"Blad3!G2856","v":0},"Oanmäld frånvaro"]
["FRÅNVARO",{"$f":"IN!B2857","v":0},{"$f":"Blad3!E2857","v":""},{"$f":"Blad3!G2857","v":0},"Oanmäld frånvaro"]
["FRÅNVARO",{"$f":"IN!B2858","v":0},{"$f":"Blad3!E2858","v":""},{"$f":"Blad3!G2858","v":0},"Oanmäld frånvaro"]
["FRÅNVARO",{"$f":"IN!B2859","v":0},{"$f":"Blad3!E2859","v":""},{"$f":"Blad3!G2859","v":0},"Oanmäld frånvaro"]
["FRÅNVARO",{"$f":"IN!B2860","v":0},{"$f":"Blad3!E2860","v":""},{"$f":"Blad3!G2860","v":0},"Oanmäld frånvaro"]
["FRÅNVARO",{"$f":"IN!B2861","v":0},{"$f":"Blad3!E2861","v":""},{"$f":"Blad3!G2861","v":0},"Oanmäld frånvaro"]
["FRÅNVARO",{"$f":"IN!B2862","v":0},{"$f":"Blad3!E2862","v":""},{"$f":"Blad3!G2862","v":0},"Oanmäld frånvaro"]
["FRÅNVARO",{"$f":"IN!B2863","v":0},{"$f":"Blad3!E2863","v":""},{"$f":"Blad3!G2863","v":0},"Oanmäld frånvaro"]
["FRÅNVARO",{"$f":"IN!B2864","v":0},{"$f":"Blad3!E2864","v":""},{"$f":"Blad3!G2864","v":0},"Oanmäld frånvaro"]
["FRÅNVARO",{"$f":"IN!B2865","v":0},{"$f":"Blad3!E2865","v":""},{"$f":"Blad3!G2865","v":0},"Oanmäld frånvaro"]
["FRÅNVARO",{"$f":"IN!B2866","v":0},{"$f":"Blad3!E2866","v":""},{"$f":"Blad3!G2866","v":0},"Oanmäld frånvaro"]
["FRÅNVARO",{"$f":"IN!B2867","v":0},{"$f":"Blad3!E2867","v":""},{"$f":"Blad3!G2867","v":0},"Oanmäld frånvaro"]
["FRÅNVARO",{"$f":"IN!B2868","v":0},{"$f":"Blad3!E2868","v":""},{"$f":"Blad3!G2868","v":0},"Oanmäld frånvaro"]
["FRÅNVARO",{"$f":"IN!B2869","v":0},{"$f":"Blad3!E2869","v":""},{"$f":"Blad3!G2869","v":0},"Oanmäld frånvaro"]
["FRÅNVARO",{"$f":"IN!B2870","v":0},{"$f":"Blad3!E2870","v":""},{"$f":"Blad3!G2870","v":0},"Oanmäld frånvaro"]
["FRÅNVARO",{"$f":"IN!B2871","v":0},{"$f":"Blad3!E2871","v":""},{"$f":"Blad3!G2871","v":0},"Oanmäld frånvaro"]
["FRÅNVARO",{"$f":"IN!B2872","v":0},{"$f":"Blad3!E2872","v":""},{"$f":"Blad3!G2872","v":0},"Oanmäld frånvaro"]
["FRÅNVARO",{"$f":"IN!B2873","v":0},{"$f":"Blad3!E2873","v":""},{"$f":"Blad3!G2873","v":0},"Oanmäld frånvaro"]
["FRÅNVARO",{"$f":"IN!B2874","v":0},{"$f":"Blad3!E2874","v":""},{"$f":"Blad3!G2874","v":0},"Oanmäld frånvaro"]
["FRÅNVARO",{"$f":"IN!B2875","v":0},{"$f":"Blad3!E2875","v":""},{"$f":"Blad3!G2875","v":0},"Oanmäld frånvaro"]
["FRÅNVARO",{"$f":"IN!B2876","v":0},{"$f":"Blad3!E2876","v":""},{"$f":"Blad3!G2876","v":0},"Oanmäld frånvaro"]
["FRÅNVARO",{"$f":"IN!B2877","v":0},{"$f":"Blad3!E2877","v":""},{"$f":"Blad3!G2877","v":0},"Oanmäld frånvaro"]
["FRÅNVARO",{"$f":"IN!B2878","v":0},{"$f":"Blad3!E2878","v":""},{"$f":"Blad3!G2878","v":0},"Oanmäld frånvaro"]
["FRÅNVARO",{"$f":"IN!B2879","v":0},{"$f":"Blad3!E2879","v":""},{"$f":"Blad3!G2879","v":0},"Oanmäld frånvaro"]
["FRÅNVARO",{"$f":"IN!B2880","v":0},{"$f":"Blad3!E2880","v":""},{"$f":"Blad3!G2880","v":0},"Oanmäld frånvaro"]
["FRÅNVARO",{"$f":"IN!B2881","v":0},{"$f":"Blad3!E2881","v":""},{"$f":"Blad3!G2881","v":0},"Oanmäld frånvaro"]
["FRÅNVARO",{"$f":"IN!B2882","v":0},{"$f":"Blad3!E2882","v":""},{"$f":"Blad3!G2882","v":0},"Oanmäld frånvaro"]
["FRÅNVARO",{"$f":"IN!B2883","v":0},{"$f":"Blad3!E2883","v":""},{"$f":"Blad3!G2883","v":0},"Oanmäld frånvaro"]
["FRÅNVARO",{"$f":"IN!B2884","v":0},{"$f":"Blad3!E2884","v":""},{"$f":"Blad3!G2884","v":0},"Oanmäld frånvaro"]
["FRÅNVARO",{"$f":"IN!B2885","v":0},{"$f":"Blad3!E2885","v":""},{"$f":"Blad3!G2885","v":0},"Oanmäld frånvaro"]
["FRÅNVARO",{"$f":"IN!B2886","v":0},{"$f":"Blad3!E2886","v":""},{"$f":"Blad3!G2886","v":0},"Oanmäld frånvaro"]
["FRÅNVARO",{"$f":"IN!B2887","v":0},{"$f":"Blad3!E2887","v":""},{"$f":"Blad3!G2887","v":0},"Oanmäld frånvaro"]
["FRÅNVARO",{"$f":"IN!B2888","v":0},{"$f":"Blad3!E2888","v":""},{"$f":"Blad3!G2888","v":0},"Oanmäld frånvaro"]
["FRÅNVARO",{"$f":"IN!B2889","v":0},{"$f":"Blad3!E2889","v":""},{"$f":"Blad3!G2889","v":0},"Oanmäld frånvaro"]
["FRÅNVARO",{"$f":"IN!B2890","v":0},{"$f":"Blad3!E2890","v":""},{"$f":"Blad3!G2890","v":0},"Oanmäld frånvaro"]
["FRÅNVARO",{"$f":"IN!B2891","v":0},{"$f":"Blad3!E2891","v":""},{"$f":"Blad3!G2891","v":0},"Oanmäld frånvaro"]
["FRÅNVARO",{"$f":"IN!B2892","v":0},{"$f":"Blad3!E2892","v":""},{"$f":"Blad3!G2892","v":0},"Oanmäld frånvaro"]
["FRÅNVARO",{"$f":"IN!B2893","v":0},{"$f":"Blad3!E2893","v":""},{"$f":"Blad3!G2893","v":0},"Oanmäld frånvaro"]
["FRÅNVARO",{"$f":"IN!B2894","v":0},{"$f":"Blad3!E2894","v":""},{"$f":"Blad3!G2894","v":0},"Oanmäld frånvaro"]
["FRÅNVARO",{"$f":"IN!B2895","v":0},{"$f":"Blad3!E2895","v":""},{"$f":"Blad3!G2895","v":0},"Oanmäld frånvaro"]
["FRÅNVARO",{"$f":"IN!B2896","v":0},{"$f":"Blad3!E2896","v":""},{"$f":"Blad3!G2896","v":0},"Oanmäld frånvaro"]
["FRÅNVARO",{"$f":"IN!B2897","v":0},{"$f":"Blad3!E2897","v":""},{"$f":"Blad3!G2897","v":0},"Oanmäld frånvaro"]
["FRÅNVARO",{"$f":"IN!B2898","v":0},{"$f":"Blad3!E2898","v":""},{"$f":"Blad3!G2898","v":0},"Oanmäld frånvaro"]
["FRÅNVARO",{"$f":"IN!B2899","v":0},{"$f":"Blad3!E2899","v":""},{"$f":"Blad3!G2899","v":0},"Oanmäld frånvaro"]
["FRÅNVARO",{"$f":"IN!B2900","v":0},{"$f":"Blad3!E2900","v":""},{"$f":"Blad3!G2900","v":0},"Oanmäld frånvaro"]
["FRÅNVARO",{"$f":"IN!B2901","v":0},{"$f":"Blad3!E2901","v":""},{"$f":"Blad3!G2901","v":0},"Oanmäld frånvaro"]
["FRÅNVARO",{"$f":"IN!B2902","v":0},{"$f":"Blad3!E2902","v":""},{"$f":"Blad3!G2902","v":0},"Oanmäld frånvaro"]
["FRÅNVARO",{"$f":"IN!B2903","v":0},{"$f":"Blad3!E2903","v":""},{"$f":"Blad3!G2903","v":0},"Oanmäld frånvaro"]
["FRÅNVARO",{"$f":"IN!B2904","v":0},{"$f":"Blad3!E2904","v":""},{"$f":"Blad3!G2904","v":0},"Oanmäld frånvaro"]
["FRÅNVARO",{"$f":"IN!B2905","v":0},{"$f":"Blad3!E2905","v":""},{"$f":"Blad3!G2905","v":0},"Oanmäld frånvaro"]
["FRÅNVARO",{"$f":"IN!B2906","v":0},{"$f":"Blad3!E2906","v":""},{"$f":"Blad3!G2906","v":0},"Oanmäld frånvaro"]
["FRÅNVARO",{"$f":"IN!B2907","v":0},{"$f":"Blad3!E2907","v":""},{"$f":"Blad3!G2907","v":0},"Oanmäld frånvaro"]
["FRÅNVARO",{"$f":"IN!B2908","v":0},{"$f":"Blad3!E2908","v":""},{"$f":"Blad3!G2908","v":0},"Oanmäld frånvaro"]
["FRÅNVARO",{"$f":"IN!B2909","v":0},{"$f":"Blad3!E2909","v":""},{"$f":"Blad3!G2909","v":0},"Oanmäld frånvaro"]
["FRÅNVARO",{"$f":"IN!B2910","v":0},{"$f":"Blad3!E2910","v":""},{"$f":"Blad3!G2910","v":0},"Oanmäld frånvaro"]
["FRÅNVARO",{"$f":"IN!B2911","v":0},{"$f":"Blad3!E2911","v":""},{"$f":"Blad3!G2911","v":0},"Oanmäld frånvaro"]
["FRÅNVARO",{"$f":"IN!B2912","v":0},{"$f":"Blad3!E2912","v":""},{"$f":"Blad3!G2912","v":0},"Oanmäld frånvaro"]
["FRÅNVARO",{"$f":"IN!B2913","v":0},{"$f":"Blad3!E2913","v":""},{"$f":"Blad3!G2913","v":0},"Oanmäld frånvaro"]
["FRÅNVARO",{"$f":"IN!B2914","v":0},{"$f":"Blad3!E2914","v":""},{"$f":"Blad3!G2914","v":0},"Oanmäld frånvaro"]
["FRÅNVARO",{"$f":"IN!B2915","v":0},{"$f":"Blad3!E2915","v":""},{"$f":"Blad3!G2915","v":0},"Oanmäld frånvaro"]
["FRÅNVARO",{"$f":"IN!B2916","v":0},{"$f":"Blad3!E2916","v":""},{"$f":"Blad3!G2916","v":0},"Oanmäld frånvaro"]
["FRÅNVARO",{"$f":"IN!B2917","v":0},{"$f":"Blad3!E2917","v":""},{"$f":"Blad3!G2917","v":0},"Oanmäld frånvaro"]
["FRÅNVARO",{"$f":"IN!B2918","v":0},{"$f":"Blad3!E2918","v":""},{"$f":"Blad3!G2918","v":0},"Oanmäld frånvaro"]
["FRÅNVARO",{"$f":"IN!B2919","v":0},{"$f":"Blad3!E2919","v":""},{"$f":"Blad3!G2919","v":0},"Oanmäld frånvaro"]
["FRÅNVARO",{"$f":"IN!B2920","v":0},{"$f":"Blad3!E2920","v":""},{"$f":"Blad3!G2920","v":0},"Oanmäld frånvaro"]
["FRÅNVARO",{"$f":"IN!B2921","v":0},{"$f":"Blad3!E2921","v":""},{"$f":"Blad3!G2921","v":0},"Oanmäld frånvaro"]
["FRÅNVARO",{"$f":"IN!B2922","v":0},{"$f":"Blad3!E2922","v":""},{"$f":"Blad3!G2922","v":0},"Oanmäld frånvaro"]
["FRÅNVARO",{"$f":"IN!B2923","v":0},{"$f":"Blad3!E2923","v":""},{"$f":"Blad3!G2923","v":0},"Oanmäld frånvaro"]
["FRÅNVARO",{"$f":"IN!B2924","v":0},{"$f":"Blad3!E2924","v":""},{"$f":"Blad3!G2924","v":0},"Oanmäld frånvaro"]
["FRÅNVARO",{"$f":"IN!B2925","v":0},{"$f":"Blad3!E2925","v":""},{"$f":"Blad3!G2925","v":0},"Oanmäld frånvaro"]
["FRÅNVARO",{"$f":"IN!B2926","v":0},{"$f":"Blad3!E2926","v":""},{"$f":"Blad3!G2926","v":0},"Oanmäld frånvaro"]
["FRÅNVARO",{"$f":"IN!B2927","v":0},{"$f":"Blad3!E2927","v":""},{"$f":"Blad3!G2927","v":0},"Oanmäld frånvaro"]
["FRÅNVARO",{"$f":"IN!B2928","v":0},{"$f":"Blad3!E2928","v":""},{"$f":"Blad3!G2928","v":0},"Oanmäld frånvaro"]
["FRÅNVARO",{"$f":"IN!B2929","v":0},{"$f":"Blad3!E2929","v":""},{"$f":"Blad3!G2929","v":0},"Oanmäld frånvaro"]
["FRÅNVARO",{"$f":"IN!B2930","v":0},{"$f":"Blad3!E2930","v":""},{"$f":"Blad3!G2930","v":0},"Oanmäld frånvaro"]
["FRÅNVARO",{"$f":"IN!B2931","v":0},{"$f":"Blad3!E2931","v":""},{"$f":"Blad3!G2931","v":0},"Oanmäld frånvaro"]
["FRÅNVARO",{"$f":"IN!B2932","v":0},{"$f":"Blad3!E2932","v":""},{"$f":"Blad3!G2932","v":0},"Oanmäld frånvaro"]
["FRÅNVARO",{"$f":"IN!B2933","v":0},{"$f":"Blad3!E2933","v":""},{"$f":"Blad3!G2933","v":0},"Oanmäld frånvaro"]
["FRÅNVARO",{"$f":"IN!B2934","v":0},{"$f":"Blad3!E2934","v":""},{"$f":"Blad3!G2934","v":0},"Oanmäld frånvaro"]
["FRÅNVARO",{"$f":"IN!B2935","v":0},{"$f":"Blad3!E2935","v":""},{"$f":"Blad3!G2935","v":0},"Oanmäld frånvaro"]
["FRÅNVARO",{"$f":"IN!B2936","v":0},{"$f":"Blad3!E2936","v":""},{"$f":"Blad3!G2936","v":0},"Oanmäld frånvaro"]
["FRÅNVARO",{"$f":"IN!B2937","v":0},{"$f":"Blad3!E2937","v":""},{"$f":"Blad3!G2937","v":0},"Oanmäld frånvaro"]
["FRÅNVARO",{"$f":"IN!B2938","v":0},{"$f":"Blad3!E2938","v":""},{"$f":"Blad3!G2938","v":0},"Oanmäld frånvaro"]
["FRÅNVARO",{"$f":"IN!B2939","v":0},{"$f":"Blad3!E2939","v":""},{"$f":"Blad3!G2939","v":0},"Oanmäld frånvaro"]
["FRÅNVARO",{"$f":"IN!B2940","v":0},{"$f":"Blad3!E2940","v":""},{"$f":"Blad3!G2940","v":0},"Oanmäld frånvaro"]
["FRÅNVARO",{"$f":"IN!B2941","v":0},{"$f":"Blad3!E2941","v":""},{"$f":"Blad3!G2941","v":0},"Oanmäld frånvaro"]
["FRÅNVARO",{"$f":"IN!B2942","v":0},{"$f":"Blad3!E2942","v":""},{"$f":"Blad3!G2942","v":0},"Oanmäld frånvaro"]
["FRÅNVARO",{"$f":"IN!B2943","v":0},{"$f":"Blad3!E2943","v":""},{"$f":"Blad3!G2943","v":0},"Oanmäld frånvaro"]
["FRÅNVARO",{"$f":"IN!B2944","v":0},{"$f":"Blad3!E2944","v":""},{"$f":"Blad3!G2944","v":0},"Oanmäld frånvaro"]
["FRÅNVARO",{"$f":"IN!B2945","v":0},{"$f":"Blad3!E2945","v":""},{"$f":"Blad3!G2945","v":0},"Oanmäld frånvaro"]
["FRÅNVARO",{"$f":"IN!B2946","v":0},{"$f":"Blad3!E2946","v":""},{"$f":"Blad3!G2946","v":0},"Oanmäld frånvaro"]
["FRÅNVARO",{"$f":"IN!B2947","v":0},{"$f":"Blad3!E2947","v":""},{"$f":"Blad3!G2947","v":0},"Oanmäld frånvaro"]
["FRÅNVARO",{"$f":"IN!B2948","v":0},{"$f":"Blad3!E2948","v":""},{"$f":"Blad3!G2948","v":0},"Oanmäld frånvaro"]
["FRÅNVARO",{"$f":"IN!B2949","v":0},{"$f":"Blad3!E2949","v":""},{"$f":"Blad3!G2949","v":0},"Oanmäld frånvaro"]
["FRÅNVARO",{"$f":"IN!B2950","v":0},{"$f":"Blad3!E2950","v":""},{"$f":"Blad3!G2950","v":0},"Oanmäld frånvaro"]
["FRÅNVARO",{"$f":"IN!B2951","v":0},{"$f":"Blad3!E2951","v":""},{"$f":"Blad3!G2951","v":0},"Oanmäld frånvaro"]
["FRÅNVARO",{"$f":"IN!B2952","v":0},{"$f":"Blad3!E2952","v":""},{"$f":"Blad3!G2952","v":0},"Oanmäld frånvaro"]
["FRÅNVARO",{"$f":"IN!B2953","v":0},{"$f":"Blad3!E2953","v":""},{"$f":"Blad3!G2953","v":0},"Oanmäld frånvaro"]
["FRÅNVARO",{"$f":"IN!B2954","v":0},{"$f":"Blad3!E2954","v":""},{"$f":"Blad3!G2954","v":0},"Oanmäld frånvaro"]
["FRÅNVARO",{"$f":"IN!B2955","v":0},{"$f":"Blad3!E2955","v":""},{"$f":"Blad3!G2955","v":0},"Oanmäld frånvaro"]
["FRÅNVARO",{"$f":"IN!B2956","v":0},{"$f":"Blad3!E2956","v":""},{"$f":"Blad3!G2956","v":0},"Oanmäld frånvaro"]
["FRÅNVARO",{"$f":"IN!B2957","v":0},{"$f":"Blad3!E2957","v":""},{"$f":"Blad3!G2957","v":0},"Oanmäld frånvaro"]
["FRÅNVARO",{"$f":"IN!B2958","v":0},{"$f":"Blad3!E2958","v":""},{"$f":"Blad3!G2958","v":0},"Oanmäld frånvaro"]
["FRÅNVARO",{"$f":"IN!B2959","v":0},{"$f":"Blad3!E2959","v":""},{"$f":"Blad3!G2959","v":0},"Oanmäld frånvaro"]
["FRÅNVARO",{"$f":"IN!B2960","v":0},{"$f":"Blad3!E2960","v":""},{"$f":"Blad3!G2960","v":0},"Oanmäld frånvaro"]
["FRÅNVARO",{"$f":"IN!B2961","v":0},{"$f":"Blad3!E2961","v":""},{"$f":"Blad3!G2961","v":0},"Oanmäld frånvaro"]
["FRÅNVARO",{"$f":"IN!B2962","v":0},{"$f":"Blad3!E2962","v":""},{"$f":"Blad3!G2962","v":0},"Oanmäld frånvaro"]
["FRÅNVARO",{"$f":"IN!B2963","v":0},{"$f":"Blad3!E2963","v":""},{"$f":"Blad3!G2963","v":0},"Oanmäld frånvaro"]
["FRÅNVARO",{"$f":"IN!B2964","v":0},{"$f":"Blad3!E2964","v":""},{"$f":"Blad3!G2964","v":0},"Oanmäld frånvaro"]
["FRÅNVARO",{"$f":"IN!B2965","v":0},{"$f":"Blad3!E2965","v":""},{"$f":"Blad3!G2965","v":0},"Oanmäld frånvaro"]
["FRÅNVARO",{"$f":"IN!B2966","v":0},{"$f":"Blad3!E2966","v":""},{"$f":"Blad3!G2966","v":0},"Oanmäld frånvaro"]
["FRÅNVARO",{"$f":"IN!B2967","v":0},{"$f":"Blad3!E2967","v":""},{"$f":"Blad3!G2967","v":0},"Oanmäld frånvaro"]
["FRÅNVARO",{"$f":"IN!B2968","v":0},{"$f":"Blad3!E2968","v":""},{"$f":"Blad3!G2968","v":0},"Oanmäld frånvaro"]
["FRÅNVARO",{"$f":"IN!B2969","v":0},{"$f":"Blad3!E2969","v":""},{"$f":"Blad3!G2969","v":0},"Oanmäld frånvaro"]
["FRÅNVARO",{"$f":"IN!B2970","v":0},{"$f":"Blad3!E2970","v":""},{"$f":"Blad3!G2970","v":0},"Oanmäld frånvaro"]
["FRÅNVARO",{"$f":"IN!B2971","v":0},{"$f":"Blad3!E2971","v":""},{"$f":"Blad3!G2971","v":0},"Oanmäld frånvaro"]
["FRÅNVARO",{"$f":"IN!B2972","v":0},{"$f":"Blad3!E2972","v":""},{"$f":"Blad3!G2972","v":0},"Oanmäld frånvaro"]
["FRÅNVARO",{"$f":"IN!B2973","v":0},{"$f":"Blad3!E2973","v":""},{"$f":"Blad3!G2973","v":0},"Oanmäld frånvaro"]
["FRÅNVARO",{"$f":"IN!B2974","v":0},{"$f":"Blad3!E2974","v":""},{"$f":"Blad3!G2974","v":0},"Oanmäld frånvaro"]
["FRÅNVARO",{"$f":"IN!B2975","v":0},{"$f":"Blad3!E2975","v":""},{"$f":"Blad3!G2975","v":0},"Oanmäld frånvaro"]
["FRÅNVARO",{"$f":"IN!B2976","v":0},{"$f":"Blad3!E2976","v":""},{"$f":"Blad3!G2976","v":0},"Oanmäld frånvaro"]
["FRÅNVARO",{"$f":"IN!B2977","v":0},{"$f":"Blad3!E2977","v":""},{"$f":"Blad3!G2977","v":0},"Oanmäld frånvaro"]
["FRÅNVARO",{"$f":"IN!B2978","v":0},{"$f":"Blad3!E2978","v":""},{"$f":"Blad3!G2978","v":0},"Oanmäld frånvaro"]
["FRÅNVARO",{"$f":"IN!B2979","v":0},{"$f":"Blad3!E2979","v":""},{"$f":"Blad3!G2979","v":0},"Oanmäld frånvaro"]
["FRÅNVARO",{"$f":"IN!B2980","v":0},{"$f":"Blad3!E2980","v":""},{"$f":"Blad3!G2980","v":0},"Oanmäld frånvaro"]
["FRÅNVARO",{"$f":"IN!B2981","v":0},{"$f":"Blad3!E2981","v":""},{"$f":"Blad3!G2981","v":0},"Oanmäld frånvaro"]
["FRÅNVARO",{"$f":"IN!B2982","v":0},{"$f":"Blad3!E2982","v":""},{"$f":"Blad3!G2982","v":0},"Oanmäld frånvaro"]
["FRÅNVARO",{"$f":"IN!B2983","v":0},{"$f":"Blad3!E2983","v":""},{"$f":"Blad3!G2983","v":0},"Oanmäld frånvaro"]
["FRÅNVARO",{"$f":"IN!B2984","v":0},{"$f":"Blad3!E2984","v":""},{"$f":"Blad3!G2984","v":0},"Oanmäld frånvaro"]
["FRÅNVARO",{"$f":"IN!B2985","v":0},{"$f":"Blad3!E2985","v":""},{"$f":"Blad3!G2985","v":0},"Oanmäld frånvaro"]
["FRÅNVARO",{"$f":"IN!B2986","v":0},{"$f":"Blad3!E2986","v":""},{"$f":"Blad3!G2986","v":0},"Oanmäld frånvaro"]
["FRÅNVARO",{"$f":"IN!B2987","v":0},{"$f":"Blad3!E2987","v":""},{"$f":"Blad3!G2987","v":0},"Oanmäld frånvaro"]
["FRÅNVARO",{"$f":"IN!B2988","v":0},{"$f":"Blad3!E2988","v":""},{"$f":"Blad3!G2988","v":0},"Oanmäld frånvaro"]
["FRÅNVARO",{"$f":"IN!B2989","v":0},{"$f":"Blad3!E2989","v":""},{"$f":"Blad3!G2989","v":0},"Oanmäld frånvaro"]
["FRÅNVARO",{"$f":"IN!B2990","v":0},{"$f":"Blad3!E2990","v":""},{"$f":"Blad3!G2990","v":0},"Oanmäld frånvaro"]
["FRÅNVARO",{"$f":"IN!B2991","v":0},{"$f":"Blad3!E2991","v":""},{"$f":"Blad3!G2991","v":0},"Oanmäld frånvaro"]
["FRÅNVARO",{"$f":"IN!B2992","v":0},{"$f":"Blad3!E2992","v":""},{"$f":"Blad3!G2992","v":0},"Oanmäld frånvaro"]
["FRÅNVARO",{"$f":"IN!B2993","v":0},{"$f":"Blad3!E2993","v":""},{"$f":"Blad3!G2993","v":0},"Oanmäld frånvaro"]
["FRÅNVARO",{"$f":"IN!B2994","v":0},{"$f":"Blad3!E2994","v":""},{"$f":"Blad3!G2994","v":0},"Oanmäld frånvaro"]
["FRÅNVARO",{"$f":"IN!B2995","v":0},{"$f":"Blad3!E2995","v":""},{"$f":"Blad3!G2995","v":0},"Oanmäld frånvaro"]
["FRÅNVARO",{"$f":"IN!B2996","v":0},{"$f":"Blad3!E2996","v":""},{"$f":"Blad3!G2996","v":0},"Oanmäld frånvaro"]
["FRÅNVARO",{"$f":"IN!B2997","v":0},{"$f":"Blad3!E2997","v":""},{"$f":"Blad3!G2997","v":0},"Oanmäld frånvaro"]
["FRÅNVARO",{"$f":"IN!B2998","v":0},{"$f":"Blad3!E2998","v":""},{"$f":"Blad3!G2998","v":0},"Oanmäld frånvaro"]
["FRÅNVARO",{"$f":"IN!B2999","v":0},{"$f":"Blad3!E2999","v":""},{"$f":"Blad3!G2999","v":0},"Oanmäld frånvaro"]
["FRÅNVARO",{"$f":"IN!B3000","v":0},{"$f":"Blad3!E3000","v":""},{"$f":"Blad3!G3000","v":0},"Oanmäld frånvaro"]
["FRÅNVARO",{"$f":"IN!B3001","v":0},{"$f":"Blad3!E3001","v":""},{"$f":"Blad3!G3001","v":0},"Oanmäld frånvaro"]
["FRÅNVARO",{"$f":"IN!B3002","v":0},{"$f":"Blad3!E3002","v":""},{"$f":"Blad3!G3002","v":0},"Oanmäld frånvaro"]
["FRÅNVARO",{"$f":"IN!B3003","v":0},{"$f":"Blad3!E3003","v":""},{"$f":"Blad3!G3003","v":0},"Oanmäld frånvaro"]

{"sheet":"IN","index":1,"n_rows":0,"n_cols":0,"rows_kept":0,"cut":false,"hidden":false,"merged":[]}

{"sheet":"Enhet","index":2,"n_rows":1,"n_cols":1,"rows_kept":1,"cut":false,"hidden":false,"merged":[]}
["Enhetsid:"]

{"sheet":"Blad3","index":3,"n_rows":3003,"n_cols":9,"rows_kept":3003,"cut":false,"hidden":true,"merged":[]}
[]
[]
[]
[{"$f":"LEN(D4)","v":0},{"$f":"VALUE(LEFT(D4,1))","v":{"$error":"#VALUE!"}},{"$f":"IF(B4<2,20,19)","v":{"$error":"#VALUE!"}},{"$f":"SUBSTITUTE(IN!G4,\"-\",\"\")","v":""},{"$f":"IF(A4=10,CONCATENATE(C4,D4),D4)","v":""},{"$f":"IN!F4*60","v":0},{"$f":"ROUND(F4,0)","v":0},{"$f":"CONCATENATE(MID(E4,1,8),\"-\",MID(E4,9,4))","v":"-"},{"$f":"SUBSTITUTE(IN!F4,\",\",\".\")","v":""}]
[{"$f":"LEN(D5)","v":0},{"$f":"VALUE(LEFT(D5,1))","v":{"$error":"#VALUE!"}},{"$f":"IF(B5<2,20,19)","v":{"$error":"#VALUE!"}},{"$f":"SUBSTITUTE(IN!G5,\"-\",\"\")","v":""},{"$f":"IF(A5=10,CONCATENATE(C5,D5),D5)","v":""},{"$f":"IN!F5*60","v":0},{"$f":"ROUND(F5,0)","v":0},{"$f":"CONCATENATE(MID(E5,1,8),\"-\",MID(E5,9,4))","v":"-"},{"$f":"SUBSTITUTE(IN!F5,\",\",\".\")","v":""}]
[0,{"$error":"#VALUE!"},{"$error":"#VALUE!"},{"$f":"SUBSTITUTE(IN!G6,\"-\",\"\")","v":""},"",{"$f":"IN!F6*60","v":0},0,"-",{"$f":"SUBSTITUTE(IN!F6,\",\",\".\")","v":""}]
[0,{"$error":"#VALUE!"},{"$error":"#VALUE!"},{"$f":"SUBSTITUTE(IN!G7,\"-\",\"\")","v":""},"",{"$f":"IN!F7*60","v":0},0,"-",{"$f":"SUBSTITUTE(IN!F7,\",\",\".\")","v":""}]
[0,{"$error":"#VALUE!"},{"$error":"#VALUE!"},{"$f":"SUBSTITUTE(IN!G8,\"-\",\"\")","v":""},"",{"$f":"IN!F8*60","v":0},0,"-",{"$f":"SUBSTITUTE(IN!F8,\",\",\".\")","v":""}]
[0,{"$error":"#VALUE!"},{"$error":"#VALUE!"},{"$f":"SUBSTITUTE(IN!G9,\"-\",\"\")","v":""},"",{"$f":"IN!F9*60","v":0},0,"-",{"$f":"SUBSTITUTE(IN!F9,\",\",\".\")","v":""}]
[0,{"$error":"#VALUE!"},{"$error":"#VALUE!"},{"$f":"SUBSTITUTE(IN!G10,\"-\",\"\")","v":""},"",{"$f":"IN!F10*60","v":0},0,"-",{"$f":"SUBSTITUTE(IN!F10,\",\",\".\")","v":""}]
[0,{"$error":"#VALUE!"},{"$error":"#VALUE!"},{"$f":"SUBSTITUTE(IN!G11,\"-\",\"\")","v":""},"",{"$f":"IN!F11*60","v":0},0,"-",{"$f":"SUBSTITUTE(IN!F11,\",\",\".\")","v":""}]
[0,{"$error":"#VALUE!"},{"$error":"#VALUE!"},{"$f":"SUBSTITUTE(IN!G12,\"-\",\"\")","v":""},"",{"$f":"IN!F12*60","v":0},0,"-",{"$f":"SUBSTITUTE(IN!F12,\",\",\".\")","v":""}]
[0,{"$error":"#VALUE!"},{"$error":"#VALUE!"},{"$f":"SUBSTITUTE(IN!G13,\"-\",\"\")","v":""},"",{"$f":"IN!F13*60","v":0},0,"-",{"$f":"SUBSTITUTE(IN!F13,\",\",\".\")","v":""}]
[0,{"$error":"#VALUE!"},{"$error":"#VALUE!"},{"$f":"SUBSTITUTE(IN!G14,\"-\",\"\")","v":""},"",{"$f":"IN!F14*60","v":0},0,"-",{"$f":"SUBSTITUTE(IN!F14,\",\",\".\")","v":""}]
[0,{"$error":"#VALUE!"},{"$error":"#VALUE!"},{"$f":"SUBSTITUTE(IN!G15,\"-\",\"\")","v":""},"",{"$f":"IN!F15*60","v":0},0,"-",{"$f":"SUBSTITUTE(IN!F15,\",\",\".\")","v":""}]
[0,{"$error":"#VALUE!"},{"$error":"#VALUE!"},{"$f":"SUBSTITUTE(IN!G16,\"-\",\"\")","v":""},"",{"$f":"IN!F16*60","v":0},0,"-",{"$f":"SUBSTITUTE(IN!F16,\",\",\".\")","v":""}]
[0,{"$error":"#VALUE!"},{"$error":"#VALUE!"},{"$f":"SUBSTITUTE(IN!G17,\"-\",\"\")","v":""},"",{"$f":"IN!F17*60","v":0},0,"-",{"$f":"SUBSTITUTE(IN!F17,\",\",\".\")","v":""}]
[0,{"$error":"#VALUE!"},{"$error":"#VALUE!"},{"$f":"SUBSTITUTE(IN!G18,\"-\",\"\")","v":""},"",{"$f":"IN!F18*60","v":0},0,"-",{"$f":"SUBSTITUTE(IN!F18,\",\",\".\")","v":""}]
[0,{"$error":"#VALUE!"},{"$error":"#VALUE!"},{"$f":"SUBSTITUTE(IN!G19,\"-\",\"\")","v":""},"",{"$f":"IN!F19*60","v":0},0,"-",{"$f":"SUBSTITUTE(IN!F19,\",\",\".\")","v":""}]
[0,{"$error":"#VALUE!"},{"$error":"#VALUE!"},{"$f":"SUBSTITUTE(IN!G20,\"-\",\"\")","v":""},"",{"$f":"IN!F20*60","v":0},0,"-",{"$f":"SUBSTITUTE(IN!F20,\",\",\".\")","v":""}]
[0,{"$error":"#VALUE!"},{"$error":"#VALUE!"},{"$f":"SUBSTITUTE(IN!G21,\"-\",\"\")","v":""},"",{"$f":"IN!F21*60","v":0},0,"-",{"$f":"SUBSTITUTE(IN!F21,\",\",\".\")","v":""}]
[0,{"$error":"#VALUE!"},{"$error":"#VALUE!"},{"$f":"SUBSTITUTE(IN!G22,\"-\",\"\")","v":""},"",{"$f":"IN!F22*60","v":0},0,"-",{"$f":"SUBSTITUTE(IN!F22,\",\",\".\")","v":""}]
[0,{"$error":"#VALUE!"},{"$error":"#VALUE!"},{"$f":"SUBSTITUTE(IN!G23,\"-\",\"\")","v":""},"",{"$f":"IN!F23*60","v":0},0,"-",{"$f":"SUBSTITUTE(IN!F23,\",\",\".\")","v":""}]
[0,{"$error":"#VALUE!"},{"$error":"#VALUE!"},{"$f":"SUBSTITUTE(IN!G24,\"-\",\"\")","v":""},"",{"$f":"IN!F24*60","v":0},0,"-",{"$f":"SUBSTITUTE(IN!F24,\",\",\".\")","v":""}]
[0,{"$error":"#VALUE!"},{"$error":"#VALUE!"},{"$f":"SUBSTITUTE(IN!G25,\"-\",\"\")","v":""},"",{"$f":"IN!F25*60","v":0},0,"-",{"$f":"SUBSTITUTE(IN!F25,\",\",\".\")","v":""}]
[0,{"$error":"#VALUE!"},{"$error":"#VALUE!"},{"$f":"SUBSTITUTE(IN!G26,\"-\",\"\")","v":""},"",{"$f":"IN!F26*60","v":0},0,"-",{"$f":"SUBSTITUTE(IN!F26,\",\",\".\")","v":""}]
[0,{"$error":"#VALUE!"},{"$error":"#VALUE!"},{"$f":"SUBSTITUTE(IN!G27,\"-\",\"\")","v":""},"",{"$f":"IN!F27*60","v":0},0,"-",{"$f":"SUBSTITUTE(IN!F27,\",\",\".\")","v":""}]
[0,{"$error":"#VALUE!"},{"$error":"#VALUE!"},{"$f":"SUBSTITUTE(IN!G28,\"-\",\"\")","v":""},"",{"$f":"IN!F28*60","v":0},0,"-",{"$f":"SUBSTITUTE(IN!F28,\",\",\".\")","v":""}]
[0,{"$error":"#VALUE!"},{"$error":"#VALUE!"},{"$f":"SUBSTITUTE(IN!G29,\"-\",\"\")","v":""},"",{"$f":"IN!F29*60","v":0},0,"-",{"$f":"SUBSTITUTE(IN!F29,\",\",\".\")","v":""}]
[0,{"$error":"#VALUE!"},{"$error":"#VALUE!"},{"$f":"SUBSTITUTE(IN!G30,\"-\",\"\")","v":""},"",{"$f":"IN!F30*60","v":0},0,"-",{"$f":"SUBSTITUTE(IN!F30,\",\",\".\")","v":""}]
[0,{"$error":"#VALUE!"},{"$error":"#VALUE!"},{"$f":"SUBSTITUTE(IN!G31,\"-\",\"\")","v":""},"",{"$f":"IN!F31*60","v":0},0,"-",{"$f":"SUBSTITUTE(IN!F31,\",\",\".\")","v":""}]
[0,{"$error":"#VALUE!"},{"$error":"#VALUE!"},{"$f":"SUBSTITUTE(IN!G32,\"-\",\"\")","v":""},"",{"$f":"IN!F32*60","v":0},0,"-",{"$f":"SUBSTITUTE(IN!F32,\",\",\".\")","v":""}]
[0,{"$error":"#VALUE!"},{"$error":"#VALUE!"},{"$f":"SUBSTITUTE(IN!G33,\"-\",\"\")","v":""},"",{"$f":"IN!F33*60","v":0},0,"-",{"$f":"SUBSTITUTE(IN!F33,\",\",\".\")","v":""}]
[0,{"$error":"#VALUE!"},{"$error":"#VALUE!"},{"$f":"SUBSTITUTE(IN!G34,\"-\",\"\")","v":""},"",{"$f":"IN!F34*60","v":0},0,"-",{"$f":"SUBSTITUTE(IN!F34,\",\",\".\")","v":""}]
[0,{"$error":"#VALUE!"},{"$error":"#VALUE!"},{"$f":"SUBSTITUTE(IN!G35,\"-\",\"\")","v":""},"",{"$f":"IN!F35*60","v":0},0,"-",{"$f":"SUBSTITUTE(IN!F35,\",\",\".\")","v":""}]
[0,{"$error":"#VALUE!"},{"$error":"#VALUE!"},{"$f":"SUBSTITUTE(IN!G36,\"-\",\"\")","v":""},"",{"$f":"IN!F36*60","v":0},0,"-",{"$f":"SUBSTITUTE(IN!F36,\",\",\".\")","v":""}]
[0,{"$error":"#VALUE!"},{"$error":"#VALUE!"},{"$f":"SUBSTITUTE(IN!G37,\"-\",\"\")","v":""},"",{"$f":"IN!F37*60","v":0},0,"-",{"$f":"SUBSTITUTE(IN!F37,\",\",\".\")","v":""}]
[0,{"$error":"#VALUE!"},{"$error":"#VALUE!"},{"$f":"SUBSTITUTE(IN!G38,\"-\",\"\")","v":""},"",{"$f":"IN!F38*60","v":0},0,"-",{"$f":"SUBSTITUTE(IN!F38,\",\",\".\")","v":""}]
[0,{"$error":"#VALUE!"},{"$error":"#VALUE!"},{"$f":"SUBSTITUTE(IN!G39,\"-\",\"\")","v":""},"",{"$f":"IN!F39*60","v":0},0,"-",{"$f":"SUBSTITUTE(IN!F39,\",\",\".\")","v":""}]
[0,{"$error":"#VALUE!"},{"$error":"#VALUE!"},{"$f":"SUBSTITUTE(IN!G40,\"-\",\"\")","v":""},"",{"$f":"IN!F40*60","v":0},0,"-",{"$f":"SUBSTITUTE(IN!F40,\",\",\".\")","v":""}]
[0,{"$error":"#VALUE!"},{"$error":"#VALUE!"},{"$f":"SUBSTITUTE(IN!G41,\"-\",\"\")","v":""},"",{"$f":"IN!F41*60","v":0},0,"-",{"$f":"SUBSTITUTE(IN!F41,\",\",\".\")","v":""}]
[0,{"$error":"#VALUE!"},{"$error":"#VALUE!"},{"$f":"SUBSTITUTE(IN!G42,\"-\",\"\")","v":""},"",{"$f":"IN!F42*60","v":0},0,"-",{"$f":"SUBSTITUTE(IN!F42,\",\",\".\")","v":""}]
[0,{"$error":"#VALUE!"},{"$error":"#VALUE!"},{"$f":"SUBSTITUTE(IN!G43,\"-\",\"\")","v":""},"",{"$f":"IN!F43*60","v":0},0,"-",{"$f":"SUBSTITUTE(IN!F43,\",\",\".\")","v":""}]
[0,{"$error":"#VALUE!"},{"$error":"#VALUE!"},{"$f":"SUBSTITUTE(IN!G44,\"-\",\"\")","v":""},"",{"$f":"IN!F44*60","v":0},0,"-",{"$f":"SUBSTITUTE(IN!F44,\",\",\".\")","v":""}]
[0,{"$error":"#VALUE!"},{"$error":"#VALUE!"},{"$f":"SUBSTITUTE(IN!G45,\"-\",\"\")","v":""},"",{"$f":"IN!F45*60","v":0},0,"-",{"$f":"SUBSTITUTE(IN!F45,\",\",\".\")","v":""}]
[0,{"$error":"#VALUE!"},{"$error":"#VALUE!"},{"$f":"SUBSTITUTE(IN!G46,\"-\",\"\")","v":""},"",{"$f":"IN!F46*60","v":0},0,"-",{"$f":"SUBSTITUTE(IN!F46,\",\",\".\")","v":""}]
[0,{"$error":"#VALUE!"},{"$error":"#VALUE!"},{"$f":"SUBSTITUTE(IN!G47,\"-\",\"\")","v":""},"",{"$f":"IN!F47*60","v":0},0,"-",{"$f":"SUBSTITUTE(IN!F47,\",\",\".\")","v":""}]
[0,{"$error":"#VALUE!"},{"$error":"#VALUE!"},{"$f":"SUBSTITUTE(IN!G48,\"-\",\"\")","v":""},"",{"$f":"IN!F48*60","v":0},0,"-",{"$f":"SUBSTITUTE(IN!F48,\",\",\".\")","v":""}]
[0,{"$error":"#VALUE!"},{"$error":"#VALUE!"},{"$f":"SUBSTITUTE(IN!G49,\"-\",\"\")","v":""},"",{"$f":"IN!F49*60","v":0},0,"-",{"$f":"SUBSTITUTE(IN!F49,\",\",\".\")","v":""}]
[0,{"$error":"#VALUE!"},{"$error":"#VALUE!"},{"$f":"SUBSTITUTE(IN!G50,\"-\",\"\")","v":""},"",{"$f":"IN!F50*60","v":0},0,"-",{"$f":"SUBSTITUTE(IN!F50,\",\",\".\")","v":""}]
[0,{"$error":"#VALUE!"},{"$error":"#VALUE!"},{"$f":"SUBSTITUTE(IN!G51,\"-\",\"\")","v":""},"",{"$f":"IN!F51*60","v":0},0,"-",{"$f":"SUBSTITUTE(IN!F51,\",\",\".\")","v":""}]
[0,{"$error":"#VALUE!"},{"$error":"#VALUE!"},{"$f":"SUBSTITUTE(IN!G52,\"-\",\"\")","v":""},"",{"$f":"IN!F52*60","v":0},0,"-",{"$f":"SUBSTITUTE(IN!F52,\",\",\".\")","v":""}]
[0,{"$error":"#VALUE!"},{"$error":"#VALUE!"},{"$f":"SUBSTITUTE(IN!G53,\"-\",\"\")","v":""},"",{"$f":"IN!F53*60","v":0},0,"-",{"$f":"SUBSTITUTE(IN!F53,\",\",\".\")","v":""}]
[0,{"$error":"#VALUE!"},{"$error":"#VALUE!"},{"$f":"SUBSTITUTE(IN!G54,\"-\",\"\")","v":""},"",{"$f":"IN!F54*60","v":0},0,"-",{"$f":"SUBSTITUTE(IN!F54,\",\",\".\")","v":""}]
[0,{"$error":"#VALUE!"},{"$error":"#VALUE!"},{"$f":"SUBSTITUTE(IN!G55,\"-\",\"\")","v":""},"",{"$f":"IN!F55*60","v":0},0,"-",{"$f":"SUBSTITUTE(IN!F55,\",\",\".\")","v":""}]
[0,{"$error":"#VALUE!"},{"$error":"#VALUE!"},{"$f":"SUBSTITUTE(IN!G56,\"-\",\"\")","v":""},"",{"$f":"IN!F56*60","v":0},0,"-",{"$f":"SUBSTITUTE(IN!F56,\",\",\".\")","v":""}]
[0,{"$error":"#VALUE!"},{"$error":"#VALUE!"},{"$f":"SUBSTITUTE(IN!G57,\"-\",\"\")","v":""},"",{"$f":"IN!F57*60","v":0},0,"-",{"$f":"SUBSTITUTE(IN!F57,\",\",\".\")","v":""}]
[0,{"$error":"#VALUE!"},{"$error":"#VALUE!"},{"$f":"SUBSTITUTE(IN!G58,\"-\",\"\")","v":""},"",{"$f":"IN!F58*60","v":0},0,"-",{"$f":"SUBSTITUTE(IN!F58,\",\",\".\")","v":""}]
[0,{"$error":"#VALUE!"},{"$error":"#VALUE!"},{"$f":"SUBSTITUTE(IN!G59,\"-\",\"\")","v":""},"",{"$f":"IN!F59*60","v":0},0,"-",{"$f":"SUBSTITUTE(IN!F59,\",\",\".\")","v":""}]
[0,{"$error":"#VALUE!"},{"$error":"#VALUE!"},{"$f":"SUBSTITUTE(IN!G60,\"-\",\"\")","v":""},"",{"$f":"IN!F60*60","v":0},0,"-",{"$f":"SUBSTITUTE(IN!F60,\",\",\".\")","v":""}]
[0,{"$error":"#VALUE!"},{"$error":"#VALUE!"},{"$f":"SUBSTITUTE(IN!G61,\"-\",\"\")","v":""},"",{"$f":"IN!F61*60","v":0},0,"-",{"$f":"SUBSTITUTE(IN!F61,\",\",\".\")","v":""}]
[0,{"$error":"#VALUE!"},{"$error":"#VALUE!"},{"$f":"SUBSTITUTE(IN!G62,\"-\",\"\")","v":""},"",{"$f":"IN!F62*60","v":0},0,"-",{"$f":"SUBSTITUTE(IN!F62,\",\",\".\")","v":""}]
[0,{"$error":"#VALUE!"},{"$error":"#VALUE!"},{"$f":"SUBSTITUTE(IN!G63,\"-\",\"\")","v":""},"",{"$f":"IN!F63*60","v":0},0,"-",{"$f":"SUBSTITUTE(IN!F63,\",\",\".\")","v":""}]
[0,{"$error":"#VALUE!"},{"$error":"#VALUE!"},{"$f":"SUBSTITUTE(IN!G64,\"-\",\"\")","v":""},"",{"$f":"IN!F64*60","v":0},0,"-",{"$f":"SUBSTITUTE(IN!F64,\",\",\".\")","v":""}]
[0,{"$error":"#VALUE!"},{"$error":"#VALUE!"},{"$f":"SUBSTITUTE(IN!G65,\"-\",\"\")","v":""},"",{"$f":"IN!F65*60","v":0},0,"-",{"$f":"SUBSTITUTE(IN!F65,\",\",\".\")","v":""}]
[0,{"$error":"#VALUE!"},{"$error":"#VALUE!"},{"$f":"SUBSTITUTE(IN!G66,\"-\",\"\")","v":""},"",{"$f":"IN!F66*60","v":0},0,"-",{"$f":"SUBSTITUTE(IN!F66,\",\",\".\")","v":""}]
[0,{"$error":"#VALUE!"},{"$error":"#VALUE!"},{"$f":"SUBSTITUTE(IN!G67,\"-\",\"\")","v":""},"",{"$f":"IN!F67*60","v":0},0,"-",{"$f":"SUBSTITUTE(IN!F67,\",\",\".\")","v":""}]
[0,{"$error":"#VALUE!"},{"$error":"#VALUE!"},{"$f":"SUBSTITUTE(IN!G68,\"-\",\"\")","v":""},"",{"$f":"IN!F68*60","v":0},0,"-",{"$f":"SUBSTITUTE(IN!F68,\",\",\".\")","v":""}]
[{"$f":"LEN(D69)","v":0},{"$f":"VALUE(LEFT(D69,1))","v":{"$error":"#VALUE!"}},{"$f":"IF(B69<2,20,19)","v":{"$error":"#VALUE!"}},{"$f":"SUBSTITUTE(IN!G69,\"-\",\"\")","v":""},{"$f":"IF(A69=10,CONCATENATE(C69,D69),D69)","v":""},{"$f":"IN!F69*60","v":0},{"$f":"ROUND(F69,0)","v":0},{"$f":"CONCATENATE(MID(E69,1,8),\"-\",MID(E69,9,4))","v":"-"},{"$f":"SUBSTITUTE(IN!F69,\",\",\".\")","v":""}]
[0,{"$error":"#VALUE!"},{"$error":"#VALUE!"},{"$f":"SUBSTITUTE(IN!G70,\"-\",\"\")","v":""},"",{"$f":"IN!F70*60","v":0},0,"-",{"$f":"SUBSTITUTE(IN!F70,\",\",\".\")","v":""}]
[0,{"$error":"#VALUE!"},{"$error":"#VALUE!"},{"$f":"SUBSTITUTE(IN!G71,\"-\",\"\")","v":""},"",{"$f":"IN!F71*60","v":0},0,"-",{"$f":"SUBSTITUTE(IN!F71,\",\",\".\")","v":""}]
[0,{"$error":"#VALUE!"},{"$error":"#VALUE!"},{"$f":"SUBSTITUTE(IN!G72,\"-\",\"\")","v":""},"",{"$f":"IN!F72*60","v":0},0,"-",{"$f":"SUBSTITUTE(IN!F72,\",\",\".\")","v":""}]
[0,{"$error":"#VALUE!"},{"$error":"#VALUE!"},{"$f":"SUBSTITUTE(IN!G73,\"-\",\"\")","v":""},"",{"$f":"IN!F73*60","v":0},0,"-",{"$f":"SUBSTITUTE(IN!F73,\",\",\".\")","v":""}]
[0,{"$error":"#VALUE!"},{"$error":"#VALUE!"},{"$f":"SUBSTITUTE(IN!G74,\"-\",\"\")","v":""},"",{"$f":"IN!F74*60","v":0},0,"-",{"$f":"SUBSTITUTE(IN!F74,\",\",\".\")","v":""}]
[0,{"$error":"#VALUE!"},{"$error":"#VALUE!"},{"$f":"SUBSTITUTE(IN!G75,\"-\",\"\")","v":""},"",{"$f":"IN!F75*60","v":0},0,"-",{"$f":"SUBSTITUTE(IN!F75,\",\",\".\")","v":""}]
[0,{"$error":"#VALUE!"},{"$error":"#VALUE!"},{"$f":"SUBSTITUTE(IN!G76,\"-\",\"\")","v":""},"",{"$f":"IN!F76*60","v":0},0,"-",{"$f":"SUBSTITUTE(IN!F76,\",\",\".\")","v":""}]
[0,{"$error":"#VALUE!"},{"$error":"#VALUE!"},{"$f":"SUBSTITUTE(IN!G77,\"-\",\"\")","v":""},"",{"$f":"IN!F77*60","v":0},0,"-",{"$f":"SUBSTITUTE(IN!F77,\",\",\".\")","v":""}]
[0,{"$error":"#VALUE!"},{"$error":"#VALUE!"},{"$f":"SUBSTITUTE(IN!G78,\"-\",\"\")","v":""},"",{"$f":"IN!F78*60","v":0},0,"-",{"$f":"SUBSTITUTE(IN!F78,\",\",\".\")","v":""}]
[0,{"$error":"#VALUE!"},{"$error":"#VALUE!"},{"$f":"SUBSTITUTE(IN!G79,\"-\",\"\")","v":""},"",{"$f":"IN!F79*60","v":0},0,"-",{"$f":"SUBSTITUTE(IN!F79,\",\",\".\")","v":""}]
[0,{"$error":"#VALUE!"},{"$error":"#VALUE!"},{"$f":"SUBSTITUTE(IN!G80,\"-\",\"\")","v":""},"",{"$f":"IN!F80*60","v":0},0,"-",{"$f":"SUBSTITUTE(IN!F80,\",\",\".\")","v":""}]
[0,{"$error":"#VALUE!"},{"$error":"#VALUE!"},{"$f":"SUBSTITUTE(IN!G81,\"-\",\"\")","v":""},"",{"$f":"IN!F81*60","v":0},0,"-",{"$f":"SUBSTITUTE(IN!F81,\",\",\".\")","v":""}]
[0,{"$error":"#VALUE!"},{"$error":"#VALUE!"},{"$f":"SUBSTITUTE(IN!G82,\"-\",\"\")","v":""},"",{"$f":"IN!F82*60","v":0},0,"-",{"$f":"SUBSTITUTE(IN!F82,\",\",\".\")","v":""}]
[0,{"$error":"#VALUE!"},{"$error":"#VALUE!"},{"$f":"SUBSTITUTE(IN!G83,\"-\",\"\")","v":""},"",{"$f":"IN!F83*60","v":0},0,"-",{"$f":"SUBSTITUTE(IN!F83,\",\",\".\")","v":""}]
[0,{"$error":"#VALUE!"},{"$error":"#VALUE!"},{"$f":"SUBSTITUTE(IN!G84,\"-\",\"\")","v":""},"",{"$f":"IN!F84*60","v":0},0,"-",{"$f":"SUBSTITUTE(IN!F84,\",\",\".\")","v":""}]
[0,{"$error":"#VALUE!"},{"$error":"#VALUE!"},{"$f":"SUBSTITUTE(IN!G85,\"-\",\"\")","v":""},"",{"$f":"IN!F85*60","v":0},0,"-",{"$f":"SUBSTITUTE(IN!F85,\",\",\".\")","v":""}]
[0,{"$error":"#VALUE!"},{"$error":"#VALUE!"},{"$f":"SUBSTITUTE(IN!G86,\"-\",\"\")","v":""},"",{"$f":"IN!F86*60","v":0},0,"-",{"$f":"SUBSTITUTE(IN!F86,\",\",\".\")","v":""}]
[0,{"$error":"#VALUE!"},{"$error":"#VALUE!"},{"$f":"SUBSTITUTE(IN!G87,\"-\",\"\")","v":""},"",{"$f":"IN!F87*60","v":0},0,"-",{"$f":"SUBSTITUTE(IN!F87,\",\",\".\")","v":""}]
[0,{"$error":"#VALUE!"},{"$error":"#VALUE!"},{"$f":"SUBSTITUTE(IN!G88,\"-\",\"\")","v":""},"",{"$f":"IN!F88*60","v":0},0,"-",{"$f":"SUBSTITUTE(IN!F88,\",\",\".\")","v":""}]
[0,{"$error":"#VALUE!"},{"$error":"#VALUE!"},{"$f":"SUBSTITUTE(IN!G89,\"-\",\"\")","v":""},"",{"$f":"IN!F89*60","v":0},0,"-",{"$f":"SUBSTITUTE(IN!F89,\",\",\".\")","v":""}]
[0,{"$error":"#VALUE!"},{"$error":"#VALUE!"},{"$f":"SUBSTITUTE(IN!G90,\"-\",\"\")","v":""},"",{"$f":"IN!F90*60","v":0},0,"-",{"$f":"SUBSTITUTE(IN!F90,\",\",\".\")","v":""}]
[0,{"$error":"#VALUE!"},{"$error":"#VALUE!"},{"$f":"SUBSTITUTE(IN!G91,\"-\",\"\")","v":""},"",{"$f":"IN!F91*60","v":0},0,"-",{"$f":"SUBSTITUTE(IN!F91,\",\",\".\")","v":""}]
[0,{"$error":"#VALUE!"},{"$error":"#VALUE!"},{"$f":"SUBSTITUTE(IN!G92,\"-\",\"\")","v":""},"",{"$f":"IN!F92*60","v":0},0,"-",{"$f":"SUBSTITUTE(IN!F92,\",\",\".\")","v":""}]
[0,{"$error":"#VALUE!"},{"$error":"#VALUE!"},{"$f":"SUBSTITUTE(IN!G93,\"-\",\"\")","v":""},"",{"$f":"IN!F93*60","v":0},0,"-",{"$f":"SUBSTITUTE(IN!F93,\",\",\".\")","v":""}]
[0,{"$error":"#VALUE!"},{"$error":"#VALUE!"},{"$f":"SUBSTITUTE(IN!G94,\"-\",\"\")","v":""},"",{"$f":"IN!F94*60","v":0},0,"-",{"$f":"SUBSTITUTE(IN!F94,\",\",\".\")","v":""}]
[0,{"$error":"#VALUE!"},{"$error":"#VALUE!"},{"$f":"SUBSTITUTE(IN!G95,\"-\",\"\")","v":""},"",{"$f":"IN!F95*60","v":0},0,"-",{"$f":"SUBSTITUTE(IN!F95,\",\",\".\")","v":""}]
[0,{"$error":"#VALUE!"},{"$error":"#VALUE!"},{"$f":"SUBSTITUTE(IN!G96,\"-\",\"\")","v":""},"",{"$f":"IN!F96*60","v":0},0,"-",{"$f":"SUBSTITUTE(IN!F96,\",\",\".\")","v":""}]
[0,{"$error":"#VALUE!"},{"$error":"#VALUE!"},{"$f":"SUBSTITUTE(IN!G97,\"-\",\"\")","v":""},"",{"$f":"IN!F97*60","v":0},0,"-",{"$f":"SUBSTITUTE(IN!F97,\",\",\".\")","v":""}]
[0,{"$error":"#VALUE!"},{"$error":"#VALUE!"},{"$f":"SUBSTITUTE(IN!G98,\"-\",\"\")","v":""},"",{"$f":"IN!F98*60","v":0},0,"-",{"$f":"SUBSTITUTE(IN!F98,\",\",\".\")","v":""}]
[0,{"$error":"#VALUE!"},{"$error":"#VALUE!"},{"$f":"SUBSTITUTE(IN!G99,\"-\",\"\")","v":""},"",{"$f":"IN!F99*60","v":0},0,"-",{"$f":"SUBSTITUTE(IN!F99,\",\",\".\")","v":""}]
[0,{"$error":"#VALUE!"},{"$error":"#VALUE!"},{"$f":"SUBSTITUTE(IN!G100,\"-\",\"\")","v":""},"",{"$f":"IN!F100*60","v":0},0,"-",{"$f":"SUBSTITUTE(IN!F100,\",\",\".\")","v":""}]
[0,{"$error":"#VALUE!"},{"$error":"#VALUE!"},{"$f":"SUBSTITUTE(IN!G101,\"-\",\"\")","v":""},"",{"$f":"IN!F101*60","v":0},0,"-",{"$f":"SUBSTITUTE(IN!F101,\",\",\".\")","v":""}]
[0,{"$error":"#VALUE!"},{"$error":"#VALUE!"},{"$f":"SUBSTITUTE(IN!G102,\"-\",\"\")","v":""},"",{"$f":"IN!F102*60","v":0},0,"-",{"$f":"SUBSTITUTE(IN!F102,\",\",\".\")","v":""}]
[0,{"$error":"#VALUE!"},{"$error":"#VALUE!"},{"$f":"SUBSTITUTE(IN!G103,\"-\",\"\")","v":""},"",{"$f":"IN!F103*60","v":0},0,"-",{"$f":"SUBSTITUTE(IN!F103,\",\",\".\")","v":""}]
[0,{"$error":"#VALUE!"},{"$error":"#VALUE!"},{"$f":"SUBSTITUTE(IN!G104,\"-\",\"\")","v":""},"",{"$f":"IN!F104*60","v":0},0,"-",{"$f":"SUBSTITUTE(IN!F104,\",\",\".\")","v":""}]
[0,{"$error":"#VALUE!"},{"$error":"#VALUE!"},{"$f":"SUBSTITUTE(IN!G105,\"-\",\"\")","v":""},"",{"$f":"IN!F105*60","v":0},0,"-",{"$f":"SUBSTITUTE(IN!F105,\",\",\".\")","v":""}]
[0,{"$error":"#VALUE!"},{"$error":"#VALUE!"},{"$f":"SUBSTITUTE(IN!G106,\"-\",\"\")","v":""},"",{"$f":"IN!F106*60","v":0},0,"-",{"$f":"SUBSTITUTE(IN!F106,\",\",\".\")","v":""}]
[0,{"$error":"#VALUE!"},{"$error":"#VALUE!"},{"$f":"SUBSTITUTE(IN!G107,\"-\",\"\")","v":""},"",{"$f":"IN!F107*60","v":0},0,"-",{"$f":"SUBSTITUTE(IN!F107,\",\",\".\")","v":""}]
[0,{"$error":"#VALUE!"},{"$error":"#VALUE!"},{"$f":"SUBSTITUTE(IN!G108,\"-\",\"\")","v":""},"",{"$f":"IN!F108*60","v":0},0,"-",{"$f":"SUBSTITUTE(IN!F108,\",\",\".\")","v":""}]
[0,{"$error":"#VALUE!"},{"$error":"#VALUE!"},{"$f":"SUBSTITUTE(IN!G109,\"-\",\"\")","v":""},"",{"$f":"IN!F109*60","v":0},0,"-",{"$f":"SUBSTITUTE(IN!F109,\",\",\".\")","v":""}]
[0,{"$error":"#VALUE!"},{"$error":"#VALUE!"},{"$f":"SUBSTITUTE(IN!G110,\"-\",\"\")","v":""},"",{"$f":"IN!F110*60","v":0},0,"-",{"$f":"SUBSTITUTE(IN!F110,\",\",\".\")","v":""}]
[0,{"$error":"#VALUE!"},{"$error":"#VALUE!"},{"$f":"SUBSTITUTE(IN!G111,\"-\",\"\")","v":""},"",{"$f":"IN!F111*60","v":0},0,"-",{"$f":"SUBSTITUTE(IN!F111,\",\",\".\")","v":""}]
[0,{"$error":"#VALUE!"},{"$error":"#VALUE!"},{"$f":"SUBSTITUTE(IN!G112,\"-\",\"\")","v":""},"",{"$f":"IN!F112*60","v":0},0,"-",{"$f":"SUBSTITUTE(IN!F112,\",\",\".\")","v":""}]
[0,{"$error":"#VALUE!"},{"$error":"#VALUE!"},{"$f":"SUBSTITUTE(IN!G113,\"-\",\"\")","v":""},"",{"$f":"IN!F113*60","v":0},0,"-",{"$f":"SUBSTITUTE(IN!F113,\",\",\".\")","v":""}]
[0,{"$error":"#VALUE!"},{"$error":"#VALUE!"},{"$f":"SUBSTITUTE(IN!G114,\"-\",\"\")","v":""},"",{"$f":"IN!F114*60","v":0},0,"-",{"$f":"SUBSTITUTE(IN!F114,\",\",\".\")","v":""}]
[0,{"$error":"#VALUE!"},{"$error":"#VALUE!"},{"$f":"SUBSTITUTE(IN!G115,\"-\",\"\")","v":""},"",{"$f":"IN!F115*60","v":0},0,"-",{"$f":"SUBSTITUTE(IN!F115,\",\",\".\")","v":""}]
[0,{"$error":"#VALUE!"},{"$error":"#VALUE!"},{"$f":"SUBSTITUTE(IN!G116,\"-\",\"\")","v":""},"",{"$f":"IN!F116*60","v":0},0,"-",{"$f":"SUBSTITUTE(IN!F116,\",\",\".\")","v":""}]
[0,{"$error":"#VALUE!"},{"$error":"#VALUE!"},{"$f":"SUBSTITUTE(IN!G117,\"-\",\"\")","v":""},"",{"$f":"IN!F117*60","v":0},0,"-",{"$f":"SUBSTITUTE(IN!F117,\",\",\".\")","v":""}]
[0,{"$error":"#VALUE!"},{"$error":"#VALUE!"},{"$f":"SUBSTITUTE(IN!G118,\"-\",\"\")","v":""},"",{"$f":"IN!F118*60","v":0},0,"-",{"$f":"SUBSTITUTE(IN!F118,\",\",\".\")","v":""}]
[0,{"$error":"#VALUE!"},{"$error":"#VALUE!"},{"$f":"SUBSTITUTE(IN!G119,\"-\",\"\")","v":""},"",{"$f":"IN!F119*60","v":0},0,"-",{"$f":"SUBSTITUTE(IN!F119,\",\",\".\")","v":""}]
[0,{"$error":"#VALUE!"},{"$error":"#VALUE!"},{"$f":"SUBSTITUTE(IN!G120,\"-\",\"\")","v":""},"",{"$f":"IN!F120*60","v":0},0,"-",{"$f":"SUBSTITUTE(IN!F120,\",\",\".\")","v":""}]
[0,{"$error":"#VALUE!"},{"$error":"#VALUE!"},{"$f":"SUBSTITUTE(IN!G121,\"-\",\"\")","v":""},"",{"$f":"IN!F121*60","v":0},0,"-",{"$f":"SUBSTITUTE(IN!F121,\",\",\".\")","v":""}]
[0,{"$error":"#VALUE!"},{"$error":"#VALUE!"},{"$f":"SUBSTITUTE(IN!G122,\"-\",\"\")","v":""},"",{"$f":"IN!F122*60","v":0},0,"-",{"$f":"SUBSTITUTE(IN!F122,\",\",\".\")","v":""}]
[0,{"$error":"#VALUE!"},{"$error":"#VALUE!"},{"$f":"SUBSTITUTE(IN!G123,\"-\",\"\")","v":""},"",{"$f":"IN!F123*60","v":0},0,"-",{"$f":"SUBSTITUTE(IN!F123,\",\",\".\")","v":""}]
[0,{"$error":"#VALUE!"},{"$error":"#VALUE!"},{"$f":"SUBSTITUTE(IN!G124,\"-\",\"\")","v":""},"",{"$f":"IN!F124*60","v":0},0,"-",{"$f":"SUBSTITUTE(IN!F124,\",\",\".\")","v":""}]
[0,{"$error":"#VALUE!"},{"$error":"#VALUE!"},{"$f":"SUBSTITUTE(IN!G125,\"-\",\"\")","v":""},"",{"$f":"IN!F125*60","v":0},0,"-",{"$f":"SUBSTITUTE(IN!F125,\",\",\".\")","v":""}]
[0,{"$error":"#VALUE!"},{"$error":"#VALUE!"},{"$f":"SUBSTITUTE(IN!G126,\"-\",\"\")","v":""},"",{"$f":"IN!F126*60","v":0},0,"-",{"$f":"SUBSTITUTE(IN!F126,\",\",\".\")","v":""}]
[0,{"$error":"#VALUE!"},{"$error":"#VALUE!"},{"$f":"SUBSTITUTE(IN!G127,\"-\",\"\")","v":""},"",{"$f":"IN!F127*60","v":0},0,"-",{"$f":"SUBSTITUTE(IN!F127,\",\",\".\")","v":""}]
[0,{"$error":"#VALUE!"},{"$error":"#VALUE!"},{"$f":"SUBSTITUTE(IN!G128,\"-\",\"\")","v":""},"",{"$f":"IN!F128*60","v":0},0,"-",{"$f":"SUBSTITUTE(IN!F128,\",\",\".\")","v":""}]
[0,{"$error":"#VALUE!"},{"$error":"#VALUE!"},{"$f":"SUBSTITUTE(IN!G129,\"-\",\"\")","v":""},"",{"$f":"IN!F129*60","v":0},0,"-",{"$f":"SUBSTITUTE(IN!F129,\",\",\".\")","v":""}]
[0,{"$error":"#VALUE!"},{"$error":"#VALUE!"},{"$f":"SUBSTITUTE(IN!G130,\"-\",\"\")","v":""},"",{"$f":"IN!F130*60","v":0},0,"-",{"$f":"SUBSTITUTE(IN!F130,\",\",\".\")","v":""}]
[0,{"$error":"#VALUE!"},{"$error":"#VALUE!"},{"$f":"SUBSTITUTE(IN!G131,\"-\",\"\")","v":""},"",{"$f":"IN!F131*60","v":0},0,"-",{"$f":"SUBSTITUTE(IN!F131,\",\",\".\")","v":""}]
[0,{"$error":"#VALUE!"},{"$error":"#VALUE!"},{"$f":"SUBSTITUTE(IN!G132,\"-\",\"\")","v":""},"",{"$f":"IN!F132*60","v":0},0,"-",{"$f":"SUBSTITUTE(IN!F132,\",\",\".\")","v":""}]
[{"$f":"LEN(D133)","v":0},{"$f":"VALUE(LEFT(D133,1))","v":{"$error":"#VALUE!"}},{"$f":"IF(B133<2,20,19)","v":{"$error":"#VALUE!"}},{"$f":"SUBSTITUTE(IN!G133,\"-\",\"\")","v":""},{"$f":"IF(A133=10,CONCATENATE(C133,D133),D133)","v":""},{"$f":"IN!F133*60","v":0},{"$f":"ROUND(F133,0)","v":0},{"$f":"CONCATENATE(MID(E133,1,8),\"-\",MID(E133,9,4))","v":"-"},{"$f":"SUBSTITUTE(IN!F133,\",\",\".\")","v":""}]
[0,{"$error":"#VALUE!"},{"$error":"#VALUE!"},{"$f":"SUBSTITUTE(IN!G134,\"-\",\"\")","v":""},"",{"$f":"IN!F134*60","v":0},0,"-",{"$f":"SUBSTITUTE(IN!F134,\",\",\".\")","v":""}]
[0,{"$error":"#VALUE!"},{"$error":"#VALUE!"},{"$f":"SUBSTITUTE(IN!G135,\"-\",\"\")","v":""},"",{"$f":"IN!F135*60","v":0},0,"-",{"$f":"SUBSTITUTE(IN!F135,\",\",\".\")","v":""}]
[0,{"$error":"#VALUE!"},{"$error":"#VALUE!"},{"$f":"SUBSTITUTE(IN!G136,\"-\",\"\")","v":""},"",{"$f":"IN!F136*60","v":0},0,"-",{"$f":"SUBSTITUTE(IN!F136,\",\",\".\")","v":""}]
[0,{"$error":"#VALUE!"},{"$error":"#VALUE!"},{"$f":"SUBSTITUTE(IN!G137,\"-\",\"\")","v":""},"",{"$f":"IN!F137*60","v":0},0,"-",{"$f":"SUBSTITUTE(IN!F137,\",\",\".\")","v":""}]
[0,{"$error":"#VALUE!"},{"$error":"#VALUE!"},{"$f":"SUBSTITUTE(IN!G138,\"-\",\"\")","v":""},"",{"$f":"IN!F138*60","v":0},0,"-",{"$f":"SUBSTITUTE(IN!F138,\",\",\".\")","v":""}]
[0,{"$error":"#VALUE!"},{"$error":"#VALUE!"},{"$f":"SUBSTITUTE(IN!G139,\"-\",\"\")","v":""},"",{"$f":"IN!F139*60","v":0},0,"-",{"$f":"SUBSTITUTE(IN!F139,\",\",\".\")","v":""}]
[0,{"$error":"#VALUE!"},{"$error":"#VALUE!"},{"$f":"SUBSTITUTE(IN!G140,\"-\",\"\")","v":""},"",{"$f":"IN!F140*60","v":0},0,"-",{"$f":"SUBSTITUTE(IN!F140,\",\",\".\")","v":""}]
[0,{"$error":"#VALUE!"},{"$error":"#VALUE!"},{"$f":"SUBSTITUTE(IN!G141,\"-\",\"\")","v":""},"",{"$f":"IN!F141*60","v":0},0,"-",{"$f":"SUBSTITUTE(IN!F141,\",\",\".\")","v":""}]
[0,{"$error":"#VALUE!"},{"$error":"#VALUE!"},{"$f":"SUBSTITUTE(IN!G142,\"-\",\"\")","v":""},"",{"$f":"IN!F142*60","v":0},0,"-",{"$f":"SUBSTITUTE(IN!F142,\",\",\".\")","v":""}]
[0,{"$error":"#VALUE!"},{"$error":"#VALUE!"},{"$f":"SUBSTITUTE(IN!G143,\"-\",\"\")","v":""},"",{"$f":"IN!F143*60","v":0},0,"-",{"$f":"SUBSTITUTE(IN!F143,\",\",\".\")","v":""}]
[0,{"$error":"#VALUE!"},{"$error":"#VALUE!"},{"$f":"SUBSTITUTE(IN!G144,\"-\",\"\")","v":""},"",{"$f":"IN!F144*60","v":0},0,"-",{"$f":"SUBSTITUTE(IN!F144,\",\",\".\")","v":""}]
[0,{"$error":"#VALUE!"},{"$error":"#VALUE!"},{"$f":"SUBSTITUTE(IN!G145,\"-\",\"\")","v":""},"",{"$f":"IN!F145*60","v":0},0,"-",{"$f":"SUBSTITUTE(IN!F145,\",\",\".\")","v":""}]
[0,{"$error":"#VALUE!"},{"$error":"#VALUE!"},{"$f":"SUBSTITUTE(IN!G146,\"-\",\"\")","v":""},"",{"$f":"IN!F146*60","v":0},0,"-",{"$f":"SUBSTITUTE(IN!F146,\",\",\".\")","v":""}]
[0,{"$error":"#VALUE!"},{"$error":"#VALUE!"},{"$f":"SUBSTITUTE(IN!G147,\"-\",\"\")","v":""},"",{"$f":"IN!F147*60","v":0},0,"-",{"$f":"SUBSTITUTE(IN!F147,\",\",\".\")","v":""}]
[0,{"$error":"#VALUE!"},{"$error":"#VALUE!"},{"$f":"SUBSTITUTE(IN!G148,\"-\",\"\")","v":""},"",{"$f":"IN!F148*60","v":0},0,"-",{"$f":"SUBSTITUTE(IN!F148,\",\",\".\")","v":""}]
[0,{"$error":"#VALUE!"},{"$error":"#VALUE!"},{"$f":"SUBSTITUTE(IN!G149,\"-\",\"\")","v":""},"",{"$f":"IN!F149*60","v":0},0,"-",{"$f":"SUBSTITUTE(IN!F149,\",\",\".\")","v":""}]
[0,{"$error":"#VALUE!"},{"$error":"#VALUE!"},{"$f":"SUBSTITUTE(IN!G150,\"-\",\"\")","v":""},"",{"$f":"IN!F150*60","v":0},0,"-",{"$f":"SUBSTITUTE(IN!F150,\",\",\".\")","v":""}]
[0,{"$error":"#VALUE!"},{"$error":"#VALUE!"},{"$f":"SUBSTITUTE(IN!G151,\"-\",\"\")","v":""},"",{"$f":"IN!F151*60","v":0},0,"-",{"$f":"SUBSTITUTE(IN!F151,\",\",\".\")","v":""}]
[0,{"$error":"#VALUE!"},{"$error":"#VALUE!"},{"$f":"SUBSTITUTE(IN!G152,\"-\",\"\")","v":""},"",{"$f":"IN!F152*60","v":0},0,"-",{"$f":"SUBSTITUTE(IN!F152,\",\",\".\")","v":""}]
[0,{"$error":"#VALUE!"},{"$error":"#VALUE!"},{"$f":"SUBSTITUTE(IN!G153,\"-\",\"\")","v":""},"",{"$f":"IN!F153*60","v":0},0,"-",{"$f":"SUBSTITUTE(IN!F153,\",\",\".\")","v":""}]
[0,{"$error":"#VALUE!"},{"$error":"#VALUE!"},{"$f":"SUBSTITUTE(IN!G154,\"-\",\"\")","v":""},"",{"$f":"IN!F154*60","v":0},0,"-",{"$f":"SUBSTITUTE(IN!F154,\",\",\".\")","v":""}]
[0,{"$error":"#VALUE!"},{"$error":"#VALUE!"},{"$f":"SUBSTITUTE(IN!G155,\"-\",\"\")","v":""},"",{"$f":"IN!F155*60","v":0},0,"-",{"$f":"SUBSTITUTE(IN!F155,\",\",\".\")","v":""}]
[0,{"$error":"#VALUE!"},{"$error":"#VALUE!"},{"$f":"SUBSTITUTE(IN!G156,\"-\",\"\")","v":""},"",{"$f":"IN!F156*60","v":0},0,"-",{"$f":"SUBSTITUTE(IN!F156,\",\",\".\")","v":""}]
[0,{"$error":"#VALUE!"},{"$error":"#VALUE!"},{"$f":"SUBSTITUTE(IN!G157,\"-\",\"\")","v":""},"",{"$f":"IN!F157*60","v":0},0,"-",{"$f":"SUBSTITUTE(IN!F157,\",\",\".\")","v":""}]
[0,{"$error":"#VALUE!"},{"$error":"#VALUE!"},{"$f":"SUBSTITUTE(IN!G158,\"-\",\"\")","v":""},"",{"$f":"IN!F158*60","v":0},0,"-",{"$f":"SUBSTITUTE(IN!F158,\",\",\".\")","v":""}]
[0,{"$error":"#VALUE!"},{"$error":"#VALUE!"},{"$f":"SUBSTITUTE(IN!G159,\"-\",\"\")","v":""},"",{"$f":"IN!F159*60","v":0},0,"-",{"$f":"SUBSTITUTE(IN!F159,\",\",\".\")","v":""}]
[0,{"$error":"#VALUE!"},{"$error":"#VALUE!"},{"$f":"SUBSTITUTE(IN!G160,\"-\",\"\")","v":""},"",{"$f":"IN!F160*60","v":0},0,"-",{"$f":"SUBSTITUTE(IN!F160,\",\",\".\")","v":""}]
[0,{"$error":"#VALUE!"},{"$error":"#VALUE!"},{"$f":"SUBSTITUTE(IN!G161,\"-\",\"\")","v":""},"",{"$f":"IN!F161*60","v":0},0,"-",{"$f":"SUBSTITUTE(IN!F161,\",\",\".\")","v":""}]
[0,{"$error":"#VALUE!"},{"$error":"#VALUE!"},{"$f":"SUBSTITUTE(IN!G162,\"-\",\"\")","v":""},"",{"$f":"IN!F162*60","v":0},0,"-",{"$f":"SUBSTITUTE(IN!F162,\",\",\".\")","v":""}]
[0,{"$error":"#VALUE!"},{"$error":"#VALUE!"},{"$f":"SUBSTITUTE(IN!G163,\"-\",\"\")","v":""},"",{"$f":"IN!F163*60","v":0},0,"-",{"$f":"SUBSTITUTE(IN!F163,\",\",\".\")","v":""}]
[0,{"$error":"#VALUE!"},{"$error":"#VALUE!"},{"$f":"SUBSTITUTE(IN!G164,\"-\",\"\")","v":""},"",{"$f":"IN!F164*60","v":0},0,"-",{"$f":"SUBSTITUTE(IN!F164,\",\",\".\")","v":""}]
[0,{"$error":"#VALUE!"},{"$error":"#VALUE!"},{"$f":"SUBSTITUTE(IN!G165,\"-\",\"\")","v":""},"",{"$f":"IN!F165*60","v":0},0,"-",{"$f":"SUBSTITUTE(IN!F165,\",\",\".\")","v":""}]
[0,{"$error":"#VALUE!"},{"$error":"#VALUE!"},{"$f":"SUBSTITUTE(IN!G166,\"-\",\"\")","v":""},"",{"$f":"IN!F166*60","v":0},0,"-",{"$f":"SUBSTITUTE(IN!F166,\",\",\".\")","v":""}]
[0,{"$error":"#VALUE!"},{"$error":"#VALUE!"},{"$f":"SUBSTITUTE(IN!G167,\"-\",\"\")","v":""},"",{"$f":"IN!F167*60","v":0},0,"-",{"$f":"SUBSTITUTE(IN!F167,\",\",\".\")","v":""}]
[0,{"$error":"#VALUE!"},{"$error":"#VALUE!"},{"$f":"SUBSTITUTE(IN!G168,\"-\",\"\")","v":""},"",{"$f":"IN!F168*60","v":0},0,"-",{"$f":"SUBSTITUTE(IN!F168,\",\",\".\")","v":""}]
[0,{"$error":"#VALUE!"},{"$error":"#VALUE!"},{"$f":"SUBSTITUTE(IN!G169,\"-\",\"\")","v":""},"",{"$f":"IN!F169*60","v":0},0,"-",{"$f":"SUBSTITUTE(IN!F169,\",\",\".\")","v":""}]
[0,{"$error":"#VALUE!"},{"$error":"#VALUE!"},{"$f":"SUBSTITUTE(IN!G170,\"-\",\"\")","v":""},"",{"$f":"IN!F170*60","v":0},0,"-",{"$f":"SUBSTITUTE(IN!F170,\",\",\".\")","v":""}]
[0,{"$error":"#VALUE!"},{"$error":"#VALUE!"},{"$f":"SUBSTITUTE(IN!G171,\"-\",\"\")","v":""},"",{"$f":"IN!F171*60","v":0},0,"-",{"$f":"SUBSTITUTE(IN!F171,\",\",\".\")","v":""}]
[0,{"$error":"#VALUE!"},{"$error":"#VALUE!"},{"$f":"SUBSTITUTE(IN!G172,\"-\",\"\")","v":""},"",{"$f":"IN!F172*60","v":0},0,"-",{"$f":"SUBSTITUTE(IN!F172,\",\",\".\")","v":""}]
[0,{"$error":"#VALUE!"},{"$error":"#VALUE!"},{"$f":"SUBSTITUTE(IN!G173,\"-\",\"\")","v":""},"",{"$f":"IN!F173*60","v":0},0,"-",{"$f":"SUBSTITUTE(IN!F173,\",\",\".\")","v":""}]
[0,{"$error":"#VALUE!"},{"$error":"#VALUE!"},{"$f":"SUBSTITUTE(IN!G174,\"-\",\"\")","v":""},"",{"$f":"IN!F174*60","v":0},0,"-",{"$f":"SUBSTITUTE(IN!F174,\",\",\".\")","v":""}]
[0,{"$error":"#VALUE!"},{"$error":"#VALUE!"},{"$f":"SUBSTITUTE(IN!G175,\"-\",\"\")","v":""},"",{"$f":"IN!F175*60","v":0},0,"-",{"$f":"SUBSTITUTE(IN!F175,\",\",\".\")","v":""}]
[0,{"$error":"#VALUE!"},{"$error":"#VALUE!"},{"$f":"SUBSTITUTE(IN!G176,\"-\",\"\")","v":""},"",{"$f":"IN!F176*60","v":0},0,"-",{"$f":"SUBSTITUTE(IN!F176,\",\",\".\")","v":""}]
[0,{"$error":"#VALUE!"},{"$error":"#VALUE!"},{"$f":"SUBSTITUTE(IN!G177,\"-\",\"\")","v":""},"",{"$f":"IN!F177*60","v":0},0,"-",{"$f":"SUBSTITUTE(IN!F177,\",\",\".\")","v":""}]
[0,{"$error":"#VALUE!"},{"$error":"#VALUE!"},{"$f":"SUBSTITUTE(IN!G178,\"-\",\"\")","v":""},"",{"$f":"IN!F178*60","v":0},0,"-",{"$f":"SUBSTITUTE(IN!F178,\",\",\".\")","v":""}]
[0,{"$error":"#VALUE!"},{"$error":"#VALUE!"},{"$f":"SUBSTITUTE(IN!G179,\"-\",\"\")","v":""},"",{"$f":"IN!F179*60","v":0},0,"-",{"$f":"SUBSTITUTE(IN!F179,\",\",\".\")","v":""}]
[0,{"$error":"#VALUE!"},{"$error":"#VALUE!"},{"$f":"SUBSTITUTE(IN!G180,\"-\",\"\")","v":""},"",{"$f":"IN!F180*60","v":0},0,"-",{"$f":"SUBSTITUTE(IN!F180,\",\",\".\")","v":""}]
[0,{"$error":"#VALUE!"},{"$error":"#VALUE!"},{"$f":"SUBSTITUTE(IN!G181,\"-\",\"\")","v":""},"",{"$f":"IN!F181*60","v":0},0,"-",{"$f":"SUBSTITUTE(IN!F181,\",\",\".\")","v":""}]
[0,{"$error":"#VALUE!"},{"$error":"#VALUE!"},{"$f":"SUBSTITUTE(IN!G182,\"-\",\"\")","v":""},"",{"$f":"IN!F182*60","v":0},0,"-",{"$f":"SUBSTITUTE(IN!F182,\",\",\".\")","v":""}]
[0,{"$error":"#VALUE!"},{"$error":"#VALUE!"},{"$f":"SUBSTITUTE(IN!G183,\"-\",\"\")","v":""},"",{"$f":"IN!F183*60","v":0},0,"-",{"$f":"SUBSTITUTE(IN!F183,\",\",\".\")","v":""}]
[0,{"$error":"#VALUE!"},{"$error":"#VALUE!"},{"$f":"SUBSTITUTE(IN!G184,\"-\",\"\")","v":""},"",{"$f":"IN!F184*60","v":0},0,"-",{"$f":"SUBSTITUTE(IN!F184,\",\",\".\")","v":""}]
[0,{"$error":"#VALUE!"},{"$error":"#VALUE!"},{"$f":"SUBSTITUTE(IN!G185,\"-\",\"\")","v":""},"",{"$f":"IN!F185*60","v":0},0,"-",{"$f":"SUBSTITUTE(IN!F185,\",\",\".\")","v":""}]
[0,{"$error":"#VALUE!"},{"$error":"#VALUE!"},{"$f":"SUBSTITUTE(IN!G186,\"-\",\"\")","v":""},"",{"$f":"IN!F186*60","v":0},0,"-",{"$f":"SUBSTITUTE(IN!F186,\",\",\".\")","v":""}]
[0,{"$error":"#VALUE!"},{"$error":"#VALUE!"},{"$f":"SUBSTITUTE(IN!G187,\"-\",\"\")","v":""},"",{"$f":"IN!F187*60","v":0},0,"-",{"$f":"SUBSTITUTE(IN!F187,\",\",\".\")","v":""}]
[0,{"$error":"#VALUE!"},{"$error":"#VALUE!"},{"$f":"SUBSTITUTE(IN!G188,\"-\",\"\")","v":""},"",{"$f":"IN!F188*60","v":0},0,"-",{"$f":"SUBSTITUTE(IN!F188,\",\",\".\")","v":""}]
[0,{"$error":"#VALUE!"},{"$error":"#VALUE!"},{"$f":"SUBSTITUTE(IN!G189,\"-\",\"\")","v":""},"",{"$f":"IN!F189*60","v":0},0,"-",{"$f":"SUBSTITUTE(IN!F189,\",\",\".\")","v":""}]
[0,{"$error":"#VALUE!"},{"$error":"#VALUE!"},{"$f":"SUBSTITUTE(IN!G190,\"-\",\"\")","v":""},"",{"$f":"IN!F190*60","v":0},0,"-",{"$f":"SUBSTITUTE(IN!F190,\",\",\".\")","v":""}]
[0,{"$error":"#VALUE!"},{"$error":"#VALUE!"},{"$f":"SUBSTITUTE(IN!G191,\"-\",\"\")","v":""},"",{"$f":"IN!F191*60","v":0},0,"-",{"$f":"SUBSTITUTE(IN!F191,\",\",\".\")","v":""}]
[0,{"$error":"#VALUE!"},{"$error":"#VALUE!"},{"$f":"SUBSTITUTE(IN!G192,\"-\",\"\")","v":""},"",{"$f":"IN!F192*60","v":0},0,"-",{"$f":"SUBSTITUTE(IN!F192,\",\",\".\")","v":""}]
[0,{"$error":"#VALUE!"},{"$error":"#VALUE!"},{"$f":"SUBSTITUTE(IN!G193,\"-\",\"\")","v":""},"",{"$f":"IN!F193*60","v":0},0,"-",{"$f":"SUBSTITUTE(IN!F193,\",\",\".\")","v":""}]
[0,{"$error":"#VALUE!"},{"$error":"#VALUE!"},{"$f":"SUBSTITUTE(IN!G194,\"-\",\"\")","v":""},"",{"$f":"IN!F194*60","v":0},0,"-",{"$f":"SUBSTITUTE(IN!F194,\",\",\".\")","v":""}]
[0,{"$error":"#VALUE!"},{"$error":"#VALUE!"},{"$f":"SUBSTITUTE(IN!G195,\"-\",\"\")","v":""},"",{"$f":"IN!F195*60","v":0},0,"-",{"$f":"SUBSTITUTE(IN!F195,\",\",\".\")","v":""}]
[0,{"$error":"#VALUE!"},{"$error":"#VALUE!"},{"$f":"SUBSTITUTE(IN!G196,\"-\",\"\")","v":""},"",{"$f":"IN!F196*60","v":0},0,"-",{"$f":"SUBSTITUTE(IN!F196,\",\",\".\")","v":""}]
[{"$f":"LEN(D197)","v":0},{"$f":"VALUE(LEFT(D197,1))","v":{"$error":"#VALUE!"}},{"$f":"IF(B197<2,20,19)","v":{"$error":"#VALUE!"}},{"$f":"SUBSTITUTE(IN!G197,\"-\",\"\")","v":""},{"$f":"IF(A197=10,CONCATENATE(C197,D197),D197)","v":""},{"$f":"IN!F197*60","v":0},{"$f":"ROUND(F197,0)","v":0},{"$f":"CONCATENATE(MID(E197,1,8),\"-\",MID(E197,9,4))","v":"-"},{"$f":"SUBSTITUTE(IN!F197,\",\",\".\")","v":""}]
[0,{"$error":"#VALUE!"},{"$error":"#VALUE!"},{"$f":"SUBSTITUTE(IN!G198,\"-\",\"\")","v":""},"",{"$f":"IN!F198*60","v":0},0,"-",{"$f":"SUBSTITUTE(IN!F198,\",\",\".\")","v":""}]
[0,{"$error":"#VALUE!"},{"$error":"#VALUE!"},{"$f":"SUBSTITUTE(IN!G199,\"-\",\"\")","v":""},"",{"$f":"IN!F199*60","v":0},0,"-",{"$f":"SUBSTITUTE(IN!F199,\",\",\".\")","v":""}]
[0,{"$error":"#VALUE!"},{"$error":"#VALUE!"},{"$f":"SUBSTITUTE(IN!G200,\"-\",\"\")","v":""},"",{"$f":"IN!F200*60","v":0},0,"-",{"$f":"SUBSTITUTE(IN!F200,\",\",\".\")","v":""}]
[0,{"$error":"#VALUE!"},{"$error":"#VALUE!"},{"$f":"SUBSTITUTE(IN!G201,\"-\",\"\")","v":""},"",{"$f":"IN!F201*60","v":0},0,"-",{"$f":"SUBSTITUTE(IN!F201,\",\",\".\")","v":""}]
[0,{"$error":"#VALUE!"},{"$error":"#VALUE!"},{"$f":"SUBSTITUTE(IN!G202,\"-\",\"\")","v":""},"",{"$f":"IN!F202*60","v":0},0,"-",{"$f":"SUBSTITUTE(IN!F202,\",\",\".\")","v":""}]
[0,{"$error":"#VALUE!"},{"$error":"#VALUE!"},{"$f":"SUBSTITUTE(IN!G203,\"-\",\"\")","v":""},"",{"$f":"IN!F203*60","v":0},0,"-",{"$f":"SUBSTITUTE(IN!F203,\",\",\".\")","v":""}]
[0,{"$error":"#VALUE!"},{"$error":"#VALUE!"},{"$f":"SUBSTITUTE(IN!G204,\"-\",\"\")","v":""},"",{"$f":"IN!F204*60","v":0},0,"-",{"$f":"SUBSTITUTE(IN!F204,\",\",\".\")","v":""}]
[0,{"$error":"#VALUE!"},{"$error":"#VALUE!"},{"$f":"SUBSTITUTE(IN!G205,\"-\",\"\")","v":""},"",{"$f":"IN!F205*60","v":0},0,"-",{"$f":"SUBSTITUTE(IN!F205,\",\",\".\")","v":""}]
[0,{"$error":"#VALUE!"},{"$error":"#VALUE!"},{"$f":"SUBSTITUTE(IN!G206,\"-\",\"\")","v":""},"",{"$f":"IN!F206*60","v":0},0,"-",{"$f":"SUBSTITUTE(IN!F206,\",\",\".\")","v":""}]
[0,{"$error":"#VALUE!"},{"$error":"#VALUE!"},{"$f":"SUBSTITUTE(IN!G207,\"-\",\"\")","v":""},"",{"$f":"IN!F207*60","v":0},0,"-",{"$f":"SUBSTITUTE(IN!F207,\",\",\".\")","v":""}]
[0,{"$error":"#VALUE!"},{"$error":"#VALUE!"},{"$f":"SUBSTITUTE(IN!G208,\"-\",\"\")","v":""},"",{"$f":"IN!F208*60","v":0},0,"-",{"$f":"SUBSTITUTE(IN!F208,\",\",\".\")","v":""}]
[0,{"$error":"#VALUE!"},{"$error":"#VALUE!"},{"$f":"SUBSTITUTE(IN!G209,\"-\",\"\")","v":""},"",{"$f":"IN!F209*60","v":0},0,"-",{"$f":"SUBSTITUTE(IN!F209,\",\",\".\")","v":""}]
[0,{"$error":"#VALUE!"},{"$error":"#VALUE!"},{"$f":"SUBSTITUTE(IN!G210,\"-\",\"\")","v":""},"",{"$f":"IN!F210*60","v":0},0,"-",{"$f":"SUBSTITUTE(IN!F210,\",\",\".\")","v":""}]
[0,{"$error":"#VALUE!"},{"$error":"#VALUE!"},{"$f":"SUBSTITUTE(IN!G211,\"-\",\"\")","v":""},"",{"$f":"IN!F211*60","v":0},0,"-",{"$f":"SUBSTITUTE(IN!F211,\",\",\".\")","v":""}]
[0,{"$error":"#VALUE!"},{"$error":"#VALUE!"},{"$f":"SUBSTITUTE(IN!G212,\"-\",\"\")","v":""},"",{"$f":"IN!F212*60","v":0},0,"-",{"$f":"SUBSTITUTE(IN!F212,\",\",\".\")","v":""}]
[0,{"$error":"#VALUE!"},{"$error":"#VALUE!"},{"$f":"SUBSTITUTE(IN!G213,\"-\",\"\")","v":""},"",{"$f":"IN!F213*60","v":0},0,"-",{"$f":"SUBSTITUTE(IN!F213,\",\",\".\")","v":""}]
[0,{"$error":"#VALUE!"},{"$error":"#VALUE!"},{"$f":"SUBSTITUTE(IN!G214,\"-\",\"\")","v":""},"",{"$f":"IN!F214*60","v":0},0,"-",{"$f":"SUBSTITUTE(IN!F214,\",\",\".\")","v":""}]
[0,{"$error":"#VALUE!"},{"$error":"#VALUE!"},{"$f":"SUBSTITUTE(IN!G215,\"-\",\"\")","v":""},"",{"$f":"IN!F215*60","v":0},0,"-",{"$f":"SUBSTITUTE(IN!F215,\",\",\".\")","v":""}]
[0,{"$error":"#VALUE!"},{"$error":"#VALUE!"},{"$f":"SUBSTITUTE(IN!G216,\"-\",\"\")","v":""},"",{"$f":"IN!F216*60","v":0},0,"-",{"$f":"SUBSTITUTE(IN!F216,\",\",\".\")","v":""}]
[0,{"$error":"#VALUE!"},{"$error":"#VALUE!"},{"$f":"SUBSTITUTE(IN!G217,\"-\",\"\")","v":""},"",{"$f":"IN!F217*60","v":0},0,"-",{"$f":"SUBSTITUTE(IN!F217,\",\",\".\")","v":""}]
[0,{"$error":"#VALUE!"},{"$error":"#VALUE!"},{"$f":"SUBSTITUTE(IN!G218,\"-\",\"\")","v":""},"",{"$f":"IN!F218*60","v":0},0,"-",{"$f":"SUBSTITUTE(IN!F218,\",\",\".\")","v":""}]
[0,{"$error":"#VALUE!"},{"$error":"#VALUE!"},{"$f":"SUBSTITUTE(IN!G219,\"-\",\"\")","v":""},"",{"$f":"IN!F219*60","v":0},0,"-",{"$f":"SUBSTITUTE(IN!F219,\",\",\".\")","v":""}]
[0,{"$error":"#VALUE!"},{"$error":"#VALUE!"},{"$f":"SUBSTITUTE(IN!G220,\"-\",\"\")","v":""},"",{"$f":"IN!F220*60","v":0},0,"-",{"$f":"SUBSTITUTE(IN!F220,\",\",\".\")","v":""}]
[0,{"$error":"#VALUE!"},{"$error":"#VALUE!"},{"$f":"SUBSTITUTE(IN!G221,\"-\",\"\")","v":""},"",{"$f":"IN!F221*60","v":0},0,"-",{"$f":"SUBSTITUTE(IN!F221,\",\",\".\")","v":""}]
[0,{"$error":"#VALUE!"},{"$error":"#VALUE!"},{"$f":"SUBSTITUTE(IN!G222,\"-\",\"\")","v":""},"",{"$f":"IN!F222*60","v":0},0,"-",{"$f":"SUBSTITUTE(IN!F222,\",\",\".\")","v":""}]
[0,{"$error":"#VALUE!"},{"$error":"#VALUE!"},{"$f":"SUBSTITUTE(IN!G223,\"-\",\"\")","v":""},"",{"$f":"IN!F223*60","v":0},0,"-",{"$f":"SUBSTITUTE(IN!F223,\",\",\".\")","v":""}]
[0,{"$error":"#VALUE!"},{"$error":"#VALUE!"},{"$f":"SUBSTITUTE(IN!G224,\"-\",\"\")","v":""},"",{"$f":"IN!F224*60","v":0},0,"-",{"$f":"SUBSTITUTE(IN!F224,\",\",\".\")","v":""}]
[0,{"$error":"#VALUE!"},{"$error":"#VALUE!"},{"$f":"SUBSTITUTE(IN!G225,\"-\",\"\")","v":""},"",{"$f":"IN!F225*60","v":0},0,"-",{"$f":"SUBSTITUTE(IN!F225,\",\",\".\")","v":""}]
[0,{"$error":"#VALUE!"},{"$error":"#VALUE!"},{"$f":"SUBSTITUTE(IN!G226,\"-\",\"\")","v":""},"",{"$f":"IN!F226*60","v":0},0,"-",{"$f":"SUBSTITUTE(IN!F226,\",\",\".\")","v":""}]
[0,{"$error":"#VALUE!"},{"$error":"#VALUE!"},{"$f":"SUBSTITUTE(IN!G227,\"-\",\"\")","v":""},"",{"$f":"IN!F227*60","v":0},0,"-",{"$f":"SUBSTITUTE(IN!F227,\",\",\".\")","v":""}]
[0,{"$error":"#VALUE!"},{"$error":"#VALUE!"},{"$f":"SUBSTITUTE(IN!G228,\"-\",\"\")","v":""},"",{"$f":"IN!F228*60","v":0},0,"-",{"$f":"SUBSTITUTE(IN!F228,\",\",\".\")","v":""}]
[0,{"$error":"#VALUE!"},{"$error":"#VALUE!"},{"$f":"SUBSTITUTE(IN!G229,\"-\",\"\")","v":""},"",{"$f":"IN!F229*60","v":0},0,"-",{"$f":"SUBSTITUTE(IN!F229,\",\",\".\")","v":""}]
[0,{"$error":"#VALUE!"},{"$error":"#VALUE!"},{"$f":"SUBSTITUTE(IN!G230,\"-\",\"\")","v":""},"",{"$f":"IN!F230*60","v":0},0,"-",{"$f":"SUBSTITUTE(IN!F230,\",\",\".\")","v":""}]
[0,{"$error":"#VALUE!"},{"$error":"#VALUE!"},{"$f":"SUBSTITUTE(IN!G231,\"-\",\"\")","v":""},"",{"$f":"IN!F231*60","v":0},0,"-",{"$f":"SUBSTITUTE(IN!F231,\",\",\".\")","v":""}]
[0,{"$error":"#VALUE!"},{"$error":"#VALUE!"},{"$f":"SUBSTITUTE(IN!G232,\"-\",\"\")","v":""},"",{"$f":"IN!F232*60","v":0},0,"-",{"$f":"SUBSTITUTE(IN!F232,\",\",\".\")","v":""}]
[0,{"$error":"#VALUE!"},{"$error":"#VALUE!"},{"$f":"SUBSTITUTE(IN!G233,\"-\",\"\")","v":""},"",{"$f":"IN!F233*60","v":0},0,"-",{"$f":"SUBSTITUTE(IN!F233,\",\",\".\")","v":""}]
[0,{"$error":"#VALUE!"},{"$error":"#VALUE!"},{"$f":"SUBSTITUTE(IN!G234,\"-\",\"\")","v":""},"",{"$f":"IN!F234*60","v":0},0,"-",{"$f":"SUBSTITUTE(IN!F234,\",\",\".\")","v":""}]
[0,{"$error":"#VALUE!"},{"$error":"#VALUE!"},{"$f":"SUBSTITUTE(IN!G235,\"-\",\"\")","v":""},"",{"$f":"IN!F235*60","v":0},0,"-",{"$f":"SUBSTITUTE(IN!F235,\",\",\".\")","v":""}]
[0,{"$error":"#VALUE!"},{"$error":"#VALUE!"},{"$f":"SUBSTITUTE(IN!G236,\"-\",\"\")","v":""},"",{"$f":"IN!F236*60","v":0},0,"-",{"$f":"SUBSTITUTE(IN!F236,\",\",\".\")","v":""}]
[0,{"$error":"#VALUE!"},{"$error":"#VALUE!"},{"$f":"SUBSTITUTE(IN!G237,\"-\",\"\")","v":""},"",{"$f":"IN!F237*60","v":0},0,"-",{"$f":"SUBSTITUTE(IN!F237,\",\",\".\")","v":""}]
[0,{"$error":"#VALUE!"},{"$error":"#VALUE!"},{"$f":"SUBSTITUTE(IN!G238,\"-\",\"\")","v":""},"",{"$f":"IN!F238*60","v":0},0,"-",{"$f":"SUBSTITUTE(IN!F238,\",\",\".\")","v":""}]
[0,{"$error":"#VALUE!"},{"$error":"#VALUE!"},{"$f":"SUBSTITUTE(IN!G239,\"-\",\"\")","v":""},"",{"$f":"IN!F239*60","v":0},0,"-",{"$f":"SUBSTITUTE(IN!F239,\",\",\".\")","v":""}]
[0,{"$error":"#VALUE!"},{"$error":"#VALUE!"},{"$f":"SUBSTITUTE(IN!G240,\"-\",\"\")","v":""},"",{"$f":"IN!F240*60","v":0},0,"-",{"$f":"SUBSTITUTE(IN!F240,\",\",\".\")","v":""}]
[0,{"$error":"#VALUE!"},{"$error":"#VALUE!"},{"$f":"SUBSTITUTE(IN!G241,\"-\",\"\")","v":""},"",{"$f":"IN!F241*60","v":0},0,"-",{"$f":"SUBSTITUTE(IN!F241,\",\",\".\")","v":""}]
[0,{"$error":"#VALUE!"},{"$error":"#VALUE!"},{"$f":"SUBSTITUTE(IN!G242,\"-\",\"\")","v":""},"",{"$f":"IN!F242*60","v":0},0,"-",{"$f":"SUBSTITUTE(IN!F242,\",\",\".\")","v":""}]
[0,{"$error":"#VALUE!"},{"$error":"#VALUE!"},{"$f":"SUBSTITUTE(IN!G243,\"-\",\"\")","v":""},"",{"$f":"IN!F243*60","v":0},0,"-",{"$f":"SUBSTITUTE(IN!F243,\",\",\".\")","v":""}]
[0,{"$error":"#VALUE!"},{"$error":"#VALUE!"},{"$f":"SUBSTITUTE(IN!G244,\"-\",\"\")","v":""},"",{"$f":"IN!F244*60","v":0},0,"-",{"$f":"SUBSTITUTE(IN!F244,\",\",\".\")","v":""}]
[0,{"$error":"#VALUE!"},{"$error":"#VALUE!"},{"$f":"SUBSTITUTE(IN!G245,\"-\",\"\")","v":""},"",{"$f":"IN!F245*60","v":0},0,"-",{"$f":"SUBSTITUTE(IN!F245,\",\",\".\")","v":""}]
[0,{"$error":"#VALUE!"},{"$error":"#VALUE!"},{"$f":"SUBSTITUTE(IN!G246,\"-\",\"\")","v":""},"",{"$f":"IN!F246*60","v":0},0,"-",{"$f":"SUBSTITUTE(IN!F246,\",\",\".\")","v":""}]
[0,{"$error":"#VALUE!"},{"$error":"#VALUE!"},{"$f":"SUBSTITUTE(IN!G247,\"-\",\"\")","v":""},"",{"$f":"IN!F247*60","v":0},0,"-",{"$f":"SUBSTITUTE(IN!F247,\",\",\".\")","v":""}]
[0,{"$error":"#VALUE!"},{"$error":"#VALUE!"},{"$f":"SUBSTITUTE(IN!G248,\"-\",\"\")","v":""},"",{"$f":"IN!F248*60","v":0},0,"-",{"$f":"SUBSTITUTE(IN!F248,\",\",\".\")","v":""}]
[0,{"$error":"#VALUE!"},{"$error":"#VALUE!"},{"$f":"SUBSTITUTE(IN!G249,\"-\",\"\")","v":""},"",{"$f":"IN!F249*60","v":0},0,"-",{"$f":"SUBSTITUTE(IN!F249,\",\",\".\")","v":""}]
[0,{"$error":"#VALUE!"},{"$error":"#VALUE!"},{"$f":"SUBSTITUTE(IN!G250,\"-\",\"\")","v":""},"",{"$f":"IN!F250*60","v":0},0,"-",{"$f":"SUBSTITUTE(IN!F250,\",\",\".\")","v":""}]
[0,{"$error":"#VALUE!"},{"$error":"#VALUE!"},{"$f":"SUBSTITUTE(IN!G251,\"-\",\"\")","v":""},"",{"$f":"IN!F251*60","v":0},0,"-",{"$f":"SUBSTITUTE(IN!F251,\",\",\".\")","v":""}]
[0,{"$error":"#VALUE!"},{"$error":"#VALUE!"},{"$f":"SUBSTITUTE(IN!G252,\"-\",\"\")","v":""},"",{"$f":"IN!F252*60","v":0},0,"-",{"$f":"SUBSTITUTE(IN!F252,\",\",\".\")","v":""}]
[0,{"$error":"#VALUE!"},{"$error":"#VALUE!"},{"$f":"SUBSTITUTE(IN!G253,\"-\",\"\")","v":""},"",{"$f":"IN!F253*60","v":0},0,"-",{"$f":"SUBSTITUTE(IN!F253,\",\",\".\")","v":""}]
[0,{"$error":"#VALUE!"},{"$error":"#VALUE!"},{"$f":"SUBSTITUTE(IN!G254,\"-\",\"\")","v":""},"",{"$f":"IN!F254*60","v":0},0,"-",{"$f":"SUBSTITUTE(IN!F254,\",\",\".\")","v":""}]
[0,{"$error":"#VALUE!"},{"$error":"#VALUE!"},{"$f":"SUBSTITUTE(IN!G255,\"-\",\"\")","v":""},"",{"$f":"IN!F255*60","v":0},0,"-",{"$f":"SUBSTITUTE(IN!F255,\",\",\".\")","v":""}]
[0,{"$error":"#VALUE!"},{"$error":"#VALUE!"},{"$f":"SUBSTITUTE(IN!G256,\"-\",\"\")","v":""},"",{"$f":"IN!F256*60","v":0},0,"-",{"$f":"SUBSTITUTE(IN!F256,\",\",\".\")","v":""}]
[0,{"$error":"#VALUE!"},{"$error":"#VALUE!"},{"$f":"SUBSTITUTE(IN!G257,\"-\",\"\")","v":""},"",{"$f":"IN!F257*60","v":0},0,"-",{"$f":"SUBSTITUTE(IN!F257,\",\",\".\")","v":""}]
[0,{"$error":"#VALUE!"},{"$error":"#VALUE!"},{"$f":"SUBSTITUTE(IN!G258,\"-\",\"\")","v":""},"",{"$f":"IN!F258*60","v":0},0,"-",{"$f":"SUBSTITUTE(IN!F258,\",\",\".\")","v":""}]
[0,{"$error":"#VALUE!"},{"$error":"#VALUE!"},{"$f":"SUBSTITUTE(IN!G259,\"-\",\"\")","v":""},"",{"$f":"IN!F259*60","v":0},0,"-",{"$f":"SUBSTITUTE(IN!F259,\",\",\".\")","v":""}]
[0,{"$error":"#VALUE!"},{"$error":"#VALUE!"},{"$f":"SUBSTITUTE(IN!G260,\"-\",\"\")","v":""},"",{"$f":"IN!F260*60","v":0},0,"-",{"$f":"SUBSTITUTE(IN!F260,\",\",\".\")","v":""}]
[{"$f":"LEN(D261)","v":0},{"$f":"VALUE(LEFT(D261,1))","v":{"$error":"#VALUE!"}},{"$f":"IF(B261<2,20,19)","v":{"$error":"#VALUE!"}},{"$f":"SUBSTITUTE(IN!G261,\"-\",\"\")","v":""},{"$f":"IF(A261=10,CONCATENATE(C261,D261),D261)","v":""},{"$f":"IN!F261*60","v":0},{"$f":"ROUND(F261,0)","v":0},{"$f":"CONCATENATE(MID(E261,1,8),\"-\",MID(E261,9,4))","v":"-"},{"$f":"SUBSTITUTE(IN!F261,\",\",\".\")","v":""}]
[0,{"$error":"#VALUE!"},{"$error":"#VALUE!"},{"$f":"SUBSTITUTE(IN!G262,\"-\",\"\")","v":""},"",{"$f":"IN!F262*60","v":0},0,"-",{"$f":"SUBSTITUTE(IN!F262,\",\",\".\")","v":""}]
[0,{"$error":"#VALUE!"},{"$error":"#VALUE!"},{"$f":"SUBSTITUTE(IN!G263,\"-\",\"\")","v":""},"",{"$f":"IN!F263*60","v":0},0,"-",{"$f":"SUBSTITUTE(IN!F263,\",\",\".\")","v":""}]
[0,{"$error":"#VALUE!"},{"$error":"#VALUE!"},{"$f":"SUBSTITUTE(IN!G264,\"-\",\"\")","v":""},"",{"$f":"IN!F264*60","v":0},0,"-",{"$f":"SUBSTITUTE(IN!F264,\",\",\".\")","v":""}]
[0,{"$error":"#VALUE!"},{"$error":"#VALUE!"},{"$f":"SUBSTITUTE(IN!G265,\"-\",\"\")","v":""},"",{"$f":"IN!F265*60","v":0},0,"-",{"$f":"SUBSTITUTE(IN!F265,\",\",\".\")","v":""}]
[0,{"$error":"#VALUE!"},{"$error":"#VALUE!"},{"$f":"SUBSTITUTE(IN!G266,\"-\",\"\")","v":""},"",{"$f":"IN!F266*60","v":0},0,"-",{"$f":"SUBSTITUTE(IN!F266,\",\",\".\")","v":""}]
[0,{"$error":"#VALUE!"},{"$error":"#VALUE!"},{"$f":"SUBSTITUTE(IN!G267,\"-\",\"\")","v":""},"",{"$f":"IN!F267*60","v":0},0,"-",{"$f":"SUBSTITUTE(IN!F267,\",\",\".\")","v":""}]
[0,{"$error":"#VALUE!"},{"$error":"#VALUE!"},{"$f":"SUBSTITUTE(IN!G268,\"-\",\"\")","v":""},"",{"$f":"IN!F268*60","v":0},0,"-",{"$f":"SUBSTITUTE(IN!F268,\",\",\".\")","v":""}]
[0,{"$error":"#VALUE!"},{"$error":"#VALUE!"},{"$f":"SUBSTITUTE(IN!G269,\"-\",\"\")","v":""},"",{"$f":"IN!F269*60","v":0},0,"-",{"$f":"SUBSTITUTE(IN!F269,\",\",\".\")","v":""}]
[0,{"$error":"#VALUE!"},{"$error":"#VALUE!"},{"$f":"SUBSTITUTE(IN!G270,\"-\",\"\")","v":""},"",{"$f":"IN!F270*60","v":0},0,"-",{"$f":"SUBSTITUTE(IN!F270,\",\",\".\")","v":""}]
[0,{"$error":"#VALUE!"},{"$error":"#VALUE!"},{"$f":"SUBSTITUTE(IN!G271,\"-\",\"\")","v":""},"",{"$f":"IN!F271*60","v":0},0,"-",{"$f":"SUBSTITUTE(IN!F271,\",\",\".\")","v":""}]
[0,{"$error":"#VALUE!"},{"$error":"#VALUE!"},{"$f":"SUBSTITUTE(IN!G272,\"-\",\"\")","v":""},"",{"$f":"IN!F272*60","v":0},0,"-",{"$f":"SUBSTITUTE(IN!F272,\",\",\".\")","v":""}]
[0,{"$error":"#VALUE!"},{"$error":"#VALUE!"},{"$f":"SUBSTITUTE(IN!G273,\"-\",\"\")","v":""},"",{"$f":"IN!F273*60","v":0},0,"-",{"$f":"SUBSTITUTE(IN!F273,\",\",\".\")","v":""}]
[0,{"$error":"#VALUE!"},{"$error":"#VALUE!"},{"$f":"SUBSTITUTE(IN!G274,\"-\",\"\")","v":""},"",{"$f":"IN!F274*60","v":0},0,"-",{"$f":"SUBSTITUTE(IN!F274,\",\",\".\")","v":""}]
[0,{"$error":"#VALUE!"},{"$error":"#VALUE!"},{"$f":"SUBSTITUTE(IN!G275,\"-\",\"\")","v":""},"",{"$f":"IN!F275*60","v":0},0,"-",{"$f":"SUBSTITUTE(IN!F275,\",\",\".\")","v":""}]
[0,{"$error":"#VALUE!"},{"$error":"#VALUE!"},{"$f":"SUBSTITUTE(IN!G276,\"-\",\"\")","v":""},"",{"$f":"IN!F276*60","v":0},0,"-",{"$f":"SUBSTITUTE(IN!F276,\",\",\".\")","v":""}]
[0,{"$error":"#VALUE!"},{"$error":"#VALUE!"},{"$f":"SUBSTITUTE(IN!G277,\"-\",\"\")","v":""},"",{"$f":"IN!F277*60","v":0},0,"-",{"$f":"SUBSTITUTE(IN!F277,\",\",\".\")","v":""}]
[0,{"$error":"#VALUE!"},{"$error":"#VALUE!"},{"$f":"SUBSTITUTE(IN!G278,\"-\",\"\")","v":""},"",{"$f":"IN!F278*60","v":0},0,"-",{"$f":"SUBSTITUTE(IN!F278,\",\",\".\")","v":""}]
[0,{"$error":"#VALUE!"},{"$error":"#VALUE!"},{"$f":"SUBSTITUTE(IN!G279,\"-\",\"\")","v":""},"",{"$f":"IN!F279*60","v":0},0,"-",{"$f":"SUBSTITUTE(IN!F279,\",\",\".\")","v":""}]
[0,{"$error":"#VALUE!"},{"$error":"#VALUE!"},{"$f":"SUBSTITUTE(IN!G280,\"-\",\"\")","v":""},"",{"$f":"IN!F280*60","v":0},0,"-",{"$f":"SUBSTITUTE(IN!F280,\",\",\".\")","v":""}]
[0,{"$error":"#VALUE!"},{"$error":"#VALUE!"},{"$f":"SUBSTITUTE(IN!G281,\"-\",\"\")","v":""},"",{"$f":"IN!F281*60","v":0},0,"-",{"$f":"SUBSTITUTE(IN!F281,\",\",\".\")","v":""}]
[0,{"$error":"#VALUE!"},{"$error":"#VALUE!"},{"$f":"SUBSTITUTE(IN!G282,\"-\",\"\")","v":""},"",{"$f":"IN!F282*60","v":0},0,"-",{"$f":"SUBSTITUTE(IN!F282,\",\",\".\")","v":""}]
[0,{"$error":"#VALUE!"},{"$error":"#VALUE!"},{"$f":"SUBSTITUTE(IN!G283,\"-\",\"\")","v":""},"",{"$f":"IN!F283*60","v":0},0,"-",{"$f":"SUBSTITUTE(IN!F283,\",\",\".\")","v":""}]
[0,{"$error":"#VALUE!"},{"$error":"#VALUE!"},{"$f":"SUBSTITUTE(IN!G284,\"-\",\"\")","v":""},"",{"$f":"IN!F284*60","v":0},0,"-",{"$f":"SUBSTITUTE(IN!F284,\",\",\".\")","v":""}]
[0,{"$error":"#VALUE!"},{"$error":"#VALUE!"},{"$f":"SUBSTITUTE(IN!G285,\"-\",\"\")","v":""},"",{"$f":"IN!F285*60","v":0},0,"-",{"$f":"SUBSTITUTE(IN!F285,\",\",\".\")","v":""}]
[0,{"$error":"#VALUE!"},{"$error":"#VALUE!"},{"$f":"SUBSTITUTE(IN!G286,\"-\",\"\")","v":""},"",{"$f":"IN!F286*60","v":0},0,"-",{"$f":"SUBSTITUTE(IN!F286,\",\",\".\")","v":""}]
[0,{"$error":"#VALUE!"},{"$error":"#VALUE!"},{"$f":"SUBSTITUTE(IN!G287,\"-\",\"\")","v":""},"",{"$f":"IN!F287*60","v":0},0,"-",{"$f":"SUBSTITUTE(IN!F287,\",\",\".\")","v":""}]
[0,{"$error":"#VALUE!"},{"$error":"#VALUE!"},{"$f":"SUBSTITUTE(IN!G288,\"-\",\"\")","v":""},"",{"$f":"IN!F288*60","v":0},0,"-",{"$f":"SUBSTITUTE(IN!F288,\",\",\".\")","v":""}]
[0,{"$error":"#VALUE!"},{"$error":"#VALUE!"},{"$f":"SUBSTITUTE(IN!G289,\"-\",\"\")","v":""},"",{"$f":"IN!F289*60","v":0},0,"-",{"$f":"SUBSTITUTE(IN!F289,\",\",\".\")","v":""}]
[0,{"$error":"#VALUE!"},{"$error":"#VALUE!"},{"$f":"SUBSTITUTE(IN!G290,\"-\",\"\")","v":""},"",{"$f":"IN!F290*60","v":0},0,"-",{"$f":"SUBSTITUTE(IN!F290,\",\",\".\")","v":""}]
[0,{"$error":"#VALUE!"},{"$error":"#VALUE!"},{"$f":"SUBSTITUTE(IN!G291,\"-\",\"\")","v":""},"",{"$f":"IN!F291*60","v":0},0,"-",{"$f":"SUBSTITUTE(IN!F291,\",\",\".\")","v":""}]
[0,{"$error":"#VALUE!"},{"$error":"#VALUE!"},{"$f":"SUBSTITUTE(IN!G292,\"-\",\"\")","v":""},"",{"$f":"IN!F292*60","v":0},0,"-",{"$f":"SUBSTITUTE(IN!F292,\",\",\".\")","v":""}]
[0,{"$error":"#VALUE!"},{"$error":"#VALUE!"},{"$f":"SUBSTITUTE(IN!G293,\"-\",\"\")","v":""},"",{"$f":"IN!F293*60","v":0},0,"-",{"$f":"SUBSTITUTE(IN!F293,\",\",\".\")","v":""}]
[0,{"$error":"#VALUE!"},{"$error":"#VALUE!"},{"$f":"SUBSTITUTE(IN!G294,\"-\",\"\")","v":""},"",{"$f":"IN!F294*60","v":0},0,"-",{"$f":"SUBSTITUTE(IN!F294,\",\",\".\")","v":""}]
[0,{"$error":"#VALUE!"},{"$error":"#VALUE!"},{"$f":"SUBSTITUTE(IN!G295,\"-\",\"\")","v":""},"",{"$f":"IN!F295*60","v":0},0,"-",{"$f":"SUBSTITUTE(IN!F295,\",\",\".\")","v":""}]
[0,{"$error":"#VALUE!"},{"$error":"#VALUE!"},{"$f":"SUBSTITUTE(IN!G296,\"-\",\"\")","v":""},"",{"$f":"IN!F296*60","v":0},0,"-",{"$f":"SUBSTITUTE(IN!F296,\",\",\".\")","v":""}]
[0,{"$error":"#VALUE!"},{"$error":"#VALUE!"},{"$f":"SUBSTITUTE(IN!G297,\"-\",\"\")","v":""},"",{"$f":"IN!F297*60","v":0},0,"-",{"$f":"SUBSTITUTE(IN!F297,\",\",\".\")","v":""}]
[0,{"$error":"#VALUE!"},{"$error":"#VALUE!"},{"$f":"SUBSTITUTE(IN!G298,\"-\",\"\")","v":""},"",{"$f":"IN!F298*60","v":0},0,"-",{"$f":"SUBSTITUTE(IN!F298,\",\",\".\")","v":""}]
[0,{"$error":"#VALUE!"},{"$error":"#VALUE!"},{"$f":"SUBSTITUTE(IN!G299,\"-\",\"\")","v":""},"",{"$f":"IN!F299*60","v":0},0,"-",{"$f":"SUBSTITUTE(IN!F299,\",\",\".\")","v":""}]
[0,{"$error":"#VALUE!"},{"$error":"#VALUE!"},{"$f":"SUBSTITUTE(IN!G300,\"-\",\"\")","v":""},"",{"$f":"IN!F300*60","v":0},0,"-",{"$f":"SUBSTITUTE(IN!F300,\",\",\".\")","v":""}]
[0,{"$error":"#VALUE!"},{"$error":"#VALUE!"},{"$f":"SUBSTITUTE(IN!G301,\"-\",\"\")","v":""},"",{"$f":"IN!F301*60","v":0},0,"-",{"$f":"SUBSTITUTE(IN!F301,\",\",\".\")","v":""}]
[0,{"$error":"#VALUE!"},{"$error":"#VALUE!"},{"$f":"SUBSTITUTE(IN!G302,\"-\",\"\")","v":""},"",{"$f":"IN!F302*60","v":0},0,"-",{"$f":"SUBSTITUTE(IN!F302,\",\",\".\")","v":""}]
[0,{"$error":"#VALUE!"},{"$error":"#VALUE!"},{"$f":"SUBSTITUTE(IN!G303,\"-\",\"\")","v":""},"",{"$f":"IN!F303*60","v":0},0,"-",{"$f":"SUBSTITUTE(IN!F303,\",\",\".\")","v":""}]
[0,{"$error":"#VALUE!"},{"$error":"#VALUE!"},{"$f":"SUBSTITUTE(IN!G304,\"-\",\"\")","v":""},"",{"$f":"IN!F304*60","v":0},0,"-",{"$f":"SUBSTITUTE(IN!F304,\",\",\".\")","v":""}]
[0,{"$error":"#VALUE!"},{"$error":"#VALUE!"},{"$f":"SUBSTITUTE(IN!G305,\"-\",\"\")","v":""},"",{"$f":"IN!F305*60","v":0},0,"-",{"$f":"SUBSTITUTE(IN!F305,\",\",\".\")","v":""}]
[0,{"$error":"#VALUE!"},{"$error":"#VALUE!"},{"$f":"SUBSTITUTE(IN!G306,\"-\",\"\")","v":""},"",{"$f":"IN!F306*60","v":0},0,"-",{"$f":"SUBSTITUTE(IN!F306,\",\",\".\")","v":""}]
[0,{"$error":"#VALUE!"},{"$error":"#VALUE!"},{"$f":"SUBSTITUTE(IN!G307,\"-\",\"\")","v":""},"",{"$f":"IN!F307*60","v":0},0,"-",{"$f":"SUBSTITUTE(IN!F307,\",\",\".\")","v":""}]
[0,{"$error":"#VALUE!"},{"$error":"#VALUE!"},{"$f":"SUBSTITUTE(IN!G308,\"-\",\"\")","v":""},"",{"$f":"IN!F308*60","v":0},0,"-",{"$f":"SUBSTITUTE(IN!F308,\",\",\".\")","v":""}]
[0,{"$error":"#VALUE!"},{"$error":"#VALUE!"},{"$f":"SUBSTITUTE(IN!G309,\"-\",\"\")","v":""},"",{"$f":"IN!F309*60","v":0},0,"-",{"$f":"SUBSTITUTE(IN!F309,\",\",\".\")","v":""}]
[0,{"$error":"#VALUE!"},{"$error":"#VALUE!"},{"$f":"SUBSTITUTE(IN!G310,\"-\",\"\")","v":""},"",{"$f":"IN!F310*60","v":0},0,"-",{"$f":"SUBSTITUTE(IN!F310,\",\",\".\")","v":""}]
[0,{"$error":"#VALUE!"},{"$error":"#VALUE!"},{"$f":"SUBSTITUTE(IN!G311,\"-\",\"\")","v":""},"",{"$f":"IN!F311*60","v":0},0,"-",{"$f":"SUBSTITUTE(IN!F311,\",\",\".\")","v":""}]
[0,{"$error":"#VALUE!"},{"$error":"#VALUE!"},{"$f":"SUBSTITUTE(IN!G312,\"-\",\"\")","v":""},"",{"$f":"IN!F312*60","v":0},0,"-",{"$f":"SUBSTITUTE(IN!F312,\",\",\".\")","v":""}]
[0,{"$error":"#VALUE!"},{"$error":"#VALUE!"},{"$f":"SUBSTITUTE(IN!G313,\"-\",\"\")","v":""},"",{"$f":"IN!F313*60","v":0},0,"-",{"$f":"SUBSTITUTE(IN!F313,\",\",\".\")","v":""}]
[0,{"$error":"#VALUE!"},{"$error":"#VALUE!"},{"$f":"SUBSTITUTE(IN!G314,\"-\",\"\")","v":""},"",{"$f":"IN!F314*60","v":0},0,"-",{"$f":"SUBSTITUTE(IN!F314,\",\",\".\")","v":""}]
[0,{"$error":"#VALUE!"},{"$error":"#VALUE!"},{"$f":"SUBSTITUTE(IN!G315,\"-\",\"\")","v":""},"",{"$f":"IN!F315*60","v":0},0,"-",{"$f":"SUBSTITUTE(IN!F315,\",\",\".\")","v":""}]
[0,{"$error":"#VALUE!"},{"$error":"#VALUE!"},{"$f":"SUBSTITUTE(IN!G316,\"-\",\"\")","v":""},"",{"$f":"IN!F316*60","v":0},0,"-",{"$f":"SUBSTITUTE(IN!F316,\",\",\".\")","v":""}]
[0,{"$error":"#VALUE!"},{"$error":"#VALUE!"},{"$f":"SUBSTITUTE(IN!G317,\"-\",\"\")","v":""},"",{"$f":"IN!F317*60","v":0},0,"-",{"$f":"SUBSTITUTE(IN!F317,\",\",\".\")","v":""}]
[0,{"$error":"#VALUE!"},{"$error":"#VALUE!"},{"$f":"SUBSTITUTE(IN!G318,\"-\",\"\")","v":""},"",{"$f":"IN!F318*60","v":0},0,"-",{"$f":"SUBSTITUTE(IN!F318,\",\",\".\")","v":""}]
[0,{"$error":"#VALUE!"},{"$error":"#VALUE!"},{"$f":"SUBSTITUTE(IN!G319,\"-\",\"\")","v":""},"",{"$f":"IN!F319*60","v":0},0,"-",{"$f":"SUBSTITUTE(IN!F319,\",\",\".\")","v":""}]
[0,{"$error":"#VALUE!"},{"$error":"#VALUE!"},{"$f":"SUBSTITUTE(IN!G320,\"-\",\"\")","v":""},"",{"$f":"IN!F320*60","v":0},0,"-",{"$f":"SUBSTITUTE(IN!F320,\",\",\".\")","v":""}]
[0,{"$error":"#VALUE!"},{"$error":"#VALUE!"},{"$f":"SUBSTITUTE(IN!G321,\"-\",\"\")","v":""},"",{"$f":"IN!F321*60","v":0},0,"-",{"$f":"SUBSTITUTE(IN!F321,\",\",\".\")","v":""}]
[0,{"$error":"#VALUE!"},{"$error":"#VALUE!"},{"$f":"SUBSTITUTE(IN!G322,\"-\",\"\")","v":""},"",{"$f":"IN!F322*60","v":0},0,"-",{"$f":"SUBSTITUTE(IN!F322,\",\",\".\")","v":""}]
[0,{"$error":"#VALUE!"},{"$error":"#VALUE!"},{"$f":"SUBSTITUTE(IN!G323,\"-\",\"\")","v":""},"",{"$f":"IN!F323*60","v":0},0,"-",{"$f":"SUBSTITUTE(IN!F323,\",\",\".\")","v":""}]
[0,{"$error":"#VALUE!"},{"$error":"#VALUE!"},{"$f":"SUBSTITUTE(IN!G324,\"-\",\"\")","v":""},"",{"$f":"IN!F324*60","v":0},0,"-",{"$f":"SUBSTITUTE(IN!F324,\",\",\".\")","v":""}]
[{"$f":"LEN(D325)","v":0},{"$f":"VALUE(LEFT(D325,1))","v":{"$error":"#VALUE!"}},{"$f":"IF(B325<2,20,19)","v":{"$error":"#VALUE!"}},{"$f":"SUBSTITUTE(IN!G325,\"-\",\"\")","v":""},{"$f":"IF(A325=10,CONCATENATE(C325,D325),D325)","v":""},{"$f":"IN!F325*60","v":0},{"$f":"ROUND(F325,0)","v":0},{"$f":"CONCATENATE(MID(E325,1,8),\"-\",MID(E325,9,4))","v":"-"},{"$f":"SUBSTITUTE(IN!F325,\",\",\".\")","v":""}]
[0,{"$error":"#VALUE!"},{"$error":"#VALUE!"},{"$f":"SUBSTITUTE(IN!G326,\"-\",\"\")","v":""},"",{"$f":"IN!F326*60","v":0},0,"-",{"$f":"SUBSTITUTE(IN!F326,\",\",\".\")","v":""}]
[0,{"$error":"#VALUE!"},{"$error":"#VALUE!"},{"$f":"SUBSTITUTE(IN!G327,\"-\",\"\")","v":""},"",{"$f":"IN!F327*60","v":0},0,"-",{"$f":"SUBSTITUTE(IN!F327,\",\",\".\")","v":""}]
[0,{"$error":"#VALUE!"},{"$error":"#VALUE!"},{"$f":"SUBSTITUTE(IN!G328,\"-\",\"\")","v":""},"",{"$f":"IN!F328*60","v":0},0,"-",{"$f":"SUBSTITUTE(IN!F328,\",\",\".\")","v":""}]
[0,{"$error":"#VALUE!"},{"$error":"#VALUE!"},{"$f":"SUBSTITUTE(IN!G329,\"-\",\"\")","v":""},"",{"$f":"IN!F329*60","v":0},0,"-",{"$f":"SUBSTITUTE(IN!F329,\",\",\".\")","v":""}]
[0,{"$error":"#VALUE!"},{"$error":"#VALUE!"},{"$f":"SUBSTITUTE(IN!G330,\"-\",\"\")","v":""},"",{"$f":"IN!F330*60","v":0},0,"-",{"$f":"SUBSTITUTE(IN!F330,\",\",\".\")","v":""}]
[0,{"$error":"#VALUE!"},{"$error":"#VALUE!"},{"$f":"SUBSTITUTE(IN!G331,\"-\",\"\")","v":""},"",{"$f":"IN!F331*60","v":0},0,"-",{"$f":"SUBSTITUTE(IN!F331,\",\",\".\")","v":""}]
[0,{"$error":"#VALUE!"},{"$error":"#VALUE!"},{"$f":"SUBSTITUTE(IN!G332,\"-\",\"\")","v":""},"",{"$f":"IN!F332*60","v":0},0,"-",{"$f":"SUBSTITUTE(IN!F332,\",\",\".\")","v":""}]
[0,{"$error":"#VALUE!"},{"$error":"#VALUE!"},{"$f":"SUBSTITUTE(IN!G333,\"-\",\"\")","v":""},"",{"$f":"IN!F333*60","v":0},0,"-",{"$f":"SUBSTITUTE(IN!F333,\",\",\".\")","v":""}]
[0,{"$error":"#VALUE!"},{"$error":"#VALUE!"},{"$f":"SUBSTITUTE(IN!G334,\"-\",\"\")","v":""},"",{"$f":"IN!F334*60","v":0},0,"-",{"$f":"SUBSTITUTE(IN!F334,\",\",\".\")","v":""}]
[0,{"$error":"#VALUE!"},{"$error":"#VALUE!"},{"$f":"SUBSTITUTE(IN!G335,\"-\",\"\")","v":""},"",{"$f":"IN!F335*60","v":0},0,"-",{"$f":"SUBSTITUTE(IN!F335,\",\",\".\")","v":""}]
[0,{"$error":"#VALUE!"},{"$error":"#VALUE!"},{"$f":"SUBSTITUTE(IN!G336,\"-\",\"\")","v":""},"",{"$f":"IN!F336*60","v":0},0,"-",{"$f":"SUBSTITUTE(IN!F336,\",\",\".\")","v":""}]
[0,{"$error":"#VALUE!"},{"$error":"#VALUE!"},{"$f":"SUBSTITUTE(IN!G337,\"-\",\"\")","v":""},"",{"$f":"IN!F337*60","v":0},0,"-",{"$f":"SUBSTITUTE(IN!F337,\",\",\".\")","v":""}]
[0,{"$error":"#VALUE!"},{"$error":"#VALUE!"},{"$f":"SUBSTITUTE(IN!G338,\"-\",\"\")","v":""},"",{"$f":"IN!F338*60","v":0},0,"-",{"$f":"SUBSTITUTE(IN!F338,\",\",\".\")","v":""}]
[0,{"$error":"#VALUE!"},{"$error":"#VALUE!"},{"$f":"SUBSTITUTE(IN!G339,\"-\",\"\")","v":""},"",{"$f":"IN!F339*60","v":0},0,"-",{"$f":"SUBSTITUTE(IN!F339,\",\",\".\")","v":""}]
[0,{"$error":"#VALUE!"},{"$error":"#VALUE!"},{"$f":"SUBSTITUTE(IN!G340,\"-\",\"\")","v":""},"",{"$f":"IN!F340*60","v":0},0,"-",{"$f":"SUBSTITUTE(IN!F340,\",\",\".\")","v":""}]
[0,{"$error":"#VALUE!"},{"$error":"#VALUE!"},{"$f":"SUBSTITUTE(IN!G341,\"-\",\"\")","v":""},"",{"$f":"IN!F341*60","v":0},0,"-",{"$f":"SUBSTITUTE(IN!F341,\",\",\".\")","v":""}]
[0,{"$error":"#VALUE!"},{"$error":"#VALUE!"},{"$f":"SUBSTITUTE(IN!G342,\"-\",\"\")","v":""},"",{"$f":"IN!F342*60","v":0},0,"-",{"$f":"SUBSTITUTE(IN!F342,\",\",\".\")","v":""}]
[0,{"$error":"#VALUE!"},{"$error":"#VALUE!"},{"$f":"SUBSTITUTE(IN!G343,\"-\",\"\")","v":""},"",{"$f":"IN!F343*60","v":0},0,"-",{"$f":"SUBSTITUTE(IN!F343,\",\",\".\")","v":""}]
[0,{"$error":"#VALUE!"},{"$error":"#VALUE!"},{"$f":"SUBSTITUTE(IN!G344,\"-\",\"\")","v":""},"",{"$f":"IN!F344*60","v":0},0,"-",{"$f":"SUBSTITUTE(IN!F344,\",\",\".\")","v":""}]
[0,{"$error":"#VALUE!"},{"$error":"#VALUE!"},{"$f":"SUBSTITUTE(IN!G345,\"-\",\"\")","v":""},"",{"$f":"IN!F345*60","v":0},0,"-",{"$f":"SUBSTITUTE(IN!F345,\",\",\".\")","v":""}]
[0,{"$error":"#VALUE!"},{"$error":"#VALUE!"},{"$f":"SUBSTITUTE(IN!G346,\"-\",\"\")","v":""},"",{"$f":"IN!F346*60","v":0},0,"-",{"$f":"SUBSTITUTE(IN!F346,\",\",\".\")","v":""}]
[0,{"$error":"#VALUE!"},{"$error":"#VALUE!"},{"$f":"SUBSTITUTE(IN!G347,\"-\",\"\")","v":""},"",{"$f":"IN!F347*60","v":0},0,"-",{"$f":"SUBSTITUTE(IN!F347,\",\",\".\")","v":""}]
[0,{"$error":"#VALUE!"},{"$error":"#VALUE!"},{"$f":"SUBSTITUTE(IN!G348,\"-\",\"\")","v":""},"",{"$f":"IN!F348*60","v":0},0,"-",{"$f":"SUBSTITUTE(IN!F348,\",\",\".\")","v":""}]
[0,{"$error":"#VALUE!"},{"$error":"#VALUE!"},{"$f":"SUBSTITUTE(IN!G349,\"-\",\"\")","v":""},"",{"$f":"IN!F349*60","v":0},0,"-",{"$f":"SUBSTITUTE(IN!F349,\",\",\".\")","v":""}]
[0,{"$error":"#VALUE!"},{"$error":"#VALUE!"},{"$f":"SUBSTITUTE(IN!G350,\"-\",\"\")","v":""},"",{"$f":"IN!F350*60","v":0},0,"-",{"$f":"SUBSTITUTE(IN!F350,\",\",\".\")","v":""}]
[0,{"$error":"#VALUE!"},{"$error":"#VALUE!"},{"$f":"SUBSTITUTE(IN!G351,\"-\",\"\")","v":""},"",{"$f":"IN!F351*60","v":0},0,"-",{"$f":"SUBSTITUTE(IN!F351,\",\",\".\")","v":""}]
[0,{"$error":"#VALUE!"},{"$error":"#VALUE!"},{"$f":"SUBSTITUTE(IN!G352,\"-\",\"\")","v":""},"",{"$f":"IN!F352*60","v":0},0,"-",{"$f":"SUBSTITUTE(IN!F352,\",\",\".\")","v":""}]
[0,{"$error":"#VALUE!"},{"$error":"#VALUE!"},{"$f":"SUBSTITUTE(IN!G353,\"-\",\"\")","v":""},"",{"$f":"IN!F353*60","v":0},0,"-",{"$f":"SUBSTITUTE(IN!F353,\",\",\".\")","v":""}]
[0,{"$error":"#VALUE!"},{"$error":"#VALUE!"},{"$f":"SUBSTITUTE(IN!G354,\"-\",\"\")","v":""},"",{"$f":"IN!F354*60","v":0},0,"-",{"$f":"SUBSTITUTE(IN!F354,\",\",\".\")","v":""}]
[0,{"$error":"#VALUE!"},{"$error":"#VALUE!"},{"$f":"SUBSTITUTE(IN!G355,\"-\",\"\")","v":""},"",{"$f":"IN!F355*60","v":0},0,"-",{"$f":"SUBSTITUTE(IN!F355,\",\",\".\")","v":""}]
[0,{"$error":"#VALUE!"},{"$error":"#VALUE!"},{"$f":"SUBSTITUTE(IN!G356,\"-\",\"\")","v":""},"",{"$f":"IN!F356*60","v":0},0,"-",{"$f":"SUBSTITUTE(IN!F356,\",\",\".\")","v":""}]
[0,{"$error":"#VALUE!"},{"$error":"#VALUE!"},{"$f":"SUBSTITUTE(IN!G357,\"-\",\"\")","v":""},"",{"$f":"IN!F357*60","v":0},0,"-",{"$f":"SUBSTITUTE(IN!F357,\",\",\".\")","v":""}]
[0,{"$error":"#VALUE!"},{"$error":"#VALUE!"},{"$f":"SUBSTITUTE(IN!G358,\"-\",\"\")","v":""},"",{"$f":"IN!F358*60","v":0},0,"-",{"$f":"SUBSTITUTE(IN!F358,\",\",\".\")","v":""}]
[0,{"$error":"#VALUE!"},{"$error":"#VALUE!"},{"$f":"SUBSTITUTE(IN!G359,\"-\",\"\")","v":""},"",{"$f":"IN!F359*60","v":0},0,"-",{"$f":"SUBSTITUTE(IN!F359,\",\",\".\")","v":""}]
[0,{"$error":"#VALUE!"},{"$error":"#VALUE!"},{"$f":"SUBSTITUTE(IN!G360,\"-\",\"\")","v":""},"",{"$f":"IN!F360*60","v":0},0,"-",{"$f":"SUBSTITUTE(IN!F360,\",\",\".\")","v":""}]
[0,{"$error":"#VALUE!"},{"$error":"#VALUE!"},{"$f":"SUBSTITUTE(IN!G361,\"-\",\"\")","v":""},"",{"$f":"IN!F361*60","v":0},0,"-",{"$f":"SUBSTITUTE(IN!F361,\",\",\".\")","v":""}]
[0,{"$error":"#VALUE!"},{"$error":"#VALUE!"},{"$f":"SUBSTITUTE(IN!G362,\"-\",\"\")","v":""},"",{"$f":"IN!F362*60","v":0},0,"-",{"$f":"SUBSTITUTE(IN!F362,\",\",\".\")","v":""}]
[0,{"$error":"#VALUE!"},{"$error":"#VALUE!"},{"$f":"SUBSTITUTE(IN!G363,\"-\",\"\")","v":""},"",{"$f":"IN!F363*60","v":0},0,"-",{"$f":"SUBSTITUTE(IN!F363,\",\",\".\")","v":""}]
[0,{"$error":"#VALUE!"},{"$error":"#VALUE!"},{"$f":"SUBSTITUTE(IN!G364,\"-\",\"\")","v":""},"",{"$f":"IN!F364*60","v":0},0,"-",{"$f":"SUBSTITUTE(IN!F364,\",\",\".\")","v":""}]
[0,{"$error":"#VALUE!"},{"$error":"#VALUE!"},{"$f":"SUBSTITUTE(IN!G365,\"-\",\"\")","v":""},"",{"$f":"IN!F365*60","v":0},0,"-",{"$f":"SUBSTITUTE(IN!F365,\",\",\".\")","v":""}]
[0,{"$error":"#VALUE!"},{"$error":"#VALUE!"},{"$f":"SUBSTITUTE(IN!G366,\"-\",\"\")","v":""},"",{"$f":"IN!F366*60","v":0},0,"-",{"$f":"SUBSTITUTE(IN!F366,\",\",\".\")","v":""}]
[0,{"$error":"#VALUE!"},{"$error":"#VALUE!"},{"$f":"SUBSTITUTE(IN!G367,\"-\",\"\")","v":""},"",{"$f":"IN!F367*60","v":0},0,"-",{"$f":"SUBSTITUTE(IN!F367,\",\",\".\")","v":""}]
[0,{"$error":"#VALUE!"},{"$error":"#VALUE!"},{"$f":"SUBSTITUTE(IN!G368,\"-\",\"\")","v":""},"",{"$f":"IN!F368*60","v":0},0,"-",{"$f":"SUBSTITUTE(IN!F368,\",\",\".\")","v":""}]
[0,{"$error":"#VALUE!"},{"$error":"#VALUE!"},{"$f":"SUBSTITUTE(IN!G369,\"-\",\"\")","v":""},"",{"$f":"IN!F369*60","v":0},0,"-",{"$f":"SUBSTITUTE(IN!F369,\",\",\".\")","v":""}]
[0,{"$error":"#VALUE!"},{"$error":"#VALUE!"},{"$f":"SUBSTITUTE(IN!G370,\"-\",\"\")","v":""},"",{"$f":"IN!F370*60","v":0},0,"-",{"$f":"SUBSTITUTE(IN!F370,\",\",\".\")","v":""}]
[0,{"$error":"#VALUE!"},{"$error":"#VALUE!"},{"$f":"SUBSTITUTE(IN!G371,\"-\",\"\")","v":""},"",{"$f":"IN!F371*60","v":0},0,"-",{"$f":"SUBSTITUTE(IN!F371,\",\",\".\")","v":""}]
[0,{"$error":"#VALUE!"},{"$error":"#VALUE!"},{"$f":"SUBSTITUTE(IN!G372,\"-\",\"\")","v":""},"",{"$f":"IN!F372*60","v":0},0,"-",{"$f":"SUBSTITUTE(IN!F372,\",\",\".\")","v":""}]
[0,{"$error":"#VALUE!"},{"$error":"#VALUE!"},{"$f":"SUBSTITUTE(IN!G373,\"-\",\"\")","v":""},"",{"$f":"IN!F373*60","v":0},0,"-",{"$f":"SUBSTITUTE(IN!F373,\",\",\".\")","v":""}]
[0,{"$error":"#VALUE!"},{"$error":"#VALUE!"},{"$f":"SUBSTITUTE(IN!G374,\"-\",\"\")","v":""},"",{"$f":"IN!F374*60","v":0},0,"-",{"$f":"SUBSTITUTE(IN!F374,\",\",\".\")","v":""}]
[0,{"$error":"#VALUE!"},{"$error":"#VALUE!"},{"$f":"SUBSTITUTE(IN!G375,\"-\",\"\")","v":""},"",{"$f":"IN!F375*60","v":0},0,"-",{"$f":"SUBSTITUTE(IN!F375,\",\",\".\")","v":""}]
[0,{"$error":"#VALUE!"},{"$error":"#VALUE!"},{"$f":"SUBSTITUTE(IN!G376,\"-\",\"\")","v":""},"",{"$f":"IN!F376*60","v":0},0,"-",{"$f":"SUBSTITUTE(IN!F376,\",\",\".\")","v":""}]
[0,{"$error":"#VALUE!"},{"$error":"#VALUE!"},{"$f":"SUBSTITUTE(IN!G377,\"-\",\"\")","v":""},"",{"$f":"IN!F377*60","v":0},0,"-",{"$f":"SUBSTITUTE(IN!F377,\",\",\".\")","v":""}]
[0,{"$error":"#VALUE!"},{"$error":"#VALUE!"},{"$f":"SUBSTITUTE(IN!G378,\"-\",\"\")","v":""},"",{"$f":"IN!F378*60","v":0},0,"-",{"$f":"SUBSTITUTE(IN!F378,\",\",\".\")","v":""}]
[0,{"$error":"#VALUE!"},{"$error":"#VALUE!"},{"$f":"SUBSTITUTE(IN!G379,\"-\",\"\")","v":""},"",{"$f":"IN!F379*60","v":0},0,"-",{"$f":"SUBSTITUTE(IN!F379,\",\",\".\")","v":""}]
[0,{"$error":"#VALUE!"},{"$error":"#VALUE!"},{"$f":"SUBSTITUTE(IN!G380,\"-\",\"\")","v":""},"",{"$f":"IN!F380*60","v":0},0,"-",{"$f":"SUBSTITUTE(IN!F380,\",\",\".\")","v":""}]
[0,{"$error":"#VALUE!"},{"$error":"#VALUE!"},{"$f":"SUBSTITUTE(IN!G381,\"-\",\"\")","v":""},"",{"$f":"IN!F381*60","v":0},0,"-",{"$f":"SUBSTITUTE(IN!F381,\",\",\".\")","v":""}]
[0,{"$error":"#VALUE!"},{"$error":"#VALUE!"},{"$f":"SUBSTITUTE(IN!G382,\"-\",\"\")","v":""},"",{"$f":"IN!F382*60","v":0},0,"-",{"$f":"SUBSTITUTE(IN!F382,\",\",\".\")","v":""}]
[0,{"$error":"#VALUE!"},{"$error":"#VALUE!"},{"$f":"SUBSTITUTE(IN!G383,\"-\",\"\")","v":""},"",{"$f":"IN!F383*60","v":0},0,"-",{"$f":"SUBSTITUTE(IN!F383,\",\",\".\")","v":""}]
[0,{"$error":"#VALUE!"},{"$error":"#VALUE!"},{"$f":"SUBSTITUTE(IN!G384,\"-\",\"\")","v":""},"",{"$f":"IN!F384*60","v":0},0,"-",{"$f":"SUBSTITUTE(IN!F384,\",\",\".\")","v":""}]
[0,{"$error":"#VALUE!"},{"$error":"#VALUE!"},{"$f":"SUBSTITUTE(IN!G385,\"-\",\"\")","v":""},"",{"$f":"IN!F385*60","v":0},0,"-",{"$f":"SUBSTITUTE(IN!F385,\",\",\".\")","v":""}]
[0,{"$error":"#VALUE!"},{"$error":"#VALUE!"},{"$f":"SUBSTITUTE(IN!G386,\"-\",\"\")","v":""},"",{"$f":"IN!F386*60","v":0},0,"-",{"$f":"SUBSTITUTE(IN!F386,\",\",\".\")","v":""}]
[0,{"$error":"#VALUE!"},{"$error":"#VALUE!"},{"$f":"SUBSTITUTE(IN!G387,\"-\",\"\")","v":""},"",{"$f":"IN!F387*60","v":0},0,"-",{"$f":"SUBSTITUTE(IN!F387,\",\",\".\")","v":""}]
[0,{"$error":"#VALUE!"},{"$error":"#VALUE!"},{"$f":"SUBSTITUTE(IN!G388,\"-\",\"\")","v":""},"",{"$f":"IN!F388*60","v":0},0,"-",{"$f":"SUBSTITUTE(IN!F388,\",\",\".\")","v":""}]
[{"$f":"LEN(D389)","v":0},{"$f":"VALUE(LEFT(D389,1))","v":{"$error":"#VALUE!"}},{"$f":"IF(B389<2,20,19)","v":{"$error":"#VALUE!"}},{"$f":"SUBSTITUTE(IN!G389,\"-\",\"\")","v":""},{"$f":"IF(A389=10,CONCATENATE(C389,D389),D389)","v":""},{"$f":"IN!F389*60","v":0},{"$f":"ROUND(F389,0)","v":0},{"$f":"CONCATENATE(MID(E389,1,8),\"-\",MID(E389,9,4))","v":"-"},{"$f":"SUBSTITUTE(IN!F389,\",\",\".\")","v":""}]
[0,{"$error":"#VALUE!"},{"$error":"#VALUE!"},{"$f":"SUBSTITUTE(IN!G390,\"-\",\"\")","v":""},"",{"$f":"IN!F390*60","v":0},0,"-",{"$f":"SUBSTITUTE(IN!F390,\",\",\".\")","v":""}]
[0,{"$error":"#VALUE!"},{"$error":"#VALUE!"},{"$f":"SUBSTITUTE(IN!G391,\"-\",\"\")","v":""},"",{"$f":"IN!F391*60","v":0},0,"-",{"$f":"SUBSTITUTE(IN!F391,\",\",\".\")","v":""}]
[0,{"$error":"#VALUE!"},{"$error":"#VALUE!"},{"$f":"SUBSTITUTE(IN!G392,\"-\",\"\")","v":""},"",{"$f":"IN!F392*60","v":0},0,"-",{"$f":"SUBSTITUTE(IN!F392,\",\",\".\")","v":""}]
[0,{"$error":"#VALUE!"},{"$error":"#VALUE!"},{"$f":"SUBSTITUTE(IN!G393,\"-\",\"\")","v":""},"",{"$f":"IN!F393*60","v":0},0,"-",{"$f":"SUBSTITUTE(IN!F393,\",\",\".\")","v":""}]
[0,{"$error":"#VALUE!"},{"$error":"#VALUE!"},{"$f":"SUBSTITUTE(IN!G394,\"-\",\"\")","v":""},"",{"$f":"IN!F394*60","v":0},0,"-",{"$f":"SUBSTITUTE(IN!F394,\",\",\".\")","v":""}]
[0,{"$error":"#VALUE!"},{"$error":"#VALUE!"},{"$f":"SUBSTITUTE(IN!G395,\"-\",\"\")","v":""},"",{"$f":"IN!F395*60","v":0},0,"-",{"$f":"SUBSTITUTE(IN!F395,\",\",\".\")","v":""}]
[0,{"$error":"#VALUE!"},{"$error":"#VALUE!"},{"$f":"SUBSTITUTE(IN!G396,\"-\",\"\")","v":""},"",{"$f":"IN!F396*60","v":0},0,"-",{"$f":"SUBSTITUTE(IN!F396,\",\",\".\")","v":""}]
[0,{"$error":"#VALUE!"},{"$error":"#VALUE!"},{"$f":"SUBSTITUTE(IN!G397,\"-\",\"\")","v":""},"",{"$f":"IN!F397*60","v":0},0,"-",{"$f":"SUBSTITUTE(IN!F397,\",\",\".\")","v":""}]
[0,{"$error":"#VALUE!"},{"$error":"#VALUE!"},{"$f":"SUBSTITUTE(IN!G398,\"-\",\"\")","v":""},"",{"$f":"IN!F398*60","v":0},0,"-",{"$f":"SUBSTITUTE(IN!F398,\",\",\".\")","v":""}]
[0,{"$error":"#VALUE!"},{"$error":"#VALUE!"},{"$f":"SUBSTITUTE(IN!G399,\"-\",\"\")","v":""},"",{"$f":"IN!F399*60","v":0},0,"-",{"$f":"SUBSTITUTE(IN!F399,\",\",\".\")","v":""}]
[0,{"$error":"#VALUE!"},{"$error":"#VALUE!"},{"$f":"SUBSTITUTE(IN!G400,\"-\",\"\")","v":""},"",{"$f":"IN!F400*60","v":0},0,"-",{"$f":"SUBSTITUTE(IN!F400,\",\",\".\")","v":""}]
[0,{"$error":"#VALUE!"},{"$error":"#VALUE!"},{"$f":"SUBSTITUTE(IN!G401,\"-\",\"\")","v":""},"",{"$f":"IN!F401*60","v":0},0,"-",{"$f":"SUBSTITUTE(IN!F401,\",\",\".\")","v":""}]
[0,{"$error":"#VALUE!"},{"$error":"#VALUE!"},{"$f":"SUBSTITUTE(IN!G402,\"-\",\"\")","v":""},"",{"$f":"IN!F402*60","v":0},0,"-",{"$f":"SUBSTITUTE(IN!F402,\",\",\".\")","v":""}]
[0,{"$error":"#VALUE!"},{"$error":"#VALUE!"},{"$f":"SUBSTITUTE(IN!G403,\"-\",\"\")","v":""},"",{"$f":"IN!F403*60","v":0},0,"-",{"$f":"SUBSTITUTE(IN!F403,\",\",\".\")","v":""}]
[0,{"$error":"#VALUE!"},{"$error":"#VALUE!"},{"$f":"SUBSTITUTE(IN!G404,\"-\",\"\")","v":""},"",{"$f":"IN!F404*60","v":0},0,"-",{"$f":"SUBSTITUTE(IN!F404,\",\",\".\")","v":""}]
[0,{"$error":"#VALUE!"},{"$error":"#VALUE!"},{"$f":"SUBSTITUTE(IN!G405,\"-\",\"\")","v":""},"",{"$f":"IN!F405*60","v":0},0,"-",{"$f":"SUBSTITUTE(IN!F405,\",\",\".\")","v":""}]
[0,{"$error":"#VALUE!"},{"$error":"#VALUE!"},{"$f":"SUBSTITUTE(IN!G406,\"-\",\"\")","v":""},"",{"$f":"IN!F406*60","v":0},0,"-",{"$f":"SUBSTITUTE(IN!F406,\",\",\".\")","v":""}]
[0,{"$error":"#VALUE!"},{"$error":"#VALUE!"},{"$f":"SUBSTITUTE(IN!G407,\"-\",\"\")","v":""},"",{"$f":"IN!F407*60","v":0},0,"-",{"$f":"SUBSTITUTE(IN!F407,\",\",\".\")","v":""}]
[0,{"$error":"#VALUE!"},{"$error":"#VALUE!"},{"$f":"SUBSTITUTE(IN!G408,\"-\",\"\")","v":""},"",{"$f":"IN!F408*60","v":0},0,"-",{"$f":"SUBSTITUTE(IN!F408,\",\",\".\")","v":""}]
[0,{"$error":"#VALUE!"},{"$error":"#VALUE!"},{"$f":"SUBSTITUTE(IN!G409,\"-\",\"\")","v":""},"",{"$f":"IN!F409*60","v":0},0,"-",{"$f":"SUBSTITUTE(IN!F409,\",\",\".\")","v":""}]
[0,{"$error":"#VALUE!"},{"$error":"#VALUE!"},{"$f":"SUBSTITUTE(IN!G410,\"-\",\"\")","v":""},"",{"$f":"IN!F410*60","v":0},0,"-",{"$f":"SUBSTITUTE(IN!F410,\",\",\".\")","v":""}]
[0,{"$error":"#VALUE!"},{"$error":"#VALUE!"},{"$f":"SUBSTITUTE(IN!G411,\"-\",\"\")","v":""},"",{"$f":"IN!F411*60","v":0},0,"-",{"$f":"SUBSTITUTE(IN!F411,\",\",\".\")","v":""}]
[0,{"$error":"#VALUE!"},{"$error":"#VALUE!"},{"$f":"SUBSTITUTE(IN!G412,\"-\",\"\")","v":""},"",{"$f":"IN!F412*60","v":0},0,"-",{"$f":"SUBSTITUTE(IN!F412,\",\",\".\")","v":""}]
[0,{"$error":"#VALUE!"},{"$error":"#VALUE!"},{"$f":"SUBSTITUTE(IN!G413,\"-\",\"\")","v":""},"",{"$f":"IN!F413*60","v":0},0,"-",{"$f":"SUBSTITUTE(IN!F413,\",\",\".\")","v":""}]
[0,{"$error":"#VALUE!"},{"$error":"#VALUE!"},{"$f":"SUBSTITUTE(IN!G414,\"-\",\"\")","v":""},"",{"$f":"IN!F414*60","v":0},0,"-",{"$f":"SUBSTITUTE(IN!F414,\",\",\".\")","v":""}]
[0,{"$error":"#VALUE!"},{"$error":"#VALUE!"},{"$f":"SUBSTITUTE(IN!G415,\"-\",\"\")","v":""},"",{"$f":"IN!F415*60","v":0},0,"-",{"$f":"SUBSTITUTE(IN!F415,\",\",\".\")","v":""}]
[0,{"$error":"#VALUE!"},{"$error":"#VALUE!"},{"$f":"SUBSTITUTE(IN!G416,\"-\",\"\")","v":""},"",{"$f":"IN!F416*60","v":0},0,"-",{"$f":"SUBSTITUTE(IN!F416,\",\",\".\")","v":""}]
[0,{"$error":"#VALUE!"},{"$error":"#VALUE!"},{"$f":"SUBSTITUTE(IN!G417,\"-\",\"\")","v":""},"",{"$f":"IN!F417*60","v":0},0,"-",{"$f":"SUBSTITUTE(IN!F417,\",\",\".\")","v":""}]
[0,{"$error":"#VALUE!"},{"$error":"#VALUE!"},{"$f":"SUBSTITUTE(IN!G418,\"-\",\"\")","v":""},"",{"$f":"IN!F418*60","v":0},0,"-",{"$f":"SUBSTITUTE(IN!F418,\",\",\".\")","v":""}]
[0,{"$error":"#VALUE!"},{"$error":"#VALUE!"},{"$f":"SUBSTITUTE(IN!G419,\"-\",\"\")","v":""},"",{"$f":"IN!F419*60","v":0},0,"-",{"$f":"SUBSTITUTE(IN!F419,\",\",\".\")","v":""}]
[0,{"$error":"#VALUE!"},{"$error":"#VALUE!"},{"$f":"SUBSTITUTE(IN!G420,\"-\",\"\")","v":""},"",{"$f":"IN!F420*60","v":0},0,"-",{"$f":"SUBSTITUTE(IN!F420,\",\",\".\")","v":""}]
[0,{"$error":"#VALUE!"},{"$error":"#VALUE!"},{"$f":"SUBSTITUTE(IN!G421,\"-\",\"\")","v":""},"",{"$f":"IN!F421*60","v":0},0,"-",{"$f":"SUBSTITUTE(IN!F421,\",\",\".\")","v":""}]
[0,{"$error":"#VALUE!"},{"$error":"#VALUE!"},{"$f":"SUBSTITUTE(IN!G422,\"-\",\"\")","v":""},"",{"$f":"IN!F422*60","v":0},0,"-",{"$f":"SUBSTITUTE(IN!F422,\",\",\".\")","v":""}]
[0,{"$error":"#VALUE!"},{"$error":"#VALUE!"},{"$f":"SUBSTITUTE(IN!G423,\"-\",\"\")","v":""},"",{"$f":"IN!F423*60","v":0},0,"-",{"$f":"SUBSTITUTE(IN!F423,\",\",\".\")","v":""}]
[0,{"$error":"#VALUE!"},{"$error":"#VALUE!"},{"$f":"SUBSTITUTE(IN!G424,\"-\",\"\")","v":""},"",{"$f":"IN!F424*60","v":0},0,"-",{"$f":"SUBSTITUTE(IN!F424,\",\",\".\")","v":""}]
[0,{"$error":"#VALUE!"},{"$error":"#VALUE!"},{"$f":"SUBSTITUTE(IN!G425,\"-\",\"\")","v":""},"",{"$f":"IN!F425*60","v":0},0,"-",{"$f":"SUBSTITUTE(IN!F425,\",\",\".\")","v":""}]
[0,{"$error":"#VALUE!"},{"$error":"#VALUE!"},{"$f":"SUBSTITUTE(IN!G426,\"-\",\"\")","v":""},"",{"$f":"IN!F426*60","v":0},0,"-",{"$f":"SUBSTITUTE(IN!F426,\",\",\".\")","v":""}]
[0,{"$error":"#VALUE!"},{"$error":"#VALUE!"},{"$f":"SUBSTITUTE(IN!G427,\"-\",\"\")","v":""},"",{"$f":"IN!F427*60","v":0},0,"-",{"$f":"SUBSTITUTE(IN!F427,\",\",\".\")","v":""}]
[0,{"$error":"#VALUE!"},{"$error":"#VALUE!"},{"$f":"SUBSTITUTE(IN!G428,\"-\",\"\")","v":""},"",{"$f":"IN!F428*60","v":0},0,"-",{"$f":"SUBSTITUTE(IN!F428,\",\",\".\")","v":""}]
[0,{"$error":"#VALUE!"},{"$error":"#VALUE!"},{"$f":"SUBSTITUTE(IN!G429,\"-\",\"\")","v":""},"",{"$f":"IN!F429*60","v":0},0,"-",{"$f":"SUBSTITUTE(IN!F429,\",\",\".\")","v":""}]
[0,{"$error":"#VALUE!"},{"$error":"#VALUE!"},{"$f":"SUBSTITUTE(IN!G430,\"-\",\"\")","v":""},"",{"$f":"IN!F430*60","v":0},0,"-",{"$f":"SUBSTITUTE(IN!F430,\",\",\".\")","v":""}]
[0,{"$error":"#VALUE!"},{"$error":"#VALUE!"},{"$f":"SUBSTITUTE(IN!G431,\"-\",\"\")","v":""},"",{"$f":"IN!F431*60","v":0},0,"-",{"$f":"SUBSTITUTE(IN!F431,\",\",\".\")","v":""}]
[0,{"$error":"#VALUE!"},{"$error":"#VALUE!"},{"$f":"SUBSTITUTE(IN!G432,\"-\",\"\")","v":""},"",{"$f":"IN!F432*60","v":0},0,"-",{"$f":"SUBSTITUTE(IN!F432,\",\",\".\")","v":""}]
[0,{"$error":"#VALUE!"},{"$error":"#VALUE!"},{"$f":"SUBSTITUTE(IN!G433,\"-\",\"\")","v":""},"",{"$f":"IN!F433*60","v":0},0,"-",{"$f":"SUBSTITUTE(IN!F433,\",\",\".\")","v":""}]
[0,{"$error":"#VALUE!"},{"$error":"#VALUE!"},{"$f":"SUBSTITUTE(IN!G434,\"-\",\"\")","v":""},"",{"$f":"IN!F434*60","v":0},0,"-",{"$f":"SUBSTITUTE(IN!F434,\",\",\".\")","v":""}]
[0,{"$error":"#VALUE!"},{"$error":"#VALUE!"},{"$f":"SUBSTITUTE(IN!G435,\"-\",\"\")","v":""},"",{"$f":"IN!F435*60","v":0},0,"-",{"$f":"SUBSTITUTE(IN!F435,\",\",\".\")","v":""}]
[0,{"$error":"#VALUE!"},{"$error":"#VALUE!"},{"$f":"SUBSTITUTE(IN!G436,\"-\",\"\")","v":""},"",{"$f":"IN!F436*60","v":0},0,"-",{"$f":"SUBSTITUTE(IN!F436,\",\",\".\")","v":""}]
[0,{"$error":"#VALUE!"},{"$error":"#VALUE!"},{"$f":"SUBSTITUTE(IN!G437,\"-\",\"\")","v":""},"",{"$f":"IN!F437*60","v":0},0,"-",{"$f":"SUBSTITUTE(IN!F437,\",\",\".\")","v":""}]
[0,{"$error":"#VALUE!"},{"$error":"#VALUE!"},{"$f":"SUBSTITUTE(IN!G438,\"-\",\"\")","v":""},"",{"$f":"IN!F438*60","v":0},0,"-",{"$f":"SUBSTITUTE(IN!F438,\",\",\".\")","v":""}]
[0,{"$error":"#VALUE!"},{"$error":"#VALUE!"},{"$f":"SUBSTITUTE(IN!G439,\"-\",\"\")","v":""},"",{"$f":"IN!F439*60","v":0},0,"-",{"$f":"SUBSTITUTE(IN!F439,\",\",\".\")","v":""}]
[0,{"$error":"#VALUE!"},{"$error":"#VALUE!"},{"$f":"SUBSTITUTE(IN!G440,\"-\",\"\")","v":""},"",{"$f":"IN!F440*60","v":0},0,"-",{"$f":"SUBSTITUTE(IN!F440,\",\",\".\")","v":""}]
[0,{"$error":"#VALUE!"},{"$error":"#VALUE!"},{"$f":"SUBSTITUTE(IN!G441,\"-\",\"\")","v":""},"",{"$f":"IN!F441*60","v":0},0,"-",{"$f":"SUBSTITUTE(IN!F441,\",\",\".\")","v":""}]
[0,{"$error":"#VALUE!"},{"$error":"#VALUE!"},{"$f":"SUBSTITUTE(IN!G442,\"-\",\"\")","v":""},"",{"$f":"IN!F442*60","v":0},0,"-",{"$f":"SUBSTITUTE(IN!F442,\",\",\".\")","v":""}]
[0,{"$error":"#VALUE!"},{"$error":"#VALUE!"},{"$f":"SUBSTITUTE(IN!G443,\"-\",\"\")","v":""},"",{"$f":"IN!F443*60","v":0},0,"-",{"$f":"SUBSTITUTE(IN!F443,\",\",\".\")","v":""}]
[0,{"$error":"#VALUE!"},{"$error":"#VALUE!"},{"$f":"SUBSTITUTE(IN!G444,\"-\",\"\")","v":""},"",{"$f":"IN!F444*60","v":0},0,"-",{"$f":"SUBSTITUTE(IN!F444,\",\",\".\")","v":""}]
[0,{"$error":"#VALUE!"},{"$error":"#VALUE!"},{"$f":"SUBSTITUTE(IN!G445,\"-\",\"\")","v":""},"",{"$f":"IN!F445*60","v":0},0,"-",{"$f":"SUBSTITUTE(IN!F445,\",\",\".\")","v":""}]
[0,{"$error":"#VALUE!"},{"$error":"#VALUE!"},{"$f":"SUBSTITUTE(IN!G446,\"-\",\"\")","v":""},"",{"$f":"IN!F446*60","v":0},0,"-",{"$f":"SUBSTITUTE(IN!F446,\",\",\".\")","v":""}]
[0,{"$error":"#VALUE!"},{"$error":"#VALUE!"},{"$f":"SUBSTITUTE(IN!G447,\"-\",\"\")","v":""},"",{"$f":"IN!F447*60","v":0},0,"-",{"$f":"SUBSTITUTE(IN!F447,\",\",\".\")","v":""}]
[0,{"$error":"#VALUE!"},{"$error":"#VALUE!"},{"$f":"SUBSTITUTE(IN!G448,\"-\",\"\")","v":""},"",{"$f":"IN!F448*60","v":0},0,"-",{"$f":"SUBSTITUTE(IN!F448,\",\",\".\")","v":""}]
[0,{"$error":"#VALUE!"},{"$error":"#VALUE!"},{"$f":"SUBSTITUTE(IN!G449,\"-\",\"\")","v":""},"",{"$f":"IN!F449*60","v":0},0,"-",{"$f":"SUBSTITUTE(IN!F449,\",\",\".\")","v":""}]
[0,{"$error":"#VALUE!"},{"$error":"#VALUE!"},{"$f":"SUBSTITUTE(IN!G450,\"-\",\"\")","v":""},"",{"$f":"IN!F450*60","v":0},0,"-",{"$f":"SUBSTITUTE(IN!F450,\",\",\".\")","v":""}]
[0,{"$error":"#VALUE!"},{"$error":"#VALUE!"},{"$f":"SUBSTITUTE(IN!G451,\"-\",\"\")","v":""},"",{"$f":"IN!F451*60","v":0},0,"-",{"$f":"SUBSTITUTE(IN!F451,\",\",\".\")","v":""}]
[0,{"$error":"#VALUE!"},{"$error":"#VALUE!"},{"$f":"SUBSTITUTE(IN!G452,\"-\",\"\")","v":""},"",{"$f":"IN!F452*60","v":0},0,"-",{"$f":"SUBSTITUTE(IN!F452,\",\",\".\")","v":""}]
[{"$f":"LEN(D453)","v":0},{"$f":"VALUE(LEFT(D453,1))","v":{"$error":"#VALUE!"}},{"$f":"IF(B453<2,20,19)","v":{"$error":"#VALUE!"}},{"$f":"SUBSTITUTE(IN!G453,\"-\",\"\")","v":""},{"$f":"IF(A453=10,CONCATENATE(C453,D453),D453)","v":""},{"$f":"IN!F453*60","v":0},{"$f":"ROUND(F453,0)","v":0},{"$f":"CONCATENATE(MID(E453,1,8),\"-\",MID(E453,9,4))","v":"-"},{"$f":"SUBSTITUTE(IN!F453,\",\",\".\")","v":""}]
[0,{"$error":"#VALUE!"},{"$error":"#VALUE!"},{"$f":"SUBSTITUTE(IN!G454,\"-\",\"\")","v":""},"",{"$f":"IN!F454*60","v":0},0,"-",{"$f":"SUBSTITUTE(IN!F454,\",\",\".\")","v":""}]
[0,{"$error":"#VALUE!"},{"$error":"#VALUE!"},{"$f":"SUBSTITUTE(IN!G455,\"-\",\"\")","v":""},"",{"$f":"IN!F455*60","v":0},0,"-",{"$f":"SUBSTITUTE(IN!F455,\",\",\".\")","v":""}]
[0,{"$error":"#VALUE!"},{"$error":"#VALUE!"},{"$f":"SUBSTITUTE(IN!G456,\"-\",\"\")","v":""},"",{"$f":"IN!F456*60","v":0},0,"-",{"$f":"SUBSTITUTE(IN!F456,\",\",\".\")","v":""}]
[0,{"$error":"#VALUE!"},{"$error":"#VALUE!"},{"$f":"SUBSTITUTE(IN!G457,\"-\",\"\")","v":""},"",{"$f":"IN!F457*60","v":0},0,"-",{"$f":"SUBSTITUTE(IN!F457,\",\",\".\")","v":""}]
[0,{"$error":"#VALUE!"},{"$error":"#VALUE!"},{"$f":"SUBSTITUTE(IN!G458,\"-\",\"\")","v":""},"",{"$f":"IN!F458*60","v":0},0,"-",{"$f":"SUBSTITUTE(IN!F458,\",\",\".\")","v":""}]
[0,{"$error":"#VALUE!"},{"$error":"#VALUE!"},{"$f":"SUBSTITUTE(IN!G459,\"-\",\"\")","v":""},"",{"$f":"IN!F459*60","v":0},0,"-",{"$f":"SUBSTITUTE(IN!F459,\",\",\".\")","v":""}]
[0,{"$error":"#VALUE!"},{"$error":"#VALUE!"},{"$f":"SUBSTITUTE(IN!G460,\"-\",\"\")","v":""},"",{"$f":"IN!F460*60","v":0},0,"-",{"$f":"SUBSTITUTE(IN!F460,\",\",\".\")","v":""}]
[0,{"$error":"#VALUE!"},{"$error":"#VALUE!"},{"$f":"SUBSTITUTE(IN!G461,\"-\",\"\")","v":""},"",{"$f":"IN!F461*60","v":0},0,"-",{"$f":"SUBSTITUTE(IN!F461,\",\",\".\")","v":""}]
[0,{"$error":"#VALUE!"},{"$error":"#VALUE!"},{"$f":"SUBSTITUTE(IN!G462,\"-\",\"\")","v":""},"",{"$f":"IN!F462*60","v":0},0,"-",{"$f":"SUBSTITUTE(IN!F462,\",\",\".\")","v":""}]
[0,{"$error":"#VALUE!"},{"$error":"#VALUE!"},{"$f":"SUBSTITUTE(IN!G463,\"-\",\"\")","v":""},"",{"$f":"IN!F463*60","v":0},0,"-",{"$f":"SUBSTITUTE(IN!F463,\",\",\".\")","v":""}]
[0,{"$error":"#VALUE!"},{"$error":"#VALUE!"},{"$f":"SUBSTITUTE(IN!G464,\"-\",\"\")","v":""},"",{"$f":"IN!F464*60","v":0},0,"-",{"$f":"SUBSTITUTE(IN!F464,\",\",\".\")","v":""}]
[0,{"$error":"#VALUE!"},{"$error":"#VALUE!"},{"$f":"SUBSTITUTE(IN!G465,\"-\",\"\")","v":""},"",{"$f":"IN!F465*60","v":0},0,"-",{"$f":"SUBSTITUTE(IN!F465,\",\",\".\")","v":""}]
[0,{"$error":"#VALUE!"},{"$error":"#VALUE!"},{"$f":"SUBSTITUTE(IN!G466,\"-\",\"\")","v":""},"",{"$f":"IN!F466*60","v":0},0,"-",{"$f":"SUBSTITUTE(IN!F466,\",\",\".\")","v":""}]
[0,{"$error":"#VALUE!"},{"$error":"#VALUE!"},{"$f":"SUBSTITUTE(IN!G467,\"-\",\"\")","v":""},"",{"$f":"IN!F467*60","v":0},0,"-",{"$f":"SUBSTITUTE(IN!F467,\",\",\".\")","v":""}]
[0,{"$error":"#VALUE!"},{"$error":"#VALUE!"},{"$f":"SUBSTITUTE(IN!G468,\"-\",\"\")","v":""},"",{"$f":"IN!F468*60","v":0},0,"-",{"$f":"SUBSTITUTE(IN!F468,\",\",\".\")","v":""}]
[0,{"$error":"#VALUE!"},{"$error":"#VALUE!"},{"$f":"SUBSTITUTE(IN!G469,\"-\",\"\")","v":""},"",{"$f":"IN!F469*60","v":0},0,"-",{"$f":"SUBSTITUTE(IN!F469,\",\",\".\")","v":""}]
[0,{"$error":"#VALUE!"},{"$error":"#VALUE!"},{"$f":"SUBSTITUTE(IN!G470,\"-\",\"\")","v":""},"",{"$f":"IN!F470*60","v":0},0,"-",{"$f":"SUBSTITUTE(IN!F470,\",\",\".\")","v":""}]
[0,{"$error":"#VALUE!"},{"$error":"#VALUE!"},{"$f":"SUBSTITUTE(IN!G471,\"-\",\"\")","v":""},"",{"$f":"IN!F471*60","v":0},0,"-",{"$f":"SUBSTITUTE(IN!F471,\",\",\".\")","v":""}]
[0,{"$error":"#VALUE!"},{"$error":"#VALUE!"},{"$f":"SUBSTITUTE(IN!G472,\"-\",\"\")","v":""},"",{"$f":"IN!F472*60","v":0},0,"-",{"$f":"SUBSTITUTE(IN!F472,\",\",\".\")","v":""}]
[0,{"$error":"#VALUE!"},{"$error":"#VALUE!"},{"$f":"SUBSTITUTE(IN!G473,\"-\",\"\")","v":""},"",{"$f":"IN!F473*60","v":0},0,"-",{"$f":"SUBSTITUTE(IN!F473,\",\",\".\")","v":""}]
[0,{"$error":"#VALUE!"},{"$error":"#VALUE!"},{"$f":"SUBSTITUTE(IN!G474,\"-\",\"\")","v":""},"",{"$f":"IN!F474*60","v":0},0,"-",{"$f":"SUBSTITUTE(IN!F474,\",\",\".\")","v":""}]
[0,{"$error":"#VALUE!"},{"$error":"#VALUE!"},{"$f":"SUBSTITUTE(IN!G475,\"-\",\"\")","v":""},"",{"$f":"IN!F475*60","v":0},0,"-",{"$f":"SUBSTITUTE(IN!F475,\",\",\".\")","v":""}]
[0,{"$error":"#VALUE!"},{"$error":"#VALUE!"},{"$f":"SUBSTITUTE(IN!G476,\"-\",\"\")","v":""},"",{"$f":"IN!F476*60","v":0},0,"-",{"$f":"SUBSTITUTE(IN!F476,\",\",\".\")","v":""}]
[0,{"$error":"#VALUE!"},{"$error":"#VALUE!"},{"$f":"SUBSTITUTE(IN!G477,\"-\",\"\")","v":""},"",{"$f":"IN!F477*60","v":0},0,"-",{"$f":"SUBSTITUTE(IN!F477,\",\",\".\")","v":""}]
[0,{"$error":"#VALUE!"},{"$error":"#VALUE!"},{"$f":"SUBSTITUTE(IN!G478,\"-\",\"\")","v":""},"",{"$f":"IN!F478*60","v":0},0,"-",{"$f":"SUBSTITUTE(IN!F478,\",\",\".\")","v":""}]
[0,{"$error":"#VALUE!"},{"$error":"#VALUE!"},{"$f":"SUBSTITUTE(IN!G479,\"-\",\"\")","v":""},"",{"$f":"IN!F479*60","v":0},0,"-",{"$f":"SUBSTITUTE(IN!F479,\",\",\".\")","v":""}]
[0,{"$error":"#VALUE!"},{"$error":"#VALUE!"},{"$f":"SUBSTITUTE(IN!G480,\"-\",\"\")","v":""},"",{"$f":"IN!F480*60","v":0},0,"-",{"$f":"SUBSTITUTE(IN!F480,\",\",\".\")","v":""}]
[0,{"$error":"#VALUE!"},{"$error":"#VALUE!"},{"$f":"SUBSTITUTE(IN!G481,\"-\",\"\")","v":""},"",{"$f":"IN!F481*60","v":0},0,"-",{"$f":"SUBSTITUTE(IN!F481,\",\",\".\")","v":""}]
[0,{"$error":"#VALUE!"},{"$error":"#VALUE!"},{"$f":"SUBSTITUTE(IN!G482,\"-\",\"\")","v":""},"",{"$f":"IN!F482*60","v":0},0,"-",{"$f":"SUBSTITUTE(IN!F482,\",\",\".\")","v":""}]
[0,{"$error":"#VALUE!"},{"$error":"#VALUE!"},{"$f":"SUBSTITUTE(IN!G483,\"-\",\"\")","v":""},"",{"$f":"IN!F483*60","v":0},0,"-",{"$f":"SUBSTITUTE(IN!F483,\",\",\".\")","v":""}]
[0,{"$error":"#VALUE!"},{"$error":"#VALUE!"},{"$f":"SUBSTITUTE(IN!G484,\"-\",\"\")","v":""},"",{"$f":"IN!F484*60","v":0},0,"-",{"$f":"SUBSTITUTE(IN!F484,\",\",\".\")","v":""}]
[0,{"$error":"#VALUE!"},{"$error":"#VALUE!"},{"$f":"SUBSTITUTE(IN!G485,\"-\",\"\")","v":""},"",{"$f":"IN!F485*60","v":0},0,"-",{"$f":"SUBSTITUTE(IN!F485,\",\",\".\")","v":""}]
[0,{"$error":"#VALUE!"},{"$error":"#VALUE!"},{"$f":"SUBSTITUTE(IN!G486,\"-\",\"\")","v":""},"",{"$f":"IN!F486*60","v":0},0,"-",{"$f":"SUBSTITUTE(IN!F486,\",\",\".\")","v":""}]
[0,{"$error":"#VALUE!"},{"$error":"#VALUE!"},{"$f":"SUBSTITUTE(IN!G487,\"-\",\"\")","v":""},"",{"$f":"IN!F487*60","v":0},0,"-",{"$f":"SUBSTITUTE(IN!F487,\",\",\".\")","v":""}]
[0,{"$error":"#VALUE!"},{"$error":"#VALUE!"},{"$f":"SUBSTITUTE(IN!G488,\"-\",\"\")","v":""},"",{"$f":"IN!F488*60","v":0},0,"-",{"$f":"SUBSTITUTE(IN!F488,\",\",\".\")","v":""}]
[0,{"$error":"#VALUE!"},{"$error":"#VALUE!"},{"$f":"SUBSTITUTE(IN!G489,\"-\",\"\")","v":""},"",{"$f":"IN!F489*60","v":0},0,"-",{"$f":"SUBSTITUTE(IN!F489,\",\",\".\")","v":""}]
[0,{"$error":"#VALUE!"},{"$error":"#VALUE!"},{"$f":"SUBSTITUTE(IN!G490,\"-\",\"\")","v":""},"",{"$f":"IN!F490*60","v":0},0,"-",{"$f":"SUBSTITUTE(IN!F490,\",\",\".\")","v":""}]
[0,{"$error":"#VALUE!"},{"$error":"#VALUE!"},{"$f":"SUBSTITUTE(IN!G491,\"-\",\"\")","v":""},"",{"$f":"IN!F491*60","v":0},0,"-",{"$f":"SUBSTITUTE(IN!F491,\",\",\".\")","v":""}]
[0,{"$error":"#VALUE!"},{"$error":"#VALUE!"},{"$f":"SUBSTITUTE(IN!G492,\"-\",\"\")","v":""},"",{"$f":"IN!F492*60","v":0},0,"-",{"$f":"SUBSTITUTE(IN!F492,\",\",\".\")","v":""}]
[0,{"$error":"#VALUE!"},{"$error":"#VALUE!"},{"$f":"SUBSTITUTE(IN!G493,\"-\",\"\")","v":""},"",{"$f":"IN!F493*60","v":0},0,"-",{"$f":"SUBSTITUTE(IN!F493,\",\",\".\")","v":""}]
[0,{"$error":"#VALUE!"},{"$error":"#VALUE!"},{"$f":"SUBSTITUTE(IN!G494,\"-\",\"\")","v":""},"",{"$f":"IN!F494*60","v":0},0,"-",{"$f":"SUBSTITUTE(IN!F494,\",\",\".\")","v":""}]
[0,{"$error":"#VALUE!"},{"$error":"#VALUE!"},{"$f":"SUBSTITUTE(IN!G495,\"-\",\"\")","v":""},"",{"$f":"IN!F495*60","v":0},0,"-",{"$f":"SUBSTITUTE(IN!F495,\",\",\".\")","v":""}]
[0,{"$error":"#VALUE!"},{"$error":"#VALUE!"},{"$f":"SUBSTITUTE(IN!G496,\"-\",\"\")","v":""},"",{"$f":"IN!F496*60","v":0},0,"-",{"$f":"SUBSTITUTE(IN!F496,\",\",\".\")","v":""}]
[0,{"$error":"#VALUE!"},{"$error":"#VALUE!"},{"$f":"SUBSTITUTE(IN!G497,\"-\",\"\")","v":""},"",{"$f":"IN!F497*60","v":0},0,"-",{"$f":"SUBSTITUTE(IN!F497,\",\",\".\")","v":""}]
[0,{"$error":"#VALUE!"},{"$error":"#VALUE!"},{"$f":"SUBSTITUTE(IN!G498,\"-\",\"\")","v":""},"",{"$f":"IN!F498*60","v":0},0,"-",{"$f":"SUBSTITUTE(IN!F498,\",\",\".\")","v":""}]
[0,{"$error":"#VALUE!"},{"$error":"#VALUE!"},{"$f":"SUBSTITUTE(IN!G499,\"-\",\"\")","v":""},"",{"$f":"IN!F499*60","v":0},0,"-",{"$f":"SUBSTITUTE(IN!F499,\",\",\".\")","v":""}]
[0,{"$error":"#VALUE!"},{"$error":"#VALUE!"},{"$f":"SUBSTITUTE(IN!G500,\"-\",\"\")","v":""},"",{"$f":"IN!F500*60","v":0},0,"-",{"$f":"SUBSTITUTE(IN!F500,\",\",\".\")","v":""}]
[0,{"$error":"#VALUE!"},{"$error":"#VALUE!"},{"$f":"SUBSTITUTE(IN!G501,\"-\",\"\")","v":""},"",{"$f":"IN!F501*60","v":0},0,"-",{"$f":"SUBSTITUTE(IN!F501,\",\",\".\")","v":""}]
[0,{"$error":"#VALUE!"},{"$error":"#VALUE!"},{"$f":"SUBSTITUTE(IN!G502,\"-\",\"\")","v":""},"",{"$f":"IN!F502*60","v":0},0,"-",{"$f":"SUBSTITUTE(IN!F502,\",\",\".\")","v":""}]
[0,{"$error":"#VALUE!"},{"$error":"#VALUE!"},{"$f":"SUBSTITUTE(IN!G503,\"-\",\"\")","v":""},"",{"$f":"IN!F503*60","v":0},0,"-",{"$f":"SUBSTITUTE(IN!F503,\",\",\".\")","v":""}]
[0,{"$error":"#VALUE!"},{"$error":"#VALUE!"},{"$f":"SUBSTITUTE(IN!G504,\"-\",\"\")","v":""},"",{"$f":"IN!F504*60","v":0},0,"-",{"$f":"SUBSTITUTE(IN!F504,\",\",\".\")","v":""}]
[0,{"$error":"#VALUE!"},{"$error":"#VALUE!"},{"$f":"SUBSTITUTE(IN!G505,\"-\",\"\")","v":""},"",{"$f":"IN!F505*60","v":0},0,"-",{"$f":"SUBSTITUTE(IN!F505,\",\",\".\")","v":""}]
[0,{"$error":"#VALUE!"},{"$error":"#VALUE!"},{"$f":"SUBSTITUTE(IN!G506,\"-\",\"\")","v":""},"",{"$f":"IN!F506*60","v":0},0,"-",{"$f":"SUBSTITUTE(IN!F506,\",\",\".\")","v":""}]
[0,{"$error":"#VALUE!"},{"$error":"#VALUE!"},{"$f":"SUBSTITUTE(IN!G507,\"-\",\"\")","v":""},"",{"$f":"IN!F507*60","v":0},0,"-",{"$f":"SUBSTITUTE(IN!F507,\",\",\".\")","v":""}]
[0,{"$error":"#VALUE!"},{"$error":"#VALUE!"},{"$f":"SUBSTITUTE(IN!G508,\"-\",\"\")","v":""},"",{"$f":"IN!F508*60","v":0},0,"-",{"$f":"SUBSTITUTE(IN!F508,\",\",\".\")","v":""}]
[0,{"$error":"#VALUE!"},{"$error":"#VALUE!"},{"$f":"SUBSTITUTE(IN!G509,\"-\",\"\")","v":""},"",{"$f":"IN!F509*60","v":0},0,"-",{"$f":"SUBSTITUTE(IN!F509,\",\",\".\")","v":""}]
[0,{"$error":"#VALUE!"},{"$error":"#VALUE!"},{"$f":"SUBSTITUTE(IN!G510,\"-\",\"\")","v":""},"",{"$f":"IN!F510*60","v":0},0,"-",{"$f":"SUBSTITUTE(IN!F510,\",\",\".\")","v":""}]
[0,{"$error":"#VALUE!"},{"$error":"#VALUE!"},{"$f":"SUBSTITUTE(IN!G511,\"-\",\"\")","v":""},"",{"$f":"IN!F511*60","v":0},0,"-",{"$f":"SUBSTITUTE(IN!F511,\",\",\".\")","v":""}]
[0,{"$error":"#VALUE!"},{"$error":"#VALUE!"},{"$f":"SUBSTITUTE(IN!G512,\"-\",\"\")","v":""},"",{"$f":"IN!F512*60","v":0},0,"-",{"$f":"SUBSTITUTE(IN!F512,\",\",\".\")","v":""}]
[0,{"$error":"#VALUE!"},{"$error":"#VALUE!"},{"$f":"SUBSTITUTE(IN!G513,\"-\",\"\")","v":""},"",{"$f":"IN!F513*60","v":0},0,"-",{"$f":"SUBSTITUTE(IN!F513,\",\",\".\")","v":""}]
[0,{"$error":"#VALUE!"},{"$error":"#VALUE!"},{"$f":"SUBSTITUTE(IN!G514,\"-\",\"\")","v":""},"",{"$f":"IN!F514*60","v":0},0,"-",{"$f":"SUBSTITUTE(IN!F514,\",\",\".\")","v":""}]
[0,{"$error":"#VALUE!"},{"$error":"#VALUE!"},{"$f":"SUBSTITUTE(IN!G515,\"-\",\"\")","v":""},"",{"$f":"IN!F515*60","v":0},0,"-",{"$f":"SUBSTITUTE(IN!F515,\",\",\".\")","v":""}]
[0,{"$error":"#VALUE!"},{"$error":"#VALUE!"},{"$f":"SUBSTITUTE(IN!G516,\"-\",\"\")","v":""},"",{"$f":"IN!F516*60","v":0},0,"-",{"$f":"SUBSTITUTE(IN!F516,\",\",\".\")","v":""}]
[{"$f":"LEN(D517)","v":0},{"$f":"VALUE(LEFT(D517,1))","v":{"$error":"#VALUE!"}},{"$f":"IF(B517<2,20,19)","v":{"$error":"#VALUE!"}},{"$f":"SUBSTITUTE(IN!G517,\"-\",\"\")","v":""},{"$f":"IF(A517=10,CONCATENATE(C517,D517),D517)","v":""},{"$f":"IN!F517*60","v":0},{"$f":"ROUND(F517,0)","v":0},{"$f":"CONCATENATE(MID(E517,1,8),\"-\",MID(E517,9,4))","v":"-"},{"$f":"SUBSTITUTE(IN!F517,\",\",\".\")","v":""}]
[0,{"$error":"#VALUE!"},{"$error":"#VALUE!"},{"$f":"SUBSTITUTE(IN!G518,\"-\",\"\")","v":""},"",{"$f":"IN!F518*60","v":0},0,"-",{"$f":"SUBSTITUTE(IN!F518,\",\",\".\")","v":""}]
[0,{"$error":"#VALUE!"},{"$error":"#VALUE!"},{"$f":"SUBSTITUTE(IN!G519,\"-\",\"\")","v":""},"",{"$f":"IN!F519*60","v":0},0,"-",{"$f":"SUBSTITUTE(IN!F519,\",\",\".\")","v":""}]
[0,{"$error":"#VALUE!"},{"$error":"#VALUE!"},{"$f":"SUBSTITUTE(IN!G520,\"-\",\"\")","v":""},"",{"$f":"IN!F520*60","v":0},0,"-",{"$f":"SUBSTITUTE(IN!F520,\",\",\".\")","v":""}]
[0,{"$error":"#VALUE!"},{"$error":"#VALUE!"},{"$f":"SUBSTITUTE(IN!G521,\"-\",\"\")","v":""},"",{"$f":"IN!F521*60","v":0},0,"-",{"$f":"SUBSTITUTE(IN!F521,\",\",\".\")","v":""}]
[0,{"$error":"#VALUE!"},{"$error":"#VALUE!"},{"$f":"SUBSTITUTE(IN!G522,\"-\",\"\")","v":""},"",{"$f":"IN!F522*60","v":0},0,"-",{"$f":"SUBSTITUTE(IN!F522,\",\",\".\")","v":""}]
[0,{"$error":"#VALUE!"},{"$error":"#VALUE!"},{"$f":"SUBSTITUTE(IN!G523,\"-\",\"\")","v":""},"",{"$f":"IN!F523*60","v":0},0,"-",{"$f":"SUBSTITUTE(IN!F523,\",\",\".\")","v":""}]
[0,{"$error":"#VALUE!"},{"$error":"#VALUE!"},{"$f":"SUBSTITUTE(IN!G524,\"-\",\"\")","v":""},"",{"$f":"IN!F524*60","v":0},0,"-",{"$f":"SUBSTITUTE(IN!F524,\",\",\".\")","v":""}]
[0,{"$error":"#VALUE!"},{"$error":"#VALUE!"},{"$f":"SUBSTITUTE(IN!G525,\"-\",\"\")","v":""},"",{"$f":"IN!F525*60","v":0},0,"-",{"$f":"SUBSTITUTE(IN!F525,\",\",\".\")","v":""}]
[0,{"$error":"#VALUE!"},{"$error":"#VALUE!"},{"$f":"SUBSTITUTE(IN!G526,\"-\",\"\")","v":""},"",{"$f":"IN!F526*60","v":0},0,"-",{"$f":"SUBSTITUTE(IN!F526,\",\",\".\")","v":""}]
[0,{"$error":"#VALUE!"},{"$error":"#VALUE!"},{"$f":"SUBSTITUTE(IN!G527,\"-\",\"\")","v":""},"",{"$f":"IN!F527*60","v":0},0,"-",{"$f":"SUBSTITUTE(IN!F527,\",\",\".\")","v":""}]
[0,{"$error":"#VALUE!"},{"$error":"#VALUE!"},{"$f":"SUBSTITUTE(IN!G528,\"-\",\"\")","v":""},"",{"$f":"IN!F528*60","v":0},0,"-",{"$f":"SUBSTITUTE(IN!F528,\",\",\".\")","v":""}]
[0,{"$error":"#VALUE!"},{"$error":"#VALUE!"},{"$f":"SUBSTITUTE(IN!G529,\"-\",\"\")","v":""},"",{"$f":"IN!F529*60","v":0},0,"-",{"$f":"SUBSTITUTE(IN!F529,\",\",\".\")","v":""}]
[0,{"$error":"#VALUE!"},{"$error":"#VALUE!"},{"$f":"SUBSTITUTE(IN!G530,\"-\",\"\")","v":""},"",{"$f":"IN!F530*60","v":0},0,"-",{"$f":"SUBSTITUTE(IN!F530,\",\",\".\")","v":""}]
[0,{"$error":"#VALUE!"},{"$error":"#VALUE!"},{"$f":"SUBSTITUTE(IN!G531,\"-\",\"\")","v":""},"",{"$f":"IN!F531*60","v":0},0,"-",{"$f":"SUBSTITUTE(IN!F531,\",\",\".\")","v":""}]
[0,{"$error":"#VALUE!"},{"$error":"#VALUE!"},{"$f":"SUBSTITUTE(IN!G532,\"-\",\"\")","v":""},"",{"$f":"IN!F532*60","v":0},0,"-",{"$f":"SUBSTITUTE(IN!F532,\",\",\".\")","v":""}]
[0,{"$error":"#VALUE!"},{"$error":"#VALUE!"},{"$f":"SUBSTITUTE(IN!G533,\"-\",\"\")","v":""},"",{"$f":"IN!F533*60","v":0},0,"-",{"$f":"SUBSTITUTE(IN!F533,\",\",\".\")","v":""}]
[0,{"$error":"#VALUE!"},{"$error":"#VALUE!"},{"$f":"SUBSTITUTE(IN!G534,\"-\",\"\")","v":""},"",{"$f":"IN!F534*60","v":0},0,"-",{"$f":"SUBSTITUTE(IN!F534,\",\",\".\")","v":""}]
[0,{"$error":"#VALUE!"},{"$error":"#VALUE!"},{"$f":"SUBSTITUTE(IN!G535,\"-\",\"\")","v":""},"",{"$f":"IN!F535*60","v":0},0,"-",{"$f":"SUBSTITUTE(IN!F535,\",\",\".\")","v":""}]
[0,{"$error":"#VALUE!"},{"$error":"#VALUE!"},{"$f":"SUBSTITUTE(IN!G536,\"-\",\"\")","v":""},"",{"$f":"IN!F536*60","v":0},0,"-",{"$f":"SUBSTITUTE(IN!F536,\",\",\".\")","v":""}]
[0,{"$error":"#VALUE!"},{"$error":"#VALUE!"},{"$f":"SUBSTITUTE(IN!G537,\"-\",\"\")","v":""},"",{"$f":"IN!F537*60","v":0},0,"-",{"$f":"SUBSTITUTE(IN!F537,\",\",\".\")","v":""}]
[0,{"$error":"#VALUE!"},{"$error":"#VALUE!"},{"$f":"SUBSTITUTE(IN!G538,\"-\",\"\")","v":""},"",{"$f":"IN!F538*60","v":0},0,"-",{"$f":"SUBSTITUTE(IN!F538,\",\",\".\")","v":""}]
[0,{"$error":"#VALUE!"},{"$error":"#VALUE!"},{"$f":"SUBSTITUTE(IN!G539,\"-\",\"\")","v":""},"",{"$f":"IN!F539*60","v":0},0,"-",{"$f":"SUBSTITUTE(IN!F539,\",\",\".\")","v":""}]
[0,{"$error":"#VALUE!"},{"$error":"#VALUE!"},{"$f":"SUBSTITUTE(IN!G540,\"-\",\"\")","v":""},"",{"$f":"IN!F540*60","v":0},0,"-",{"$f":"SUBSTITUTE(IN!F540,\",\",\".\")","v":""}]
[0,{"$error":"#VALUE!"},{"$error":"#VALUE!"},{"$f":"SUBSTITUTE(IN!G541,\"-\",\"\")","v":""},"",{"$f":"IN!F541*60","v":0},0,"-",{"$f":"SUBSTITUTE(IN!F541,\",\",\".\")","v":""}]
[0,{"$error":"#VALUE!"},{"$error":"#VALUE!"},{"$f":"SUBSTITUTE(IN!G542,\"-\",\"\")","v":""},"",{"$f":"IN!F542*60","v":0},0,"-",{"$f":"SUBSTITUTE(IN!F542,\",\",\".\")","v":""}]
[0,{"$error":"#VALUE!"},{"$error":"#VALUE!"},{"$f":"SUBSTITUTE(IN!G543,\"-\",\"\")","v":""},"",{"$f":"IN!F543*60","v":0},0,"-",{"$f":"SUBSTITUTE(IN!F543,\",\",\".\")","v":""}]
[0,{"$error":"#VALUE!"},{"$error":"#VALUE!"},{"$f":"SUBSTITUTE(IN!G544,\"-\",\"\")","v":""},"",{"$f":"IN!F544*60","v":0},0,"-",{"$f":"SUBSTITUTE(IN!F544,\",\",\".\")","v":""}]
[0,{"$error":"#VALUE!"},{"$error":"#VALUE!"},{"$f":"SUBSTITUTE(IN!G545,\"-\",\"\")","v":""},"",{"$f":"IN!F545*60","v":0},0,"-",{"$f":"SUBSTITUTE(IN!F545,\",\",\".\")","v":""}]
[0,{"$error":"#VALUE!"},{"$error":"#VALUE!"},{"$f":"SUBSTITUTE(IN!G546,\"-\",\"\")","v":""},"",{"$f":"IN!F546*60","v":0},0,"-",{"$f":"SUBSTITUTE(IN!F546,\",\",\".\")","v":""}]
[0,{"$error":"#VALUE!"},{"$error":"#VALUE!"},{"$f":"SUBSTITUTE(IN!G547,\"-\",\"\")","v":""},"",{"$f":"IN!F547*60","v":0},0,"-",{"$f":"SUBSTITUTE(IN!F547,\",\",\".\")","v":""}]
[0,{"$error":"#VALUE!"},{"$error":"#VALUE!"},{"$f":"SUBSTITUTE(IN!G548,\"-\",\"\")","v":""},"",{"$f":"IN!F548*60","v":0},0,"-",{"$f":"SUBSTITUTE(IN!F548,\",\",\".\")","v":""}]
[0,{"$error":"#VALUE!"},{"$error":"#VALUE!"},{"$f":"SUBSTITUTE(IN!G549,\"-\",\"\")","v":""},"",{"$f":"IN!F549*60","v":0},0,"-",{"$f":"SUBSTITUTE(IN!F549,\",\",\".\")","v":""}]
[0,{"$error":"#VALUE!"},{"$error":"#VALUE!"},{"$f":"SUBSTITUTE(IN!G550,\"-\",\"\")","v":""},"",{"$f":"IN!F550*60","v":0},0,"-",{"$f":"SUBSTITUTE(IN!F550,\",\",\".\")","v":""}]
[0,{"$error":"#VALUE!"},{"$error":"#VALUE!"},{"$f":"SUBSTITUTE(IN!G551,\"-\",\"\")","v":""},"",{"$f":"IN!F551*60","v":0},0,"-",{"$f":"SUBSTITUTE(IN!F551,\",\",\".\")","v":""}]
[0,{"$error":"#VALUE!"},{"$error":"#VALUE!"},{"$f":"SUBSTITUTE(IN!G552,\"-\",\"\")","v":""},"",{"$f":"IN!F552*60","v":0},0,"-",{"$f":"SUBSTITUTE(IN!F552,\",\",\".\")","v":""}]
[0,{"$error":"#VALUE!"},{"$error":"#VALUE!"},{"$f":"SUBSTITUTE(IN!G553,\"-\",\"\")","v":""},"",{"$f":"IN!F553*60","v":0},0,"-",{"$f":"SUBSTITUTE(IN!F553,\",\",\".\")","v":""}]
[0,{"$error":"#VALUE!"},{"$error":"#VALUE!"},{"$f":"SUBSTITUTE(IN!G554,\"-\",\"\")","v":""},"",{"$f":"IN!F554*60","v":0},0,"-",{"$f":"SUBSTITUTE(IN!F554,\",\",\".\")","v":""}]
[0,{"$error":"#VALUE!"},{"$error":"#VALUE!"},{"$f":"SUBSTITUTE(IN!G555,\"-\",\"\")","v":""},"",{"$f":"IN!F555*60","v":0},0,"-",{"$f":"SUBSTITUTE(IN!F555,\",\",\".\")","v":""}]
[0,{"$error":"#VALUE!"},{"$error":"#VALUE!"},{"$f":"SUBSTITUTE(IN!G556,\"-\",\"\")","v":""},"",{"$f":"IN!F556*60","v":0},0,"-",{"$f":"SUBSTITUTE(IN!F556,\",\",\".\")","v":""}]
[0,{"$error":"#VALUE!"},{"$error":"#VALUE!"},{"$f":"SUBSTITUTE(IN!G557,\"-\",\"\")","v":""},"",{"$f":"IN!F557*60","v":0},0,"-",{"$f":"SUBSTITUTE(IN!F557,\",\",\".\")","v":""}]
[0,{"$error":"#VALUE!"},{"$error":"#VALUE!"},{"$f":"SUBSTITUTE(IN!G558,\"-\",\"\")","v":""},"",{"$f":"IN!F558*60","v":0},0,"-",{"$f":"SUBSTITUTE(IN!F558,\",\",\".\")","v":""}]
[0,{"$error":"#VALUE!"},{"$error":"#VALUE!"},{"$f":"SUBSTITUTE(IN!G559,\"-\",\"\")","v":""},"",{"$f":"IN!F559*60","v":0},0,"-",{"$f":"SUBSTITUTE(IN!F559,\",\",\".\")","v":""}]
[0,{"$error":"#VALUE!"},{"$error":"#VALUE!"},{"$f":"SUBSTITUTE(IN!G560,\"-\",\"\")","v":""},"",{"$f":"IN!F560*60","v":0},0,"-",{"$f":"SUBSTITUTE(IN!F560,\",\",\".\")","v":""}]
[0,{"$error":"#VALUE!"},{"$error":"#VALUE!"},{"$f":"SUBSTITUTE(IN!G561,\"-\",\"\")","v":""},"",{"$f":"IN!F561*60","v":0},0,"-",{"$f":"SUBSTITUTE(IN!F561,\",\",\".\")","v":""}]
[0,{"$error":"#VALUE!"},{"$error":"#VALUE!"},{"$f":"SUBSTITUTE(IN!G562,\"-\",\"\")","v":""},"",{"$f":"IN!F562*60","v":0},0,"-",{"$f":"SUBSTITUTE(IN!F562,\",\",\".\")","v":""}]
[0,{"$error":"#VALUE!"},{"$error":"#VALUE!"},{"$f":"SUBSTITUTE(IN!G563,\"-\",\"\")","v":""},"",{"$f":"IN!F563*60","v":0},0,"-",{"$f":"SUBSTITUTE(IN!F563,\",\",\".\")","v":""}]
[0,{"$error":"#VALUE!"},{"$error":"#VALUE!"},{"$f":"SUBSTITUTE(IN!G564,\"-\",\"\")","v":""},"",{"$f":"IN!F564*60","v":0},0,"-",{"$f":"SUBSTITUTE(IN!F564,\",\",\".\")","v":""}]
[0,{"$error":"#VALUE!"},{"$error":"#VALUE!"},{"$f":"SUBSTITUTE(IN!G565,\"-\",\"\")","v":""},"",{"$f":"IN!F565*60","v":0},0,"-",{"$f":"SUBSTITUTE(IN!F565,\",\",\".\")","v":""}]
[0,{"$error":"#VALUE!"},{"$error":"#VALUE!"},{"$f":"SUBSTITUTE(IN!G566,\"-\",\"\")","v":""},"",{"$f":"IN!F566*60","v":0},0,"-",{"$f":"SUBSTITUTE(IN!F566,\",\",\".\")","v":""}]
[0,{"$error":"#VALUE!"},{"$error":"#VALUE!"},{"$f":"SUBSTITUTE(IN!G567,\"-\",\"\")","v":""},"",{"$f":"IN!F567*60","v":0},0,"-",{"$f":"SUBSTITUTE(IN!F567,\",\",\".\")","v":""}]
[0,{"$error":"#VALUE!"},{"$error":"#VALUE!"},{"$f":"SUBSTITUTE(IN!G568,\"-\",\"\")","v":""},"",{"$f":"IN!F568*60","v":0},0,"-",{"$f":"SUBSTITUTE(IN!F568,\",\",\".\")","v":""}]
[0,{"$error":"#VALUE!"},{"$error":"#VALUE!"},{"$f":"SUBSTITUTE(IN!G569,\"-\",\"\")","v":""},"",{"$f":"IN!F569*60","v":0},0,"-",{"$f":"SUBSTITUTE(IN!F569,\",\",\".\")","v":""}]
[0,{"$error":"#VALUE!"},{"$error":"#VALUE!"},{"$f":"SUBSTITUTE(IN!G570,\"-\",\"\")","v":""},"",{"$f":"IN!F570*60","v":0},0,"-",{"$f":"SUBSTITUTE(IN!F570,\",\",\".\")","v":""}]
[0,{"$error":"#VALUE!"},{"$error":"#VALUE!"},{"$f":"SUBSTITUTE(IN!G571,\"-\",\"\")","v":""},"",{"$f":"IN!F571*60","v":0},0,"-",{"$f":"SUBSTITUTE(IN!F571,\",\",\".\")","v":""}]
[0,{"$error":"#VALUE!"},{"$error":"#VALUE!"},{"$f":"SUBSTITUTE(IN!G572,\"-\",\"\")","v":""},"",{"$f":"IN!F572*60","v":0},0,"-",{"$f":"SUBSTITUTE(IN!F572,\",\",\".\")","v":""}]
[0,{"$error":"#VALUE!"},{"$error":"#VALUE!"},{"$f":"SUBSTITUTE(IN!G573,\"-\",\"\")","v":""},"",{"$f":"IN!F573*60","v":0},0,"-",{"$f":"SUBSTITUTE(IN!F573,\",\",\".\")","v":""}]
[0,{"$error":"#VALUE!"},{"$error":"#VALUE!"},{"$f":"SUBSTITUTE(IN!G574,\"-\",\"\")","v":""},"",{"$f":"IN!F574*60","v":0},0,"-",{"$f":"SUBSTITUTE(IN!F574,\",\",\".\")","v":""}]
[0,{"$error":"#VALUE!"},{"$error":"#VALUE!"},{"$f":"SUBSTITUTE(IN!G575,\"-\",\"\")","v":""},"",{"$f":"IN!F575*60","v":0},0,"-",{"$f":"SUBSTITUTE(IN!F575,\",\",\".\")","v":""}]
[0,{"$error":"#VALUE!"},{"$error":"#VALUE!"},{"$f":"SUBSTITUTE(IN!G576,\"-\",\"\")","v":""},"",{"$f":"IN!F576*60","v":0},0,"-",{"$f":"SUBSTITUTE(IN!F576,\",\",\".\")","v":""}]
[0,{"$error":"#VALUE!"},{"$error":"#VALUE!"},{"$f":"SUBSTITUTE(IN!G577,\"-\",\"\")","v":""},"",{"$f":"IN!F577*60","v":0},0,"-",{"$f":"SUBSTITUTE(IN!F577,\",\",\".\")","v":""}]
[0,{"$error":"#VALUE!"},{"$error":"#VALUE!"},{"$f":"SUBSTITUTE(IN!G578,\"-\",\"\")","v":""},"",{"$f":"IN!F578*60","v":0},0,"-",{"$f":"SUBSTITUTE(IN!F578,\",\",\".\")","v":""}]
[0,{"$error":"#VALUE!"},{"$error":"#VALUE!"},{"$f":"SUBSTITUTE(IN!G579,\"-\",\"\")","v":""},"",{"$f":"IN!F579*60","v":0},0,"-",{"$f":"SUBSTITUTE(IN!F579,\",\",\".\")","v":""}]
[0,{"$error":"#VALUE!"},{"$error":"#VALUE!"},{"$f":"SUBSTITUTE(IN!G580,\"-\",\"\")","v":""},"",{"$f":"IN!F580*60","v":0},0,"-",{"$f":"SUBSTITUTE(IN!F580,\",\",\".\")","v":""}]
[{"$f":"LEN(D581)","v":0},{"$f":"VALUE(LEFT(D581,1))","v":{"$error":"#VALUE!"}},{"$f":"IF(B581<2,20,19)","v":{"$error":"#VALUE!"}},{"$f":"SUBSTITUTE(IN!G581,\"-\",\"\")","v":""},{"$f":"IF(A581=10,CONCATENATE(C581,D581),D581)","v":""},{"$f":"IN!F581*60","v":0},{"$f":"ROUND(F581,0)","v":0},{"$f":"CONCATENATE(MID(E581,1,8),\"-\",MID(E581,9,4))","v":"-"},{"$f":"SUBSTITUTE(IN!F581,\",\",\".\")","v":""}]
[0,{"$error":"#VALUE!"},{"$error":"#VALUE!"},{"$f":"SUBSTITUTE(IN!G582,\"-\",\"\")","v":""},"",{"$f":"IN!F582*60","v":0},0,"-",{"$f":"SUBSTITUTE(IN!F582,\",\",\".\")","v":""}]
[0,{"$error":"#VALUE!"},{"$error":"#VALUE!"},{"$f":"SUBSTITUTE(IN!G583,\"-\",\"\")","v":""},"",{"$f":"IN!F583*60","v":0},0,"-",{"$f":"SUBSTITUTE(IN!F583,\",\",\".\")","v":""}]
[0,{"$error":"#VALUE!"},{"$error":"#VALUE!"},{"$f":"SUBSTITUTE(IN!G584,\"-\",\"\")","v":""},"",{"$f":"IN!F584*60","v":0},0,"-",{"$f":"SUBSTITUTE(IN!F584,\",\",\".\")","v":""}]
[0,{"$error":"#VALUE!"},{"$error":"#VALUE!"},{"$f":"SUBSTITUTE(IN!G585,\"-\",\"\")","v":""},"",{"$f":"IN!F585*60","v":0},0,"-",{"$f":"SUBSTITUTE(IN!F585,\",\",\".\")","v":""}]
[0,{"$error":"#VALUE!"},{"$error":"#VALUE!"},{"$f":"SUBSTITUTE(IN!G586,\"-\",\"\")","v":""},"",{"$f":"IN!F586*60","v":0},0,"-",{"$f":"SUBSTITUTE(IN!F586,\",\",\".\")","v":""}]
[0,{"$error":"#VALUE!"},{"$error":"#VALUE!"},{"$f":"SUBSTITUTE(IN!G587,\"-\",\"\")","v":""},"",{"$f":"IN!F587*60","v":0},0,"-",{"$f":"SUBSTITUTE(IN!F587,\",\",\".\")","v":""}]
[0,{"$error":"#VALUE!"},{"$error":"#VALUE!"},{"$f":"SUBSTITUTE(IN!G588,\"-\",\"\")","v":""},"",{"$f":"IN!F588*60","v":0},0,"-",{"$f":"SUBSTITUTE(IN!F588,\",\",\".\")","v":""}]
[0,{"$error":"#VALUE!"},{"$error":"#VALUE!"},{"$f":"SUBSTITUTE(IN!G589,\"-\",\"\")","v":""},"",{"$f":"IN!F589*60","v":0},0,"-",{"$f":"SUBSTITUTE(IN!F589,\",\",\".\")","v":""}]
[0,{"$error":"#VALUE!"},{"$error":"#VALUE!"},{"$f":"SUBSTITUTE(IN!G590,\"-\",\"\")","v":""},"",{"$f":"IN!F590*60","v":0},0,"-",{"$f":"SUBSTITUTE(IN!F590,\",\",\".\")","v":""}]
[0,{"$error":"#VALUE!"},{"$error":"#VALUE!"},{"$f":"SUBSTITUTE(IN!G591,\"-\",\"\")","v":""},"",{"$f":"IN!F591*60","v":0},0,"-",{"$f":"SUBSTITUTE(IN!F591,\",\",\".\")","v":""}]
[0,{"$error":"#VALUE!"},{"$error":"#VALUE!"},{"$f":"SUBSTITUTE(IN!G592,\"-\",\"\")","v":""},"",{"$f":"IN!F592*60","v":0},0,"-",{"$f":"SUBSTITUTE(IN!F592,\",\",\".\")","v":""}]
[0,{"$error":"#VALUE!"},{"$error":"#VALUE!"},{"$f":"SUBSTITUTE(IN!G593,\"-\",\"\")","v":""},"",{"$f":"IN!F593*60","v":0},0,"-",{"$f":"SUBSTITUTE(IN!F593,\",\",\".\")","v":""}]
[0,{"$error":"#VALUE!"},{"$error":"#VALUE!"},{"$f":"SUBSTITUTE(IN!G594,\"-\",\"\")","v":""},"",{"$f":"IN!F594*60","v":0},0,"-",{"$f":"SUBSTITUTE(IN!F594,\",\",\".\")","v":""}]
[0,{"$error":"#VALUE!"},{"$error":"#VALUE!"},{"$f":"SUBSTITUTE(IN!G595,\"-\",\"\")","v":""},"",{"$f":"IN!F595*60","v":0},0,"-",{"$f":"SUBSTITUTE(IN!F595,\",\",\".\")","v":""}]
[0,{"$error":"#VALUE!"},{"$error":"#VALUE!"},{"$f":"SUBSTITUTE(IN!G596,\"-\",\"\")","v":""},"",{"$f":"IN!F596*60","v":0},0,"-",{"$f":"SUBSTITUTE(IN!F596,\",\",\".\")","v":""}]
[0,{"$error":"#VALUE!"},{"$error":"#VALUE!"},{"$f":"SUBSTITUTE(IN!G597,\"-\",\"\")","v":""},"",{"$f":"IN!F597*60","v":0},0,"-",{"$f":"SUBSTITUTE(IN!F597,\",\",\".\")","v":""}]
[0,{"$error":"#VALUE!"},{"$error":"#VALUE!"},{"$f":"SUBSTITUTE(IN!G598,\"-\",\"\")","v":""},"",{"$f":"IN!F598*60","v":0},0,"-",{"$f":"SUBSTITUTE(IN!F598,\",\",\".\")","v":""}]
[0,{"$error":"#VALUE!"},{"$error":"#VALUE!"},{"$f":"SUBSTITUTE(IN!G599,\"-\",\"\")","v":""},"",{"$f":"IN!F599*60","v":0},0,"-",{"$f":"SUBSTITUTE(IN!F599,\",\",\".\")","v":""}]
[0,{"$error":"#VALUE!"},{"$error":"#VALUE!"},{"$f":"SUBSTITUTE(IN!G600,\"-\",\"\")","v":""},"",{"$f":"IN!F600*60","v":0},0,"-",{"$f":"SUBSTITUTE(IN!F600,\",\",\".\")","v":""}]
[0,{"$error":"#VALUE!"},{"$error":"#VALUE!"},{"$f":"SUBSTITUTE(IN!G601,\"-\",\"\")","v":""},"",{"$f":"IN!F601*60","v":0},0,"-",{"$f":"SUBSTITUTE(IN!F601,\",\",\".\")","v":""}]
[0,{"$error":"#VALUE!"},{"$error":"#VALUE!"},{"$f":"SUBSTITUTE(IN!G602,\"-\",\"\")","v":""},"",{"$f":"IN!F602*60","v":0},0,"-",{"$f":"SUBSTITUTE(IN!F602,\",\",\".\")","v":""}]
[0,{"$error":"#VALUE!"},{"$error":"#VALUE!"},{"$f":"SUBSTITUTE(IN!G603,\"-\",\"\")","v":""},"",{"$f":"IN!F603*60","v":0},0,"-",{"$f":"SUBSTITUTE(IN!F603,\",\",\".\")","v":""}]
[0,{"$error":"#VALUE!"},{"$error":"#VALUE!"},{"$f":"SUBSTITUTE(IN!G604,\"-\",\"\")","v":""},"",{"$f":"IN!F604*60","v":0},0,"-",{"$f":"SUBSTITUTE(IN!F604,\",\",\".\")","v":""}]
[0,{"$error":"#VALUE!"},{"$error":"#VALUE!"},{"$f":"SUBSTITUTE(IN!G605,\"-\",\"\")","v":""},"",{"$f":"IN!F605*60","v":0},0,"-",{"$f":"SUBSTITUTE(IN!F605,\",\",\".\")","v":""}]
[0,{"$error":"#VALUE!"},{"$error":"#VALUE!"},{"$f":"SUBSTITUTE(IN!G606,\"-\",\"\")","v":""},"",{"$f":"IN!F606*60","v":0},0,"-",{"$f":"SUBSTITUTE(IN!F606,\",\",\".\")","v":""}]
[0,{"$error":"#VALUE!"},{"$error":"#VALUE!"},{"$f":"SUBSTITUTE(IN!G607,\"-\",\"\")","v":""},"",{"$f":"IN!F607*60","v":0},0,"-",{"$f":"SUBSTITUTE(IN!F607,\",\",\".\")","v":""}]
[0,{"$error":"#VALUE!"},{"$error":"#VALUE!"},{"$f":"SUBSTITUTE(IN!G608,\"-\",\"\")","v":""},"",{"$f":"IN!F608*60","v":0},0,"-",{"$f":"SUBSTITUTE(IN!F608,\",\",\".\")","v":""}]
[0,{"$error":"#VALUE!"},{"$error":"#VALUE!"},{"$f":"SUBSTITUTE(IN!G609,\"-\",\"\")","v":""},"",{"$f":"IN!F609*60","v":0},0,"-",{"$f":"SUBSTITUTE(IN!F609,\",\",\".\")","v":""}]
[0,{"$error":"#VALUE!"},{"$error":"#VALUE!"},{"$f":"SUBSTITUTE(IN!G610,\"-\",\"\")","v":""},"",{"$f":"IN!F610*60","v":0},0,"-",{"$f":"SUBSTITUTE(IN!F610,\",\",\".\")","v":""}]
[0,{"$error":"#VALUE!"},{"$error":"#VALUE!"},{"$f":"SUBSTITUTE(IN!G611,\"-\",\"\")","v":""},"",{"$f":"IN!F611*60","v":0},0,"-",{"$f":"SUBSTITUTE(IN!F611,\",\",\".\")","v":""}]
[0,{"$error":"#VALUE!"},{"$error":"#VALUE!"},{"$f":"SUBSTITUTE(IN!G612,\"-\",\"\")","v":""},"",{"$f":"IN!F612*60","v":0},0,"-",{"$f":"SUBSTITUTE(IN!F612,\",\",\".\")","v":""}]
[0,{"$error":"#VALUE!"},{"$error":"#VALUE!"},{"$f":"SUBSTITUTE(IN!G613,\"-\",\"\")","v":""},"",{"$f":"IN!F613*60","v":0},0,"-",{"$f":"SUBSTITUTE(IN!F613,\",\",\".\")","v":""}]
[0,{"$error":"#VALUE!"},{"$error":"#VALUE!"},{"$f":"SUBSTITUTE(IN!G614,\"-\",\"\")","v":""},"",{"$f":"IN!F614*60","v":0},0,"-",{"$f":"SUBSTITUTE(IN!F614,\",\",\".\")","v":""}]
[0,{"$error":"#VALUE!"},{"$error":"#VALUE!"},{"$f":"SUBSTITUTE(IN!G615,\"-\",\"\")","v":""},"",{"$f":"IN!F615*60","v":0},0,"-",{"$f":"SUBSTITUTE(IN!F615,\",\",\".\")","v":""}]
[0,{"$error":"#VALUE!"},{"$error":"#VALUE!"},{"$f":"SUBSTITUTE(IN!G616,\"-\",\"\")","v":""},"",{"$f":"IN!F616*60","v":0},0,"-",{"$f":"SUBSTITUTE(IN!F616,\",\",\".\")","v":""}]
[0,{"$error":"#VALUE!"},{"$error":"#VALUE!"},{"$f":"SUBSTITUTE(IN!G617,\"-\",\"\")","v":""},"",{"$f":"IN!F617*60","v":0},0,"-",{"$f":"SUBSTITUTE(IN!F617,\",\",\".\")","v":""}]
[0,{"$error":"#VALUE!"},{"$error":"#VALUE!"},{"$f":"SUBSTITUTE(IN!G618,\"-\",\"\")","v":""},"",{"$f":"IN!F618*60","v":0},0,"-",{"$f":"SUBSTITUTE(IN!F618,\",\",\".\")","v":""}]
[0,{"$error":"#VALUE!"},{"$error":"#VALUE!"},{"$f":"SUBSTITUTE(IN!G619,\"-\",\"\")","v":""},"",{"$f":"IN!F619*60","v":0},0,"-",{"$f":"SUBSTITUTE(IN!F619,\",\",\".\")","v":""}]
[0,{"$error":"#VALUE!"},{"$error":"#VALUE!"},{"$f":"SUBSTITUTE(IN!G620,\"-\",\"\")","v":""},"",{"$f":"IN!F620*60","v":0},0,"-",{"$f":"SUBSTITUTE(IN!F620,\",\",\".\")","v":""}]
[0,{"$error":"#VALUE!"},{"$error":"#VALUE!"},{"$f":"SUBSTITUTE(IN!G621,\"-\",\"\")","v":""},"",{"$f":"IN!F621*60","v":0},0,"-",{"$f":"SUBSTITUTE(IN!F621,\",\",\".\")","v":""}]
[0,{"$error":"#VALUE!"},{"$error":"#VALUE!"},{"$f":"SUBSTITUTE(IN!G622,\"-\",\"\")","v":""},"",{"$f":"IN!F622*60","v":0},0,"-",{"$f":"SUBSTITUTE(IN!F622,\",\",\".\")","v":""}]
[0,{"$error":"#VALUE!"},{"$error":"#VALUE!"},{"$f":"SUBSTITUTE(IN!G623,\"-\",\"\")","v":""},"",{"$f":"IN!F623*60","v":0},0,"-",{"$f":"SUBSTITUTE(IN!F623,\",\",\".\")","v":""}]
[0,{"$error":"#VALUE!"},{"$error":"#VALUE!"},{"$f":"SUBSTITUTE(IN!G624,\"-\",\"\")","v":""},"",{"$f":"IN!F624*60","v":0},0,"-",{"$f":"SUBSTITUTE(IN!F624,\",\",\".\")","v":""}]
[0,{"$error":"#VALUE!"},{"$error":"#VALUE!"},{"$f":"SUBSTITUTE(IN!G625,\"-\",\"\")","v":""},"",{"$f":"IN!F625*60","v":0},0,"-",{"$f":"SUBSTITUTE(IN!F625,\",\",\".\")","v":""}]
[0,{"$error":"#VALUE!"},{"$error":"#VALUE!"},{"$f":"SUBSTITUTE(IN!G626,\"-\",\"\")","v":""},"",{"$f":"IN!F626*60","v":0},0,"-",{"$f":"SUBSTITUTE(IN!F626,\",\",\".\")","v":""}]
[0,{"$error":"#VALUE!"},{"$error":"#VALUE!"},{"$f":"SUBSTITUTE(IN!G627,\"-\",\"\")","v":""},"",{"$f":"IN!F627*60","v":0},0,"-",{"$f":"SUBSTITUTE(IN!F627,\",\",\".\")","v":""}]
[0,{"$error":"#VALUE!"},{"$error":"#VALUE!"},{"$f":"SUBSTITUTE(IN!G628,\"-\",\"\")","v":""},"",{"$f":"IN!F628*60","v":0},0,"-",{"$f":"SUBSTITUTE(IN!F628,\",\",\".\")","v":""}]
[0,{"$error":"#VALUE!"},{"$error":"#VALUE!"},{"$f":"SUBSTITUTE(IN!G629,\"-\",\"\")","v":""},"",{"$f":"IN!F629*60","v":0},0,"-",{"$f":"SUBSTITUTE(IN!F629,\",\",\".\")","v":""}]
[0,{"$error":"#VALUE!"},{"$error":"#VALUE!"},{"$f":"SUBSTITUTE(IN!G630,\"-\",\"\")","v":""},"",{"$f":"IN!F630*60","v":0},0,"-",{"$f":"SUBSTITUTE(IN!F630,\",\",\".\")","v":""}]
[0,{"$error":"#VALUE!"},{"$error":"#VALUE!"},{"$f":"SUBSTITUTE(IN!G631,\"-\",\"\")","v":""},"",{"$f":"IN!F631*60","v":0},0,"-",{"$f":"SUBSTITUTE(IN!F631,\",\",\".\")","v":""}]
[0,{"$error":"#VALUE!"},{"$error":"#VALUE!"},{"$f":"SUBSTITUTE(IN!G632,\"-\",\"\")","v":""},"",{"$f":"IN!F632*60","v":0},0,"-",{"$f":"SUBSTITUTE(IN!F632,\",\",\".\")","v":""}]
[0,{"$error":"#VALUE!"},{"$error":"#VALUE!"},{"$f":"SUBSTITUTE(IN!G633,\"-\",\"\")","v":""},"",{"$f":"IN!F633*60","v":0},0,"-",{"$f":"SUBSTITUTE(IN!F633,\",\",\".\")","v":""}]
[0,{"$error":"#VALUE!"},{"$error":"#VALUE!"},{"$f":"SUBSTITUTE(IN!G634,\"-\",\"\")","v":""},"",{"$f":"IN!F634*60","v":0},0,"-",{"$f":"SUBSTITUTE(IN!F634,\",\",\".\")","v":""}]
[0,{"$error":"#VALUE!"},{"$error":"#VALUE!"},{"$f":"SUBSTITUTE(IN!G635,\"-\",\"\")","v":""},"",{"$f":"IN!F635*60","v":0},0,"-",{"$f":"SUBSTITUTE(IN!F635,\",\",\".\")","v":""}]
[0,{"$error":"#VALUE!"},{"$error":"#VALUE!"},{"$f":"SUBSTITUTE(IN!G636,\"-\",\"\")","v":""},"",{"$f":"IN!F636*60","v":0},0,"-",{"$f":"SUBSTITUTE(IN!F636,\",\",\".\")","v":""}]
[0,{"$error":"#VALUE!"},{"$error":"#VALUE!"},{"$f":"SUBSTITUTE(IN!G637,\"-\",\"\")","v":""},"",{"$f":"IN!F637*60","v":0},0,"-",{"$f":"SUBSTITUTE(IN!F637,\",\",\".\")","v":""}]
[0,{"$error":"#VALUE!"},{"$error":"#VALUE!"},{"$f":"SUBSTITUTE(IN!G638,\"-\",\"\")","v":""},"",{"$f":"IN!F638*60","v":0},0,"-",{"$f":"SUBSTITUTE(IN!F638,\",\",\".\")","v":""}]
[0,{"$error":"#VALUE!"},{"$error":"#VALUE!"},{"$f":"SUBSTITUTE(IN!G639,\"-\",\"\")","v":""},"",{"$f":"IN!F639*60","v":0},0,"-",{"$f":"SUBSTITUTE(IN!F639,\",\",\".\")","v":""}]
[0,{"$error":"#VALUE!"},{"$error":"#VALUE!"},{"$f":"SUBSTITUTE(IN!G640,\"-\",\"\")","v":""},"",{"$f":"IN!F640*60","v":0},0,"-",{"$f":"SUBSTITUTE(IN!F640,\",\",\".\")","v":""}]
[0,{"$error":"#VALUE!"},{"$error":"#VALUE!"},{"$f":"SUBSTITUTE(IN!G641,\"-\",\"\")","v":""},"",{"$f":"IN!F641*60","v":0},0,"-",{"$f":"SUBSTITUTE(IN!F641,\",\",\".\")","v":""}]
[0,{"$error":"#VALUE!"},{"$error":"#VALUE!"},{"$f":"SUBSTITUTE(IN!G642,\"-\",\"\")","v":""},"",{"$f":"IN!F642*60","v":0},0,"-",{"$f":"SUBSTITUTE(IN!F642,\",\",\".\")","v":""}]
[0,{"$error":"#VALUE!"},{"$error":"#VALUE!"},{"$f":"SUBSTITUTE(IN!G643,\"-\",\"\")","v":""},"",{"$f":"IN!F643*60","v":0},0,"-",{"$f":"SUBSTITUTE(IN!F643,\",\",\".\")","v":""}]
[0,{"$error":"#VALUE!"},{"$error":"#VALUE!"},{"$f":"SUBSTITUTE(IN!G644,\"-\",\"\")","v":""},"",{"$f":"IN!F644*60","v":0},0,"-",{"$f":"SUBSTITUTE(IN!F644,\",\",\".\")","v":""}]
[{"$f":"LEN(D645)","v":0},{"$f":"VALUE(LEFT(D645,1))","v":{"$error":"#VALUE!"}},{"$f":"IF(B645<2,20,19)","v":{"$error":"#VALUE!"}},{"$f":"SUBSTITUTE(IN!G645,\"-\",\"\")","v":""},{"$f":"IF(A645=10,CONCATENATE(C645,D645),D645)","v":""},{"$f":"IN!F645*60","v":0},{"$f":"ROUND(F645,0)","v":0},{"$f":"CONCATENATE(MID(E645,1,8),\"-\",MID(E645,9,4))","v":"-"},{"$f":"SUBSTITUTE(IN!F645,\",\",\".\")","v":""}]
[0,{"$error":"#VALUE!"},{"$error":"#VALUE!"},{"$f":"SUBSTITUTE(IN!G646,\"-\",\"\")","v":""},"",{"$f":"IN!F646*60","v":0},0,"-",{"$f":"SUBSTITUTE(IN!F646,\",\",\".\")","v":""}]
[0,{"$error":"#VALUE!"},{"$error":"#VALUE!"},{"$f":"SUBSTITUTE(IN!G647,\"-\",\"\")","v":""},"",{"$f":"IN!F647*60","v":0},0,"-",{"$f":"SUBSTITUTE(IN!F647,\",\",\".\")","v":""}]
[0,{"$error":"#VALUE!"},{"$error":"#VALUE!"},{"$f":"SUBSTITUTE(IN!G648,\"-\",\"\")","v":""},"",{"$f":"IN!F648*60","v":0},0,"-",{"$f":"SUBSTITUTE(IN!F648,\",\",\".\")","v":""}]
[0,{"$error":"#VALUE!"},{"$error":"#VALUE!"},{"$f":"SUBSTITUTE(IN!G649,\"-\",\"\")","v":""},"",{"$f":"IN!F649*60","v":0},0,"-",{"$f":"SUBSTITUTE(IN!F649,\",\",\".\")","v":""}]
[0,{"$error":"#VALUE!"},{"$error":"#VALUE!"},{"$f":"SUBSTITUTE(IN!G650,\"-\",\"\")","v":""},"",{"$f":"IN!F650*60","v":0},0,"-",{"$f":"SUBSTITUTE(IN!F650,\",\",\".\")","v":""}]
[0,{"$error":"#VALUE!"},{"$error":"#VALUE!"},{"$f":"SUBSTITUTE(IN!G651,\"-\",\"\")","v":""},"",{"$f":"IN!F651*60","v":0},0,"-",{"$f":"SUBSTITUTE(IN!F651,\",\",\".\")","v":""}]
[0,{"$error":"#VALUE!"},{"$error":"#VALUE!"},{"$f":"SUBSTITUTE(IN!G652,\"-\",\"\")","v":""},"",{"$f":"IN!F652*60","v":0},0,"-",{"$f":"SUBSTITUTE(IN!F652,\",\",\".\")","v":""}]
[0,{"$error":"#VALUE!"},{"$error":"#VALUE!"},{"$f":"SUBSTITUTE(IN!G653,\"-\",\"\")","v":""},"",{"$f":"IN!F653*60","v":0},0,"-",{"$f":"SUBSTITUTE(IN!F653,\",\",\".\")","v":""}]
[0,{"$error":"#VALUE!"},{"$error":"#VALUE!"},{"$f":"SUBSTITUTE(IN!G654,\"-\",\"\")","v":""},"",{"$f":"IN!F654*60","v":0},0,"-",{"$f":"SUBSTITUTE(IN!F654,\",\",\".\")","v":""}]
[0,{"$error":"#VALUE!"},{"$error":"#VALUE!"},{"$f":"SUBSTITUTE(IN!G655,\"-\",\"\")","v":""},"",{"$f":"IN!F655*60","v":0},0,"-",{"$f":"SUBSTITUTE(IN!F655,\",\",\".\")","v":""}]
[0,{"$error":"#VALUE!"},{"$error":"#VALUE!"},{"$f":"SUBSTITUTE(IN!G656,\"-\",\"\")","v":""},"",{"$f":"IN!F656*60","v":0},0,"-",{"$f":"SUBSTITUTE(IN!F656,\",\",\".\")","v":""}]
[0,{"$error":"#VALUE!"},{"$error":"#VALUE!"},{"$f":"SUBSTITUTE(IN!G657,\"-\",\"\")","v":""},"",{"$f":"IN!F657*60","v":0},0,"-",{"$f":"SUBSTITUTE(IN!F657,\",\",\".\")","v":""}]
[0,{"$error":"#VALUE!"},{"$error":"#VALUE!"},{"$f":"SUBSTITUTE(IN!G658,\"-\",\"\")","v":""},"",{"$f":"IN!F658*60","v":0},0,"-",{"$f":"SUBSTITUTE(IN!F658,\",\",\".\")","v":""}]
[0,{"$error":"#VALUE!"},{"$error":"#VALUE!"},{"$f":"SUBSTITUTE(IN!G659,\"-\",\"\")","v":""},"",{"$f":"IN!F659*60","v":0},0,"-",{"$f":"SUBSTITUTE(IN!F659,\",\",\".\")","v":""}]
[0,{"$error":"#VALUE!"},{"$error":"#VALUE!"},{"$f":"SUBSTITUTE(IN!G660,\"-\",\"\")","v":""},"",{"$f":"IN!F660*60","v":0},0,"-",{"$f":"SUBSTITUTE(IN!F660,\",\",\".\")","v":""}]
[0,{"$error":"#VALUE!"},{"$error":"#VALUE!"},{"$f":"SUBSTITUTE(IN!G661,\"-\",\"\")","v":""},"",{"$f":"IN!F661*60","v":0},0,"-",{"$f":"SUBSTITUTE(IN!F661,\",\",\".\")","v":""}]
[0,{"$error":"#VALUE!"},{"$error":"#VALUE!"},{"$f":"SUBSTITUTE(IN!G662,\"-\",\"\")","v":""},"",{"$f":"IN!F662*60","v":0},0,"-",{"$f":"SUBSTITUTE(IN!F662,\",\",\".\")","v":""}]
[0,{"$error":"#VALUE!"},{"$error":"#VALUE!"},{"$f":"SUBSTITUTE(IN!G663,\"-\",\"\")","v":""},"",{"$f":"IN!F663*60","v":0},0,"-",{"$f":"SUBSTITUTE(IN!F663,\",\",\".\")","v":""}]
[0,{"$error":"#VALUE!"},{"$error":"#VALUE!"},{"$f":"SUBSTITUTE(IN!G664,\"-\",\"\")","v":""},"",{"$f":"IN!F664*60","v":0},0,"-",{"$f":"SUBSTITUTE(IN!F664,\",\",\".\")","v":""}]
[0,{"$error":"#VALUE!"},{"$error":"#VALUE!"},{"$f":"SUBSTITUTE(IN!G665,\"-\",\"\")","v":""},"",{"$f":"IN!F665*60","v":0},0,"-",{"$f":"SUBSTITUTE(IN!F665,\",\",\".\")","v":""}]
[0,{"$error":"#VALUE!"},{"$error":"#VALUE!"},{"$f":"SUBSTITUTE(IN!G666,\"-\",\"\")","v":""},"",{"$f":"IN!F666*60","v":0},0,"-",{"$f":"SUBSTITUTE(IN!F666,\",\",\".\")","v":""}]
[0,{"$error":"#VALUE!"},{"$error":"#VALUE!"},{"$f":"SUBSTITUTE(IN!G667,\"-\",\"\")","v":""},"",{"$f":"IN!F667*60","v":0},0,"-",{"$f":"SUBSTITUTE(IN!F667,\",\",\".\")","v":""}]
[0,{"$error":"#VALUE!"},{"$error":"#VALUE!"},{"$f":"SUBSTITUTE(IN!G668,\"-\",\"\")","v":""},"",{"$f":"IN!F668*60","v":0},0,"-",{"$f":"SUBSTITUTE(IN!F668,\",\",\".\")","v":""}]
[0,{"$error":"#VALUE!"},{"$error":"#VALUE!"},{"$f":"SUBSTITUTE(IN!G669,\"-\",\"\")","v":""},"",{"$f":"IN!F669*60","v":0},0,"-",{"$f":"SUBSTITUTE(IN!F669,\",\",\".\")","v":""}]
[0,{"$error":"#VALUE!"},{"$error":"#VALUE!"},{"$f":"SUBSTITUTE(IN!G670,\"-\",\"\")","v":""},"",{"$f":"IN!F670*60","v":0},0,"-",{"$f":"SUBSTITUTE(IN!F670,\",\",\".\")","v":""}]
[0,{"$error":"#VALUE!"},{"$error":"#VALUE!"},{"$f":"SUBSTITUTE(IN!G671,\"-\",\"\")","v":""},"",{"$f":"IN!F671*60","v":0},0,"-",{"$f":"SUBSTITUTE(IN!F671,\",\",\".\")","v":""}]
[0,{"$error":"#VALUE!"},{"$error":"#VALUE!"},{"$f":"SUBSTITUTE(IN!G672,\"-\",\"\")","v":""},"",{"$f":"IN!F672*60","v":0},0,"-",{"$f":"SUBSTITUTE(IN!F672,\",\",\".\")","v":""}]
[0,{"$error":"#VALUE!"},{"$error":"#VALUE!"},{"$f":"SUBSTITUTE(IN!G673,\"-\",\"\")","v":""},"",{"$f":"IN!F673*60","v":0},0,"-",{"$f":"SUBSTITUTE(IN!F673,\",\",\".\")","v":""}]
[0,{"$error":"#VALUE!"},{"$error":"#VALUE!"},{"$f":"SUBSTITUTE(IN!G674,\"-\",\"\")","v":""},"",{"$f":"IN!F674*60","v":0},0,"-",{"$f":"SUBSTITUTE(IN!F674,\",\",\".\")","v":""}]
[0,{"$error":"#VALUE!"},{"$error":"#VALUE!"},{"$f":"SUBSTITUTE(IN!G675,\"-\",\"\")","v":""},"",{"$f":"IN!F675*60","v":0},0,"-",{"$f":"SUBSTITUTE(IN!F675,\",\",\".\")","v":""}]
[0,{"$error":"#VALUE!"},{"$error":"#VALUE!"},{"$f":"SUBSTITUTE(IN!G676,\"-\",\"\")","v":""},"",{"$f":"IN!F676*60","v":0},0,"-",{"$f":"SUBSTITUTE(IN!F676,\",\",\".\")","v":""}]
[0,{"$error":"#VALUE!"},{"$error":"#VALUE!"},{"$f":"SUBSTITUTE(IN!G677,\"-\",\"\")","v":""},"",{"$f":"IN!F677*60","v":0},0,"-",{"$f":"SUBSTITUTE(IN!F677,\",\",\".\")","v":""}]
[0,{"$error":"#VALUE!"},{"$error":"#VALUE!"},{"$f":"SUBSTITUTE(IN!G678,\"-\",\"\")","v":""},"",{"$f":"IN!F678*60","v":0},0,"-",{"$f":"SUBSTITUTE(IN!F678,\",\",\".\")","v":""}]
[0,{"$error":"#VALUE!"},{"$error":"#VALUE!"},{"$f":"SUBSTITUTE(IN!G679,\"-\",\"\")","v":""},"",{"$f":"IN!F679*60","v":0},0,"-",{"$f":"SUBSTITUTE(IN!F679,\",\",\".\")","v":""}]
[0,{"$error":"#VALUE!"},{"$error":"#VALUE!"},{"$f":"SUBSTITUTE(IN!G680,\"-\",\"\")","v":""},"",{"$f":"IN!F680*60","v":0},0,"-",{"$f":"SUBSTITUTE(IN!F680,\",\",\".\")","v":""}]
[0,{"$error":"#VALUE!"},{"$error":"#VALUE!"},{"$f":"SUBSTITUTE(IN!G681,\"-\",\"\")","v":""},"",{"$f":"IN!F681*60","v":0},0,"-",{"$f":"SUBSTITUTE(IN!F681,\",\",\".\")","v":""}]
[0,{"$error":"#VALUE!"},{"$error":"#VALUE!"},{"$f":"SUBSTITUTE(IN!G682,\"-\",\"\")","v":""},"",{"$f":"IN!F682*60","v":0},0,"-",{"$f":"SUBSTITUTE(IN!F682,\",\",\".\")","v":""}]
[0,{"$error":"#VALUE!"},{"$error":"#VALUE!"},{"$f":"SUBSTITUTE(IN!G683,\"-\",\"\")","v":""},"",{"$f":"IN!F683*60","v":0},0,"-",{"$f":"SUBSTITUTE(IN!F683,\",\",\".\")","v":""}]
[0,{"$error":"#VALUE!"},{"$error":"#VALUE!"},{"$f":"SUBSTITUTE(IN!G684,\"-\",\"\")","v":""},"",{"$f":"IN!F684*60","v":0},0,"-",{"$f":"SUBSTITUTE(IN!F684,\",\",\".\")","v":""}]
[0,{"$error":"#VALUE!"},{"$error":"#VALUE!"},{"$f":"SUBSTITUTE(IN!G685,\"-\",\"\")","v":""},"",{"$f":"IN!F685*60","v":0},0,"-",{"$f":"SUBSTITUTE(IN!F685,\",\",\".\")","v":""}]
[0,{"$error":"#VALUE!"},{"$error":"#VALUE!"},{"$f":"SUBSTITUTE(IN!G686,\"-\",\"\")","v":""},"",{"$f":"IN!F686*60","v":0},0,"-",{"$f":"SUBSTITUTE(IN!F686,\",\",\".\")","v":""}]
[0,{"$error":"#VALUE!"},{"$error":"#VALUE!"},{"$f":"SUBSTITUTE(IN!G687,\"-\",\"\")","v":""},"",{"$f":"IN!F687*60","v":0},0,"-",{"$f":"SUBSTITUTE(IN!F687,\",\",\".\")","v":""}]
[0,{"$error":"#VALUE!"},{"$error":"#VALUE!"},{"$f":"SUBSTITUTE(IN!G688,\"-\",\"\")","v":""},"",{"$f":"IN!F688*60","v":0},0,"-",{"$f":"SUBSTITUTE(IN!F688,\",\",\".\")","v":""}]
[0,{"$error":"#VALUE!"},{"$error":"#VALUE!"},{"$f":"SUBSTITUTE(IN!G689,\"-\",\"\")","v":""},"",{"$f":"IN!F689*60","v":0},0,"-",{"$f":"SUBSTITUTE(IN!F689,\",\",\".\")","v":""}]
[0,{"$error":"#VALUE!"},{"$error":"#VALUE!"},{"$f":"SUBSTITUTE(IN!G690,\"-\",\"\")","v":""},"",{"$f":"IN!F690*60","v":0},0,"-",{"$f":"SUBSTITUTE(IN!F690,\",\",\".\")","v":""}]
[0,{"$error":"#VALUE!"},{"$error":"#VALUE!"},{"$f":"SUBSTITUTE(IN!G691,\"-\",\"\")","v":""},"",{"$f":"IN!F691*60","v":0},0,"-",{"$f":"SUBSTITUTE(IN!F691,\",\",\".\")","v":""}]
[0,{"$error":"#VALUE!"},{"$error":"#VALUE!"},{"$f":"SUBSTITUTE(IN!G692,\"-\",\"\")","v":""},"",{"$f":"IN!F692*60","v":0},0,"-",{"$f":"SUBSTITUTE(IN!F692,\",\",\".\")","v":""}]
[0,{"$error":"#VALUE!"},{"$error":"#VALUE!"},{"$f":"SUBSTITUTE(IN!G693,\"-\",\"\")","v":""},"",{"$f":"IN!F693*60","v":0},0,"-",{"$f":"SUBSTITUTE(IN!F693,\",\",\".\")","v":""}]
[0,{"$error":"#VALUE!"},{"$error":"#VALUE!"},{"$f":"SUBSTITUTE(IN!G694,\"-\",\"\")","v":""},"",{"$f":"IN!F694*60","v":0},0,"-",{"$f":"SUBSTITUTE(IN!F694,\",\",\".\")","v":""}]
[0,{"$error":"#VALUE!"},{"$error":"#VALUE!"},{"$f":"SUBSTITUTE(IN!G695,\"-\",\"\")","v":""},"",{"$f":"IN!F695*60","v":0},0,"-",{"$f":"SUBSTITUTE(IN!F695,\",\",\".\")","v":""}]
[0,{"$error":"#VALUE!"},{"$error":"#VALUE!"},{"$f":"SUBSTITUTE(IN!G696,\"-\",\"\")","v":""},"",{"$f":"IN!F696*60","v":0},0,"-",{"$f":"SUBSTITUTE(IN!F696,\",\",\".\")","v":""}]
[0,{"$error":"#VALUE!"},{"$error":"#VALUE!"},{"$f":"SUBSTITUTE(IN!G697,\"-\",\"\")","v":""},"",{"$f":"IN!F697*60","v":0},0,"-",{"$f":"SUBSTITUTE(IN!F697,\",\",\".\")","v":""}]
[0,{"$error":"#VALUE!"},{"$error":"#VALUE!"},{"$f":"SUBSTITUTE(IN!G698,\"-\",\"\")","v":""},"",{"$f":"IN!F698*60","v":0},0,"-",{"$f":"SUBSTITUTE(IN!F698,\",\",\".\")","v":""}]
[0,{"$error":"#VALUE!"},{"$error":"#VALUE!"},{"$f":"SUBSTITUTE(IN!G699,\"-\",\"\")","v":""},"",{"$f":"IN!F699*60","v":0},0,"-",{"$f":"SUBSTITUTE(IN!F699,\",\",\".\")","v":""}]
[0,{"$error":"#VALUE!"},{"$error":"#VALUE!"},{"$f":"SUBSTITUTE(IN!G700,\"-\",\"\")","v":""},"",{"$f":"IN!F700*60","v":0},0,"-",{"$f":"SUBSTITUTE(IN!F700,\",\",\".\")","v":""}]
[0,{"$error":"#VALUE!"},{"$error":"#VALUE!"},{"$f":"SUBSTITUTE(IN!G701,\"-\",\"\")","v":""},"",{"$f":"IN!F701*60","v":0},0,"-",{"$f":"SUBSTITUTE(IN!F701,\",\",\".\")","v":""}]
[0,{"$error":"#VALUE!"},{"$error":"#VALUE!"},{"$f":"SUBSTITUTE(IN!G702,\"-\",\"\")","v":""},"",{"$f":"IN!F702*60","v":0},0,"-",{"$f":"SUBSTITUTE(IN!F702,\",\",\".\")","v":""}]
[0,{"$error":"#VALUE!"},{"$error":"#VALUE!"},{"$f":"SUBSTITUTE(IN!G703,\"-\",\"\")","v":""},"",{"$f":"IN!F703*60","v":0},0,"-",{"$f":"SUBSTITUTE(IN!F703,\",\",\".\")","v":""}]
[0,{"$error":"#VALUE!"},{"$error":"#VALUE!"},{"$f":"SUBSTITUTE(IN!G704,\"-\",\"\")","v":""},"",{"$f":"IN!F704*60","v":0},0,"-",{"$f":"SUBSTITUTE(IN!F704,\",\",\".\")","v":""}]
[0,{"$error":"#VALUE!"},{"$error":"#VALUE!"},{"$f":"SUBSTITUTE(IN!G705,\"-\",\"\")","v":""},"",{"$f":"IN!F705*60","v":0},0,"-",{"$f":"SUBSTITUTE(IN!F705,\",\",\".\")","v":""}]
[0,{"$error":"#VALUE!"},{"$error":"#VALUE!"},{"$f":"SUBSTITUTE(IN!G706,\"-\",\"\")","v":""},"",{"$f":"IN!F706*60","v":0},0,"-",{"$f":"SUBSTITUTE(IN!F706,\",\",\".\")","v":""}]
[0,{"$error":"#VALUE!"},{"$error":"#VALUE!"},{"$f":"SUBSTITUTE(IN!G707,\"-\",\"\")","v":""},"",{"$f":"IN!F707*60","v":0},0,"-",{"$f":"SUBSTITUTE(IN!F707,\",\",\".\")","v":""}]
[0,{"$error":"#VALUE!"},{"$error":"#VALUE!"},{"$f":"SUBSTITUTE(IN!G708,\"-\",\"\")","v":""},"",{"$f":"IN!F708*60","v":0},0,"-",{"$f":"SUBSTITUTE(IN!F708,\",\",\".\")","v":""}]
[{"$f":"LEN(D709)","v":0},{"$f":"VALUE(LEFT(D709,1))","v":{"$error":"#VALUE!"}},{"$f":"IF(B709<2,20,19)","v":{"$error":"#VALUE!"}},{"$f":"SUBSTITUTE(IN!G709,\"-\",\"\")","v":""},{"$f":"IF(A709=10,CONCATENATE(C709,D709),D709)","v":""},{"$f":"IN!F709*60","v":0},{"$f":"ROUND(F709,0)","v":0},{"$f":"CONCATENATE(MID(E709,1,8),\"-\",MID(E709,9,4))","v":"-"},{"$f":"SUBSTITUTE(IN!F709,\",\",\".\")","v":""}]
[0,{"$error":"#VALUE!"},{"$error":"#VALUE!"},{"$f":"SUBSTITUTE(IN!G710,\"-\",\"\")","v":""},"",{"$f":"IN!F710*60","v":0},0,"-",{"$f":"SUBSTITUTE(IN!F710,\",\",\".\")","v":""}]
[0,{"$error":"#VALUE!"},{"$error":"#VALUE!"},{"$f":"SUBSTITUTE(IN!G711,\"-\",\"\")","v":""},"",{"$f":"IN!F711*60","v":0},0,"-",{"$f":"SUBSTITUTE(IN!F711,\",\",\".\")","v":""}]
[0,{"$error":"#VALUE!"},{"$error":"#VALUE!"},{"$f":"SUBSTITUTE(IN!G712,\"-\",\"\")","v":""},"",{"$f":"IN!F712*60","v":0},0,"-",{"$f":"SUBSTITUTE(IN!F712,\",\",\".\")","v":""}]
[0,{"$error":"#VALUE!"},{"$error":"#VALUE!"},{"$f":"SUBSTITUTE(IN!G713,\"-\",\"\")","v":""},"",{"$f":"IN!F713*60","v":0},0,"-",{"$f":"SUBSTITUTE(IN!F713,\",\",\".\")","v":""}]
[0,{"$error":"#VALUE!"},{"$error":"#VALUE!"},{"$f":"SUBSTITUTE(IN!G714,\"-\",\"\")","v":""},"",{"$f":"IN!F714*60","v":0},0,"-",{"$f":"SUBSTITUTE(IN!F714,\",\",\".\")","v":""}]
[0,{"$error":"#VALUE!"},{"$error":"#VALUE!"},{"$f":"SUBSTITUTE(IN!G715,\"-\",\"\")","v":""},"",{"$f":"IN!F715*60","v":0},0,"-",{"$f":"SUBSTITUTE(IN!F715,\",\",\".\")","v":""}]
[0,{"$error":"#VALUE!"},{"$error":"#VALUE!"},{"$f":"SUBSTITUTE(IN!G716,\"-\",\"\")","v":""},"",{"$f":"IN!F716*60","v":0},0,"-",{"$f":"SUBSTITUTE(IN!F716,\",\",\".\")","v":""}]
[0,{"$error":"#VALUE!"},{"$error":"#VALUE!"},{"$f":"SUBSTITUTE(IN!G717,\"-\",\"\")","v":""},"",{"$f":"IN!F717*60","v":0},0,"-",{"$f":"SUBSTITUTE(IN!F717,\",\",\".\")","v":""}]
[0,{"$error":"#VALUE!"},{"$error":"#VALUE!"},{"$f":"SUBSTITUTE(IN!G718,\"-\",\"\")","v":""},"",{"$f":"IN!F718*60","v":0},0,"-",{"$f":"SUBSTITUTE(IN!F718,\",\",\".\")","v":""}]
[0,{"$error":"#VALUE!"},{"$error":"#VALUE!"},{"$f":"SUBSTITUTE(IN!G719,\"-\",\"\")","v":""},"",{"$f":"IN!F719*60","v":0},0,"-",{"$f":"SUBSTITUTE(IN!F719,\",\",\".\")","v":""}]
[0,{"$error":"#VALUE!"},{"$error":"#VALUE!"},{"$f":"SUBSTITUTE(IN!G720,\"-\",\"\")","v":""},"",{"$f":"IN!F720*60","v":0},0,"-",{"$f":"SUBSTITUTE(IN!F720,\",\",\".\")","v":""}]
[0,{"$error":"#VALUE!"},{"$error":"#VALUE!"},{"$f":"SUBSTITUTE(IN!G721,\"-\",\"\")","v":""},"",{"$f":"IN!F721*60","v":0},0,"-",{"$f":"SUBSTITUTE(IN!F721,\",\",\".\")","v":""}]
[0,{"$error":"#VALUE!"},{"$error":"#VALUE!"},{"$f":"SUBSTITUTE(IN!G722,\"-\",\"\")","v":""},"",{"$f":"IN!F722*60","v":0},0,"-",{"$f":"SUBSTITUTE(IN!F722,\",\",\".\")","v":""}]
[0,{"$error":"#VALUE!"},{"$error":"#VALUE!"},{"$f":"SUBSTITUTE(IN!G723,\"-\",\"\")","v":""},"",{"$f":"IN!F723*60","v":0},0,"-",{"$f":"SUBSTITUTE(IN!F723,\",\",\".\")","v":""}]
[0,{"$error":"#VALUE!"},{"$error":"#VALUE!"},{"$f":"SUBSTITUTE(IN!G724,\"-\",\"\")","v":""},"",{"$f":"IN!F724*60","v":0},0,"-",{"$f":"SUBSTITUTE(IN!F724,\",\",\".\")","v":""}]
[0,{"$error":"#VALUE!"},{"$error":"#VALUE!"},{"$f":"SUBSTITUTE(IN!G725,\"-\",\"\")","v":""},"",{"$f":"IN!F725*60","v":0},0,"-",{"$f":"SUBSTITUTE(IN!F725,\",\",\".\")","v":""}]
[0,{"$error":"#VALUE!"},{"$error":"#VALUE!"},{"$f":"SUBSTITUTE(IN!G726,\"-\",\"\")","v":""},"",{"$f":"IN!F726*60","v":0},0,"-",{"$f":"SUBSTITUTE(IN!F726,\",\",\".\")","v":""}]
[0,{"$error":"#VALUE!"},{"$error":"#VALUE!"},{"$f":"SUBSTITUTE(IN!G727,\"-\",\"\")","v":""},"",{"$f":"IN!F727*60","v":0},0,"-",{"$f":"SUBSTITUTE(IN!F727,\",\",\".\")","v":""}]
[0,{"$error":"#VALUE!"},{"$error":"#VALUE!"},{"$f":"SUBSTITUTE(IN!G728,\"-\",\"\")","v":""},"",{"$f":"IN!F728*60","v":0},0,"-",{"$f":"SUBSTITUTE(IN!F728,\",\",\".\")","v":""}]
[0,{"$error":"#VALUE!"},{"$error":"#VALUE!"},{"$f":"SUBSTITUTE(IN!G729,\"-\",\"\")","v":""},"",{"$f":"IN!F729*60","v":0},0,"-",{"$f":"SUBSTITUTE(IN!F729,\",\",\".\")","v":""}]
[0,{"$error":"#VALUE!"},{"$error":"#VALUE!"},{"$f":"SUBSTITUTE(IN!G730,\"-\",\"\")","v":""},"",{"$f":"IN!F730*60","v":0},0,"-",{"$f":"SUBSTITUTE(IN!F730,\",\",\".\")","v":""}]
[0,{"$error":"#VALUE!"},{"$error":"#VALUE!"},{"$f":"SUBSTITUTE(IN!G731,\"-\",\"\")","v":""},"",{"$f":"IN!F731*60","v":0},0,"-",{"$f":"SUBSTITUTE(IN!F731,\",\",\".\")","v":""}]
[0,{"$error":"#VALUE!"},{"$error":"#VALUE!"},{"$f":"SUBSTITUTE(IN!G732,\"-\",\"\")","v":""},"",{"$f":"IN!F732*60","v":0},0,"-",{"$f":"SUBSTITUTE(IN!F732,\",\",\".\")","v":""}]
[0,{"$error":"#VALUE!"},{"$error":"#VALUE!"},{"$f":"SUBSTITUTE(IN!G733,\"-\",\"\")","v":""},"",{"$f":"IN!F733*60","v":0},0,"-",{"$f":"SUBSTITUTE(IN!F733,\",\",\".\")","v":""}]
[0,{"$error":"#VALUE!"},{"$error":"#VALUE!"},{"$f":"SUBSTITUTE(IN!G734,\"-\",\"\")","v":""},"",{"$f":"IN!F734*60","v":0},0,"-",{"$f":"SUBSTITUTE(IN!F734,\",\",\".\")","v":""}]
[0,{"$error":"#VALUE!"},{"$error":"#VALUE!"},{"$f":"SUBSTITUTE(IN!G735,\"-\",\"\")","v":""},"",{"$f":"IN!F735*60","v":0},0,"-",{"$f":"SUBSTITUTE(IN!F735,\",\",\".\")","v":""}]
[0,{"$error":"#VALUE!"},{"$error":"#VALUE!"},{"$f":"SUBSTITUTE(IN!G736,\"-\",\"\")","v":""},"",{"$f":"IN!F736*60","v":0},0,"-",{"$f":"SUBSTITUTE(IN!F736,\",\",\".\")","v":""}]
[0,{"$error":"#VALUE!"},{"$error":"#VALUE!"},{"$f":"SUBSTITUTE(IN!G737,\"-\",\"\")","v":""},"",{"$f":"IN!F737*60","v":0},0,"-",{"$f":"SUBSTITUTE(IN!F737,\",\",\".\")","v":""}]
[0,{"$error":"#VALUE!"},{"$error":"#VALUE!"},{"$f":"SUBSTITUTE(IN!G738,\"-\",\"\")","v":""},"",{"$f":"IN!F738*60","v":0},0,"-",{"$f":"SUBSTITUTE(IN!F738,\",\",\".\")","v":""}]
[0,{"$error":"#VALUE!"},{"$error":"#VALUE!"},{"$f":"SUBSTITUTE(IN!G739,\"-\",\"\")","v":""},"",{"$f":"IN!F739*60","v":0},0,"-",{"$f":"SUBSTITUTE(IN!F739,\",\",\".\")","v":""}]
[0,{"$error":"#VALUE!"},{"$error":"#VALUE!"},{"$f":"SUBSTITUTE(IN!G740,\"-\",\"\")","v":""},"",{"$f":"IN!F740*60","v":0},0,"-",{"$f":"SUBSTITUTE(IN!F740,\",\",\".\")","v":""}]
[0,{"$error":"#VALUE!"},{"$error":"#VALUE!"},{"$f":"SUBSTITUTE(IN!G741,\"-\",\"\")","v":""},"",{"$f":"IN!F741*60","v":0},0,"-",{"$f":"SUBSTITUTE(IN!F741,\",\",\".\")","v":""}]
[0,{"$error":"#VALUE!"},{"$error":"#VALUE!"},{"$f":"SUBSTITUTE(IN!G742,\"-\",\"\")","v":""},"",{"$f":"IN!F742*60","v":0},0,"-",{"$f":"SUBSTITUTE(IN!F742,\",\",\".\")","v":""}]
[0,{"$error":"#VALUE!"},{"$error":"#VALUE!"},{"$f":"SUBSTITUTE(IN!G743,\"-\",\"\")","v":""},"",{"$f":"IN!F743*60","v":0},0,"-",{"$f":"SUBSTITUTE(IN!F743,\",\",\".\")","v":""}]
[0,{"$error":"#VALUE!"},{"$error":"#VALUE!"},{"$f":"SUBSTITUTE(IN!G744,\"-\",\"\")","v":""},"",{"$f":"IN!F744*60","v":0},0,"-",{"$f":"SUBSTITUTE(IN!F744,\",\",\".\")","v":""}]
[0,{"$error":"#VALUE!"},{"$error":"#VALUE!"},{"$f":"SUBSTITUTE(IN!G745,\"-\",\"\")","v":""},"",{"$f":"IN!F745*60","v":0},0,"-",{"$f":"SUBSTITUTE(IN!F745,\",\",\".\")","v":""}]
[0,{"$error":"#VALUE!"},{"$error":"#VALUE!"},{"$f":"SUBSTITUTE(IN!G746,\"-\",\"\")","v":""},"",{"$f":"IN!F746*60","v":0},0,"-",{"$f":"SUBSTITUTE(IN!F746,\",\",\".\")","v":""}]
[0,{"$error":"#VALUE!"},{"$error":"#VALUE!"},{"$f":"SUBSTITUTE(IN!G747,\"-\",\"\")","v":""},"",{"$f":"IN!F747*60","v":0},0,"-",{"$f":"SUBSTITUTE(IN!F747,\",\",\".\")","v":""}]
[0,{"$error":"#VALUE!"},{"$error":"#VALUE!"},{"$f":"SUBSTITUTE(IN!G748,\"-\",\"\")","v":""},"",{"$f":"IN!F748*60","v":0},0,"-",{"$f":"SUBSTITUTE(IN!F748,\",\",\".\")","v":""}]
[0,{"$error":"#VALUE!"},{"$error":"#VALUE!"},{"$f":"SUBSTITUTE(IN!G749,\"-\",\"\")","v":""},"",{"$f":"IN!F749*60","v":0},0,"-",{"$f":"SUBSTITUTE(IN!F749,\",\",\".\")","v":""}]
[0,{"$error":"#VALUE!"},{"$error":"#VALUE!"},{"$f":"SUBSTITUTE(IN!G750,\"-\",\"\")","v":""},"",{"$f":"IN!F750*60","v":0},0,"-",{"$f":"SUBSTITUTE(IN!F750,\",\",\".\")","v":""}]
[0,{"$error":"#VALUE!"},{"$error":"#VALUE!"},{"$f":"SUBSTITUTE(IN!G751,\"-\",\"\")","v":""},"",{"$f":"IN!F751*60","v":0},0,"-",{"$f":"SUBSTITUTE(IN!F751,\",\",\".\")","v":""}]
[0,{"$error":"#VALUE!"},{"$error":"#VALUE!"},{"$f":"SUBSTITUTE(IN!G752,\"-\",\"\")","v":""},"",{"$f":"IN!F752*60","v":0},0,"-",{"$f":"SUBSTITUTE(IN!F752,\",\",\".\")","v":""}]
[0,{"$error":"#VALUE!"},{"$error":"#VALUE!"},{"$f":"SUBSTITUTE(IN!G753,\"-\",\"\")","v":""},"",{"$f":"IN!F753*60","v":0},0,"-",{"$f":"SUBSTITUTE(IN!F753,\",\",\".\")","v":""}]
[0,{"$error":"#VALUE!"},{"$error":"#VALUE!"},{"$f":"SUBSTITUTE(IN!G754,\"-\",\"\")","v":""},"",{"$f":"IN!F754*60","v":0},0,"-",{"$f":"SUBSTITUTE(IN!F754,\",\",\".\")","v":""}]
[0,{"$error":"#VALUE!"},{"$error":"#VALUE!"},{"$f":"SUBSTITUTE(IN!G755,\"-\",\"\")","v":""},"",{"$f":"IN!F755*60","v":0},0,"-",{"$f":"SUBSTITUTE(IN!F755,\",\",\".\")","v":""}]
[0,{"$error":"#VALUE!"},{"$error":"#VALUE!"},{"$f":"SUBSTITUTE(IN!G756,\"-\",\"\")","v":""},"",{"$f":"IN!F756*60","v":0},0,"-",{"$f":"SUBSTITUTE(IN!F756,\",\",\".\")","v":""}]
[0,{"$error":"#VALUE!"},{"$error":"#VALUE!"},{"$f":"SUBSTITUTE(IN!G757,\"-\",\"\")","v":""},"",{"$f":"IN!F757*60","v":0},0,"-",{"$f":"SUBSTITUTE(IN!F757,\",\",\".\")","v":""}]
[0,{"$error":"#VALUE!"},{"$error":"#VALUE!"},{"$f":"SUBSTITUTE(IN!G758,\"-\",\"\")","v":""},"",{"$f":"IN!F758*60","v":0},0,"-",{"$f":"SUBSTITUTE(IN!F758,\",\",\".\")","v":""}]
[0,{"$error":"#VALUE!"},{"$error":"#VALUE!"},{"$f":"SUBSTITUTE(IN!G759,\"-\",\"\")","v":""},"",{"$f":"IN!F759*60","v":0},0,"-",{"$f":"SUBSTITUTE(IN!F759,\",\",\".\")","v":""}]
[0,{"$error":"#VALUE!"},{"$error":"#VALUE!"},{"$f":"SUBSTITUTE(IN!G760,\"-\",\"\")","v":""},"",{"$f":"IN!F760*60","v":0},0,"-",{"$f":"SUBSTITUTE(IN!F760,\",\",\".\")","v":""}]
[0,{"$error":"#VALUE!"},{"$error":"#VALUE!"},{"$f":"SUBSTITUTE(IN!G761,\"-\",\"\")","v":""},"",{"$f":"IN!F761*60","v":0},0,"-",{"$f":"SUBSTITUTE(IN!F761,\",\",\".\")","v":""}]
[0,{"$error":"#VALUE!"},{"$error":"#VALUE!"},{"$f":"SUBSTITUTE(IN!G762,\"-\",\"\")","v":""},"",{"$f":"IN!F762*60","v":0},0,"-",{"$f":"SUBSTITUTE(IN!F762,\",\",\".\")","v":""}]
[0,{"$error":"#VALUE!"},{"$error":"#VALUE!"},{"$f":"SUBSTITUTE(IN!G763,\"-\",\"\")","v":""},"",{"$f":"IN!F763*60","v":0},0,"-",{"$f":"SUBSTITUTE(IN!F763,\",\",\".\")","v":""}]
[0,{"$error":"#VALUE!"},{"$error":"#VALUE!"},{"$f":"SUBSTITUTE(IN!G764,\"-\",\"\")","v":""},"",{"$f":"IN!F764*60","v":0},0,"-",{"$f":"SUBSTITUTE(IN!F764,\",\",\".\")","v":""}]
[0,{"$error":"#VALUE!"},{"$error":"#VALUE!"},{"$f":"SUBSTITUTE(IN!G765,\"-\",\"\")","v":""},"",{"$f":"IN!F765*60","v":0},0,"-",{"$f":"SUBSTITUTE(IN!F765,\",\",\".\")","v":""}]
[0,{"$error":"#VALUE!"},{"$error":"#VALUE!"},{"$f":"SUBSTITUTE(IN!G766,\"-\",\"\")","v":""},"",{"$f":"IN!F766*60","v":0},0,"-",{"$f":"SUBSTITUTE(IN!F766,\",\",\".\")","v":""}]
[0,{"$error":"#VALUE!"},{"$error":"#VALUE!"},{"$f":"SUBSTITUTE(IN!G767,\"-\",\"\")","v":""},"",{"$f":"IN!F767*60","v":0},0,"-",{"$f":"SUBSTITUTE(IN!F767,\",\",\".\")","v":""}]
[0,{"$error":"#VALUE!"},{"$error":"#VALUE!"},{"$f":"SUBSTITUTE(IN!G768,\"-\",\"\")","v":""},"",{"$f":"IN!F768*60","v":0},0,"-",{"$f":"SUBSTITUTE(IN!F768,\",\",\".\")","v":""}]
[0,{"$error":"#VALUE!"},{"$error":"#VALUE!"},{"$f":"SUBSTITUTE(IN!G769,\"-\",\"\")","v":""},"",{"$f":"IN!F769*60","v":0},0,"-",{"$f":"SUBSTITUTE(IN!F769,\",\",\".\")","v":""}]
[0,{"$error":"#VALUE!"},{"$error":"#VALUE!"},{"$f":"SUBSTITUTE(IN!G770,\"-\",\"\")","v":""},"",{"$f":"IN!F770*60","v":0},0,"-",{"$f":"SUBSTITUTE(IN!F770,\",\",\".\")","v":""}]
[0,{"$error":"#VALUE!"},{"$error":"#VALUE!"},{"$f":"SUBSTITUTE(IN!G771,\"-\",\"\")","v":""},"",{"$f":"IN!F771*60","v":0},0,"-",{"$f":"SUBSTITUTE(IN!F771,\",\",\".\")","v":""}]
[0,{"$error":"#VALUE!"},{"$error":"#VALUE!"},{"$f":"SUBSTITUTE(IN!G772,\"-\",\"\")","v":""},"",{"$f":"IN!F772*60","v":0},0,"-",{"$f":"SUBSTITUTE(IN!F772,\",\",\".\")","v":""}]
[{"$f":"LEN(D773)","v":0},{"$f":"VALUE(LEFT(D773,1))","v":{"$error":"#VALUE!"}},{"$f":"IF(B773<2,20,19)","v":{"$error":"#VALUE!"}},{"$f":"SUBSTITUTE(IN!G773,\"-\",\"\")","v":""},{"$f":"IF(A773=10,CONCATENATE(C773,D773),D773)","v":""},{"$f":"IN!F773*60","v":0},{"$f":"ROUND(F773,0)","v":0},{"$f":"CONCATENATE(MID(E773,1,8),\"-\",MID(E773,9,4))","v":"-"},{"$f":"SUBSTITUTE(IN!F773,\",\",\".\")","v":""}]
[0,{"$error":"#VALUE!"},{"$error":"#VALUE!"},{"$f":"SUBSTITUTE(IN!G774,\"-\",\"\")","v":""},"",{"$f":"IN!F774*60","v":0},0,"-",{"$f":"SUBSTITUTE(IN!F774,\",\",\".\")","v":""}]
[0,{"$error":"#VALUE!"},{"$error":"#VALUE!"},{"$f":"SUBSTITUTE(IN!G775,\"-\",\"\")","v":""},"",{"$f":"IN!F775*60","v":0},0,"-",{"$f":"SUBSTITUTE(IN!F775,\",\",\".\")","v":""}]
[0,{"$error":"#VALUE!"},{"$error":"#VALUE!"},{"$f":"SUBSTITUTE(IN!G776,\"-\",\"\")","v":""},"",{"$f":"IN!F776*60","v":0},0,"-",{"$f":"SUBSTITUTE(IN!F776,\",\",\".\")","v":""}]
[0,{"$error":"#VALUE!"},{"$error":"#VALUE!"},{"$f":"SUBSTITUTE(IN!G777,\"-\",\"\")","v":""},"",{"$f":"IN!F777*60","v":0},0,"-",{"$f":"SUBSTITUTE(IN!F777,\",\",\".\")","v":""}]
[0,{"$error":"#VALUE!"},{"$error":"#VALUE!"},{"$f":"SUBSTITUTE(IN!G778,\"-\",\"\")","v":""},"",{"$f":"IN!F778*60","v":0},0,"-",{"$f":"SUBSTITUTE(IN!F778,\",\",\".\")","v":""}]
[0,{"$error":"#VALUE!"},{"$error":"#VALUE!"},{"$f":"SUBSTITUTE(IN!G779,\"-\",\"\")","v":""},"",{"$f":"IN!F779*60","v":0},0,"-",{"$f":"SUBSTITUTE(IN!F779,\",\",\".\")","v":""}]
[0,{"$error":"#VALUE!"},{"$error":"#VALUE!"},{"$f":"SUBSTITUTE(IN!G780,\"-\",\"\")","v":""},"",{"$f":"IN!F780*60","v":0},0,"-",{"$f":"SUBSTITUTE(IN!F780,\",\",\".\")","v":""}]
[0,{"$error":"#VALUE!"},{"$error":"#VALUE!"},{"$f":"SUBSTITUTE(IN!G781,\"-\",\"\")","v":""},"",{"$f":"IN!F781*60","v":0},0,"-",{"$f":"SUBSTITUTE(IN!F781,\",\",\".\")","v":""}]
[0,{"$error":"#VALUE!"},{"$error":"#VALUE!"},{"$f":"SUBSTITUTE(IN!G782,\"-\",\"\")","v":""},"",{"$f":"IN!F782*60","v":0},0,"-",{"$f":"SUBSTITUTE(IN!F782,\",\",\".\")","v":""}]
[0,{"$error":"#VALUE!"},{"$error":"#VALUE!"},{"$f":"SUBSTITUTE(IN!G783,\"-\",\"\")","v":""},"",{"$f":"IN!F783*60","v":0},0,"-",{"$f":"SUBSTITUTE(IN!F783,\",\",\".\")","v":""}]
[0,{"$error":"#VALUE!"},{"$error":"#VALUE!"},{"$f":"SUBSTITUTE(IN!G784,\"-\",\"\")","v":""},"",{"$f":"IN!F784*60","v":0},0,"-",{"$f":"SUBSTITUTE(IN!F784,\",\",\".\")","v":""}]
[0,{"$error":"#VALUE!"},{"$error":"#VALUE!"},{"$f":"SUBSTITUTE(IN!G785,\"-\",\"\")","v":""},"",{"$f":"IN!F785*60","v":0},0,"-",{"$f":"SUBSTITUTE(IN!F785,\",\",\".\")","v":""}]
[0,{"$error":"#VALUE!"},{"$error":"#VALUE!"},{"$f":"SUBSTITUTE(IN!G786,\"-\",\"\")","v":""},"",{"$f":"IN!F786*60","v":0},0,"-",{"$f":"SUBSTITUTE(IN!F786,\",\",\".\")","v":""}]
[0,{"$error":"#VALUE!"},{"$error":"#VALUE!"},{"$f":"SUBSTITUTE(IN!G787,\"-\",\"\")","v":""},"",{"$f":"IN!F787*60","v":0},0,"-",{"$f":"SUBSTITUTE(IN!F787,\",\",\".\")","v":""}]
[0,{"$error":"#VALUE!"},{"$error":"#VALUE!"},{"$f":"SUBSTITUTE(IN!G788,\"-\",\"\")","v":""},"",{"$f":"IN!F788*60","v":0},0,"-",{"$f":"SUBSTITUTE(IN!F788,\",\",\".\")","v":""}]
[0,{"$error":"#VALUE!"},{"$error":"#VALUE!"},{"$f":"SUBSTITUTE(IN!G789,\"-\",\"\")","v":""},"",{"$f":"IN!F789*60","v":0},0,"-",{"$f":"SUBSTITUTE(IN!F789,\",\",\".\")","v":""}]
[0,{"$error":"#VALUE!"},{"$error":"#VALUE!"},{"$f":"SUBSTITUTE(IN!G790,\"-\",\"\")","v":""},"",{"$f":"IN!F790*60","v":0},0,"-",{"$f":"SUBSTITUTE(IN!F790,\",\",\".\")","v":""}]
[0,{"$error":"#VALUE!"},{"$error":"#VALUE!"},{"$f":"SUBSTITUTE(IN!G791,\"-\",\"\")","v":""},"",{"$f":"IN!F791*60","v":0},0,"-",{"$f":"SUBSTITUTE(IN!F791,\",\",\".\")","v":""}]
[0,{"$error":"#VALUE!"},{"$error":"#VALUE!"},{"$f":"SUBSTITUTE(IN!G792,\"-\",\"\")","v":""},"",{"$f":"IN!F792*60","v":0},0,"-",{"$f":"SUBSTITUTE(IN!F792,\",\",\".\")","v":""}]
[0,{"$error":"#VALUE!"},{"$error":"#VALUE!"},{"$f":"SUBSTITUTE(IN!G793,\"-\",\"\")","v":""},"",{"$f":"IN!F793*60","v":0},0,"-",{"$f":"SUBSTITUTE(IN!F793,\",\",\".\")","v":""}]
[0,{"$error":"#VALUE!"},{"$error":"#VALUE!"},{"$f":"SUBSTITUTE(IN!G794,\"-\",\"\")","v":""},"",{"$f":"IN!F794*60","v":0},0,"-",{"$f":"SUBSTITUTE(IN!F794,\",\",\".\")","v":""}]
[0,{"$error":"#VALUE!"},{"$error":"#VALUE!"},{"$f":"SUBSTITUTE(IN!G795,\"-\",\"\")","v":""},"",{"$f":"IN!F795*60","v":0},0,"-",{"$f":"SUBSTITUTE(IN!F795,\",\",\".\")","v":""}]
[0,{"$error":"#VALUE!"},{"$error":"#VALUE!"},{"$f":"SUBSTITUTE(IN!G796,\"-\",\"\")","v":""},"",{"$f":"IN!F796*60","v":0},0,"-",{"$f":"SUBSTITUTE(IN!F796,\",\",\".\")","v":""}]
[0,{"$error":"#VALUE!"},{"$error":"#VALUE!"},{"$f":"SUBSTITUTE(IN!G797,\"-\",\"\")","v":""},"",{"$f":"IN!F797*60","v":0},0,"-",{"$f":"SUBSTITUTE(IN!F797,\",\",\".\")","v":""}]
[0,{"$error":"#VALUE!"},{"$error":"#VALUE!"},{"$f":"SUBSTITUTE(IN!G798,\"-\",\"\")","v":""},"",{"$f":"IN!F798*60","v":0},0,"-",{"$f":"SUBSTITUTE(IN!F798,\",\",\".\")","v":""}]
[0,{"$error":"#VALUE!"},{"$error":"#VALUE!"},{"$f":"SUBSTITUTE(IN!G799,\"-\",\"\")","v":""},"",{"$f":"IN!F799*60","v":0},0,"-",{"$f":"SUBSTITUTE(IN!F799,\",\",\".\")","v":""}]
[0,{"$error":"#VALUE!"},{"$error":"#VALUE!"},{"$f":"SUBSTITUTE(IN!G800,\"-\",\"\")","v":""},"",{"$f":"IN!F800*60","v":0},0,"-",{"$f":"SUBSTITUTE(IN!F800,\",\",\".\")","v":""}]
[0,{"$error":"#VALUE!"},{"$error":"#VALUE!"},{"$f":"SUBSTITUTE(IN!G801,\"-\",\"\")","v":""},"",{"$f":"IN!F801*60","v":0},0,"-",{"$f":"SUBSTITUTE(IN!F801,\",\",\".\")","v":""}]
[0,{"$error":"#VALUE!"},{"$error":"#VALUE!"},{"$f":"SUBSTITUTE(IN!G802,\"-\",\"\")","v":""},"",{"$f":"IN!F802*60","v":0},0,"-",{"$f":"SUBSTITUTE(IN!F802,\",\",\".\")","v":""}]
[0,{"$error":"#VALUE!"},{"$error":"#VALUE!"},{"$f":"SUBSTITUTE(IN!G803,\"-\",\"\")","v":""},"",{"$f":"IN!F803*60","v":0},0,"-",{"$f":"SUBSTITUTE(IN!F803,\",\",\".\")","v":""}]
[0,{"$error":"#VALUE!"},{"$error":"#VALUE!"},{"$f":"SUBSTITUTE(IN!G804,\"-\",\"\")","v":""},"",{"$f":"IN!F804*60","v":0},0,"-",{"$f":"SUBSTITUTE(IN!F804,\",\",\".\")","v":""}]
[0,{"$error":"#VALUE!"},{"$error":"#VALUE!"},{"$f":"SUBSTITUTE(IN!G805,\"-\",\"\")","v":""},"",{"$f":"IN!F805*60","v":0},0,"-",{"$f":"SUBSTITUTE(IN!F805,\",\",\".\")","v":""}]
[0,{"$error":"#VALUE!"},{"$error":"#VALUE!"},{"$f":"SUBSTITUTE(IN!G806,\"-\",\"\")","v":""},"",{"$f":"IN!F806*60","v":0},0,"-",{"$f":"SUBSTITUTE(IN!F806,\",\",\".\")","v":""}]
[0,{"$error":"#VALUE!"},{"$error":"#VALUE!"},{"$f":"SUBSTITUTE(IN!G807,\"-\",\"\")","v":""},"",{"$f":"IN!F807*60","v":0},0,"-",{"$f":"SUBSTITUTE(IN!F807,\",\",\".\")","v":""}]
[0,{"$error":"#VALUE!"},{"$error":"#VALUE!"},{"$f":"SUBSTITUTE(IN!G808,\"-\",\"\")","v":""},"",{"$f":"IN!F808*60","v":0},0,"-",{"$f":"SUBSTITUTE(IN!F808,\",\",\".\")","v":""}]
[0,{"$error":"#VALUE!"},{"$error":"#VALUE!"},{"$f":"SUBSTITUTE(IN!G809,\"-\",\"\")","v":""},"",{"$f":"IN!F809*60","v":0},0,"-",{"$f":"SUBSTITUTE(IN!F809,\",\",\".\")","v":""}]
[0,{"$error":"#VALUE!"},{"$error":"#VALUE!"},{"$f":"SUBSTITUTE(IN!G810,\"-\",\"\")","v":""},"",{"$f":"IN!F810*60","v":0},0,"-",{"$f":"SUBSTITUTE(IN!F810,\",\",\".\")","v":""}]
[0,{"$error":"#VALUE!"},{"$error":"#VALUE!"},{"$f":"SUBSTITUTE(IN!G811,\"-\",\"\")","v":""},"",{"$f":"IN!F811*60","v":0},0,"-",{"$f":"SUBSTITUTE(IN!F811,\",\",\".\")","v":""}]
[0,{"$error":"#VALUE!"},{"$error":"#VALUE!"},{"$f":"SUBSTITUTE(IN!G812,\"-\",\"\")","v":""},"",{"$f":"IN!F812*60","v":0},0,"-",{"$f":"SUBSTITUTE(IN!F812,\",\",\".\")","v":""}]
[0,{"$error":"#VALUE!"},{"$error":"#VALUE!"},{"$f":"SUBSTITUTE(IN!G813,\"-\",\"\")","v":""},"",{"$f":"IN!F813*60","v":0},0,"-",{"$f":"SUBSTITUTE(IN!F813,\",\",\".\")","v":""}]
[0,{"$error":"#VALUE!"},{"$error":"#VALUE!"},{"$f":"SUBSTITUTE(IN!G814,\"-\",\"\")","v":""},"",{"$f":"IN!F814*60","v":0},0,"-",{"$f":"SUBSTITUTE(IN!F814,\",\",\".\")","v":""}]
[0,{"$error":"#VALUE!"},{"$error":"#VALUE!"},{"$f":"SUBSTITUTE(IN!G815,\"-\",\"\")","v":""},"",{"$f":"IN!F815*60","v":0},0,"-",{"$f":"SUBSTITUTE(IN!F815,\",\",\".\")","v":""}]
[0,{"$error":"#VALUE!"},{"$error":"#VALUE!"},{"$f":"SUBSTITUTE(IN!G816,\"-\",\"\")","v":""},"",{"$f":"IN!F816*60","v":0},0,"-",{"$f":"SUBSTITUTE(IN!F816,\",\",\".\")","v":""}]
[0,{"$error":"#VALUE!"},{"$error":"#VALUE!"},{"$f":"SUBSTITUTE(IN!G817,\"-\",\"\")","v":""},"",{"$f":"IN!F817*60","v":0},0,"-",{"$f":"SUBSTITUTE(IN!F817,\",\",\".\")","v":""}]
[0,{"$error":"#VALUE!"},{"$error":"#VALUE!"},{"$f":"SUBSTITUTE(IN!G818,\"-\",\"\")","v":""},"",{"$f":"IN!F818*60","v":0},0,"-",{"$f":"SUBSTITUTE(IN!F818,\",\",\".\")","v":""}]
[0,{"$error":"#VALUE!"},{"$error":"#VALUE!"},{"$f":"SUBSTITUTE(IN!G819,\"-\",\"\")","v":""},"",{"$f":"IN!F819*60","v":0},0,"-",{"$f":"SUBSTITUTE(IN!F819,\",\",\".\")","v":""}]
[0,{"$error":"#VALUE!"},{"$error":"#VALUE!"},{"$f":"SUBSTITUTE(IN!G820,\"-\",\"\")","v":""},"",{"$f":"IN!F820*60","v":0},0,"-",{"$f":"SUBSTITUTE(IN!F820,\",\",\".\")","v":""}]
[0,{"$error":"#VALUE!"},{"$error":"#VALUE!"},{"$f":"SUBSTITUTE(IN!G821,\"-\",\"\")","v":""},"",{"$f":"IN!F821*60","v":0},0,"-",{"$f":"SUBSTITUTE(IN!F821,\",\",\".\")","v":""}]
[0,{"$error":"#VALUE!"},{"$error":"#VALUE!"},{"$f":"SUBSTITUTE(IN!G822,\"-\",\"\")","v":""},"",{"$f":"IN!F822*60","v":0},0,"-",{"$f":"SUBSTITUTE(IN!F822,\",\",\".\")","v":""}]
[0,{"$error":"#VALUE!"},{"$error":"#VALUE!"},{"$f":"SUBSTITUTE(IN!G823,\"-\",\"\")","v":""},"",{"$f":"IN!F823*60","v":0},0,"-",{"$f":"SUBSTITUTE(IN!F823,\",\",\".\")","v":""}]
[0,{"$error":"#VALUE!"},{"$error":"#VALUE!"},{"$f":"SUBSTITUTE(IN!G824,\"-\",\"\")","v":""},"",{"$f":"IN!F824*60","v":0},0,"-",{"$f":"SUBSTITUTE(IN!F824,\",\",\".\")","v":""}]
[0,{"$error":"#VALUE!"},{"$error":"#VALUE!"},{"$f":"SUBSTITUTE(IN!G825,\"-\",\"\")","v":""},"",{"$f":"IN!F825*60","v":0},0,"-",{"$f":"SUBSTITUTE(IN!F825,\",\",\".\")","v":""}]
[0,{"$error":"#VALUE!"},{"$error":"#VALUE!"},{"$f":"SUBSTITUTE(IN!G826,\"-\",\"\")","v":""},"",{"$f":"IN!F826*60","v":0},0,"-",{"$f":"SUBSTITUTE(IN!F826,\",\",\".\")","v":""}]
[0,{"$error":"#VALUE!"},{"$error":"#VALUE!"},{"$f":"SUBSTITUTE(IN!G827,\"-\",\"\")","v":""},"",{"$f":"IN!F827*60","v":0},0,"-",{"$f":"SUBSTITUTE(IN!F827,\",\",\".\")","v":""}]
[0,{"$error":"#VALUE!"},{"$error":"#VALUE!"},{"$f":"SUBSTITUTE(IN!G828,\"-\",\"\")","v":""},"",{"$f":"IN!F828*60","v":0},0,"-",{"$f":"SUBSTITUTE(IN!F828,\",\",\".\")","v":""}]
[0,{"$error":"#VALUE!"},{"$error":"#VALUE!"},{"$f":"SUBSTITUTE(IN!G829,\"-\",\"\")","v":""},"",{"$f":"IN!F829*60","v":0},0,"-",{"$f":"SUBSTITUTE(IN!F829,\",\",\".\")","v":""}]
[0,{"$error":"#VALUE!"},{"$error":"#VALUE!"},{"$f":"SUBSTITUTE(IN!G830,\"-\",\"\")","v":""},"",{"$f":"IN!F830*60","v":0},0,"-",{"$f":"SUBSTITUTE(IN!F830,\",\",\".\")","v":""}]
[0,{"$error":"#VALUE!"},{"$error":"#VALUE!"},{"$f":"SUBSTITUTE(IN!G831,\"-\",\"\")","v":""},"",{"$f":"IN!F831*60","v":0},0,"-",{"$f":"SUBSTITUTE(IN!F831,\",\",\".\")","v":""}]
[0,{"$error":"#VALUE!"},{"$error":"#VALUE!"},{"$f":"SUBSTITUTE(IN!G832,\"-\",\"\")","v":""},"",{"$f":"IN!F832*60","v":0},0,"-",{"$f":"SUBSTITUTE(IN!F832,\",\",\".\")","v":""}]
[0,{"$error":"#VALUE!"},{"$error":"#VALUE!"},{"$f":"SUBSTITUTE(IN!G833,\"-\",\"\")","v":""},"",{"$f":"IN!F833*60","v":0},0,"-",{"$f":"SUBSTITUTE(IN!F833,\",\",\".\")","v":""}]
[0,{"$error":"#VALUE!"},{"$error":"#VALUE!"},{"$f":"SUBSTITUTE(IN!G834,\"-\",\"\")","v":""},"",{"$f":"IN!F834*60","v":0},0,"-",{"$f":"SUBSTITUTE(IN!F834,\",\",\".\")","v":""}]
[0,{"$error":"#VALUE!"},{"$error":"#VALUE!"},{"$f":"SUBSTITUTE(IN!G835,\"-\",\"\")","v":""},"",{"$f":"IN!F835*60","v":0},0,"-",{"$f":"SUBSTITUTE(IN!F835,\",\",\".\")","v":""}]
[0,{"$error":"#VALUE!"},{"$error":"#VALUE!"},{"$f":"SUBSTITUTE(IN!G836,\"-\",\"\")","v":""},"",{"$f":"IN!F836*60","v":0},0,"-",{"$f":"SUBSTITUTE(IN!F836,\",\",\".\")","v":""}]
[{"$f":"LEN(D837)","v":0},{"$f":"VALUE(LEFT(D837,1))","v":{"$error":"#VALUE!"}},{"$f":"IF(B837<2,20,19)","v":{"$error":"#VALUE!"}},{"$f":"SUBSTITUTE(IN!G837,\"-\",\"\")","v":""},{"$f":"IF(A837=10,CONCATENATE(C837,D837),D837)","v":""},{"$f":"IN!F837*60","v":0},{"$f":"ROUND(F837,0)","v":0},{"$f":"CONCATENATE(MID(E837,1,8),\"-\",MID(E837,9,4))","v":"-"},{"$f":"SUBSTITUTE(IN!F837,\",\",\".\")","v":""}]
[0,{"$error":"#VALUE!"},{"$error":"#VALUE!"},{"$f":"SUBSTITUTE(IN!G838,\"-\",\"\")","v":""},"",{"$f":"IN!F838*60","v":0},0,"-",{"$f":"SUBSTITUTE(IN!F838,\",\",\".\")","v":""}]
[0,{"$error":"#VALUE!"},{"$error":"#VALUE!"},{"$f":"SUBSTITUTE(IN!G839,\"-\",\"\")","v":""},"",{"$f":"IN!F839*60","v":0},0,"-",{"$f":"SUBSTITUTE(IN!F839,\",\",\".\")","v":""}]
[0,{"$error":"#VALUE!"},{"$error":"#VALUE!"},{"$f":"SUBSTITUTE(IN!G840,\"-\",\"\")","v":""},"",{"$f":"IN!F840*60","v":0},0,"-",{"$f":"SUBSTITUTE(IN!F840,\",\",\".\")","v":""}]
[0,{"$error":"#VALUE!"},{"$error":"#VALUE!"},{"$f":"SUBSTITUTE(IN!G841,\"-\",\"\")","v":""},"",{"$f":"IN!F841*60","v":0},0,"-",{"$f":"SUBSTITUTE(IN!F841,\",\",\".\")","v":""}]
[0,{"$error":"#VALUE!"},{"$error":"#VALUE!"},{"$f":"SUBSTITUTE(IN!G842,\"-\",\"\")","v":""},"",{"$f":"IN!F842*60","v":0},0,"-",{"$f":"SUBSTITUTE(IN!F842,\",\",\".\")","v":""}]
[0,{"$error":"#VALUE!"},{"$error":"#VALUE!"},{"$f":"SUBSTITUTE(IN!G843,\"-\",\"\")","v":""},"",{"$f":"IN!F843*60","v":0},0,"-",{"$f":"SUBSTITUTE(IN!F843,\",\",\".\")","v":""}]
[0,{"$error":"#VALUE!"},{"$error":"#VALUE!"},{"$f":"SUBSTITUTE(IN!G844,\"-\",\"\")","v":""},"",{"$f":"IN!F844*60","v":0},0,"-",{"$f":"SUBSTITUTE(IN!F844,\",\",\".\")","v":""}]
[0,{"$error":"#VALUE!"},{"$error":"#VALUE!"},{"$f":"SUBSTITUTE(IN!G845,\"-\",\"\")","v":""},"",{"$f":"IN!F845*60","v":0},0,"-",{"$f":"SUBSTITUTE(IN!F845,\",\",\".\")","v":""}]
[0,{"$error":"#VALUE!"},{"$error":"#VALUE!"},{"$f":"SUBSTITUTE(IN!G846,\"-\",\"\")","v":""},"",{"$f":"IN!F846*60","v":0},0,"-",{"$f":"SUBSTITUTE(IN!F846,\",\",\".\")","v":""}]
[0,{"$error":"#VALUE!"},{"$error":"#VALUE!"},{"$f":"SUBSTITUTE(IN!G847,\"-\",\"\")","v":""},"",{"$f":"IN!F847*60","v":0},0,"-",{"$f":"SUBSTITUTE(IN!F847,\",\",\".\")","v":""}]
[0,{"$error":"#VALUE!"},{"$error":"#VALUE!"},{"$f":"SUBSTITUTE(IN!G848,\"-\",\"\")","v":""},"",{"$f":"IN!F848*60","v":0},0,"-",{"$f":"SUBSTITUTE(IN!F848,\",\",\".\")","v":""}]
[0,{"$error":"#VALUE!"},{"$error":"#VALUE!"},{"$f":"SUBSTITUTE(IN!G849,\"-\",\"\")","v":""},"",{"$f":"IN!F849*60","v":0},0,"-",{"$f":"SUBSTITUTE(IN!F849,\",\",\".\")","v":""}]
[0,{"$error":"#VALUE!"},{"$error":"#VALUE!"},{"$f":"SUBSTITUTE(IN!G850,\"-\",\"\")","v":""},"",{"$f":"IN!F850*60","v":0},0,"-",{"$f":"SUBSTITUTE(IN!F850,\",\",\".\")","v":""}]
[0,{"$error":"#VALUE!"},{"$error":"#VALUE!"},{"$f":"SUBSTITUTE(IN!G851,\"-\",\"\")","v":""},"",{"$f":"IN!F851*60","v":0},0,"-",{"$f":"SUBSTITUTE(IN!F851,\",\",\".\")","v":""}]
[0,{"$error":"#VALUE!"},{"$error":"#VALUE!"},{"$f":"SUBSTITUTE(IN!G852,\"-\",\"\")","v":""},"",{"$f":"IN!F852*60","v":0},0,"-",{"$f":"SUBSTITUTE(IN!F852,\",\",\".\")","v":""}]
[0,{"$error":"#VALUE!"},{"$error":"#VALUE!"},{"$f":"SUBSTITUTE(IN!G853,\"-\",\"\")","v":""},"",{"$f":"IN!F853*60","v":0},0,"-",{"$f":"SUBSTITUTE(IN!F853,\",\",\".\")","v":""}]
[0,{"$error":"#VALUE!"},{"$error":"#VALUE!"},{"$f":"SUBSTITUTE(IN!G854,\"-\",\"\")","v":""},"",{"$f":"IN!F854*60","v":0},0,"-",{"$f":"SUBSTITUTE(IN!F854,\",\",\".\")","v":""}]
[0,{"$error":"#VALUE!"},{"$error":"#VALUE!"},{"$f":"SUBSTITUTE(IN!G855,\"-\",\"\")","v":""},"",{"$f":"IN!F855*60","v":0},0,"-",{"$f":"SUBSTITUTE(IN!F855,\",\",\".\")","v":""}]
[0,{"$error":"#VALUE!"},{"$error":"#VALUE!"},{"$f":"SUBSTITUTE(IN!G856,\"-\",\"\")","v":""},"",{"$f":"IN!F856*60","v":0},0,"-",{"$f":"SUBSTITUTE(IN!F856,\",\",\".\")","v":""}]
[0,{"$error":"#VALUE!"},{"$error":"#VALUE!"},{"$f":"SUBSTITUTE(IN!G857,\"-\",\"\")","v":""},"",{"$f":"IN!F857*60","v":0},0,"-",{"$f":"SUBSTITUTE(IN!F857,\",\",\".\")","v":""}]
[0,{"$error":"#VALUE!"},{"$error":"#VALUE!"},{"$f":"SUBSTITUTE(IN!G858,\"-\",\"\")","v":""},"",{"$f":"IN!F858*60","v":0},0,"-",{"$f":"SUBSTITUTE(IN!F858,\",\",\".\")","v":""}]
[0,{"$error":"#VALUE!"},{"$error":"#VALUE!"},{"$f":"SUBSTITUTE(IN!G859,\"-\",\"\")","v":""},"",{"$f":"IN!F859*60","v":0},0,"-",{"$f":"SUBSTITUTE(IN!F859,\",\",\".\")","v":""}]
[0,{"$error":"#VALUE!"},{"$error":"#VALUE!"},{"$f":"SUBSTITUTE(IN!G860,\"-\",\"\")","v":""},"",{"$f":"IN!F860*60","v":0},0,"-",{"$f":"SUBSTITUTE(IN!F860,\",\",\".\")","v":""}]
[0,{"$error":"#VALUE!"},{"$error":"#VALUE!"},{"$f":"SUBSTITUTE(IN!G861,\"-\",\"\")","v":""},"",{"$f":"IN!F861*60","v":0},0,"-",{"$f":"SUBSTITUTE(IN!F861,\",\",\".\")","v":""}]
[0,{"$error":"#VALUE!"},{"$error":"#VALUE!"},{"$f":"SUBSTITUTE(IN!G862,\"-\",\"\")","v":""},"",{"$f":"IN!F862*60","v":0},0,"-",{"$f":"SUBSTITUTE(IN!F862,\",\",\".\")","v":""}]
[0,{"$error":"#VALUE!"},{"$error":"#VALUE!"},{"$f":"SUBSTITUTE(IN!G863,\"-\",\"\")","v":""},"",{"$f":"IN!F863*60","v":0},0,"-",{"$f":"SUBSTITUTE(IN!F863,\",\",\".\")","v":""}]
[0,{"$error":"#VALUE!"},{"$error":"#VALUE!"},{"$f":"SUBSTITUTE(IN!G864,\"-\",\"\")","v":""},"",{"$f":"IN!F864*60","v":0},0,"-",{"$f":"SUBSTITUTE(IN!F864,\",\",\".\")","v":""}]
[0,{"$error":"#VALUE!"},{"$error":"#VALUE!"},{"$f":"SUBSTITUTE(IN!G865,\"-\",\"\")","v":""},"",{"$f":"IN!F865*60","v":0},0,"-",{"$f":"SUBSTITUTE(IN!F865,\",\",\".\")","v":""}]
[0,{"$error":"#VALUE!"},{"$error":"#VALUE!"},{"$f":"SUBSTITUTE(IN!G866,\"-\",\"\")","v":""},"",{"$f":"IN!F866*60","v":0},0,"-",{"$f":"SUBSTITUTE(IN!F866,\",\",\".\")","v":""}]
[0,{"$error":"#VALUE!"},{"$error":"#VALUE!"},{"$f":"SUBSTITUTE(IN!G867,\"-\",\"\")","v":""},"",{"$f":"IN!F867*60","v":0},0,"-",{"$f":"SUBSTITUTE(IN!F867,\",\",\".\")","v":""}]
[0,{"$error":"#VALUE!"},{"$error":"#VALUE!"},{"$f":"SUBSTITUTE(IN!G868,\"-\",\"\")","v":""},"",{"$f":"IN!F868*60","v":0},0,"-",{"$f":"SUBSTITUTE(IN!F868,\",\",\".\")","v":""}]
[0,{"$error":"#VALUE!"},{"$error":"#VALUE!"},{"$f":"SUBSTITUTE(IN!G869,\"-\",\"\")","v":""},"",{"$f":"IN!F869*60","v":0},0,"-",{"$f":"SUBSTITUTE(IN!F869,\",\",\".\")","v":""}]
[0,{"$error":"#VALUE!"},{"$error":"#VALUE!"},{"$f":"SUBSTITUTE(IN!G870,\"-\",\"\")","v":""},"",{"$f":"IN!F870*60","v":0},0,"-",{"$f":"SUBSTITUTE(IN!F870,\",\",\".\")","v":""}]
[0,{"$error":"#VALUE!"},{"$error":"#VALUE!"},{"$f":"SUBSTITUTE(IN!G871,\"-\",\"\")","v":""},"",{"$f":"IN!F871*60","v":0},0,"-",{"$f":"SUBSTITUTE(IN!F871,\",\",\".\")","v":""}]
[0,{"$error":"#VALUE!"},{"$error":"#VALUE!"},{"$f":"SUBSTITUTE(IN!G872,\"-\",\"\")","v":""},"",{"$f":"IN!F872*60","v":0},0,"-",{"$f":"SUBSTITUTE(IN!F872,\",\",\".\")","v":""}]
[0,{"$error":"#VALUE!"},{"$error":"#VALUE!"},{"$f":"SUBSTITUTE(IN!G873,\"-\",\"\")","v":""},"",{"$f":"IN!F873*60","v":0},0,"-",{"$f":"SUBSTITUTE(IN!F873,\",\",\".\")","v":""}]
[0,{"$error":"#VALUE!"},{"$error":"#VALUE!"},{"$f":"SUBSTITUTE(IN!G874,\"-\",\"\")","v":""},"",{"$f":"IN!F874*60","v":0},0,"-",{"$f":"SUBSTITUTE(IN!F874,\",\",\".\")","v":""}]
[0,{"$error":"#VALUE!"},{"$error":"#VALUE!"},{"$f":"SUBSTITUTE(IN!G875,\"-\",\"\")","v":""},"",{"$f":"IN!F875*60","v":0},0,"-",{"$f":"SUBSTITUTE(IN!F875,\",\",\".\")","v":""}]
[0,{"$error":"#VALUE!"},{"$error":"#VALUE!"},{"$f":"SUBSTITUTE(IN!G876,\"-\",\"\")","v":""},"",{"$f":"IN!F876*60","v":0},0,"-",{"$f":"SUBSTITUTE(IN!F876,\",\",\".\")","v":""}]
[0,{"$error":"#VALUE!"},{"$error":"#VALUE!"},{"$f":"SUBSTITUTE(IN!G877,\"-\",\"\")","v":""},"",{"$f":"IN!F877*60","v":0},0,"-",{"$f":"SUBSTITUTE(IN!F877,\",\",\".\")","v":""}]
[0,{"$error":"#VALUE!"},{"$error":"#VALUE!"},{"$f":"SUBSTITUTE(IN!G878,\"-\",\"\")","v":""},"",{"$f":"IN!F878*60","v":0},0,"-",{"$f":"SUBSTITUTE(IN!F878,\",\",\".\")","v":""}]
[0,{"$error":"#VALUE!"},{"$error":"#VALUE!"},{"$f":"SUBSTITUTE(IN!G879,\"-\",\"\")","v":""},"",{"$f":"IN!F879*60","v":0},0,"-",{"$f":"SUBSTITUTE(IN!F879,\",\",\".\")","v":""}]
[0,{"$error":"#VALUE!"},{"$error":"#VALUE!"},{"$f":"SUBSTITUTE(IN!G880,\"-\",\"\")","v":""},"",{"$f":"IN!F880*60","v":0},0,"-",{"$f":"SUBSTITUTE(IN!F880,\",\",\".\")","v":""}]
[0,{"$error":"#VALUE!"},{"$error":"#VALUE!"},{"$f":"SUBSTITUTE(IN!G881,\"-\",\"\")","v":""},"",{"$f":"IN!F881*60","v":0},0,"-",{"$f":"SUBSTITUTE(IN!F881,\",\",\".\")","v":""}]
[0,{"$error":"#VALUE!"},{"$error":"#VALUE!"},{"$f":"SUBSTITUTE(IN!G882,\"-\",\"\")","v":""},"",{"$f":"IN!F882*60","v":0},0,"-",{"$f":"SUBSTITUTE(IN!F882,\",\",\".\")","v":""}]
[0,{"$error":"#VALUE!"},{"$error":"#VALUE!"},{"$f":"SUBSTITUTE(IN!G883,\"-\",\"\")","v":""},"",{"$f":"IN!F883*60","v":0},0,"-",{"$f":"SUBSTITUTE(IN!F883,\",\",\".\")","v":""}]
[0,{"$error":"#VALUE!"},{"$error":"#VALUE!"},{"$f":"SUBSTITUTE(IN!G884,\"-\",\"\")","v":""},"",{"$f":"IN!F884*60","v":0},0,"-",{"$f":"SUBSTITUTE(IN!F884,\",\",\".\")","v":""}]
[0,{"$error":"#VALUE!"},{"$error":"#VALUE!"},{"$f":"SUBSTITUTE(IN!G885,\"-\",\"\")","v":""},"",{"$f":"IN!F885*60","v":0},0,"-",{"$f":"SUBSTITUTE(IN!F885,\",\",\".\")","v":""}]
[0,{"$error":"#VALUE!"},{"$error":"#VALUE!"},{"$f":"SUBSTITUTE(IN!G886,\"-\",\"\")","v":""},"",{"$f":"IN!F886*60","v":0},0,"-",{"$f":"SUBSTITUTE(IN!F886,\",\",\".\")","v":""}]
[0,{"$error":"#VALUE!"},{"$error":"#VALUE!"},{"$f":"SUBSTITUTE(IN!G887,\"-\",\"\")","v":""},"",{"$f":"IN!F887*60","v":0},0,"-",{"$f":"SUBSTITUTE(IN!F887,\",\",\".\")","v":""}]
[0,{"$error":"#VALUE!"},{"$error":"#VALUE!"},{"$f":"SUBSTITUTE(IN!G888,\"-\",\"\")","v":""},"",{"$f":"IN!F888*60","v":0},0,"-",{"$f":"SUBSTITUTE(IN!F888,\",\",\".\")","v":""}]
[0,{"$error":"#VALUE!"},{"$error":"#VALUE!"},{"$f":"SUBSTITUTE(IN!G889,\"-\",\"\")","v":""},"",{"$f":"IN!F889*60","v":0},0,"-",{"$f":"SUBSTITUTE(IN!F889,\",\",\".\")","v":""}]
[0,{"$error":"#VALUE!"},{"$error":"#VALUE!"},{"$f":"SUBSTITUTE(IN!G890,\"-\",\"\")","v":""},"",{"$f":"IN!F890*60","v":0},0,"-",{"$f":"SUBSTITUTE(IN!F890,\",\",\".\")","v":""}]
[0,{"$error":"#VALUE!"},{"$error":"#VALUE!"},{"$f":"SUBSTITUTE(IN!G891,\"-\",\"\")","v":""},"",{"$f":"IN!F891*60","v":0},0,"-",{"$f":"SUBSTITUTE(IN!F891,\",\",\".\")","v":""}]
[0,{"$error":"#VALUE!"},{"$error":"#VALUE!"},{"$f":"SUBSTITUTE(IN!G892,\"-\",\"\")","v":""},"",{"$f":"IN!F892*60","v":0},0,"-",{"$f":"SUBSTITUTE(IN!F892,\",\",\".\")","v":""}]
[0,{"$error":"#VALUE!"},{"$error":"#VALUE!"},{"$f":"SUBSTITUTE(IN!G893,\"-\",\"\")","v":""},"",{"$f":"IN!F893*60","v":0},0,"-",{"$f":"SUBSTITUTE(IN!F893,\",\",\".\")","v":""}]
[0,{"$error":"#VALUE!"},{"$error":"#VALUE!"},{"$f":"SUBSTITUTE(IN!G894,\"-\",\"\")","v":""},"",{"$f":"IN!F894*60","v":0},0,"-",{"$f":"SUBSTITUTE(IN!F894,\",\",\".\")","v":""}]
[0,{"$error":"#VALUE!"},{"$error":"#VALUE!"},{"$f":"SUBSTITUTE(IN!G895,\"-\",\"\")","v":""},"",{"$f":"IN!F895*60","v":0},0,"-",{"$f":"SUBSTITUTE(IN!F895,\",\",\".\")","v":""}]
[0,{"$error":"#VALUE!"},{"$error":"#VALUE!"},{"$f":"SUBSTITUTE(IN!G896,\"-\",\"\")","v":""},"",{"$f":"IN!F896*60","v":0},0,"-",{"$f":"SUBSTITUTE(IN!F896,\",\",\".\")","v":""}]
[0,{"$error":"#VALUE!"},{"$error":"#VALUE!"},{"$f":"SUBSTITUTE(IN!G897,\"-\",\"\")","v":""},"",{"$f":"IN!F897*60","v":0},0,"-",{"$f":"SUBSTITUTE(IN!F897,\",\",\".\")","v":""}]
[0,{"$error":"#VALUE!"},{"$error":"#VALUE!"},{"$f":"SUBSTITUTE(IN!G898,\"-\",\"\")","v":""},"",{"$f":"IN!F898*60","v":0},0,"-",{"$f":"SUBSTITUTE(IN!F898,\",\",\".\")","v":""}]
[0,{"$error":"#VALUE!"},{"$error":"#VALUE!"},{"$f":"SUBSTITUTE(IN!G899,\"-\",\"\")","v":""},"",{"$f":"IN!F899*60","v":0},0,"-",{"$f":"SUBSTITUTE(IN!F899,\",\",\".\")","v":""}]
[0,{"$error":"#VALUE!"},{"$error":"#VALUE!"},{"$f":"SUBSTITUTE(IN!G900,\"-\",\"\")","v":""},"",{"$f":"IN!F900*60","v":0},0,"-",{"$f":"SUBSTITUTE(IN!F900,\",\",\".\")","v":""}]
[{"$f":"LEN(D901)","v":0},{"$f":"VALUE(LEFT(D901,1))","v":{"$error":"#VALUE!"}},{"$f":"IF(B901<2,20,19)","v":{"$error":"#VALUE!"}},{"$f":"SUBSTITUTE(IN!G901,\"-\",\"\")","v":""},{"$f":"IF(A901=10,CONCATENATE(C901,D901),D901)","v":""},{"$f":"IN!F901*60","v":0},{"$f":"ROUND(F901,0)","v":0},{"$f":"CONCATENATE(MID(E901,1,8),\"-\",MID(E901,9,4))","v":"-"},{"$f":"SUBSTITUTE(IN!F901,\",\",\".\")","v":""}]
[0,{"$error":"#VALUE!"},{"$error":"#VALUE!"},{"$f":"SUBSTITUTE(IN!G902,\"-\",\"\")","v":""},"",{"$f":"IN!F902*60","v":0},0,"-",{"$f":"SUBSTITUTE(IN!F902,\",\",\".\")","v":""}]
[0,{"$error":"#VALUE!"},{"$error":"#VALUE!"},{"$f":"SUBSTITUTE(IN!G903,\"-\",\"\")","v":""},"",{"$f":"IN!F903*60","v":0},0,"-",{"$f":"SUBSTITUTE(IN!F903,\",\",\".\")","v":""}]
[0,{"$error":"#VALUE!"},{"$error":"#VALUE!"},{"$f":"SUBSTITUTE(IN!G904,\"-\",\"\")","v":""},"",{"$f":"IN!F904*60","v":0},0,"-",{"$f":"SUBSTITUTE(IN!F904,\",\",\".\")","v":""}]
[0,{"$error":"#VALUE!"},{"$error":"#VALUE!"},{"$f":"SUBSTITUTE(IN!G905,\"-\",\"\")","v":""},"",{"$f":"IN!F905*60","v":0},0,"-",{"$f":"SUBSTITUTE(IN!F905,\",\",\".\")","v":""}]
[0,{"$error":"#VALUE!"},{"$error":"#VALUE!"},{"$f":"SUBSTITUTE(IN!G906,\"-\",\"\")","v":""},"",{"$f":"IN!F906*60","v":0},0,"-",{"$f":"SUBSTITUTE(IN!F906,\",\",\".\")","v":""}]
[0,{"$error":"#VALUE!"},{"$error":"#VALUE!"},{"$f":"SUBSTITUTE(IN!G907,\"-\",\"\")","v":""},"",{"$f":"IN!F907*60","v":0},0,"-",{"$f":"SUBSTITUTE(IN!F907,\",\",\".\")","v":""}]
[0,{"$error":"#VALUE!"},{"$error":"#VALUE!"},{"$f":"SUBSTITUTE(IN!G908,\"-\",\"\")","v":""},"",{"$f":"IN!F908*60","v":0},0,"-",{"$f":"SUBSTITUTE(IN!F908,\",\",\".\")","v":""}]
[0,{"$error":"#VALUE!"},{"$error":"#VALUE!"},{"$f":"SUBSTITUTE(IN!G909,\"-\",\"\")","v":""},"",{"$f":"IN!F909*60","v":0},0,"-",{"$f":"SUBSTITUTE(IN!F909,\",\",\".\")","v":""}]
[0,{"$error":"#VALUE!"},{"$error":"#VALUE!"},{"$f":"SUBSTITUTE(IN!G910,\"-\",\"\")","v":""},"",{"$f":"IN!F910*60","v":0},0,"-",{"$f":"SUBSTITUTE(IN!F910,\",\",\".\")","v":""}]
[0,{"$error":"#VALUE!"},{"$error":"#VALUE!"},{"$f":"SUBSTITUTE(IN!G911,\"-\",\"\")","v":""},"",{"$f":"IN!F911*60","v":0},0,"-",{"$f":"SUBSTITUTE(IN!F911,\",\",\".\")","v":""}]
[0,{"$error":"#VALUE!"},{"$error":"#VALUE!"},{"$f":"SUBSTITUTE(IN!G912,\"-\",\"\")","v":""},"",{"$f":"IN!F912*60","v":0},0,"-",{"$f":"SUBSTITUTE(IN!F912,\",\",\".\")","v":""}]
[0,{"$error":"#VALUE!"},{"$error":"#VALUE!"},{"$f":"SUBSTITUTE(IN!G913,\"-\",\"\")","v":""},"",{"$f":"IN!F913*60","v":0},0,"-",{"$f":"SUBSTITUTE(IN!F913,\",\",\".\")","v":""}]
[0,{"$error":"#VALUE!"},{"$error":"#VALUE!"},{"$f":"SUBSTITUTE(IN!G914,\"-\",\"\")","v":""},"",{"$f":"IN!F914*60","v":0},0,"-",{"$f":"SUBSTITUTE(IN!F914,\",\",\".\")","v":""}]
[0,{"$error":"#VALUE!"},{"$error":"#VALUE!"},{"$f":"SUBSTITUTE(IN!G915,\"-\",\"\")","v":""},"",{"$f":"IN!F915*60","v":0},0,"-",{"$f":"SUBSTITUTE(IN!F915,\",\",\".\")","v":""}]
[0,{"$error":"#VALUE!"},{"$error":"#VALUE!"},{"$f":"SUBSTITUTE(IN!G916,\"-\",\"\")","v":""},"",{"$f":"IN!F916*60","v":0},0,"-",{"$f":"SUBSTITUTE(IN!F916,\",\",\".\")","v":""}]
[0,{"$error":"#VALUE!"},{"$error":"#VALUE!"},{"$f":"SUBSTITUTE(IN!G917,\"-\",\"\")","v":""},"",{"$f":"IN!F917*60","v":0},0,"-",{"$f":"SUBSTITUTE(IN!F917,\",\",\".\")","v":""}]
[0,{"$error":"#VALUE!"},{"$error":"#VALUE!"},{"$f":"SUBSTITUTE(IN!G918,\"-\",\"\")","v":""},"",{"$f":"IN!F918*60","v":0},0,"-",{"$f":"SUBSTITUTE(IN!F918,\",\",\".\")","v":""}]
[0,{"$error":"#VALUE!"},{"$error":"#VALUE!"},{"$f":"SUBSTITUTE(IN!G919,\"-\",\"\")","v":""},"",{"$f":"IN!F919*60","v":0},0,"-",{"$f":"SUBSTITUTE(IN!F919,\",\",\".\")","v":""}]
[0,{"$error":"#VALUE!"},{"$error":"#VALUE!"},{"$f":"SUBSTITUTE(IN!G920,\"-\",\"\")","v":""},"",{"$f":"IN!F920*60","v":0},0,"-",{"$f":"SUBSTITUTE(IN!F920,\",\",\".\")","v":""}]
[0,{"$error":"#VALUE!"},{"$error":"#VALUE!"},{"$f":"SUBSTITUTE(IN!G921,\"-\",\"\")","v":""},"",{"$f":"IN!F921*60","v":0},0,"-",{"$f":"SUBSTITUTE(IN!F921,\",\",\".\")","v":""}]
[0,{"$error":"#VALUE!"},{"$error":"#VALUE!"},{"$f":"SUBSTITUTE(IN!G922,\"-\",\"\")","v":""},"",{"$f":"IN!F922*60","v":0},0,"-",{"$f":"SUBSTITUTE(IN!F922,\",\",\".\")","v":""}]
[0,{"$error":"#VALUE!"},{"$error":"#VALUE!"},{"$f":"SUBSTITUTE(IN!G923,\"-\",\"\")","v":""},"",{"$f":"IN!F923*60","v":0},0,"-",{"$f":"SUBSTITUTE(IN!F923,\",\",\".\")","v":""}]
[0,{"$error":"#VALUE!"},{"$error":"#VALUE!"},{"$f":"SUBSTITUTE(IN!G924,\"-\",\"\")","v":""},"",{"$f":"IN!F924*60","v":0},0,"-",{"$f":"SUBSTITUTE(IN!F924,\",\",\".\")","v":""}]
[0,{"$error":"#VALUE!"},{"$error":"#VALUE!"},{"$f":"SUBSTITUTE(IN!G925,\"-\",\"\")","v":""},"",{"$f":"IN!F925*60","v":0},0,"-",{"$f":"SUBSTITUTE(IN!F925,\",\",\".\")","v":""}]
[0,{"$error":"#VALUE!"},{"$error":"#VALUE!"},{"$f":"SUBSTITUTE(IN!G926,\"-\",\"\")","v":""},"",{"$f":"IN!F926*60","v":0},0,"-",{"$f":"SUBSTITUTE(IN!F926,\",\",\".\")","v":""}]
[0,{"$error":"#VALUE!"},{"$error":"#VALUE!"},{"$f":"SUBSTITUTE(IN!G927,\"-\",\"\")","v":""},"",{"$f":"IN!F927*60","v":0},0,"-",{"$f":"SUBSTITUTE(IN!F927,\",\",\".\")","v":""}]
[0,{"$error":"#VALUE!"},{"$error":"#VALUE!"},{"$f":"SUBSTITUTE(IN!G928,\"-\",\"\")","v":""},"",{"$f":"IN!F928*60","v":0},0,"-",{"$f":"SUBSTITUTE(IN!F928,\",\",\".\")","v":""}]
[0,{"$error":"#VALUE!"},{"$error":"#VALUE!"},{"$f":"SUBSTITUTE(IN!G929,\"-\",\"\")","v":""},"",{"$f":"IN!F929*60","v":0},0,"-",{"$f":"SUBSTITUTE(IN!F929,\",\",\".\")","v":""}]
[0,{"$error":"#VALUE!"},{"$error":"#VALUE!"},{"$f":"SUBSTITUTE(IN!G930,\"-\",\"\")","v":""},"",{"$f":"IN!F930*60","v":0},0,"-",{"$f":"SUBSTITUTE(IN!F930,\",\",\".\")","v":""}]
[0,{"$error":"#VALUE!"},{"$error":"#VALUE!"},{"$f":"SUBSTITUTE(IN!G931,\"-\",\"\")","v":""},"",{"$f":"IN!F931*60","v":0},0,"-",{"$f":"SUBSTITUTE(IN!F931,\",\",\".\")","v":""}]
[0,{"$error":"#VALUE!"},{"$error":"#VALUE!"},{"$f":"SUBSTITUTE(IN!G932,\"-\",\"\")","v":""},"",{"$f":"IN!F932*60","v":0},0,"-",{"$f":"SUBSTITUTE(IN!F932,\",\",\".\")","v":""}]
[0,{"$error":"#VALUE!"},{"$error":"#VALUE!"},{"$f":"SUBSTITUTE(IN!G933,\"-\",\"\")","v":""},"",{"$f":"IN!F933*60","v":0},0,"-",{"$f":"SUBSTITUTE(IN!F933,\",\",\".\")","v":""}]
[0,{"$error":"#VALUE!"},{"$error":"#VALUE!"},{"$f":"SUBSTITUTE(IN!G934,\"-\",\"\")","v":""},"",{"$f":"IN!F934*60","v":0},0,"-",{"$f":"SUBSTITUTE(IN!F934,\",\",\".\")","v":""}]
[0,{"$error":"#VALUE!"},{"$error":"#VALUE!"},{"$f":"SUBSTITUTE(IN!G935,\"-\",\"\")","v":""},"",{"$f":"IN!F935*60","v":0},0,"-",{"$f":"SUBSTITUTE(IN!F935,\",\",\".\")","v":""}]
[0,{"$error":"#VALUE!"},{"$error":"#VALUE!"},{"$f":"SUBSTITUTE(IN!G936,\"-\",\"\")","v":""},"",{"$f":"IN!F936*60","v":0},0,"-",{"$f":"SUBSTITUTE(IN!F936,\",\",\".\")","v":""}]
[0,{"$error":"#VALUE!"},{"$error":"#VALUE!"},{"$f":"SUBSTITUTE(IN!G937,\"-\",\"\")","v":""},"",{"$f":"IN!F937*60","v":0},0,"-",{"$f":"SUBSTITUTE(IN!F937,\",\",\".\")","v":""}]
[0,{"$error":"#VALUE!"},{"$error":"#VALUE!"},{"$f":"SUBSTITUTE(IN!G938,\"-\",\"\")","v":""},"",{"$f":"IN!F938*60","v":0},0,"-",{"$f":"SUBSTITUTE(IN!F938,\",\",\".\")","v":""}]
[0,{"$error":"#VALUE!"},{"$error":"#VALUE!"},{"$f":"SUBSTITUTE(IN!G939,\"-\",\"\")","v":""},"",{"$f":"IN!F939*60","v":0},0,"-",{"$f":"SUBSTITUTE(IN!F939,\",\",\".\")","v":""}]
[0,{"$error":"#VALUE!"},{"$error":"#VALUE!"},{"$f":"SUBSTITUTE(IN!G940,\"-\",\"\")","v":""},"",{"$f":"IN!F940*60","v":0},0,"-",{"$f":"SUBSTITUTE(IN!F940,\",\",\".\")","v":""}]
[0,{"$error":"#VALUE!"},{"$error":"#VALUE!"},{"$f":"SUBSTITUTE(IN!G941,\"-\",\"\")","v":""},"",{"$f":"IN!F941*60","v":0},0,"-",{"$f":"SUBSTITUTE(IN!F941,\",\",\".\")","v":""}]
[0,{"$error":"#VALUE!"},{"$error":"#VALUE!"},{"$f":"SUBSTITUTE(IN!G942,\"-\",\"\")","v":""},"",{"$f":"IN!F942*60","v":0},0,"-",{"$f":"SUBSTITUTE(IN!F942,\",\",\".\")","v":""}]
[0,{"$error":"#VALUE!"},{"$error":"#VALUE!"},{"$f":"SUBSTITUTE(IN!G943,\"-\",\"\")","v":""},"",{"$f":"IN!F943*60","v":0},0,"-",{"$f":"SUBSTITUTE(IN!F943,\",\",\".\")","v":""}]
[0,{"$error":"#VALUE!"},{"$error":"#VALUE!"},{"$f":"SUBSTITUTE(IN!G944,\"-\",\"\")","v":""},"",{"$f":"IN!F944*60","v":0},0,"-",{"$f":"SUBSTITUTE(IN!F944,\",\",\".\")","v":""}]
[0,{"$error":"#VALUE!"},{"$error":"#VALUE!"},{"$f":"SUBSTITUTE(IN!G945,\"-\",\"\")","v":""},"",{"$f":"IN!F945*60","v":0},0,"-",{"$f":"SUBSTITUTE(IN!F945,\",\",\".\")","v":""}]
[0,{"$error":"#VALUE!"},{"$error":"#VALUE!"},{"$f":"SUBSTITUTE(IN!G946,\"-\",\"\")","v":""},"",{"$f":"IN!F946*60","v":0},0,"-",{"$f":"SUBSTITUTE(IN!F946,\",\",\".\")","v":""}]
[0,{"$error":"#VALUE!"},{"$error":"#VALUE!"},{"$f":"SUBSTITUTE(IN!G947,\"-\",\"\")","v":""},"",{"$f":"IN!F947*60","v":0},0,"-",{"$f":"SUBSTITUTE(IN!F947,\",\",\".\")","v":""}]
[0,{"$error":"#VALUE!"},{"$error":"#VALUE!"},{"$f":"SUBSTITUTE(IN!G948,\"-\",\"\")","v":""},"",{"$f":"IN!F948*60","v":0},0,"-",{"$f":"SUBSTITUTE(IN!F948,\",\",\".\")","v":""}]
[0,{"$error":"#VALUE!"},{"$error":"#VALUE!"},{"$f":"SUBSTITUTE(IN!G949,\"-\",\"\")","v":""},"",{"$f":"IN!F949*60","v":0},0,"-",{"$f":"SUBSTITUTE(IN!F949,\",\",\".\")","v":""}]
[0,{"$error":"#VALUE!"},{"$error":"#VALUE!"},{"$f":"SUBSTITUTE(IN!G950,\"-\",\"\")","v":""},"",{"$f":"IN!F950*60","v":0},0,"-",{"$f":"SUBSTITUTE(IN!F950,\",\",\".\")","v":""}]
[0,{"$error":"#VALUE!"},{"$error":"#VALUE!"},{"$f":"SUBSTITUTE(IN!G951,\"-\",\"\")","v":""},"",{"$f":"IN!F951*60","v":0},0,"-",{"$f":"SUBSTITUTE(IN!F951,\",\",\".\")","v":""}]
[0,{"$error":"#VALUE!"},{"$error":"#VALUE!"},{"$f":"SUBSTITUTE(IN!G952,\"-\",\"\")","v":""},"",{"$f":"IN!F952*60","v":0},0,"-",{"$f":"SUBSTITUTE(IN!F952,\",\",\".\")","v":""}]
[0,{"$error":"#VALUE!"},{"$error":"#VALUE!"},{"$f":"SUBSTITUTE(IN!G953,\"-\",\"\")","v":""},"",{"$f":"IN!F953*60","v":0},0,"-",{"$f":"SUBSTITUTE(IN!F953,\",\",\".\")","v":""}]
[0,{"$error":"#VALUE!"},{"$error":"#VALUE!"},{"$f":"SUBSTITUTE(IN!G954,\"-\",\"\")","v":""},"",{"$f":"IN!F954*60","v":0},0,"-",{"$f":"SUBSTITUTE(IN!F954,\",\",\".\")","v":""}]
[0,{"$error":"#VALUE!"},{"$error":"#VALUE!"},{"$f":"SUBSTITUTE(IN!G955,\"-\",\"\")","v":""},"",{"$f":"IN!F955*60","v":0},0,"-",{"$f":"SUBSTITUTE(IN!F955,\",\",\".\")","v":""}]
[0,{"$error":"#VALUE!"},{"$error":"#VALUE!"},{"$f":"SUBSTITUTE(IN!G956,\"-\",\"\")","v":""},"",{"$f":"IN!F956*60","v":0},0,"-",{"$f":"SUBSTITUTE(IN!F956,\",\",\".\")","v":""}]
[0,{"$error":"#VALUE!"},{"$error":"#VALUE!"},{"$f":"SUBSTITUTE(IN!G957,\"-\",\"\")","v":""},"",{"$f":"IN!F957*60","v":0},0,"-",{"$f":"SUBSTITUTE(IN!F957,\",\",\".\")","v":""}]
[0,{"$error":"#VALUE!"},{"$error":"#VALUE!"},{"$f":"SUBSTITUTE(IN!G958,\"-\",\"\")","v":""},"",{"$f":"IN!F958*60","v":0},0,"-",{"$f":"SUBSTITUTE(IN!F958,\",\",\".\")","v":""}]
[0,{"$error":"#VALUE!"},{"$error":"#VALUE!"},{"$f":"SUBSTITUTE(IN!G959,\"-\",\"\")","v":""},"",{"$f":"IN!F959*60","v":0},0,"-",{"$f":"SUBSTITUTE(IN!F959,\",\",\".\")","v":""}]
[0,{"$error":"#VALUE!"},{"$error":"#VALUE!"},{"$f":"SUBSTITUTE(IN!G960,\"-\",\"\")","v":""},"",{"$f":"IN!F960*60","v":0},0,"-",{"$f":"SUBSTITUTE(IN!F960,\",\",\".\")","v":""}]
[0,{"$error":"#VALUE!"},{"$error":"#VALUE!"},{"$f":"SUBSTITUTE(IN!G961,\"-\",\"\")","v":""},"",{"$f":"IN!F961*60","v":0},0,"-",{"$f":"SUBSTITUTE(IN!F961,\",\",\".\")","v":""}]
[0,{"$error":"#VALUE!"},{"$error":"#VALUE!"},{"$f":"SUBSTITUTE(IN!G962,\"-\",\"\")","v":""},"",{"$f":"IN!F962*60","v":0},0,"-",{"$f":"SUBSTITUTE(IN!F962,\",\",\".\")","v":""}]
[0,{"$error":"#VALUE!"},{"$error":"#VALUE!"},{"$f":"SUBSTITUTE(IN!G963,\"-\",\"\")","v":""},"",{"$f":"IN!F963*60","v":0},0,"-",{"$f":"SUBSTITUTE(IN!F963,\",\",\".\")","v":""}]
[0,{"$error":"#VALUE!"},{"$error":"#VALUE!"},{"$f":"SUBSTITUTE(IN!G964,\"-\",\"\")","v":""},"",{"$f":"IN!F964*60","v":0},0,"-",{"$f":"SUBSTITUTE(IN!F964,\",\",\".\")","v":""}]
[{"$f":"LEN(D965)","v":0},{"$f":"VALUE(LEFT(D965,1))","v":{"$error":"#VALUE!"}},{"$f":"IF(B965<2,20,19)","v":{"$error":"#VALUE!"}},{"$f":"SUBSTITUTE(IN!G965,\"-\",\"\")","v":""},{"$f":"IF(A965=10,CONCATENATE(C965,D965),D965)","v":""},{"$f":"IN!F965*60","v":0},{"$f":"ROUND(F965,0)","v":0},{"$f":"CONCATENATE(MID(E965,1,8),\"-\",MID(E965,9,4))","v":"-"},{"$f":"SUBSTITUTE(IN!F965,\",\",\".\")","v":""}]
[0,{"$error":"#VALUE!"},{"$error":"#VALUE!"},{"$f":"SUBSTITUTE(IN!G966,\"-\",\"\")","v":""},"",{"$f":"IN!F966*60","v":0},0,"-",{"$f":"SUBSTITUTE(IN!F966,\",\",\".\")","v":""}]
[0,{"$error":"#VALUE!"},{"$error":"#VALUE!"},{"$f":"SUBSTITUTE(IN!G967,\"-\",\"\")","v":""},"",{"$f":"IN!F967*60","v":0},0,"-",{"$f":"SUBSTITUTE(IN!F967,\",\",\".\")","v":""}]
[0,{"$error":"#VALUE!"},{"$error":"#VALUE!"},{"$f":"SUBSTITUTE(IN!G968,\"-\",\"\")","v":""},"",{"$f":"IN!F968*60","v":0},0,"-",{"$f":"SUBSTITUTE(IN!F968,\",\",\".\")","v":""}]
[0,{"$error":"#VALUE!"},{"$error":"#VALUE!"},{"$f":"SUBSTITUTE(IN!G969,\"-\",\"\")","v":""},"",{"$f":"IN!F969*60","v":0},0,"-",{"$f":"SUBSTITUTE(IN!F969,\",\",\".\")","v":""}]
[0,{"$error":"#VALUE!"},{"$error":"#VALUE!"},{"$f":"SUBSTITUTE(IN!G970,\"-\",\"\")","v":""},"",{"$f":"IN!F970*60","v":0},0,"-",{"$f":"SUBSTITUTE(IN!F970,\",\",\".\")","v":""}]
[0,{"$error":"#VALUE!"},{"$error":"#VALUE!"},{"$f":"SUBSTITUTE(IN!G971,\"-\",\"\")","v":""},"",{"$f":"IN!F971*60","v":0},0,"-",{"$f":"SUBSTITUTE(IN!F971,\",\",\".\")","v":""}]
[0,{"$error":"#VALUE!"},{"$error":"#VALUE!"},{"$f":"SUBSTITUTE(IN!G972,\"-\",\"\")","v":""},"",{"$f":"IN!F972*60","v":0},0,"-",{"$f":"SUBSTITUTE(IN!F972,\",\",\".\")","v":""}]
[0,{"$error":"#VALUE!"},{"$error":"#VALUE!"},{"$f":"SUBSTITUTE(IN!G973,\"-\",\"\")","v":""},"",{"$f":"IN!F973*60","v":0},0,"-",{"$f":"SUBSTITUTE(IN!F973,\",\",\".\")","v":""}]
[0,{"$error":"#VALUE!"},{"$error":"#VALUE!"},{"$f":"SUBSTITUTE(IN!G974,\"-\",\"\")","v":""},"",{"$f":"IN!F974*60","v":0},0,"-",{"$f":"SUBSTITUTE(IN!F974,\",\",\".\")","v":""}]
[0,{"$error":"#VALUE!"},{"$error":"#VALUE!"},{"$f":"SUBSTITUTE(IN!G975,\"-\",\"\")","v":""},"",{"$f":"IN!F975*60","v":0},0,"-",{"$f":"SUBSTITUTE(IN!F975,\",\",\".\")","v":""}]
[0,{"$error":"#VALUE!"},{"$error":"#VALUE!"},{"$f":"SUBSTITUTE(IN!G976,\"-\",\"\")","v":""},"",{"$f":"IN!F976*60","v":0},0,"-",{"$f":"SUBSTITUTE(IN!F976,\",\",\".\")","v":""}]
[0,{"$error":"#VALUE!"},{"$error":"#VALUE!"},{"$f":"SUBSTITUTE(IN!G977,\"-\",\"\")","v":""},"",{"$f":"IN!F977*60","v":0},0,"-",{"$f":"SUBSTITUTE(IN!F977,\",\",\".\")","v":""}]
[0,{"$error":"#VALUE!"},{"$error":"#VALUE!"},{"$f":"SUBSTITUTE(IN!G978,\"-\",\"\")","v":""},"",{"$f":"IN!F978*60","v":0},0,"-",{"$f":"SUBSTITUTE(IN!F978,\",\",\".\")","v":""}]
[0,{"$error":"#VALUE!"},{"$error":"#VALUE!"},{"$f":"SUBSTITUTE(IN!G979,\"-\",\"\")","v":""},"",{"$f":"IN!F979*60","v":0},0,"-",{"$f":"SUBSTITUTE(IN!F979,\",\",\".\")","v":""}]
[0,{"$error":"#VALUE!"},{"$error":"#VALUE!"},{"$f":"SUBSTITUTE(IN!G980,\"-\",\"\")","v":""},"",{"$f":"IN!F980*60","v":0},0,"-",{"$f":"SUBSTITUTE(IN!F980,\",\",\".\")","v":""}]
[0,{"$error":"#VALUE!"},{"$error":"#VALUE!"},{"$f":"SUBSTITUTE(IN!G981,\"-\",\"\")","v":""},"",{"$f":"IN!F981*60","v":0},0,"-",{"$f":"SUBSTITUTE(IN!F981,\",\",\".\")","v":""}]
[0,{"$error":"#VALUE!"},{"$error":"#VALUE!"},{"$f":"SUBSTITUTE(IN!G982,\"-\",\"\")","v":""},"",{"$f":"IN!F982*60","v":0},0,"-",{"$f":"SUBSTITUTE(IN!F982,\",\",\".\")","v":""}]
[0,{"$error":"#VALUE!"},{"$error":"#VALUE!"},{"$f":"SUBSTITUTE(IN!G983,\"-\",\"\")","v":""},"",{"$f":"IN!F983*60","v":0},0,"-",{"$f":"SUBSTITUTE(IN!F983,\",\",\".\")","v":""}]
[0,{"$error":"#VALUE!"},{"$error":"#VALUE!"},{"$f":"SUBSTITUTE(IN!G984,\"-\",\"\")","v":""},"",{"$f":"IN!F984*60","v":0},0,"-",{"$f":"SUBSTITUTE(IN!F984,\",\",\".\")","v":""}]
[0,{"$error":"#VALUE!"},{"$error":"#VALUE!"},{"$f":"SUBSTITUTE(IN!G985,\"-\",\"\")","v":""},"",{"$f":"IN!F985*60","v":0},0,"-",{"$f":"SUBSTITUTE(IN!F985,\",\",\".\")","v":""}]
[0,{"$error":"#VALUE!"},{"$error":"#VALUE!"},{"$f":"SUBSTITUTE(IN!G986,\"-\",\"\")","v":""},"",{"$f":"IN!F986*60","v":0},0,"-",{"$f":"SUBSTITUTE(IN!F986,\",\",\".\")","v":""}]
[0,{"$error":"#VALUE!"},{"$error":"#VALUE!"},{"$f":"SUBSTITUTE(IN!G987,\"-\",\"\")","v":""},"",{"$f":"IN!F987*60","v":0},0,"-",{"$f":"SUBSTITUTE(IN!F987,\",\",\".\")","v":""}]
[0,{"$error":"#VALUE!"},{"$error":"#VALUE!"},{"$f":"SUBSTITUTE(IN!G988,\"-\",\"\")","v":""},"",{"$f":"IN!F988*60","v":0},0,"-",{"$f":"SUBSTITUTE(IN!F988,\",\",\".\")","v":""}]
[0,{"$error":"#VALUE!"},{"$error":"#VALUE!"},{"$f":"SUBSTITUTE(IN!G989,\"-\",\"\")","v":""},"",{"$f":"IN!F989*60","v":0},0,"-",{"$f":"SUBSTITUTE(IN!F989,\",\",\".\")","v":""}]
[0,{"$error":"#VALUE!"},{"$error":"#VALUE!"},{"$f":"SUBSTITUTE(IN!G990,\"-\",\"\")","v":""},"",{"$f":"IN!F990*60","v":0},0,"-",{"$f":"SUBSTITUTE(IN!F990,\",\",\".\")","v":""}]
[0,{"$error":"#VALUE!"},{"$error":"#VALUE!"},{"$f":"SUBSTITUTE(IN!G991,\"-\",\"\")","v":""},"",{"$f":"IN!F991*60","v":0},0,"-",{"$f":"SUBSTITUTE(IN!F991,\",\",\".\")","v":""}]
[0,{"$error":"#VALUE!"},{"$error":"#VALUE!"},{"$f":"SUBSTITUTE(IN!G992,\"-\",\"\")","v":""},"",{"$f":"IN!F992*60","v":0},0,"-",{"$f":"SUBSTITUTE(IN!F992,\",\",\".\")","v":""}]
[0,{"$error":"#VALUE!"},{"$error":"#VALUE!"},{"$f":"SUBSTITUTE(IN!G993,\"-\",\"\")","v":""},"",{"$f":"IN!F993*60","v":0},0,"-",{"$f":"SUBSTITUTE(IN!F993,\",\",\".\")","v":""}]
[0,{"$error":"#VALUE!"},{"$error":"#VALUE!"},{"$f":"SUBSTITUTE(IN!G994,\"-\",\"\")","v":""},"",{"$f":"IN!F994*60","v":0},0,"-",{"$f":"SUBSTITUTE(IN!F994,\",\",\".\")","v":""}]
[0,{"$error":"#VALUE!"},{"$error":"#VALUE!"},{"$f":"SUBSTITUTE(IN!G995,\"-\",\"\")","v":""},"",{"$f":"IN!F995*60","v":0},0,"-",{"$f":"SUBSTITUTE(IN!F995,\",\",\".\")","v":""}]
[0,{"$error":"#VALUE!"},{"$error":"#VALUE!"},{"$f":"SUBSTITUTE(IN!G996,\"-\",\"\")","v":""},"",{"$f":"IN!F996*60","v":0},0,"-",{"$f":"SUBSTITUTE(IN!F996,\",\",\".\")","v":""}]
[0,{"$error":"#VALUE!"},{"$error":"#VALUE!"},{"$f":"SUBSTITUTE(IN!G997,\"-\",\"\")","v":""},"",{"$f":"IN!F997*60","v":0},0,"-",{"$f":"SUBSTITUTE(IN!F997,\",\",\".\")","v":""}]
[0,{"$error":"#VALUE!"},{"$error":"#VALUE!"},{"$f":"SUBSTITUTE(IN!G998,\"-\",\"\")","v":""},"",{"$f":"IN!F998*60","v":0},0,"-",{"$f":"SUBSTITUTE(IN!F998,\",\",\".\")","v":""}]
[0,{"$error":"#VALUE!"},{"$error":"#VALUE!"},{"$f":"SUBSTITUTE(IN!G999,\"-\",\"\")","v":""},"",{"$f":"IN!F999*60","v":0},0,"-",{"$f":"SUBSTITUTE(IN!F999,\",\",\".\")","v":""}]
[0,{"$error":"#VALUE!"},{"$error":"#VALUE!"},{"$f":"SUBSTITUTE(IN!G1000,\"-\",\"\")","v":""},"",{"$f":"IN!F1000*60","v":0},0,"-",{"$f":"SUBSTITUTE(IN!F1000,\",\",\".\")","v":""}]
[0,{"$error":"#VALUE!"},{"$error":"#VALUE!"},{"$f":"SUBSTITUTE(IN!G1001,\"-\",\"\")","v":""},"",{"$f":"IN!F1001*60","v":0},0,"-",{"$f":"SUBSTITUTE(IN!F1001,\",\",\".\")","v":""}]
[0,{"$error":"#VALUE!"},{"$error":"#VALUE!"},{"$f":"SUBSTITUTE(IN!G1002,\"-\",\"\")","v":""},"",{"$f":"IN!F1002*60","v":0},0,"-",{"$f":"SUBSTITUTE(IN!F1002,\",\",\".\")","v":""}]
[0,{"$error":"#VALUE!"},{"$error":"#VALUE!"},{"$f":"SUBSTITUTE(IN!G1003,\"-\",\"\")","v":""},"",{"$f":"IN!F1003*60","v":0},0,"-",{"$f":"SUBSTITUTE(IN!F1003,\",\",\".\")","v":""}]
[0,{"$error":"#VALUE!"},{"$error":"#VALUE!"},{"$f":"SUBSTITUTE(IN!G1004,\"-\",\"\")","v":""},"",{"$f":"IN!F1004*60","v":0},0,"-",{"$f":"SUBSTITUTE(IN!F1004,\",\",\".\")","v":""}]
[0,{"$error":"#VALUE!"},{"$error":"#VALUE!"},{"$f":"SUBSTITUTE(IN!G1005,\"-\",\"\")","v":""},"",{"$f":"IN!F1005*60","v":0},0,"-",{"$f":"SUBSTITUTE(IN!F1005,\",\",\".\")","v":""}]
[0,{"$error":"#VALUE!"},{"$error":"#VALUE!"},{"$f":"SUBSTITUTE(IN!G1006,\"-\",\"\")","v":""},"",{"$f":"IN!F1006*60","v":0},0,"-",{"$f":"SUBSTITUTE(IN!F1006,\",\",\".\")","v":""}]
[0,{"$error":"#VALUE!"},{"$error":"#VALUE!"},{"$f":"SUBSTITUTE(IN!G1007,\"-\",\"\")","v":""},"",{"$f":"IN!F1007*60","v":0},0,"-",{"$f":"SUBSTITUTE(IN!F1007,\",\",\".\")","v":""}]
[0,{"$error":"#VALUE!"},{"$error":"#VALUE!"},{"$f":"SUBSTITUTE(IN!G1008,\"-\",\"\")","v":""},"",{"$f":"IN!F1008*60","v":0},0,"-",{"$f":"SUBSTITUTE(IN!F1008,\",\",\".\")","v":""}]
[0,{"$error":"#VALUE!"},{"$error":"#VALUE!"},{"$f":"SUBSTITUTE(IN!G1009,\"-\",\"\")","v":""},"",{"$f":"IN!F1009*60","v":0},0,"-",{"$f":"SUBSTITUTE(IN!F1009,\",\",\".\")","v":""}]
[0,{"$error":"#VALUE!"},{"$error":"#VALUE!"},{"$f":"SUBSTITUTE(IN!G1010,\"-\",\"\")","v":""},"",{"$f":"IN!F1010*60","v":0},0,"-",{"$f":"SUBSTITUTE(IN!F1010,\",\",\".\")","v":""}]
[0,{"$error":"#VALUE!"},{"$error":"#VALUE!"},{"$f":"SUBSTITUTE(IN!G1011,\"-\",\"\")","v":""},"",{"$f":"IN!F1011*60","v":0},0,"-",{"$f":"SUBSTITUTE(IN!F1011,\",\",\".\")","v":""}]
[0,{"$error":"#VALUE!"},{"$error":"#VALUE!"},{"$f":"SUBSTITUTE(IN!G1012,\"-\",\"\")","v":""},"",{"$f":"IN!F1012*60","v":0},0,"-",{"$f":"SUBSTITUTE(IN!F1012,\",\",\".\")","v":""}]
[0,{"$error":"#VALUE!"},{"$error":"#VALUE!"},{"$f":"SUBSTITUTE(IN!G1013,\"-\",\"\")","v":""},"",{"$f":"IN!F1013*60","v":0},0,"-",{"$f":"SUBSTITUTE(IN!F1013,\",\",\".\")","v":""}]
[0,{"$error":"#VALUE!"},{"$error":"#VALUE!"},{"$f":"SUBSTITUTE(IN!G1014,\"-\",\"\")","v":""},"",{"$f":"IN!F1014*60","v":0},0,"-",{"$f":"SUBSTITUTE(IN!F1014,\",\",\".\")","v":""}]
[0,{"$error":"#VALUE!"},{"$error":"#VALUE!"},{"$f":"SUBSTITUTE(IN!G1015,\"-\",\"\")","v":""},"",{"$f":"IN!F1015*60","v":0},0,"-",{"$f":"SUBSTITUTE(IN!F1015,\",\",\".\")","v":""}]
[0,{"$error":"#VALUE!"},{"$error":"#VALUE!"},{"$f":"SUBSTITUTE(IN!G1016,\"-\",\"\")","v":""},"",{"$f":"IN!F1016*60","v":0},0,"-",{"$f":"SUBSTITUTE(IN!F1016,\",\",\".\")","v":""}]
[0,{"$error":"#VALUE!"},{"$error":"#VALUE!"},{"$f":"SUBSTITUTE(IN!G1017,\"-\",\"\")","v":""},"",{"$f":"IN!F1017*60","v":0},0,"-",{"$f":"SUBSTITUTE(IN!F1017,\",\",\".\")","v":""}]
[0,{"$error":"#VALUE!"},{"$error":"#VALUE!"},{"$f":"SUBSTITUTE(IN!G1018,\"-\",\"\")","v":""},"",{"$f":"IN!F1018*60","v":0},0,"-",{"$f":"SUBSTITUTE(IN!F1018,\",\",\".\")","v":""}]
[0,{"$error":"#VALUE!"},{"$error":"#VALUE!"},{"$f":"SUBSTITUTE(IN!G1019,\"-\",\"\")","v":""},"",{"$f":"IN!F1019*60","v":0},0,"-",{"$f":"SUBSTITUTE(IN!F1019,\",\",\".\")","v":""}]
[0,{"$error":"#VALUE!"},{"$error":"#VALUE!"},{"$f":"SUBSTITUTE(IN!G1020,\"-\",\"\")","v":""},"",{"$f":"IN!F1020*60","v":0},0,"-",{"$f":"SUBSTITUTE(IN!F1020,\",\",\".\")","v":""}]
[0,{"$error":"#VALUE!"},{"$error":"#VALUE!"},{"$f":"SUBSTITUTE(IN!G1021,\"-\",\"\")","v":""},"",{"$f":"IN!F1021*60","v":0},0,"-",{"$f":"SUBSTITUTE(IN!F1021,\",\",\".\")","v":""}]
[0,{"$error":"#VALUE!"},{"$error":"#VALUE!"},{"$f":"SUBSTITUTE(IN!G1022,\"-\",\"\")","v":""},"",{"$f":"IN!F1022*60","v":0},0,"-",{"$f":"SUBSTITUTE(IN!F1022,\",\",\".\")","v":""}]
[0,{"$error":"#VALUE!"},{"$error":"#VALUE!"},{"$f":"SUBSTITUTE(IN!G1023,\"-\",\"\")","v":""},"",{"$f":"IN!F1023*60","v":0},0,"-",{"$f":"SUBSTITUTE(IN!F1023,\",\",\".\")","v":""}]
[0,{"$error":"#VALUE!"},{"$error":"#VALUE!"},{"$f":"SUBSTITUTE(IN!G1024,\"-\",\"\")","v":""},"",{"$f":"IN!F1024*60","v":0},0,"-",{"$f":"SUBSTITUTE(IN!F1024,\",\",\".\")","v":""}]
[0,{"$error":"#VALUE!"},{"$error":"#VALUE!"},{"$f":"SUBSTITUTE(IN!G1025,\"-\",\"\")","v":""},"",{"$f":"IN!F1025*60","v":0},0,"-",{"$f":"SUBSTITUTE(IN!F1025,\",\",\".\")","v":""}]
[0,{"$error":"#VALUE!"},{"$error":"#VALUE!"},{"$f":"SUBSTITUTE(IN!G1026,\"-\",\"\")","v":""},"",{"$f":"IN!F1026*60","v":0},0,"-",{"$f":"SUBSTITUTE(IN!F1026,\",\",\".\")","v":""}]
[0,{"$error":"#VALUE!"},{"$error":"#VALUE!"},{"$f":"SUBSTITUTE(IN!G1027,\"-\",\"\")","v":""},"",{"$f":"IN!F1027*60","v":0},0,"-",{"$f":"SUBSTITUTE(IN!F1027,\",\",\".\")","v":""}]
[0,{"$error":"#VALUE!"},{"$error":"#VALUE!"},{"$f":"SUBSTITUTE(IN!G1028,\"-\",\"\")","v":""},"",{"$f":"IN!F1028*60","v":0},0,"-",{"$f":"SUBSTITUTE(IN!F1028,\",\",\".\")","v":""}]
[{"$f":"LEN(D1029)","v":0},{"$f":"VALUE(LEFT(D1029,1))","v":{"$error":"#VALUE!"}},{"$f":"IF(B1029<2,20,19)","v":{"$error":"#VALUE!"}},{"$f":"SUBSTITUTE(IN!G1029,\"-\",\"\")","v":""},{"$f":"IF(A1029=10,CONCATENATE(C1029,D1029),D1029)","v":""},{"$f":"IN!F1029*60","v":0},{"$f":"ROUND(F1029,0)","v":0},{"$f":"CONCATENATE(MID(E1029,1,8),\"-\",MID(E1029,9,4))","v":"-"},{"$f":"SUBSTITUTE(IN!F1029,\",\",\".\")","v":""}]
[0,{"$error":"#VALUE!"},{"$error":"#VALUE!"},{"$f":"SUBSTITUTE(IN!G1030,\"-\",\"\")","v":""},"",{"$f":"IN!F1030*60","v":0},0,"-",{"$f":"SUBSTITUTE(IN!F1030,\",\",\".\")","v":""}]
[0,{"$error":"#VALUE!"},{"$error":"#VALUE!"},{"$f":"SUBSTITUTE(IN!G1031,\"-\",\"\")","v":""},"",{"$f":"IN!F1031*60","v":0},0,"-",{"$f":"SUBSTITUTE(IN!F1031,\",\",\".\")","v":""}]
[0,{"$error":"#VALUE!"},{"$error":"#VALUE!"},{"$f":"SUBSTITUTE(IN!G1032,\"-\",\"\")","v":""},"",{"$f":"IN!F1032*60","v":0},0,"-",{"$f":"SUBSTITUTE(IN!F1032,\",\",\".\")","v":""}]
[0,{"$error":"#VALUE!"},{"$error":"#VALUE!"},{"$f":"SUBSTITUTE(IN!G1033,\"-\",\"\")","v":""},"",{"$f":"IN!F1033*60","v":0},0,"-",{"$f":"SUBSTITUTE(IN!F1033,\",\",\".\")","v":""}]
[0,{"$error":"#VALUE!"},{"$error":"#VALUE!"},{"$f":"SUBSTITUTE(IN!G1034,\"-\",\"\")","v":""},"",{"$f":"IN!F1034*60","v":0},0,"-",{"$f":"SUBSTITUTE(IN!F1034,\",\",\".\")","v":""}]
[0,{"$error":"#VALUE!"},{"$error":"#VALUE!"},{"$f":"SUBSTITUTE(IN!G1035,\"-\",\"\")","v":""},"",{"$f":"IN!F1035*60","v":0},0,"-",{"$f":"SUBSTITUTE(IN!F1035,\",\",\".\")","v":""}]
[0,{"$error":"#VALUE!"},{"$error":"#VALUE!"},{"$f":"SUBSTITUTE(IN!G1036,\"-\",\"\")","v":""},"",{"$f":"IN!F1036*60","v":0},0,"-",{"$f":"SUBSTITUTE(IN!F1036,\",\",\".\")","v":""}]
[0,{"$error":"#VALUE!"},{"$error":"#VALUE!"},{"$f":"SUBSTITUTE(IN!G1037,\"-\",\"\")","v":""},"",{"$f":"IN!F1037*60","v":0},0,"-",{"$f":"SUBSTITUTE(IN!F1037,\",\",\".\")","v":""}]
[0,{"$error":"#VALUE!"},{"$error":"#VALUE!"},{"$f":"SUBSTITUTE(IN!G1038,\"-\",\"\")","v":""},"",{"$f":"IN!F1038*60","v":0},0,"-",{"$f":"SUBSTITUTE(IN!F1038,\",\",\".\")","v":""}]
[0,{"$error":"#VALUE!"},{"$error":"#VALUE!"},{"$f":"SUBSTITUTE(IN!G1039,\"-\",\"\")","v":""},"",{"$f":"IN!F1039*60","v":0},0,"-",{"$f":"SUBSTITUTE(IN!F1039,\",\",\".\")","v":""}]
[0,{"$error":"#VALUE!"},{"$error":"#VALUE!"},{"$f":"SUBSTITUTE(IN!G1040,\"-\",\"\")","v":""},"",{"$f":"IN!F1040*60","v":0},0,"-",{"$f":"SUBSTITUTE(IN!F1040,\",\",\".\")","v":""}]
[0,{"$error":"#VALUE!"},{"$error":"#VALUE!"},{"$f":"SUBSTITUTE(IN!G1041,\"-\",\"\")","v":""},"",{"$f":"IN!F1041*60","v":0},0,"-",{"$f":"SUBSTITUTE(IN!F1041,\",\",\".\")","v":""}]
[0,{"$error":"#VALUE!"},{"$error":"#VALUE!"},{"$f":"SUBSTITUTE(IN!G1042,\"-\",\"\")","v":""},"",{"$f":"IN!F1042*60","v":0},0,"-",{"$f":"SUBSTITUTE(IN!F1042,\",\",\".\")","v":""}]
[0,{"$error":"#VALUE!"},{"$error":"#VALUE!"},{"$f":"SUBSTITUTE(IN!G1043,\"-\",\"\")","v":""},"",{"$f":"IN!F1043*60","v":0},0,"-",{"$f":"SUBSTITUTE(IN!F1043,\",\",\".\")","v":""}]
[0,{"$error":"#VALUE!"},{"$error":"#VALUE!"},{"$f":"SUBSTITUTE(IN!G1044,\"-\",\"\")","v":""},"",{"$f":"IN!F1044*60","v":0},0,"-",{"$f":"SUBSTITUTE(IN!F1044,\",\",\".\")","v":""}]
[0,{"$error":"#VALUE!"},{"$error":"#VALUE!"},{"$f":"SUBSTITUTE(IN!G1045,\"-\",\"\")","v":""},"",{"$f":"IN!F1045*60","v":0},0,"-",{"$f":"SUBSTITUTE(IN!F1045,\",\",\".\")","v":""}]
[0,{"$error":"#VALUE!"},{"$error":"#VALUE!"},{"$f":"SUBSTITUTE(IN!G1046,\"-\",\"\")","v":""},"",{"$f":"IN!F1046*60","v":0},0,"-",{"$f":"SUBSTITUTE(IN!F1046,\",\",\".\")","v":""}]
[0,{"$error":"#VALUE!"},{"$error":"#VALUE!"},{"$f":"SUBSTITUTE(IN!G1047,\"-\",\"\")","v":""},"",{"$f":"IN!F1047*60","v":0},0,"-",{"$f":"SUBSTITUTE(IN!F1047,\",\",\".\")","v":""}]
[0,{"$error":"#VALUE!"},{"$error":"#VALUE!"},{"$f":"SUBSTITUTE(IN!G1048,\"-\",\"\")","v":""},"",{"$f":"IN!F1048*60","v":0},0,"-",{"$f":"SUBSTITUTE(IN!F1048,\",\",\".\")","v":""}]
[0,{"$error":"#VALUE!"},{"$error":"#VALUE!"},{"$f":"SUBSTITUTE(IN!G1049,\"-\",\"\")","v":""},"",{"$f":"IN!F1049*60","v":0},0,"-",{"$f":"SUBSTITUTE(IN!F1049,\",\",\".\")","v":""}]
[0,{"$error":"#VALUE!"},{"$error":"#VALUE!"},{"$f":"SUBSTITUTE(IN!G1050,\"-\",\"\")","v":""},"",{"$f":"IN!F1050*60","v":0},0,"-",{"$f":"SUBSTITUTE(IN!F1050,\",\",\".\")","v":""}]
[0,{"$error":"#VALUE!"},{"$error":"#VALUE!"},{"$f":"SUBSTITUTE(IN!G1051,\"-\",\"\")","v":""},"",{"$f":"IN!F1051*60","v":0},0,"-",{"$f":"SUBSTITUTE(IN!F1051,\",\",\".\")","v":""}]
[0,{"$error":"#VALUE!"},{"$error":"#VALUE!"},{"$f":"SUBSTITUTE(IN!G1052,\"-\",\"\")","v":""},"",{"$f":"IN!F1052*60","v":0},0,"-",{"$f":"SUBSTITUTE(IN!F1052,\",\",\".\")","v":""}]
[0,{"$error":"#VALUE!"},{"$error":"#VALUE!"},{"$f":"SUBSTITUTE(IN!G1053,\"-\",\"\")","v":""},"",{"$f":"IN!F1053*60","v":0},0,"-",{"$f":"SUBSTITUTE(IN!F1053,\",\",\".\")","v":""}]
[0,{"$error":"#VALUE!"},{"$error":"#VALUE!"},{"$f":"SUBSTITUTE(IN!G1054,\"-\",\"\")","v":""},"",{"$f":"IN!F1054*60","v":0},0,"-",{"$f":"SUBSTITUTE(IN!F1054,\",\",\".\")","v":""}]
[0,{"$error":"#VALUE!"},{"$error":"#VALUE!"},{"$f":"SUBSTITUTE(IN!G1055,\"-\",\"\")","v":""},"",{"$f":"IN!F1055*60","v":0},0,"-",{"$f":"SUBSTITUTE(IN!F1055,\",\",\".\")","v":""}]
[0,{"$error":"#VALUE!"},{"$error":"#VALUE!"},{"$f":"SUBSTITUTE(IN!G1056,\"-\",\"\")","v":""},"",{"$f":"IN!F1056*60","v":0},0,"-",{"$f":"SUBSTITUTE(IN!F1056,\",\",\".\")","v":""}]
[0,{"$error":"#VALUE!"},{"$error":"#VALUE!"},{"$f":"SUBSTITUTE(IN!G1057,\"-\",\"\")","v":""},"",{"$f":"IN!F1057*60","v":0},0,"-",{"$f":"SUBSTITUTE(IN!F1057,\",\",\".\")","v":""}]
[0,{"$error":"#VALUE!"},{"$error":"#VALUE!"},{"$f":"SUBSTITUTE(IN!G1058,\"-\",\"\")","v":""},"",{"$f":"IN!F1058*60","v":0},0,"-",{"$f":"SUBSTITUTE(IN!F1058,\",\",\".\")","v":""}]
[0,{"$error":"#VALUE!"},{"$error":"#VALUE!"},{"$f":"SUBSTITUTE(IN!G1059,\"-\",\"\")","v":""},"",{"$f":"IN!F1059*60","v":0},0,"-",{"$f":"SUBSTITUTE(IN!F1059,\",\",\".\")","v":""}]
[0,{"$error":"#VALUE!"},{"$error":"#VALUE!"},{"$f":"SUBSTITUTE(IN!G1060,\"-\",\"\")","v":""},"",{"$f":"IN!F1060*60","v":0},0,"-",{"$f":"SUBSTITUTE(IN!F1060,\",\",\".\")","v":""}]
[0,{"$error":"#VALUE!"},{"$error":"#VALUE!"},{"$f":"SUBSTITUTE(IN!G1061,\"-\",\"\")","v":""},"",{"$f":"IN!F1061*60","v":0},0,"-",{"$f":"SUBSTITUTE(IN!F1061,\",\",\".\")","v":""}]
[0,{"$error":"#VALUE!"},{"$error":"#VALUE!"},{"$f":"SUBSTITUTE(IN!G1062,\"-\",\"\")","v":""},"",{"$f":"IN!F1062*60","v":0},0,"-",{"$f":"SUBSTITUTE(IN!F1062,\",\",\".\")","v":""}]
[0,{"$error":"#VALUE!"},{"$error":"#VALUE!"},{"$f":"SUBSTITUTE(IN!G1063,\"-\",\"\")","v":""},"",{"$f":"IN!F1063*60","v":0},0,"-",{"$f":"SUBSTITUTE(IN!F1063,\",\",\".\")","v":""}]
[0,{"$error":"#VALUE!"},{"$error":"#VALUE!"},{"$f":"SUBSTITUTE(IN!G1064,\"-\",\"\")","v":""},"",{"$f":"IN!F1064*60","v":0},0,"-",{"$f":"SUBSTITUTE(IN!F1064,\",\",\".\")","v":""}]
[0,{"$error":"#VALUE!"},{"$error":"#VALUE!"},{"$f":"SUBSTITUTE(IN!G1065,\"-\",\"\")","v":""},"",{"$f":"IN!F1065*60","v":0},0,"-",{"$f":"SUBSTITUTE(IN!F1065,\",\",\".\")","v":""}]
[0,{"$error":"#VALUE!"},{"$error":"#VALUE!"},{"$f":"SUBSTITUTE(IN!G1066,\"-\",\"\")","v":""},"",{"$f":"IN!F1066*60","v":0},0,"-",{"$f":"SUBSTITUTE(IN!F1066,\",\",\".\")","v":""}]
[0,{"$error":"#VALUE!"},{"$error":"#VALUE!"},{"$f":"SUBSTITUTE(IN!G1067,\"-\",\"\")","v":""},"",{"$f":"IN!F1067*60","v":0},0,"-",{"$f":"SUBSTITUTE(IN!F1067,\",\",\".\")","v":""}]
[0,{"$error":"#VALUE!"},{"$error":"#VALUE!"},{"$f":"SUBSTITUTE(IN!G1068,\"-\",\"\")","v":""},"",{"$f":"IN!F1068*60","v":0},0,"-",{"$f":"SUBSTITUTE(IN!F1068,\",\",\".\")","v":""}]
[0,{"$error":"#VALUE!"},{"$error":"#VALUE!"},{"$f":"SUBSTITUTE(IN!G1069,\"-\",\"\")","v":""},"",{"$f":"IN!F1069*60","v":0},0,"-",{"$f":"SUBSTITUTE(IN!F1069,\",\",\".\")","v":""}]
[0,{"$error":"#VALUE!"},{"$error":"#VALUE!"},{"$f":"SUBSTITUTE(IN!G1070,\"-\",\"\")","v":""},"",{"$f":"IN!F1070*60","v":0},0,"-",{"$f":"SUBSTITUTE(IN!F1070,\",\",\".\")","v":""}]
[0,{"$error":"#VALUE!"},{"$error":"#VALUE!"},{"$f":"SUBSTITUTE(IN!G1071,\"-\",\"\")","v":""},"",{"$f":"IN!F1071*60","v":0},0,"-",{"$f":"SUBSTITUTE(IN!F1071,\",\",\".\")","v":""}]
[0,{"$error":"#VALUE!"},{"$error":"#VALUE!"},{"$f":"SUBSTITUTE(IN!G1072,\"-\",\"\")","v":""},"",{"$f":"IN!F1072*60","v":0},0,"-",{"$f":"SUBSTITUTE(IN!F1072,\",\",\".\")","v":""}]
[0,{"$error":"#VALUE!"},{"$error":"#VALUE!"},{"$f":"SUBSTITUTE(IN!G1073,\"-\",\"\")","v":""},"",{"$f":"IN!F1073*60","v":0},0,"-",{"$f":"SUBSTITUTE(IN!F1073,\",\",\".\")","v":""}]
[0,{"$error":"#VALUE!"},{"$error":"#VALUE!"},{"$f":"SUBSTITUTE(IN!G1074,\"-\",\"\")","v":""},"",{"$f":"IN!F1074*60","v":0},0,"-",{"$f":"SUBSTITUTE(IN!F1074,\",\",\".\")","v":""}]
[0,{"$error":"#VALUE!"},{"$error":"#VALUE!"},{"$f":"SUBSTITUTE(IN!G1075,\"-\",\"\")","v":""},"",{"$f":"IN!F1075*60","v":0},0,"-",{"$f":"SUBSTITUTE(IN!F1075,\",\",\".\")","v":""}]
[0,{"$error":"#VALUE!"},{"$error":"#VALUE!"},{"$f":"SUBSTITUTE(IN!G1076,\"-\",\"\")","v":""},"",{"$f":"IN!F1076*60","v":0},0,"-",{"$f":"SUBSTITUTE(IN!F1076,\",\",\".\")","v":""}]
[0,{"$error":"#VALUE!"},{"$error":"#VALUE!"},{"$f":"SUBSTITUTE(IN!G1077,\"-\",\"\")","v":""},"",{"$f":"IN!F1077*60","v":0},0,"-",{"$f":"SUBSTITUTE(IN!F1077,\",\",\".\")","v":""}]
[0,{"$error":"#VALUE!"},{"$error":"#VALUE!"},{"$f":"SUBSTITUTE(IN!G1078,\"-\",\"\")","v":""},"",{"$f":"IN!F1078*60","v":0},0,"-",{"$f":"SUBSTITUTE(IN!F1078,\",\",\".\")","v":""}]
[0,{"$error":"#VALUE!"},{"$error":"#VALUE!"},{"$f":"SUBSTITUTE(IN!G1079,\"-\",\"\")","v":""},"",{"$f":"IN!F1079*60","v":0},0,"-",{"$f":"SUBSTITUTE(IN!F1079,\",\",\".\")","v":""}]
[0,{"$error":"#VALUE!"},{"$error":"#VALUE!"},{"$f":"SUBSTITUTE(IN!G1080,\"-\",\"\")","v":""},"",{"$f":"IN!F1080*60","v":0},0,"-",{"$f":"SUBSTITUTE(IN!F1080,\",\",\".\")","v":""}]
[0,{"$error":"#VALUE!"},{"$error":"#VALUE!"},{"$f":"SUBSTITUTE(IN!G1081,\"-\",\"\")","v":""},"",{"$f":"IN!F1081*60","v":0},0,"-",{"$f":"SUBSTITUTE(IN!F1081,\",\",\".\")","v":""}]
[0,{"$error":"#VALUE!"},{"$error":"#VALUE!"},{"$f":"SUBSTITUTE(IN!G1082,\"-\",\"\")","v":""},"",{"$f":"IN!F1082*60","v":0},0,"-",{"$f":"SUBSTITUTE(IN!F1082,\",\",\".\")","v":""}]
[0,{"$error":"#VALUE!"},{"$error":"#VALUE!"},{"$f":"SUBSTITUTE(IN!G1083,\"-\",\"\")","v":""},"",{"$f":"IN!F1083*60","v":0},0,"-",{"$f":"SUBSTITUTE(IN!F1083,\",\",\".\")","v":""}]
[0,{"$error":"#VALUE!"},{"$error":"#VALUE!"},{"$f":"SUBSTITUTE(IN!G1084,\"-\",\"\")","v":""},"",{"$f":"IN!F1084*60","v":0},0,"-",{"$f":"SUBSTITUTE(IN!F1084,\",\",\".\")","v":""}]
[0,{"$error":"#VALUE!"},{"$error":"#VALUE!"},{"$f":"SUBSTITUTE(IN!G1085,\"-\",\"\")","v":""},"",{"$f":"IN!F1085*60","v":0},0,"-",{"$f":"SUBSTITUTE(IN!F1085,\",\",\".\")","v":""}]
[0,{"$error":"#VALUE!"},{"$error":"#VALUE!"},{"$f":"SUBSTITUTE(IN!G1086,\"-\",\"\")","v":""},"",{"$f":"IN!F1086*60","v":0},0,"-",{"$f":"SUBSTITUTE(IN!F1086,\",\",\".\")","v":""}]
[0,{"$error":"#VALUE!"},{"$error":"#VALUE!"},{"$f":"SUBSTITUTE(IN!G1087,\"-\",\"\")","v":""},"",{"$f":"IN!F1087*60","v":0},0,"-",{"$f":"SUBSTITUTE(IN!F1087,\",\",\".\")","v":""}]
[0,{"$error":"#VALUE!"},{"$error":"#VALUE!"},{"$f":"SUBSTITUTE(IN!G1088,\"-\",\"\")","v":""},"",{"$f":"IN!F1088*60","v":0},0,"-",{"$f":"SUBSTITUTE(IN!F1088,\",\",\".\")","v":""}]
[0,{"$error":"#VALUE!"},{"$error":"#VALUE!"},{"$f":"SUBSTITUTE(IN!G1089,\"-\",\"\")","v":""},"",{"$f":"IN!F1089*60","v":0},0,"-",{"$f":"SUBSTITUTE(IN!F1089,\",\",\".\")","v":""}]
[0,{"$error":"#VALUE!"},{"$error":"#VALUE!"},{"$f":"SUBSTITUTE(IN!G1090,\"-\",\"\")","v":""},"",{"$f":"IN!F1090*60","v":0},0,"-",{"$f":"SUBSTITUTE(IN!F1090,\",\",\".\")","v":""}]
[0,{"$error":"#VALUE!"},{"$error":"#VALUE!"},{"$f":"SUBSTITUTE(IN!G1091,\"-\",\"\")","v":""},"",{"$f":"IN!F1091*60","v":0},0,"-",{"$f":"SUBSTITUTE(IN!F1091,\",\",\".\")","v":""}]
[0,{"$error":"#VALUE!"},{"$error":"#VALUE!"},{"$f":"SUBSTITUTE(IN!G1092,\"-\",\"\")","v":""},"",{"$f":"IN!F1092*60","v":0},0,"-",{"$f":"SUBSTITUTE(IN!F1092,\",\",\".\")","v":""}]
[{"$f":"LEN(D1093)","v":0},{"$f":"VALUE(LEFT(D1093,1))","v":{"$error":"#VALUE!"}},{"$f":"IF(B1093<2,20,19)","v":{"$error":"#VALUE!"}},{"$f":"SUBSTITUTE(IN!G1093,\"-\",\"\")","v":""},{"$f":"IF(A1093=10,CONCATENATE(C1093,D1093),D1093)","v":""},{"$f":"IN!F1093*60","v":0},{"$f":"ROUND(F1093,0)","v":0},{"$f":"CONCATENATE(MID(E1093,1,8),\"-\",MID(E1093,9,4))","v":"-"},{"$f":"SUBSTITUTE(IN!F1093,\",\",\".\")","v":""}]
[0,{"$error":"#VALUE!"},{"$error":"#VALUE!"},{"$f":"SUBSTITUTE(IN!G1094,\"-\",\"\")","v":""},"",{"$f":"IN!F1094*60","v":0},0,"-",{"$f":"SUBSTITUTE(IN!F1094,\",\",\".\")","v":""}]
[0,{"$error":"#VALUE!"},{"$error":"#VALUE!"},{"$f":"SUBSTITUTE(IN!G1095,\"-\",\"\")","v":""},"",{"$f":"IN!F1095*60","v":0},0,"-",{"$f":"SUBSTITUTE(IN!F1095,\",\",\".\")","v":""}]
[0,{"$error":"#VALUE!"},{"$error":"#VALUE!"},{"$f":"SUBSTITUTE(IN!G1096,\"-\",\"\")","v":""},"",{"$f":"IN!F1096*60","v":0},0,"-",{"$f":"SUBSTITUTE(IN!F1096,\",\",\".\")","v":""}]
[0,{"$error":"#VALUE!"},{"$error":"#VALUE!"},{"$f":"SUBSTITUTE(IN!G1097,\"-\",\"\")","v":""},"",{"$f":"IN!F1097*60","v":0},0,"-",{"$f":"SUBSTITUTE(IN!F1097,\",\",\".\")","v":""}]
[0,{"$error":"#VALUE!"},{"$error":"#VALUE!"},{"$f":"SUBSTITUTE(IN!G1098,\"-\",\"\")","v":""},"",{"$f":"IN!F1098*60","v":0},0,"-",{"$f":"SUBSTITUTE(IN!F1098,\",\",\".\")","v":""}]
[0,{"$error":"#VALUE!"},{"$error":"#VALUE!"},{"$f":"SUBSTITUTE(IN!G1099,\"-\",\"\")","v":""},"",{"$f":"IN!F1099*60","v":0},0,"-",{"$f":"SUBSTITUTE(IN!F1099,\",\",\".\")","v":""}]
[0,{"$error":"#VALUE!"},{"$error":"#VALUE!"},{"$f":"SUBSTITUTE(IN!G1100,\"-\",\"\")","v":""},"",{"$f":"IN!F1100*60","v":0},0,"-",{"$f":"SUBSTITUTE(IN!F1100,\",\",\".\")","v":""}]
[0,{"$error":"#VALUE!"},{"$error":"#VALUE!"},{"$f":"SUBSTITUTE(IN!G1101,\"-\",\"\")","v":""},"",{"$f":"IN!F1101*60","v":0},0,"-",{"$f":"SUBSTITUTE(IN!F1101,\",\",\".\")","v":""}]
[0,{"$error":"#VALUE!"},{"$error":"#VALUE!"},{"$f":"SUBSTITUTE(IN!G1102,\"-\",\"\")","v":""},"",{"$f":"IN!F1102*60","v":0},0,"-",{"$f":"SUBSTITUTE(IN!F1102,\",\",\".\")","v":""}]
[0,{"$error":"#VALUE!"},{"$error":"#VALUE!"},{"$f":"SUBSTITUTE(IN!G1103,\"-\",\"\")","v":""},"",{"$f":"IN!F1103*60","v":0},0,"-",{"$f":"SUBSTITUTE(IN!F1103,\",\",\".\")","v":""}]
[0,{"$error":"#VALUE!"},{"$error":"#VALUE!"},{"$f":"SUBSTITUTE(IN!G1104,\"-\",\"\")","v":""},"",{"$f":"IN!F1104*60","v":0},0,"-",{"$f":"SUBSTITUTE(IN!F1104,\",\",\".\")","v":""}]
[0,{"$error":"#VALUE!"},{"$error":"#VALUE!"},{"$f":"SUBSTITUTE(IN!G1105,\"-\",\"\")","v":""},"",{"$f":"IN!F1105*60","v":0},0,"-",{"$f":"SUBSTITUTE(IN!F1105,\",\",\".\")","v":""}]
[0,{"$error":"#VALUE!"},{"$error":"#VALUE!"},{"$f":"SUBSTITUTE(IN!G1106,\"-\",\"\")","v":""},"",{"$f":"IN!F1106*60","v":0},0,"-",{"$f":"SUBSTITUTE(IN!F1106,\",\",\".\")","v":""}]
[0,{"$error":"#VALUE!"},{"$error":"#VALUE!"},{"$f":"SUBSTITUTE(IN!G1107,\"-\",\"\")","v":""},"",{"$f":"IN!F1107*60","v":0},0,"-",{"$f":"SUBSTITUTE(IN!F1107,\",\",\".\")","v":""}]
[0,{"$error":"#VALUE!"},{"$error":"#VALUE!"},{"$f":"SUBSTITUTE(IN!G1108,\"-\",\"\")","v":""},"",{"$f":"IN!F1108*60","v":0},0,"-",{"$f":"SUBSTITUTE(IN!F1108,\",\",\".\")","v":""}]
[0,{"$error":"#VALUE!"},{"$error":"#VALUE!"},{"$f":"SUBSTITUTE(IN!G1109,\"-\",\"\")","v":""},"",{"$f":"IN!F1109*60","v":0},0,"-",{"$f":"SUBSTITUTE(IN!F1109,\",\",\".\")","v":""}]
[0,{"$error":"#VALUE!"},{"$error":"#VALUE!"},{"$f":"SUBSTITUTE(IN!G1110,\"-\",\"\")","v":""},"",{"$f":"IN!F1110*60","v":0},0,"-",{"$f":"SUBSTITUTE(IN!F1110,\",\",\".\")","v":""}]
[0,{"$error":"#VALUE!"},{"$error":"#VALUE!"},{"$f":"SUBSTITUTE(IN!G1111,\"-\",\"\")","v":""},"",{"$f":"IN!F1111*60","v":0},0,"-",{"$f":"SUBSTITUTE(IN!F1111,\",\",\".\")","v":""}]
[0,{"$error":"#VALUE!"},{"$error":"#VALUE!"},{"$f":"SUBSTITUTE(IN!G1112,\"-\",\"\")","v":""},"",{"$f":"IN!F1112*60","v":0},0,"-",{"$f":"SUBSTITUTE(IN!F1112,\",\",\".\")","v":""}]
[0,{"$error":"#VALUE!"},{"$error":"#VALUE!"},{"$f":"SUBSTITUTE(IN!G1113,\"-\",\"\")","v":""},"",{"$f":"IN!F1113*60","v":0},0,"-",{"$f":"SUBSTITUTE(IN!F1113,\",\",\".\")","v":""}]
[0,{"$error":"#VALUE!"},{"$error":"#VALUE!"},{"$f":"SUBSTITUTE(IN!G1114,\"-\",\"\")","v":""},"",{"$f":"IN!F1114*60","v":0},0,"-",{"$f":"SUBSTITUTE(IN!F1114,\",\",\".\")","v":""}]
[0,{"$error":"#VALUE!"},{"$error":"#VALUE!"},{"$f":"SUBSTITUTE(IN!G1115,\"-\",\"\")","v":""},"",{"$f":"IN!F1115*60","v":0},0,"-",{"$f":"SUBSTITUTE(IN!F1115,\",\",\".\")","v":""}]
[0,{"$error":"#VALUE!"},{"$error":"#VALUE!"},{"$f":"SUBSTITUTE(IN!G1116,\"-\",\"\")","v":""},"",{"$f":"IN!F1116*60","v":0},0,"-",{"$f":"SUBSTITUTE(IN!F1116,\",\",\".\")","v":""}]
[0,{"$error":"#VALUE!"},{"$error":"#VALUE!"},{"$f":"SUBSTITUTE(IN!G1117,\"-\",\"\")","v":""},"",{"$f":"IN!F1117*60","v":0},0,"-",{"$f":"SUBSTITUTE(IN!F1117,\",\",\".\")","v":""}]
[0,{"$error":"#VALUE!"},{"$error":"#VALUE!"},{"$f":"SUBSTITUTE(IN!G1118,\"-\",\"\")","v":""},"",{"$f":"IN!F1118*60","v":0},0,"-",{"$f":"SUBSTITUTE(IN!F1118,\",\",\".\")","v":""}]
[0,{"$error":"#VALUE!"},{"$error":"#VALUE!"},{"$f":"SUBSTITUTE(IN!G1119,\"-\",\"\")","v":""},"",{"$f":"IN!F1119*60","v":0},0,"-",{"$f":"SUBSTITUTE(IN!F1119,\",\",\".\")","v":""}]
[0,{"$error":"#VALUE!"},{"$error":"#VALUE!"},{"$f":"SUBSTITUTE(IN!G1120,\"-\",\"\")","v":""},"",{"$f":"IN!F1120*60","v":0},0,"-",{"$f":"SUBSTITUTE(IN!F1120,\",\",\".\")","v":""}]
[0,{"$error":"#VALUE!"},{"$error":"#VALUE!"},{"$f":"SUBSTITUTE(IN!G1121,\"-\",\"\")","v":""},"",{"$f":"IN!F1121*60","v":0},0,"-",{"$f":"SUBSTITUTE(IN!F1121,\",\",\".\")","v":""}]
[0,{"$error":"#VALUE!"},{"$error":"#VALUE!"},{"$f":"SUBSTITUTE(IN!G1122,\"-\",\"\")","v":""},"",{"$f":"IN!F1122*60","v":0},0,"-",{"$f":"SUBSTITUTE(IN!F1122,\",\",\".\")","v":""}]
[0,{"$error":"#VALUE!"},{"$error":"#VALUE!"},{"$f":"SUBSTITUTE(IN!G1123,\"-\",\"\")","v":""},"",{"$f":"IN!F1123*60","v":0},0,"-",{"$f":"SUBSTITUTE(IN!F1123,\",\",\".\")","v":""}]
[0,{"$error":"#VALUE!"},{"$error":"#VALUE!"},{"$f":"SUBSTITUTE(IN!G1124,\"-\",\"\")","v":""},"",{"$f":"IN!F1124*60","v":0},0,"-",{"$f":"SUBSTITUTE(IN!F1124,\",\",\".\")","v":""}]
[0,{"$error":"#VALUE!"},{"$error":"#VALUE!"},{"$f":"SUBSTITUTE(IN!G1125,\"-\",\"\")","v":""},"",{"$f":"IN!F1125*60","v":0},0,"-",{"$f":"SUBSTITUTE(IN!F1125,\",\",\".\")","v":""}]
[0,{"$error":"#VALUE!"},{"$error":"#VALUE!"},{"$f":"SUBSTITUTE(IN!G1126,\"-\",\"\")","v":""},"",{"$f":"IN!F1126*60","v":0},0,"-",{"$f":"SUBSTITUTE(IN!F1126,\",\",\".\")","v":""}]
[0,{"$error":"#VALUE!"},{"$error":"#VALUE!"},{"$f":"SUBSTITUTE(IN!G1127,\"-\",\"\")","v":""},"",{"$f":"IN!F1127*60","v":0},0,"-",{"$f":"SUBSTITUTE(IN!F1127,\",\",\".\")","v":""}]
[0,{"$error":"#VALUE!"},{"$error":"#VALUE!"},{"$f":"SUBSTITUTE(IN!G1128,\"-\",\"\")","v":""},"",{"$f":"IN!F1128*60","v":0},0,"-",{"$f":"SUBSTITUTE(IN!F1128,\",\",\".\")","v":""}]
[0,{"$error":"#VALUE!"},{"$error":"#VALUE!"},{"$f":"SUBSTITUTE(IN!G1129,\"-\",\"\")","v":""},"",{"$f":"IN!F1129*60","v":0},0,"-",{"$f":"SUBSTITUTE(IN!F1129,\",\",\".\")","v":""}]
[0,{"$error":"#VALUE!"},{"$error":"#VALUE!"},{"$f":"SUBSTITUTE(IN!G1130,\"-\",\"\")","v":""},"",{"$f":"IN!F1130*60","v":0},0,"-",{"$f":"SUBSTITUTE(IN!F1130,\",\",\".\")","v":""}]
[0,{"$error":"#VALUE!"},{"$error":"#VALUE!"},{"$f":"SUBSTITUTE(IN!G1131,\"-\",\"\")","v":""},"",{"$f":"IN!F1131*60","v":0},0,"-",{"$f":"SUBSTITUTE(IN!F1131,\",\",\".\")","v":""}]
[0,{"$error":"#VALUE!"},{"$error":"#VALUE!"},{"$f":"SUBSTITUTE(IN!G1132,\"-\",\"\")","v":""},"",{"$f":"IN!F1132*60","v":0},0,"-",{"$f":"SUBSTITUTE(IN!F1132,\",\",\".\")","v":""}]
[0,{"$error":"#VALUE!"},{"$error":"#VALUE!"},{"$f":"SUBSTITUTE(IN!G1133,\"-\",\"\")","v":""},"",{"$f":"IN!F1133*60","v":0},0,"-",{"$f":"SUBSTITUTE(IN!F1133,\",\",\".\")","v":""}]
[0,{"$error":"#VALUE!"},{"$error":"#VALUE!"},{"$f":"SUBSTITUTE(IN!G1134,\"-\",\"\")","v":""},"",{"$f":"IN!F1134*60","v":0},0,"-",{"$f":"SUBSTITUTE(IN!F1134,\",\",\".\")","v":""}]
[0,{"$error":"#VALUE!"},{"$error":"#VALUE!"},{"$f":"SUBSTITUTE(IN!G1135,\"-\",\"\")","v":""},"",{"$f":"IN!F1135*60","v":0},0,"-",{"$f":"SUBSTITUTE(IN!F1135,\",\",\".\")","v":""}]
[0,{"$error":"#VALUE!"},{"$error":"#VALUE!"},{"$f":"SUBSTITUTE(IN!G1136,\"-\",\"\")","v":""},"",{"$f":"IN!F1136*60","v":0},0,"-",{"$f":"SUBSTITUTE(IN!F1136,\",\",\".\")","v":""}]
[0,{"$error":"#VALUE!"},{"$error":"#VALUE!"},{"$f":"SUBSTITUTE(IN!G1137,\"-\",\"\")","v":""},"",{"$f":"IN!F1137*60","v":0},0,"-",{"$f":"SUBSTITUTE(IN!F1137,\",\",\".\")","v":""}]
[0,{"$error":"#VALUE!"},{"$error":"#VALUE!"},{"$f":"SUBSTITUTE(IN!G1138,\"-\",\"\")","v":""},"",{"$f":"IN!F1138*60","v":0},0,"-",{"$f":"SUBSTITUTE(IN!F1138,\",\",\".\")","v":""}]
[0,{"$error":"#VALUE!"},{"$error":"#VALUE!"},{"$f":"SUBSTITUTE(IN!G1139,\"-\",\"\")","v":""},"",{"$f":"IN!F1139*60","v":0},0,"-",{"$f":"SUBSTITUTE(IN!F1139,\",\",\".\")","v":""}]
[0,{"$error":"#VALUE!"},{"$error":"#VALUE!"},{"$f":"SUBSTITUTE(IN!G1140,\"-\",\"\")","v":""},"",{"$f":"IN!F1140*60","v":0},0,"-",{"$f":"SUBSTITUTE(IN!F1140,\",\",\".\")","v":""}]
[0,{"$error":"#VALUE!"},{"$error":"#VALUE!"},{"$f":"SUBSTITUTE(IN!G1141,\"-\",\"\")","v":""},"",{"$f":"IN!F1141*60","v":0},0,"-",{"$f":"SUBSTITUTE(IN!F1141,\",\",\".\")","v":""}]
[0,{"$error":"#VALUE!"},{"$error":"#VALUE!"},{"$f":"SUBSTITUTE(IN!G1142,\"-\",\"\")","v":""},"",{"$f":"IN!F1142*60","v":0},0,"-",{"$f":"SUBSTITUTE(IN!F1142,\",\",\".\")","v":""}]
[0,{"$error":"#VALUE!"},{"$error":"#VALUE!"},{"$f":"SUBSTITUTE(IN!G1143,\"-\",\"\")","v":""},"",{"$f":"IN!F1143*60","v":0},0,"-",{"$f":"SUBSTITUTE(IN!F1143,\",\",\".\")","v":""}]
[0,{"$error":"#VALUE!"},{"$error":"#VALUE!"},{"$f":"SUBSTITUTE(IN!G1144,\"-\",\"\")","v":""},"",{"$f":"IN!F1144*60","v":0},0,"-",{"$f":"SUBSTITUTE(IN!F1144,\",\",\".\")","v":""}]
[0,{"$error":"#VALUE!"},{"$error":"#VALUE!"},{"$f":"SUBSTITUTE(IN!G1145,\"-\",\"\")","v":""},"",{"$f":"IN!F1145*60","v":0},0,"-",{"$f":"SUBSTITUTE(IN!F1145,\",\",\".\")","v":""}]
[0,{"$error":"#VALUE!"},{"$error":"#VALUE!"},{"$f":"SUBSTITUTE(IN!G1146,\"-\",\"\")","v":""},"",{"$f":"IN!F1146*60","v":0},0,"-",{"$f":"SUBSTITUTE(IN!F1146,\",\",\".\")","v":""}]
[0,{"$error":"#VALUE!"},{"$error":"#VALUE!"},{"$f":"SUBSTITUTE(IN!G1147,\"-\",\"\")","v":""},"",{"$f":"IN!F1147*60","v":0},0,"-",{"$f":"SUBSTITUTE(IN!F1147,\",\",\".\")","v":""}]
[0,{"$error":"#VALUE!"},{"$error":"#VALUE!"},{"$f":"SUBSTITUTE(IN!G1148,\"-\",\"\")","v":""},"",{"$f":"IN!F1148*60","v":0},0,"-",{"$f":"SUBSTITUTE(IN!F1148,\",\",\".\")","v":""}]
[0,{"$error":"#VALUE!"},{"$error":"#VALUE!"},{"$f":"SUBSTITUTE(IN!G1149,\"-\",\"\")","v":""},"",{"$f":"IN!F1149*60","v":0},0,"-",{"$f":"SUBSTITUTE(IN!F1149,\",\",\".\")","v":""}]
[0,{"$error":"#VALUE!"},{"$error":"#VALUE!"},{"$f":"SUBSTITUTE(IN!G1150,\"-\",\"\")","v":""},"",{"$f":"IN!F1150*60","v":0},0,"-",{"$f":"SUBSTITUTE(IN!F1150,\",\",\".\")","v":""}]
[0,{"$error":"#VALUE!"},{"$error":"#VALUE!"},{"$f":"SUBSTITUTE(IN!G1151,\"-\",\"\")","v":""},"",{"$f":"IN!F1151*60","v":0},0,"-",{"$f":"SUBSTITUTE(IN!F1151,\",\",\".\")","v":""}]
[0,{"$error":"#VALUE!"},{"$error":"#VALUE!"},{"$f":"SUBSTITUTE(IN!G1152,\"-\",\"\")","v":""},"",{"$f":"IN!F1152*60","v":0},0,"-",{"$f":"SUBSTITUTE(IN!F1152,\",\",\".\")","v":""}]
[0,{"$error":"#VALUE!"},{"$error":"#VALUE!"},{"$f":"SUBSTITUTE(IN!G1153,\"-\",\"\")","v":""},"",{"$f":"IN!F1153*60","v":0},0,"-",{"$f":"SUBSTITUTE(IN!F1153,\",\",\".\")","v":""}]
[0,{"$error":"#VALUE!"},{"$error":"#VALUE!"},{"$f":"SUBSTITUTE(IN!G1154,\"-\",\"\")","v":""},"",{"$f":"IN!F1154*60","v":0},0,"-",{"$f":"SUBSTITUTE(IN!F1154,\",\",\".\")","v":""}]
[0,{"$error":"#VALUE!"},{"$error":"#VALUE!"},{"$f":"SUBSTITUTE(IN!G1155,\"-\",\"\")","v":""},"",{"$f":"IN!F1155*60","v":0},0,"-",{"$f":"SUBSTITUTE(IN!F1155,\",\",\".\")","v":""}]
[0,{"$error":"#VALUE!"},{"$error":"#VALUE!"},{"$f":"SUBSTITUTE(IN!G1156,\"-\",\"\")","v":""},"",{"$f":"IN!F1156*60","v":0},0,"-",{"$f":"SUBSTITUTE(IN!F1156,\",\",\".\")","v":""}]
[{"$f":"LEN(D1157)","v":0},{"$f":"VALUE(LEFT(D1157,1))","v":{"$error":"#VALUE!"}},{"$f":"IF(B1157<2,20,19)","v":{"$error":"#VALUE!"}},{"$f":"SUBSTITUTE(IN!G1157,\"-\",\"\")","v":""},{"$f":"IF(A1157=10,CONCATENATE(C1157,D1157),D1157)","v":""},{"$f":"IN!F1157*60","v":0},{"$f":"ROUND(F1157,0)","v":0},{"$f":"CONCATENATE(MID(E1157,1,8),\"-\",MID(E1157,9,4))","v":"-"},{"$f":"SUBSTITUTE(IN!F1157,\",\",\".\")","v":""}]
[0,{"$error":"#VALUE!"},{"$error":"#VALUE!"},{"$f":"SUBSTITUTE(IN!G1158,\"-\",\"\")","v":""},"",{"$f":"IN!F1158*60","v":0},0,"-",{"$f":"SUBSTITUTE(IN!F1158,\",\",\".\")","v":""}]
[0,{"$error":"#VALUE!"},{"$error":"#VALUE!"},{"$f":"SUBSTITUTE(IN!G1159,\"-\",\"\")","v":""},"",{"$f":"IN!F1159*60","v":0},0,"-",{"$f":"SUBSTITUTE(IN!F1159,\",\",\".\")","v":""}]
[0,{"$error":"#VALUE!"},{"$error":"#VALUE!"},{"$f":"SUBSTITUTE(IN!G1160,\"-\",\"\")","v":""},"",{"$f":"IN!F1160*60","v":0},0,"-",{"$f":"SUBSTITUTE(IN!F1160,\",\",\".\")","v":""}]
[0,{"$error":"#VALUE!"},{"$error":"#VALUE!"},{"$f":"SUBSTITUTE(IN!G1161,\"-\",\"\")","v":""},"",{"$f":"IN!F1161*60","v":0},0,"-",{"$f":"SUBSTITUTE(IN!F1161,\",\",\".\")","v":""}]
[0,{"$error":"#VALUE!"},{"$error":"#VALUE!"},{"$f":"SUBSTITUTE(IN!G1162,\"-\",\"\")","v":""},"",{"$f":"IN!F1162*60","v":0},0,"-",{"$f":"SUBSTITUTE(IN!F1162,\",\",\".\")","v":""}]
[0,{"$error":"#VALUE!"},{"$error":"#VALUE!"},{"$f":"SUBSTITUTE(IN!G1163,\"-\",\"\")","v":""},"",{"$f":"IN!F1163*60","v":0},0,"-",{"$f":"SUBSTITUTE(IN!F1163,\",\",\".\")","v":""}]
[0,{"$error":"#VALUE!"},{"$error":"#VALUE!"},{"$f":"SUBSTITUTE(IN!G1164,\"-\",\"\")","v":""},"",{"$f":"IN!F1164*60","v":0},0,"-",{"$f":"SUBSTITUTE(IN!F1164,\",\",\".\")","v":""}]
[0,{"$error":"#VALUE!"},{"$error":"#VALUE!"},{"$f":"SUBSTITUTE(IN!G1165,\"-\",\"\")","v":""},"",{"$f":"IN!F1165*60","v":0},0,"-",{"$f":"SUBSTITUTE(IN!F1165,\",\",\".\")","v":""}]
[0,{"$error":"#VALUE!"},{"$error":"#VALUE!"},{"$f":"SUBSTITUTE(IN!G1166,\"-\",\"\")","v":""},"",{"$f":"IN!F1166*60","v":0},0,"-",{"$f":"SUBSTITUTE(IN!F1166,\",\",\".\")","v":""}]
[0,{"$error":"#VALUE!"},{"$error":"#VALUE!"},{"$f":"SUBSTITUTE(IN!G1167,\"-\",\"\")","v":""},"",{"$f":"IN!F1167*60","v":0},0,"-",{"$f":"SUBSTITUTE(IN!F1167,\",\",\".\")","v":""}]
[0,{"$error":"#VALUE!"},{"$error":"#VALUE!"},{"$f":"SUBSTITUTE(IN!G1168,\"-\",\"\")","v":""},"",{"$f":"IN!F1168*60","v":0},0,"-",{"$f":"SUBSTITUTE(IN!F1168,\",\",\".\")","v":""}]
[0,{"$error":"#VALUE!"},{"$error":"#VALUE!"},{"$f":"SUBSTITUTE(IN!G1169,\"-\",\"\")","v":""},"",{"$f":"IN!F1169*60","v":0},0,"-",{"$f":"SUBSTITUTE(IN!F1169,\",\",\".\")","v":""}]
[0,{"$error":"#VALUE!"},{"$error":"#VALUE!"},{"$f":"SUBSTITUTE(IN!G1170,\"-\",\"\")","v":""},"",{"$f":"IN!F1170*60","v":0},0,"-",{"$f":"SUBSTITUTE(IN!F1170,\",\",\".\")","v":""}]
[0,{"$error":"#VALUE!"},{"$error":"#VALUE!"},{"$f":"SUBSTITUTE(IN!G1171,\"-\",\"\")","v":""},"",{"$f":"IN!F1171*60","v":0},0,"-",{"$f":"SUBSTITUTE(IN!F1171,\",\",\".\")","v":""}]
[0,{"$error":"#VALUE!"},{"$error":"#VALUE!"},{"$f":"SUBSTITUTE(IN!G1172,\"-\",\"\")","v":""},"",{"$f":"IN!F1172*60","v":0},0,"-",{"$f":"SUBSTITUTE(IN!F1172,\",\",\".\")","v":""}]
[0,{"$error":"#VALUE!"},{"$error":"#VALUE!"},{"$f":"SUBSTITUTE(IN!G1173,\"-\",\"\")","v":""},"",{"$f":"IN!F1173*60","v":0},0,"-",{"$f":"SUBSTITUTE(IN!F1173,\",\",\".\")","v":""}]
[0,{"$error":"#VALUE!"},{"$error":"#VALUE!"},{"$f":"SUBSTITUTE(IN!G1174,\"-\",\"\")","v":""},"",{"$f":"IN!F1174*60","v":0},0,"-",{"$f":"SUBSTITUTE(IN!F1174,\",\",\".\")","v":""}]
[0,{"$error":"#VALUE!"},{"$error":"#VALUE!"},{"$f":"SUBSTITUTE(IN!G1175,\"-\",\"\")","v":""},"",{"$f":"IN!F1175*60","v":0},0,"-",{"$f":"SUBSTITUTE(IN!F1175,\",\",\".\")","v":""}]
[0,{"$error":"#VALUE!"},{"$error":"#VALUE!"},{"$f":"SUBSTITUTE(IN!G1176,\"-\",\"\")","v":""},"",{"$f":"IN!F1176*60","v":0},0,"-",{"$f":"SUBSTITUTE(IN!F1176,\",\",\".\")","v":""}]
[0,{"$error":"#VALUE!"},{"$error":"#VALUE!"},{"$f":"SUBSTITUTE(IN!G1177,\"-\",\"\")","v":""},"",{"$f":"IN!F1177*60","v":0},0,"-",{"$f":"SUBSTITUTE(IN!F1177,\",\",\".\")","v":""}]
[0,{"$error":"#VALUE!"},{"$error":"#VALUE!"},{"$f":"SUBSTITUTE(IN!G1178,\"-\",\"\")","v":""},"",{"$f":"IN!F1178*60","v":0},0,"-",{"$f":"SUBSTITUTE(IN!F1178,\",\",\".\")","v":""}]
[0,{"$error":"#VALUE!"},{"$error":"#VALUE!"},{"$f":"SUBSTITUTE(IN!G1179,\"-\",\"\")","v":""},"",{"$f":"IN!F1179*60","v":0},0,"-",{"$f":"SUBSTITUTE(IN!F1179,\",\",\".\")","v":""}]
[0,{"$error":"#VALUE!"},{"$error":"#VALUE!"},{"$f":"SUBSTITUTE(IN!G1180,\"-\",\"\")","v":""},"",{"$f":"IN!F1180*60","v":0},0,"-",{"$f":"SUBSTITUTE(IN!F1180,\",\",\".\")","v":""}]
[0,{"$error":"#VALUE!"},{"$error":"#VALUE!"},{"$f":"SUBSTITUTE(IN!G1181,\"-\",\"\")","v":""},"",{"$f":"IN!F1181*60","v":0},0,"-",{"$f":"SUBSTITUTE(IN!F1181,\",\",\".\")","v":""}]
[0,{"$error":"#VALUE!"},{"$error":"#VALUE!"},{"$f":"SUBSTITUTE(IN!G1182,\"-\",\"\")","v":""},"",{"$f":"IN!F1182*60","v":0},0,"-",{"$f":"SUBSTITUTE(IN!F1182,\",\",\".\")","v":""}]
[0,{"$error":"#VALUE!"},{"$error":"#VALUE!"},{"$f":"SUBSTITUTE(IN!G1183,\"-\",\"\")","v":""},"",{"$f":"IN!F1183*60","v":0},0,"-",{"$f":"SUBSTITUTE(IN!F1183,\",\",\".\")","v":""}]
[0,{"$error":"#VALUE!"},{"$error":"#VALUE!"},{"$f":"SUBSTITUTE(IN!G1184,\"-\",\"\")","v":""},"",{"$f":"IN!F1184*60","v":0},0,"-",{"$f":"SUBSTITUTE(IN!F1184,\",\",\".\")","v":""}]
[0,{"$error":"#VALUE!"},{"$error":"#VALUE!"},{"$f":"SUBSTITUTE(IN!G1185,\"-\",\"\")","v":""},"",{"$f":"IN!F1185*60","v":0},0,"-",{"$f":"SUBSTITUTE(IN!F1185,\",\",\".\")","v":""}]
[0,{"$error":"#VALUE!"},{"$error":"#VALUE!"},{"$f":"SUBSTITUTE(IN!G1186,\"-\",\"\")","v":""},"",{"$f":"IN!F1186*60","v":0},0,"-",{"$f":"SUBSTITUTE(IN!F1186,\",\",\".\")","v":""}]
[0,{"$error":"#VALUE!"},{"$error":"#VALUE!"},{"$f":"SUBSTITUTE(IN!G1187,\"-\",\"\")","v":""},"",{"$f":"IN!F1187*60","v":0},0,"-",{"$f":"SUBSTITUTE(IN!F1187,\",\",\".\")","v":""}]
[0,{"$error":"#VALUE!"},{"$error":"#VALUE!"},{"$f":"SUBSTITUTE(IN!G1188,\"-\",\"\")","v":""},"",{"$f":"IN!F1188*60","v":0},0,"-",{"$f":"SUBSTITUTE(IN!F1188,\",\",\".\")","v":""}]
[0,{"$error":"#VALUE!"},{"$error":"#VALUE!"},{"$f":"SUBSTITUTE(IN!G1189,\"-\",\"\")","v":""},"",{"$f":"IN!F1189*60","v":0},0,"-",{"$f":"SUBSTITUTE(IN!F1189,\",\",\".\")","v":""}]
[0,{"$error":"#VALUE!"},{"$error":"#VALUE!"},{"$f":"SUBSTITUTE(IN!G1190,\"-\",\"\")","v":""},"",{"$f":"IN!F1190*60","v":0},0,"-",{"$f":"SUBSTITUTE(IN!F1190,\",\",\".\")","v":""}]
[0,{"$error":"#VALUE!"},{"$error":"#VALUE!"},{"$f":"SUBSTITUTE(IN!G1191,\"-\",\"\")","v":""},"",{"$f":"IN!F1191*60","v":0},0,"-",{"$f":"SUBSTITUTE(IN!F1191,\",\",\".\")","v":""}]
[0,{"$error":"#VALUE!"},{"$error":"#VALUE!"},{"$f":"SUBSTITUTE(IN!G1192,\"-\",\"\")","v":""},"",{"$f":"IN!F1192*60","v":0},0,"-",{"$f":"SUBSTITUTE(IN!F1192,\",\",\".\")","v":""}]
[0,{"$error":"#VALUE!"},{"$error":"#VALUE!"},{"$f":"SUBSTITUTE(IN!G1193,\"-\",\"\")","v":""},"",{"$f":"IN!F1193*60","v":0},0,"-",{"$f":"SUBSTITUTE(IN!F1193,\",\",\".\")","v":""}]
[0,{"$error":"#VALUE!"},{"$error":"#VALUE!"},{"$f":"SUBSTITUTE(IN!G1194,\"-\",\"\")","v":""},"",{"$f":"IN!F1194*60","v":0},0,"-",{"$f":"SUBSTITUTE(IN!F1194,\",\",\".\")","v":""}]
[0,{"$error":"#VALUE!"},{"$error":"#VALUE!"},{"$f":"SUBSTITUTE(IN!G1195,\"-\",\"\")","v":""},"",{"$f":"IN!F1195*60","v":0},0,"-",{"$f":"SUBSTITUTE(IN!F1195,\",\",\".\")","v":""}]
[0,{"$error":"#VALUE!"},{"$error":"#VALUE!"},{"$f":"SUBSTITUTE(IN!G1196,\"-\",\"\")","v":""},"",{"$f":"IN!F1196*60","v":0},0,"-",{"$f":"SUBSTITUTE(IN!F1196,\",\",\".\")","v":""}]
[0,{"$error":"#VALUE!"},{"$error":"#VALUE!"},{"$f":"SUBSTITUTE(IN!G1197,\"-\",\"\")","v":""},"",{"$f":"IN!F1197*60","v":0},0,"-",{"$f":"SUBSTITUTE(IN!F1197,\",\",\".\")","v":""}]
[0,{"$error":"#VALUE!"},{"$error":"#VALUE!"},{"$f":"SUBSTITUTE(IN!G1198,\"-\",\"\")","v":""},"",{"$f":"IN!F1198*60","v":0},0,"-",{"$f":"SUBSTITUTE(IN!F1198,\",\",\".\")","v":""}]
[0,{"$error":"#VALUE!"},{"$error":"#VALUE!"},{"$f":"SUBSTITUTE(IN!G1199,\"-\",\"\")","v":""},"",{"$f":"IN!F1199*60","v":0},0,"-",{"$f":"SUBSTITUTE(IN!F1199,\",\",\".\")","v":""}]
[0,{"$error":"#VALUE!"},{"$error":"#VALUE!"},{"$f":"SUBSTITUTE(IN!G1200,\"-\",\"\")","v":""},"",{"$f":"IN!F1200*60","v":0},0,"-",{"$f":"SUBSTITUTE(IN!F1200,\",\",\".\")","v":""}]
[0,{"$error":"#VALUE!"},{"$error":"#VALUE!"},{"$f":"SUBSTITUTE(IN!G1201,\"-\",\"\")","v":""},"",{"$f":"IN!F1201*60","v":0},0,"-",{"$f":"SUBSTITUTE(IN!F1201,\",\",\".\")","v":""}]
[0,{"$error":"#VALUE!"},{"$error":"#VALUE!"},{"$f":"SUBSTITUTE(IN!G1202,\"-\",\"\")","v":""},"",{"$f":"IN!F1202*60","v":0},0,"-",{"$f":"SUBSTITUTE(IN!F1202,\",\",\".\")","v":""}]
[0,{"$error":"#VALUE!"},{"$error":"#VALUE!"},{"$f":"SUBSTITUTE(IN!G1203,\"-\",\"\")","v":""},"",{"$f":"IN!F1203*60","v":0},0,"-",{"$f":"SUBSTITUTE(IN!F1203,\",\",\".\")","v":""}]
[0,{"$error":"#VALUE!"},{"$error":"#VALUE!"},{"$f":"SUBSTITUTE(IN!G1204,\"-\",\"\")","v":""},"",{"$f":"IN!F1204*60","v":0},0,"-",{"$f":"SUBSTITUTE(IN!F1204,\",\",\".\")","v":""}]
[0,{"$error":"#VALUE!"},{"$error":"#VALUE!"},{"$f":"SUBSTITUTE(IN!G1205,\"-\",\"\")","v":""},"",{"$f":"IN!F1205*60","v":0},0,"-",{"$f":"SUBSTITUTE(IN!F1205,\",\",\".\")","v":""}]
[0,{"$error":"#VALUE!"},{"$error":"#VALUE!"},{"$f":"SUBSTITUTE(IN!G1206,\"-\",\"\")","v":""},"",{"$f":"IN!F1206*60","v":0},0,"-",{"$f":"SUBSTITUTE(IN!F1206,\",\",\".\")","v":""}]
[0,{"$error":"#VALUE!"},{"$error":"#VALUE!"},{"$f":"SUBSTITUTE(IN!G1207,\"-\",\"\")","v":""},"",{"$f":"IN!F1207*60","v":0},0,"-",{"$f":"SUBSTITUTE(IN!F1207,\",\",\".\")","v":""}]
[0,{"$error":"#VALUE!"},{"$error":"#VALUE!"},{"$f":"SUBSTITUTE(IN!G1208,\"-\",\"\")","v":""},"",{"$f":"IN!F1208*60","v":0},0,"-",{"$f":"SUBSTITUTE(IN!F1208,\",\",\".\")","v":""}]
[0,{"$error":"#VALUE!"},{"$error":"#VALUE!"},{"$f":"SUBSTITUTE(IN!G1209,\"-\",\"\")","v":""},"",{"$f":"IN!F1209*60","v":0},0,"-",{"$f":"SUBSTITUTE(IN!F1209,\",\",\".\")","v":""}]
[0,{"$error":"#VALUE!"},{"$error":"#VALUE!"},{"$f":"SUBSTITUTE(IN!G1210,\"-\",\"\")","v":""},"",{"$f":"IN!F1210*60","v":0},0,"-",{"$f":"SUBSTITUTE(IN!F1210,\",\",\".\")","v":""}]
[0,{"$error":"#VALUE!"},{"$error":"#VALUE!"},{"$f":"SUBSTITUTE(IN!G1211,\"-\",\"\")","v":""},"",{"$f":"IN!F1211*60","v":0},0,"-",{"$f":"SUBSTITUTE(IN!F1211,\",\",\".\")","v":""}]
[0,{"$error":"#VALUE!"},{"$error":"#VALUE!"},{"$f":"SUBSTITUTE(IN!G1212,\"-\",\"\")","v":""},"",{"$f":"IN!F1212*60","v":0},0,"-",{"$f":"SUBSTITUTE(IN!F1212,\",\",\".\")","v":""}]
[0,{"$error":"#VALUE!"},{"$error":"#VALUE!"},{"$f":"SUBSTITUTE(IN!G1213,\"-\",\"\")","v":""},"",{"$f":"IN!F1213*60","v":0},0,"-",{"$f":"SUBSTITUTE(IN!F1213,\",\",\".\")","v":""}]
[0,{"$error":"#VALUE!"},{"$error":"#VALUE!"},{"$f":"SUBSTITUTE(IN!G1214,\"-\",\"\")","v":""},"",{"$f":"IN!F1214*60","v":0},0,"-",{"$f":"SUBSTITUTE(IN!F1214,\",\",\".\")","v":""}]
[0,{"$error":"#VALUE!"},{"$error":"#VALUE!"},{"$f":"SUBSTITUTE(IN!G1215,\"-\",\"\")","v":""},"",{"$f":"IN!F1215*60","v":0},0,"-",{"$f":"SUBSTITUTE(IN!F1215,\",\",\".\")","v":""}]
[0,{"$error":"#VALUE!"},{"$error":"#VALUE!"},{"$f":"SUBSTITUTE(IN!G1216,\"-\",\"\")","v":""},"",{"$f":"IN!F1216*60","v":0},0,"-",{"$f":"SUBSTITUTE(IN!F1216,\",\",\".\")","v":""}]
[0,{"$error":"#VALUE!"},{"$error":"#VALUE!"},{"$f":"SUBSTITUTE(IN!G1217,\"-\",\"\")","v":""},"",{"$f":"IN!F1217*60","v":0},0,"-",{"$f":"SUBSTITUTE(IN!F1217,\",\",\".\")","v":""}]
[0,{"$error":"#VALUE!"},{"$error":"#VALUE!"},{"$f":"SUBSTITUTE(IN!G1218,\"-\",\"\")","v":""},"",{"$f":"IN!F1218*60","v":0},0,"-",{"$f":"SUBSTITUTE(IN!F1218,\",\",\".\")","v":""}]
[0,{"$error":"#VALUE!"},{"$error":"#VALUE!"},{"$f":"SUBSTITUTE(IN!G1219,\"-\",\"\")","v":""},"",{"$f":"IN!F1219*60","v":0},0,"-",{"$f":"SUBSTITUTE(IN!F1219,\",\",\".\")","v":""}]
[0,{"$error":"#VALUE!"},{"$error":"#VALUE!"},{"$f":"SUBSTITUTE(IN!G1220,\"-\",\"\")","v":""},"",{"$f":"IN!F1220*60","v":0},0,"-",{"$f":"SUBSTITUTE(IN!F1220,\",\",\".\")","v":""}]
[{"$f":"LEN(D1221)","v":0},{"$f":"VALUE(LEFT(D1221,1))","v":{"$error":"#VALUE!"}},{"$f":"IF(B1221<2,20,19)","v":{"$error":"#VALUE!"}},{"$f":"SUBSTITUTE(IN!G1221,\"-\",\"\")","v":""},{"$f":"IF(A1221=10,CONCATENATE(C1221,D1221),D1221)","v":""},{"$f":"IN!F1221*60","v":0},{"$f":"ROUND(F1221,0)","v":0},{"$f":"CONCATENATE(MID(E1221,1,8),\"-\",MID(E1221,9,4))","v":"-"},{"$f":"SUBSTITUTE(IN!F1221,\",\",\".\")","v":""}]
[0,{"$error":"#VALUE!"},{"$error":"#VALUE!"},{"$f":"SUBSTITUTE(IN!G1222,\"-\",\"\")","v":""},"",{"$f":"IN!F1222*60","v":0},0,"-",{"$f":"SUBSTITUTE(IN!F1222,\",\",\".\")","v":""}]
[0,{"$error":"#VALUE!"},{"$error":"#VALUE!"},{"$f":"SUBSTITUTE(IN!G1223,\"-\",\"\")","v":""},"",{"$f":"IN!F1223*60","v":0},0,"-",{"$f":"SUBSTITUTE(IN!F1223,\",\",\".\")","v":""}]
[0,{"$error":"#VALUE!"},{"$error":"#VALUE!"},{"$f":"SUBSTITUTE(IN!G1224,\"-\",\"\")","v":""},"",{"$f":"IN!F1224*60","v":0},0,"-",{"$f":"SUBSTITUTE(IN!F1224,\",\",\".\")","v":""}]
[0,{"$error":"#VALUE!"},{"$error":"#VALUE!"},{"$f":"SUBSTITUTE(IN!G1225,\"-\",\"\")","v":""},"",{"$f":"IN!F1225*60","v":0},0,"-",{"$f":"SUBSTITUTE(IN!F1225,\",\",\".\")","v":""}]
[0,{"$error":"#VALUE!"},{"$error":"#VALUE!"},{"$f":"SUBSTITUTE(IN!G1226,\"-\",\"\")","v":""},"",{"$f":"IN!F1226*60","v":0},0,"-",{"$f":"SUBSTITUTE(IN!F1226,\",\",\".\")","v":""}]
[0,{"$error":"#VALUE!"},{"$error":"#VALUE!"},{"$f":"SUBSTITUTE(IN!G1227,\"-\",\"\")","v":""},"",{"$f":"IN!F1227*60","v":0},0,"-",{"$f":"SUBSTITUTE(IN!F1227,\",\",\".\")","v":""}]
[0,{"$error":"#VALUE!"},{"$error":"#VALUE!"},{"$f":"SUBSTITUTE(IN!G1228,\"-\",\"\")","v":""},"",{"$f":"IN!F1228*60","v":0},0,"-",{"$f":"SUBSTITUTE(IN!F1228,\",\",\".\")","v":""}]
[0,{"$error":"#VALUE!"},{"$error":"#VALUE!"},{"$f":"SUBSTITUTE(IN!G1229,\"-\",\"\")","v":""},"",{"$f":"IN!F1229*60","v":0},0,"-",{"$f":"SUBSTITUTE(IN!F1229,\",\",\".\")","v":""}]
[0,{"$error":"#VALUE!"},{"$error":"#VALUE!"},{"$f":"SUBSTITUTE(IN!G1230,\"-\",\"\")","v":""},"",{"$f":"IN!F1230*60","v":0},0,"-",{"$f":"SUBSTITUTE(IN!F1230,\",\",\".\")","v":""}]
[0,{"$error":"#VALUE!"},{"$error":"#VALUE!"},{"$f":"SUBSTITUTE(IN!G1231,\"-\",\"\")","v":""},"",{"$f":"IN!F1231*60","v":0},0,"-",{"$f":"SUBSTITUTE(IN!F1231,\",\",\".\")","v":""}]
[0,{"$error":"#VALUE!"},{"$error":"#VALUE!"},{"$f":"SUBSTITUTE(IN!G1232,\"-\",\"\")","v":""},"",{"$f":"IN!F1232*60","v":0},0,"-",{"$f":"SUBSTITUTE(IN!F1232,\",\",\".\")","v":""}]
[0,{"$error":"#VALUE!"},{"$error":"#VALUE!"},{"$f":"SUBSTITUTE(IN!G1233,\"-\",\"\")","v":""},"",{"$f":"IN!F1233*60","v":0},0,"-",{"$f":"SUBSTITUTE(IN!F1233,\",\",\".\")","v":""}]
[0,{"$error":"#VALUE!"},{"$error":"#VALUE!"},{"$f":"SUBSTITUTE(IN!G1234,\"-\",\"\")","v":""},"",{"$f":"IN!F1234*60","v":0},0,"-",{"$f":"SUBSTITUTE(IN!F1234,\",\",\".\")","v":""}]
[0,{"$error":"#VALUE!"},{"$error":"#VALUE!"},{"$f":"SUBSTITUTE(IN!G1235,\"-\",\"\")","v":""},"",{"$f":"IN!F1235*60","v":0},0,"-",{"$f":"SUBSTITUTE(IN!F1235,\",\",\".\")","v":""}]
[0,{"$error":"#VALUE!"},{"$error":"#VALUE!"},{"$f":"SUBSTITUTE(IN!G1236,\"-\",\"\")","v":""},"",{"$f":"IN!F1236*60","v":0},0,"-",{"$f":"SUBSTITUTE(IN!F1236,\",\",\".\")","v":""}]
[0,{"$error":"#VALUE!"},{"$error":"#VALUE!"},{"$f":"SUBSTITUTE(IN!G1237,\"-\",\"\")","v":""},"",{"$f":"IN!F1237*60","v":0},0,"-",{"$f":"SUBSTITUTE(IN!F1237,\",\",\".\")","v":""}]
[0,{"$error":"#VALUE!"},{"$error":"#VALUE!"},{"$f":"SUBSTITUTE(IN!G1238,\"-\",\"\")","v":""},"",{"$f":"IN!F1238*60","v":0},0,"-",{"$f":"SUBSTITUTE(IN!F1238,\",\",\".\")","v":""}]
[0,{"$error":"#VALUE!"},{"$error":"#VALUE!"},{"$f":"SUBSTITUTE(IN!G1239,\"-\",\"\")","v":""},"",{"$f":"IN!F1239*60","v":0},0,"-",{"$f":"SUBSTITUTE(IN!F1239,\",\",\".\")","v":""}]
[0,{"$error":"#VALUE!"},{"$error":"#VALUE!"},{"$f":"SUBSTITUTE(IN!G1240,\"-\",\"\")","v":""},"",{"$f":"IN!F1240*60","v":0},0,"-",{"$f":"SUBSTITUTE(IN!F1240,\",\",\".\")","v":""}]
[0,{"$error":"#VALUE!"},{"$error":"#VALUE!"},{"$f":"SUBSTITUTE(IN!G1241,\"-\",\"\")","v":""},"",{"$f":"IN!F1241*60","v":0},0,"-",{"$f":"SUBSTITUTE(IN!F1241,\",\",\".\")","v":""}]
[0,{"$error":"#VALUE!"},{"$error":"#VALUE!"},{"$f":"SUBSTITUTE(IN!G1242,\"-\",\"\")","v":""},"",{"$f":"IN!F1242*60","v":0},0,"-",{"$f":"SUBSTITUTE(IN!F1242,\",\",\".\")","v":""}]
[0,{"$error":"#VALUE!"},{"$error":"#VALUE!"},{"$f":"SUBSTITUTE(IN!G1243,\"-\",\"\")","v":""},"",{"$f":"IN!F1243*60","v":0},0,"-",{"$f":"SUBSTITUTE(IN!F1243,\",\",\".\")","v":""}]
[0,{"$error":"#VALUE!"},{"$error":"#VALUE!"},{"$f":"SUBSTITUTE(IN!G1244,\"-\",\"\")","v":""},"",{"$f":"IN!F1244*60","v":0},0,"-",{"$f":"SUBSTITUTE(IN!F1244,\",\",\".\")","v":""}]
[0,{"$error":"#VALUE!"},{"$error":"#VALUE!"},{"$f":"SUBSTITUTE(IN!G1245,\"-\",\"\")","v":""},"",{"$f":"IN!F1245*60","v":0},0,"-",{"$f":"SUBSTITUTE(IN!F1245,\",\",\".\")","v":""}]
[0,{"$error":"#VALUE!"},{"$error":"#VALUE!"},{"$f":"SUBSTITUTE(IN!G1246,\"-\",\"\")","v":""},"",{"$f":"IN!F1246*60","v":0},0,"-",{"$f":"SUBSTITUTE(IN!F1246,\",\",\".\")","v":""}]
[0,{"$error":"#VALUE!"},{"$error":"#VALUE!"},{"$f":"SUBSTITUTE(IN!G1247,\"-\",\"\")","v":""},"",{"$f":"IN!F1247*60","v":0},0,"-",{"$f":"SUBSTITUTE(IN!F1247,\",\",\".\")","v":""}]
[0,{"$error":"#VALUE!"},{"$error":"#VALUE!"},{"$f":"SUBSTITUTE(IN!G1248,\"-\",\"\")","v":""},"",{"$f":"IN!F1248*60","v":0},0,"-",{"$f":"SUBSTITUTE(IN!F1248,\",\",\".\")","v":""}]
[0,{"$error":"#VALUE!"},{"$error":"#VALUE!"},{"$f":"SUBSTITUTE(IN!G1249,\"-\",\"\")","v":""},"",{"$f":"IN!F1249*60","v":0},0,"-",{"$f":"SUBSTITUTE(IN!F1249,\",\",\".\")","v":""}]
[0,{"$error":"#VALUE!"},{"$error":"#VALUE!"},{"$f":"SUBSTITUTE(IN!G1250,\"-\",\"\")","v":""},"",{"$f":"IN!F1250*60","v":0},0,"-",{"$f":"SUBSTITUTE(IN!F1250,\",\",\".\")","v":""}]
[0,{"$error":"#VALUE!"},{"$error":"#VALUE!"},{"$f":"SUBSTITUTE(IN!G1251,\"-\",\"\")","v":""},"",{"$f":"IN!F1251*60","v":0},0,"-",{"$f":"SUBSTITUTE(IN!F1251,\",\",\".\")","v":""}]
[0,{"$error":"#VALUE!"},{"$error":"#VALUE!"},{"$f":"SUBSTITUTE(IN!G1252,\"-\",\"\")","v":""},"",{"$f":"IN!F1252*60","v":0},0,"-",{"$f":"SUBSTITUTE(IN!F1252,\",\",\".\")","v":""}]
[0,{"$error":"#VALUE!"},{"$error":"#VALUE!"},{"$f":"SUBSTITUTE(IN!G1253,\"-\",\"\")","v":""},"",{"$f":"IN!F1253*60","v":0},0,"-",{"$f":"SUBSTITUTE(IN!F1253,\",\",\".\")","v":""}]
[0,{"$error":"#VALUE!"},{"$error":"#VALUE!"},{"$f":"SUBSTITUTE(IN!G1254,\"-\",\"\")","v":""},"",{"$f":"IN!F1254*60","v":0},0,"-",{"$f":"SUBSTITUTE(IN!F1254,\",\",\".\")","v":""}]
[0,{"$error":"#VALUE!"},{"$error":"#VALUE!"},{"$f":"SUBSTITUTE(IN!G1255,\"-\",\"\")","v":""},"",{"$f":"IN!F1255*60","v":0},0,"-",{"$f":"SUBSTITUTE(IN!F1255,\",\",\".\")","v":""}]
[0,{"$error":"#VALUE!"},{"$error":"#VALUE!"},{"$f":"SUBSTITUTE(IN!G1256,\"-\",\"\")","v":""},"",{"$f":"IN!F1256*60","v":0},0,"-",{"$f":"SUBSTITUTE(IN!F1256,\",\",\".\")","v":""}]
[0,{"$error":"#VALUE!"},{"$error":"#VALUE!"},{"$f":"SUBSTITUTE(IN!G1257,\"-\",\"\")","v":""},"",{"$f":"IN!F1257*60","v":0},0,"-",{"$f":"SUBSTITUTE(IN!F1257,\",\",\".\")","v":""}]
[0,{"$error":"#VALUE!"},{"$error":"#VALUE!"},{"$f":"SUBSTITUTE(IN!G1258,\"-\",\"\")","v":""},"",{"$f":"IN!F1258*60","v":0},0,"-",{"$f":"SUBSTITUTE(IN!F1258,\",\",\".\")","v":""}]
[0,{"$error":"#VALUE!"},{"$error":"#VALUE!"},{"$f":"SUBSTITUTE(IN!G1259,\"-\",\"\")","v":""},"",{"$f":"IN!F1259*60","v":0},0,"-",{"$f":"SUBSTITUTE(IN!F1259,\",\",\".\")","v":""}]
[0,{"$error":"#VALUE!"},{"$error":"#VALUE!"},{"$f":"SUBSTITUTE(IN!G1260,\"-\",\"\")","v":""},"",{"$f":"IN!F1260*60","v":0},0,"-",{"$f":"SUBSTITUTE(IN!F1260,\",\",\".\")","v":""}]
[0,{"$error":"#VALUE!"},{"$error":"#VALUE!"},{"$f":"SUBSTITUTE(IN!G1261,\"-\",\"\")","v":""},"",{"$f":"IN!F1261*60","v":0},0,"-",{"$f":"SUBSTITUTE(IN!F1261,\",\",\".\")","v":""}]
[0,{"$error":"#VALUE!"},{"$error":"#VALUE!"},{"$f":"SUBSTITUTE(IN!G1262,\"-\",\"\")","v":""},"",{"$f":"IN!F1262*60","v":0},0,"-",{"$f":"SUBSTITUTE(IN!F1262,\",\",\".\")","v":""}]
[0,{"$error":"#VALUE!"},{"$error":"#VALUE!"},{"$f":"SUBSTITUTE(IN!G1263,\"-\",\"\")","v":""},"",{"$f":"IN!F1263*60","v":0},0,"-",{"$f":"SUBSTITUTE(IN!F1263,\",\",\".\")","v":""}]
[0,{"$error":"#VALUE!"},{"$error":"#VALUE!"},{"$f":"SUBSTITUTE(IN!G1264,\"-\",\"\")","v":""},"",{"$f":"IN!F1264*60","v":0},0,"-",{"$f":"SUBSTITUTE(IN!F1264,\",\",\".\")","v":""}]
[0,{"$error":"#VALUE!"},{"$error":"#VALUE!"},{"$f":"SUBSTITUTE(IN!G1265,\"-\",\"\")","v":""},"",{"$f":"IN!F1265*60","v":0},0,"-",{"$f":"SUBSTITUTE(IN!F1265,\",\",\".\")","v":""}]
[0,{"$error":"#VALUE!"},{"$error":"#VALUE!"},{"$f":"SUBSTITUTE(IN!G1266,\"-\",\"\")","v":""},"",{"$f":"IN!F1266*60","v":0},0,"-",{"$f":"SUBSTITUTE(IN!F1266,\",\",\".\")","v":""}]
[0,{"$error":"#VALUE!"},{"$error":"#VALUE!"},{"$f":"SUBSTITUTE(IN!G1267,\"-\",\"\")","v":""},"",{"$f":"IN!F1267*60","v":0},0,"-",{"$f":"SUBSTITUTE(IN!F1267,\",\",\".\")","v":""}]
[0,{"$error":"#VALUE!"},{"$error":"#VALUE!"},{"$f":"SUBSTITUTE(IN!G1268,\"-\",\"\")","v":""},"",{"$f":"IN!F1268*60","v":0},0,"-",{"$f":"SUBSTITUTE(IN!F1268,\",\",\".\")","v":""}]
[0,{"$error":"#VALUE!"},{"$error":"#VALUE!"},{"$f":"SUBSTITUTE(IN!G1269,\"-\",\"\")","v":""},"",{"$f":"IN!F1269*60","v":0},0,"-",{"$f":"SUBSTITUTE(IN!F1269,\",\",\".\")","v":""}]
[0,{"$error":"#VALUE!"},{"$error":"#VALUE!"},{"$f":"SUBSTITUTE(IN!G1270,\"-\",\"\")","v":""},"",{"$f":"IN!F1270*60","v":0},0,"-",{"$f":"SUBSTITUTE(IN!F1270,\",\",\".\")","v":""}]
[0,{"$error":"#VALUE!"},{"$error":"#VALUE!"},{"$f":"SUBSTITUTE(IN!G1271,\"-\",\"\")","v":""},"",{"$f":"IN!F1271*60","v":0},0,"-",{"$f":"SUBSTITUTE(IN!F1271,\",\",\".\")","v":""}]
[0,{"$error":"#VALUE!"},{"$error":"#VALUE!"},{"$f":"SUBSTITUTE(IN!G1272,\"-\",\"\")","v":""},"",{"$f":"IN!F1272*60","v":0},0,"-",{"$f":"SUBSTITUTE(IN!F1272,\",\",\".\")","v":""}]
[0,{"$error":"#VALUE!"},{"$error":"#VALUE!"},{"$f":"SUBSTITUTE(IN!G1273,\"-\",\"\")","v":""},"",{"$f":"IN!F1273*60","v":0},0,"-",{"$f":"SUBSTITUTE(IN!F1273,\",\",\".\")","v":""}]
[0,{"$error":"#VALUE!"},{"$error":"#VALUE!"},{"$f":"SUBSTITUTE(IN!G1274,\"-\",\"\")","v":""},"",{"$f":"IN!F1274*60","v":0},0,"-",{"$f":"SUBSTITUTE(IN!F1274,\",\",\".\")","v":""}]
[0,{"$error":"#VALUE!"},{"$error":"#VALUE!"},{"$f":"SUBSTITUTE(IN!G1275,\"-\",\"\")","v":""},"",{"$f":"IN!F1275*60","v":0},0,"-",{"$f":"SUBSTITUTE(IN!F1275,\",\",\".\")","v":""}]
[0,{"$error":"#VALUE!"},{"$error":"#VALUE!"},{"$f":"SUBSTITUTE(IN!G1276,\"-\",\"\")","v":""},"",{"$f":"IN!F1276*60","v":0},0,"-",{"$f":"SUBSTITUTE(IN!F1276,\",\",\".\")","v":""}]
[0,{"$error":"#VALUE!"},{"$error":"#VALUE!"},{"$f":"SUBSTITUTE(IN!G1277,\"-\",\"\")","v":""},"",{"$f":"IN!F1277*60","v":0},0,"-",{"$f":"SUBSTITUTE(IN!F1277,\",\",\".\")","v":""}]
[0,{"$error":"#VALUE!"},{"$error":"#VALUE!"},{"$f":"SUBSTITUTE(IN!G1278,\"-\",\"\")","v":""},"",{"$f":"IN!F1278*60","v":0},0,"-",{"$f":"SUBSTITUTE(IN!F1278,\",\",\".\")","v":""}]
[0,{"$error":"#VALUE!"},{"$error":"#VALUE!"},{"$f":"SUBSTITUTE(IN!G1279,\"-\",\"\")","v":""},"",{"$f":"IN!F1279*60","v":0},0,"-",{"$f":"SUBSTITUTE(IN!F1279,\",\",\".\")","v":""}]
[0,{"$error":"#VALUE!"},{"$error":"#VALUE!"},{"$f":"SUBSTITUTE(IN!G1280,\"-\",\"\")","v":""},"",{"$f":"IN!F1280*60","v":0},0,"-",{"$f":"SUBSTITUTE(IN!F1280,\",\",\".\")","v":""}]
[0,{"$error":"#VALUE!"},{"$error":"#VALUE!"},{"$f":"SUBSTITUTE(IN!G1281,\"-\",\"\")","v":""},"",{"$f":"IN!F1281*60","v":0},0,"-",{"$f":"SUBSTITUTE(IN!F1281,\",\",\".\")","v":""}]
[0,{"$error":"#VALUE!"},{"$error":"#VALUE!"},{"$f":"SUBSTITUTE(IN!G1282,\"-\",\"\")","v":""},"",{"$f":"IN!F1282*60","v":0},0,"-",{"$f":"SUBSTITUTE(IN!F1282,\",\",\".\")","v":""}]
[0,{"$error":"#VALUE!"},{"$error":"#VALUE!"},{"$f":"SUBSTITUTE(IN!G1283,\"-\",\"\")","v":""},"",{"$f":"IN!F1283*60","v":0},0,"-",{"$f":"SUBSTITUTE(IN!F1283,\",\",\".\")","v":""}]
[0,{"$error":"#VALUE!"},{"$error":"#VALUE!"},{"$f":"SUBSTITUTE(IN!G1284,\"-\",\"\")","v":""},"",{"$f":"IN!F1284*60","v":0},0,"-",{"$f":"SUBSTITUTE(IN!F1284,\",\",\".\")","v":""}]
[{"$f":"LEN(D1285)","v":0},{"$f":"VALUE(LEFT(D1285,1))","v":{"$error":"#VALUE!"}},{"$f":"IF(B1285<2,20,19)","v":{"$error":"#VALUE!"}},{"$f":"SUBSTITUTE(IN!G1285,\"-\",\"\")","v":""},{"$f":"IF(A1285=10,CONCATENATE(C1285,D1285),D1285)","v":""},{"$f":"IN!F1285*60","v":0},{"$f":"ROUND(F1285,0)","v":0},{"$f":"CONCATENATE(MID(E1285,1,8),\"-\",MID(E1285,9,4))","v":"-"},{"$f":"SUBSTITUTE(IN!F1285,\",\",\".\")","v":""}]
[0,{"$error":"#VALUE!"},{"$error":"#VALUE!"},{"$f":"SUBSTITUTE(IN!G1286,\"-\",\"\")","v":""},"",{"$f":"IN!F1286*60","v":0},0,"-",{"$f":"SUBSTITUTE(IN!F1286,\",\",\".\")","v":""}]
[0,{"$error":"#VALUE!"},{"$error":"#VALUE!"},{"$f":"SUBSTITUTE(IN!G1287,\"-\",\"\")","v":""},"",{"$f":"IN!F1287*60","v":0},0,"-",{"$f":"SUBSTITUTE(IN!F1287,\",\",\".\")","v":""}]
[0,{"$error":"#VALUE!"},{"$error":"#VALUE!"},{"$f":"SUBSTITUTE(IN!G1288,\"-\",\"\")","v":""},"",{"$f":"IN!F1288*60","v":0},0,"-",{"$f":"SUBSTITUTE(IN!F1288,\",\",\".\")","v":""}]
[0,{"$error":"#VALUE!"},{"$error":"#VALUE!"},{"$f":"SUBSTITUTE(IN!G1289,\"-\",\"\")","v":""},"",{"$f":"IN!F1289*60","v":0},0,"-",{"$f":"SUBSTITUTE(IN!F1289,\",\",\".\")","v":""}]
[0,{"$error":"#VALUE!"},{"$error":"#VALUE!"},{"$f":"SUBSTITUTE(IN!G1290,\"-\",\"\")","v":""},"",{"$f":"IN!F1290*60","v":0},0,"-",{"$f":"SUBSTITUTE(IN!F1290,\",\",\".\")","v":""}]
[0,{"$error":"#VALUE!"},{"$error":"#VALUE!"},{"$f":"SUBSTITUTE(IN!G1291,\"-\",\"\")","v":""},"",{"$f":"IN!F1291*60","v":0},0,"-",{"$f":"SUBSTITUTE(IN!F1291,\",\",\".\")","v":""}]
[0,{"$error":"#VALUE!"},{"$error":"#VALUE!"},{"$f":"SUBSTITUTE(IN!G1292,\"-\",\"\")","v":""},"",{"$f":"IN!F1292*60","v":0},0,"-",{"$f":"SUBSTITUTE(IN!F1292,\",\",\".\")","v":""}]
[0,{"$error":"#VALUE!"},{"$error":"#VALUE!"},{"$f":"SUBSTITUTE(IN!G1293,\"-\",\"\")","v":""},"",{"$f":"IN!F1293*60","v":0},0,"-",{"$f":"SUBSTITUTE(IN!F1293,\",\",\".\")","v":""}]
[0,{"$error":"#VALUE!"},{"$error":"#VALUE!"},{"$f":"SUBSTITUTE(IN!G1294,\"-\",\"\")","v":""},"",{"$f":"IN!F1294*60","v":0},0,"-",{"$f":"SUBSTITUTE(IN!F1294,\",\",\".\")","v":""}]
[0,{"$error":"#VALUE!"},{"$error":"#VALUE!"},{"$f":"SUBSTITUTE(IN!G1295,\"-\",\"\")","v":""},"",{"$f":"IN!F1295*60","v":0},0,"-",{"$f":"SUBSTITUTE(IN!F1295,\",\",\".\")","v":""}]
[0,{"$error":"#VALUE!"},{"$error":"#VALUE!"},{"$f":"SUBSTITUTE(IN!G1296,\"-\",\"\")","v":""},"",{"$f":"IN!F1296*60","v":0},0,"-",{"$f":"SUBSTITUTE(IN!F1296,\",\",\".\")","v":""}]
[0,{"$error":"#VALUE!"},{"$error":"#VALUE!"},{"$f":"SUBSTITUTE(IN!G1297,\"-\",\"\")","v":""},"",{"$f":"IN!F1297*60","v":0},0,"-",{"$f":"SUBSTITUTE(IN!F1297,\",\",\".\")","v":""}]
[0,{"$error":"#VALUE!"},{"$error":"#VALUE!"},{"$f":"SUBSTITUTE(IN!G1298,\"-\",\"\")","v":""},"",{"$f":"IN!F1298*60","v":0},0,"-",{"$f":"SUBSTITUTE(IN!F1298,\",\",\".\")","v":""}]
[0,{"$error":"#VALUE!"},{"$error":"#VALUE!"},{"$f":"SUBSTITUTE(IN!G1299,\"-\",\"\")","v":""},"",{"$f":"IN!F1299*60","v":0},0,"-",{"$f":"SUBSTITUTE(IN!F1299,\",\",\".\")","v":""}]
[0,{"$error":"#VALUE!"},{"$error":"#VALUE!"},{"$f":"SUBSTITUTE(IN!G1300,\"-\",\"\")","v":""},"",{"$f":"IN!F1300*60","v":0},0,"-",{"$f":"SUBSTITUTE(IN!F1300,\",\",\".\")","v":""}]
[0,{"$error":"#VALUE!"},{"$error":"#VALUE!"},{"$f":"SUBSTITUTE(IN!G1301,\"-\",\"\")","v":""},"",{"$f":"IN!F1301*60","v":0},0,"-",{"$f":"SUBSTITUTE(IN!F1301,\",\",\".\")","v":""}]
[0,{"$error":"#VALUE!"},{"$error":"#VALUE!"},{"$f":"SUBSTITUTE(IN!G1302,\"-\",\"\")","v":""},"",{"$f":"IN!F1302*60","v":0},0,"-",{"$f":"SUBSTITUTE(IN!F1302,\",\",\".\")","v":""}]
[0,{"$error":"#VALUE!"},{"$error":"#VALUE!"},{"$f":"SUBSTITUTE(IN!G1303,\"-\",\"\")","v":""},"",{"$f":"IN!F1303*60","v":0},0,"-",{"$f":"SUBSTITUTE(IN!F1303,\",\",\".\")","v":""}]
[0,{"$error":"#VALUE!"},{"$error":"#VALUE!"},{"$f":"SUBSTITUTE(IN!G1304,\"-\",\"\")","v":""},"",{"$f":"IN!F1304*60","v":0},0,"-",{"$f":"SUBSTITUTE(IN!F1304,\",\",\".\")","v":""}]
[0,{"$error":"#VALUE!"},{"$error":"#VALUE!"},{"$f":"SUBSTITUTE(IN!G1305,\"-\",\"\")","v":""},"",{"$f":"IN!F1305*60","v":0},0,"-",{"$f":"SUBSTITUTE(IN!F1305,\",\",\".\")","v":""}]
[0,{"$error":"#VALUE!"},{"$error":"#VALUE!"},{"$f":"SUBSTITUTE(IN!G1306,\"-\",\"\")","v":""},"",{"$f":"IN!F1306*60","v":0},0,"-",{"$f":"SUBSTITUTE(IN!F1306,\",\",\".\")","v":""}]
[0,{"$error":"#VALUE!"},{"$error":"#VALUE!"},{"$f":"SUBSTITUTE(IN!G1307,\"-\",\"\")","v":""},"",{"$f":"IN!F1307*60","v":0},0,"-",{"$f":"SUBSTITUTE(IN!F1307,\",\",\".\")","v":""}]
[0,{"$error":"#VALUE!"},{"$error":"#VALUE!"},{"$f":"SUBSTITUTE(IN!G1308,\"-\",\"\")","v":""},"",{"$f":"IN!F1308*60","v":0},0,"-",{"$f":"SUBSTITUTE(IN!F1308,\",\",\".\")","v":""}]
[0,{"$error":"#VALUE!"},{"$error":"#VALUE!"},{"$f":"SUBSTITUTE(IN!G1309,\"-\",\"\")","v":""},"",{"$f":"IN!F1309*60","v":0},0,"-",{"$f":"SUBSTITUTE(IN!F1309,\",\",\".\")","v":""}]
[0,{"$error":"#VALUE!"},{"$error":"#VALUE!"},{"$f":"SUBSTITUTE(IN!G1310,\"-\",\"\")","v":""},"",{"$f":"IN!F1310*60","v":0},0,"-",{"$f":"SUBSTITUTE(IN!F1310,\",\",\".\")","v":""}]
[0,{"$error":"#VALUE!"},{"$error":"#VALUE!"},{"$f":"SUBSTITUTE(IN!G1311,\"-\",\"\")","v":""},"",{"$f":"IN!F1311*60","v":0},0,"-",{"$f":"SUBSTITUTE(IN!F1311,\",\",\".\")","v":""}]
[0,{"$error":"#VALUE!"},{"$error":"#VALUE!"},{"$f":"SUBSTITUTE(IN!G1312,\"-\",\"\")","v":""},"",{"$f":"IN!F1312*60","v":0},0,"-",{"$f":"SUBSTITUTE(IN!F1312,\",\",\".\")","v":""}]
[0,{"$error":"#VALUE!"},{"$error":"#VALUE!"},{"$f":"SUBSTITUTE(IN!G1313,\"-\",\"\")","v":""},"",{"$f":"IN!F1313*60","v":0},0,"-",{"$f":"SUBSTITUTE(IN!F1313,\",\",\".\")","v":""}]
[0,{"$error":"#VALUE!"},{"$error":"#VALUE!"},{"$f":"SUBSTITUTE(IN!G1314,\"-\",\"\")","v":""},"",{"$f":"IN!F1314*60","v":0},0,"-",{"$f":"SUBSTITUTE(IN!F1314,\",\",\".\")","v":""}]
[0,{"$error":"#VALUE!"},{"$error":"#VALUE!"},{"$f":"SUBSTITUTE(IN!G1315,\"-\",\"\")","v":""},"",{"$f":"IN!F1315*60","v":0},0,"-",{"$f":"SUBSTITUTE(IN!F1315,\",\",\".\")","v":""}]
[0,{"$error":"#VALUE!"},{"$error":"#VALUE!"},{"$f":"SUBSTITUTE(IN!G1316,\"-\",\"\")","v":""},"",{"$f":"IN!F1316*60","v":0},0,"-",{"$f":"SUBSTITUTE(IN!F1316,\",\",\".\")","v":""}]
[0,{"$error":"#VALUE!"},{"$error":"#VALUE!"},{"$f":"SUBSTITUTE(IN!G1317,\"-\",\"\")","v":""},"",{"$f":"IN!F1317*60","v":0},0,"-",{"$f":"SUBSTITUTE(IN!F1317,\",\",\".\")","v":""}]
[0,{"$error":"#VALUE!"},{"$error":"#VALUE!"},{"$f":"SUBSTITUTE(IN!G1318,\"-\",\"\")","v":""},"",{"$f":"IN!F1318*60","v":0},0,"-",{"$f":"SUBSTITUTE(IN!F1318,\",\",\".\")","v":""}]
[0,{"$error":"#VALUE!"},{"$error":"#VALUE!"},{"$f":"SUBSTITUTE(IN!G1319,\"-\",\"\")","v":""},"",{"$f":"IN!F1319*60","v":0},0,"-",{"$f":"SUBSTITUTE(IN!F1319,\",\",\".\")","v":""}]
[0,{"$error":"#VALUE!"},{"$error":"#VALUE!"},{"$f":"SUBSTITUTE(IN!G1320,\"-\",\"\")","v":""},"",{"$f":"IN!F1320*60","v":0},0,"-",{"$f":"SUBSTITUTE(IN!F1320,\",\",\".\")","v":""}]
[0,{"$error":"#VALUE!"},{"$error":"#VALUE!"},{"$f":"SUBSTITUTE(IN!G1321,\"-\",\"\")","v":""},"",{"$f":"IN!F1321*60","v":0},0,"-",{"$f":"SUBSTITUTE(IN!F1321,\",\",\".\")","v":""}]
[0,{"$error":"#VALUE!"},{"$error":"#VALUE!"},{"$f":"SUBSTITUTE(IN!G1322,\"-\",\"\")","v":""},"",{"$f":"IN!F1322*60","v":0},0,"-",{"$f":"SUBSTITUTE(IN!F1322,\",\",\".\")","v":""}]
[0,{"$error":"#VALUE!"},{"$error":"#VALUE!"},{"$f":"SUBSTITUTE(IN!G1323,\"-\",\"\")","v":""},"",{"$f":"IN!F1323*60","v":0},0,"-",{"$f":"SUBSTITUTE(IN!F1323,\",\",\".\")","v":""}]
[0,{"$error":"#VALUE!"},{"$error":"#VALUE!"},{"$f":"SUBSTITUTE(IN!G1324,\"-\",\"\")","v":""},"",{"$f":"IN!F1324*60","v":0},0,"-",{"$f":"SUBSTITUTE(IN!F1324,\",\",\".\")","v":""}]
[0,{"$error":"#VALUE!"},{"$error":"#VALUE!"},{"$f":"SUBSTITUTE(IN!G1325,\"-\",\"\")","v":""},"",{"$f":"IN!F1325*60","v":0},0,"-",{"$f":"SUBSTITUTE(IN!F1325,\",\",\".\")","v":""}]
[0,{"$error":"#VALUE!"},{"$error":"#VALUE!"},{"$f":"SUBSTITUTE(IN!G1326,\"-\",\"\")","v":""},"",{"$f":"IN!F1326*60","v":0},0,"-",{"$f":"SUBSTITUTE(IN!F1326,\",\",\".\")","v":""}]
[0,{"$error":"#VALUE!"},{"$error":"#VALUE!"},{"$f":"SUBSTITUTE(IN!G1327,\"-\",\"\")","v":""},"",{"$f":"IN!F1327*60","v":0},0,"-",{"$f":"SUBSTITUTE(IN!F1327,\",\",\".\")","v":""}]
[0,{"$error":"#VALUE!"},{"$error":"#VALUE!"},{"$f":"SUBSTITUTE(IN!G1328,\"-\",\"\")","v":""},"",{"$f":"IN!F1328*60","v":0},0,"-",{"$f":"SUBSTITUTE(IN!F1328,\",\",\".\")","v":""}]
[0,{"$error":"#VALUE!"},{"$error":"#VALUE!"},{"$f":"SUBSTITUTE(IN!G1329,\"-\",\"\")","v":""},"",{"$f":"IN!F1329*60","v":0},0,"-",{"$f":"SUBSTITUTE(IN!F1329,\",\",\".\")","v":""}]
[0,{"$error":"#VALUE!"},{"$error":"#VALUE!"},{"$f":"SUBSTITUTE(IN!G1330,\"-\",\"\")","v":""},"",{"$f":"IN!F1330*60","v":0},0,"-",{"$f":"SUBSTITUTE(IN!F1330,\",\",\".\")","v":""}]
[0,{"$error":"#VALUE!"},{"$error":"#VALUE!"},{"$f":"SUBSTITUTE(IN!G1331,\"-\",\"\")","v":""},"",{"$f":"IN!F1331*60","v":0},0,"-",{"$f":"SUBSTITUTE(IN!F1331,\",\",\".\")","v":""}]
[0,{"$error":"#VALUE!"},{"$error":"#VALUE!"},{"$f":"SUBSTITUTE(IN!G1332,\"-\",\"\")","v":""},"",{"$f":"IN!F1332*60","v":0},0,"-",{"$f":"SUBSTITUTE(IN!F1332,\",\",\".\")","v":""}]
[0,{"$error":"#VALUE!"},{"$error":"#VALUE!"},{"$f":"SUBSTITUTE(IN!G1333,\"-\",\"\")","v":""},"",{"$f":"IN!F1333*60","v":0},0,"-",{"$f":"SUBSTITUTE(IN!F1333,\",\",\".\")","v":""}]
[0,{"$error":"#VALUE!"},{"$error":"#VALUE!"},{"$f":"SUBSTITUTE(IN!G1334,\"-\",\"\")","v":""},"",{"$f":"IN!F1334*60","v":0},0,"-",{"$f":"SUBSTITUTE(IN!F1334,\",\",\".\")","v":""}]
[0,{"$error":"#VALUE!"},{"$error":"#VALUE!"},{"$f":"SUBSTITUTE(IN!G1335,\"-\",\"\")","v":""},"",{"$f":"IN!F1335*60","v":0},0,"-",{"$f":"SUBSTITUTE(IN!F1335,\",\",\".\")","v":""}]
[0,{"$error":"#VALUE!"},{"$error":"#VALUE!"},{"$f":"SUBSTITUTE(IN!G1336,\"-\",\"\")","v":""},"",{"$f":"IN!F1336*60","v":0},0,"-",{"$f":"SUBSTITUTE(IN!F1336,\",\",\".\")","v":""}]
[0,{"$error":"#VALUE!"},{"$error":"#VALUE!"},{"$f":"SUBSTITUTE(IN!G1337,\"-\",\"\")","v":""},"",{"$f":"IN!F1337*60","v":0},0,"-",{"$f":"SUBSTITUTE(IN!F1337,\",\",\".\")","v":""}]
[0,{"$error":"#VALUE!"},{"$error":"#VALUE!"},{"$f":"SUBSTITUTE(IN!G1338,\"-\",\"\")","v":""},"",{"$f":"IN!F1338*60","v":0},0,"-",{"$f":"SUBSTITUTE(IN!F1338,\",\",\".\")","v":""}]
[0,{"$error":"#VALUE!"},{"$error":"#VALUE!"},{"$f":"SUBSTITUTE(IN!G1339,\"-\",\"\")","v":""},"",{"$f":"IN!F1339*60","v":0},0,"-",{"$f":"SUBSTITUTE(IN!F1339,\",\",\".\")","v":""}]
[0,{"$error":"#VALUE!"},{"$error":"#VALUE!"},{"$f":"SUBSTITUTE(IN!G1340,\"-\",\"\")","v":""},"",{"$f":"IN!F1340*60","v":0},0,"-",{"$f":"SUBSTITUTE(IN!F1340,\",\",\".\")","v":""}]
[0,{"$error":"#VALUE!"},{"$error":"#VALUE!"},{"$f":"SUBSTITUTE(IN!G1341,\"-\",\"\")","v":""},"",{"$f":"IN!F1341*60","v":0},0,"-",{"$f":"SUBSTITUTE(IN!F1341,\",\",\".\")","v":""}]
[0,{"$error":"#VALUE!"},{"$error":"#VALUE!"},{"$f":"SUBSTITUTE(IN!G1342,\"-\",\"\")","v":""},"",{"$f":"IN!F1342*60","v":0},0,"-",{"$f":"SUBSTITUTE(IN!F1342,\",\",\".\")","v":""}]
[0,{"$error":"#VALUE!"},{"$error":"#VALUE!"},{"$f":"SUBSTITUTE(IN!G1343,\"-\",\"\")","v":""},"",{"$f":"IN!F1343*60","v":0},0,"-",{"$f":"SUBSTITUTE(IN!F1343,\",\",\".\")","v":""}]
[0,{"$error":"#VALUE!"},{"$error":"#VALUE!"},{"$f":"SUBSTITUTE(IN!G1344,\"-\",\"\")","v":""},"",{"$f":"IN!F1344*60","v":0},0,"-",{"$f":"SUBSTITUTE(IN!F1344,\",\",\".\")","v":""}]
[0,{"$error":"#VALUE!"},{"$error":"#VALUE!"},{"$f":"SUBSTITUTE(IN!G1345,\"-\",\"\")","v":""},"",{"$f":"IN!F1345*60","v":0},0,"-",{"$f":"SUBSTITUTE(IN!F1345,\",\",\".\")","v":""}]
[0,{"$error":"#VALUE!"},{"$error":"#VALUE!"},{"$f":"SUBSTITUTE(IN!G1346,\"-\",\"\")","v":""},"",{"$f":"IN!F1346*60","v":0},0,"-",{"$f":"SUBSTITUTE(IN!F1346,\",\",\".\")","v":""}]
[0,{"$error":"#VALUE!"},{"$error":"#VALUE!"},{"$f":"SUBSTITUTE(IN!G1347,\"-\",\"\")","v":""},"",{"$f":"IN!F1347*60","v":0},0,"-",{"$f":"SUBSTITUTE(IN!F1347,\",\",\".\")","v":""}]
[0,{"$error":"#VALUE!"},{"$error":"#VALUE!"},{"$f":"SUBSTITUTE(IN!G1348,\"-\",\"\")","v":""},"",{"$f":"IN!F1348*60","v":0},0,"-",{"$f":"SUBSTITUTE(IN!F1348,\",\",\".\")","v":""}]
[{"$f":"LEN(D1349)","v":0},{"$f":"VALUE(LEFT(D1349,1))","v":{"$error":"#VALUE!"}},{"$f":"IF(B1349<2,20,19)","v":{"$error":"#VALUE!"}},{"$f":"SUBSTITUTE(IN!G1349,\"-\",\"\")","v":""},{"$f":"IF(A1349=10,CONCATENATE(C1349,D1349),D1349)","v":""},{"$f":"IN!F1349*60","v":0},{"$f":"ROUND(F1349,0)","v":0},{"$f":"CONCATENATE(MID(E1349,1,8),\"-\",MID(E1349,9,4))","v":"-"},{"$f":"SUBSTITUTE(IN!F1349,\",\",\".\")","v":""}]
[0,{"$error":"#VALUE!"},{"$error":"#VALUE!"},{"$f":"SUBSTITUTE(IN!G1350,\"-\",\"\")","v":""},"",{"$f":"IN!F1350*60","v":0},0,"-",{"$f":"SUBSTITUTE(IN!F1350,\",\",\".\")","v":""}]
[0,{"$error":"#VALUE!"},{"$error":"#VALUE!"},{"$f":"SUBSTITUTE(IN!G1351,\"-\",\"\")","v":""},"",{"$f":"IN!F1351*60","v":0},0,"-",{"$f":"SUBSTITUTE(IN!F1351,\",\",\".\")","v":""}]
[0,{"$error":"#VALUE!"},{"$error":"#VALUE!"},{"$f":"SUBSTITUTE(IN!G1352,\"-\",\"\")","v":""},"",{"$f":"IN!F1352*60","v":0},0,"-",{"$f":"SUBSTITUTE(IN!F1352,\",\",\".\")","v":""}]
[0,{"$error":"#VALUE!"},{"$error":"#VALUE!"},{"$f":"SUBSTITUTE(IN!G1353,\"-\",\"\")","v":""},"",{"$f":"IN!F1353*60","v":0},0,"-",{"$f":"SUBSTITUTE(IN!F1353,\",\",\".\")","v":""}]
[0,{"$error":"#VALUE!"},{"$error":"#VALUE!"},{"$f":"SUBSTITUTE(IN!G1354,\"-\",\"\")","v":""},"",{"$f":"IN!F1354*60","v":0},0,"-",{"$f":"SUBSTITUTE(IN!F1354,\",\",\".\")","v":""}]
[0,{"$error":"#VALUE!"},{"$error":"#VALUE!"},{"$f":"SUBSTITUTE(IN!G1355,\"-\",\"\")","v":""},"",{"$f":"IN!F1355*60","v":0},0,"-",{"$f":"SUBSTITUTE(IN!F1355,\",\",\".\")","v":""}]
[0,{"$error":"#VALUE!"},{"$error":"#VALUE!"},{"$f":"SUBSTITUTE(IN!G1356,\"-\",\"\")","v":""},"",{"$f":"IN!F1356*60","v":0},0,"-",{"$f":"SUBSTITUTE(IN!F1356,\",\",\".\")","v":""}]
[0,{"$error":"#VALUE!"},{"$error":"#VALUE!"},{"$f":"SUBSTITUTE(IN!G1357,\"-\",\"\")","v":""},"",{"$f":"IN!F1357*60","v":0},0,"-",{"$f":"SUBSTITUTE(IN!F1357,\",\",\".\")","v":""}]
[0,{"$error":"#VALUE!"},{"$error":"#VALUE!"},{"$f":"SUBSTITUTE(IN!G1358,\"-\",\"\")","v":""},"",{"$f":"IN!F1358*60","v":0},0,"-",{"$f":"SUBSTITUTE(IN!F1358,\",\",\".\")","v":""}]
[0,{"$error":"#VALUE!"},{"$error":"#VALUE!"},{"$f":"SUBSTITUTE(IN!G1359,\"-\",\"\")","v":""},"",{"$f":"IN!F1359*60","v":0},0,"-",{"$f":"SUBSTITUTE(IN!F1359,\",\",\".\")","v":""}]
[0,{"$error":"#VALUE!"},{"$error":"#VALUE!"},{"$f":"SUBSTITUTE(IN!G1360,\"-\",\"\")","v":""},"",{"$f":"IN!F1360*60","v":0},0,"-",{"$f":"SUBSTITUTE(IN!F1360,\",\",\".\")","v":""}]
[0,{"$error":"#VALUE!"},{"$error":"#VALUE!"},{"$f":"SUBSTITUTE(IN!G1361,\"-\",\"\")","v":""},"",{"$f":"IN!F1361*60","v":0},0,"-",{"$f":"SUBSTITUTE(IN!F1361,\",\",\".\")","v":""}]
[0,{"$error":"#VALUE!"},{"$error":"#VALUE!"},{"$f":"SUBSTITUTE(IN!G1362,\"-\",\"\")","v":""},"",{"$f":"IN!F1362*60","v":0},0,"-",{"$f":"SUBSTITUTE(IN!F1362,\",\",\".\")","v":""}]
[0,{"$error":"#VALUE!"},{"$error":"#VALUE!"},{"$f":"SUBSTITUTE(IN!G1363,\"-\",\"\")","v":""},"",{"$f":"IN!F1363*60","v":0},0,"-",{"$f":"SUBSTITUTE(IN!F1363,\",\",\".\")","v":""}]
[0,{"$error":"#VALUE!"},{"$error":"#VALUE!"},{"$f":"SUBSTITUTE(IN!G1364,\"-\",\"\")","v":""},"",{"$f":"IN!F1364*60","v":0},0,"-",{"$f":"SUBSTITUTE(IN!F1364,\",\",\".\")","v":""}]
[0,{"$error":"#VALUE!"},{"$error":"#VALUE!"},{"$f":"SUBSTITUTE(IN!G1365,\"-\",\"\")","v":""},"",{"$f":"IN!F1365*60","v":0},0,"-",{"$f":"SUBSTITUTE(IN!F1365,\",\",\".\")","v":""}]
[0,{"$error":"#VALUE!"},{"$error":"#VALUE!"},{"$f":"SUBSTITUTE(IN!G1366,\"-\",\"\")","v":""},"",{"$f":"IN!F1366*60","v":0},0,"-",{"$f":"SUBSTITUTE(IN!F1366,\",\",\".\")","v":""}]
[0,{"$error":"#VALUE!"},{"$error":"#VALUE!"},{"$f":"SUBSTITUTE(IN!G1367,\"-\",\"\")","v":""},"",{"$f":"IN!F1367*60","v":0},0,"-",{"$f":"SUBSTITUTE(IN!F1367,\",\",\".\")","v":""}]
[0,{"$error":"#VALUE!"},{"$error":"#VALUE!"},{"$f":"SUBSTITUTE(IN!G1368,\"-\",\"\")","v":""},"",{"$f":"IN!F1368*60","v":0},0,"-",{"$f":"SUBSTITUTE(IN!F1368,\",\",\".\")","v":""}]
[0,{"$error":"#VALUE!"},{"$error":"#VALUE!"},{"$f":"SUBSTITUTE(IN!G1369,\"-\",\"\")","v":""},"",{"$f":"IN!F1369*60","v":0},0,"-",{"$f":"SUBSTITUTE(IN!F1369,\",\",\".\")","v":""}]
[0,{"$error":"#VALUE!"},{"$error":"#VALUE!"},{"$f":"SUBSTITUTE(IN!G1370,\"-\",\"\")","v":""},"",{"$f":"IN!F1370*60","v":0},0,"-",{"$f":"SUBSTITUTE(IN!F1370,\",\",\".\")","v":""}]
[0,{"$error":"#VALUE!"},{"$error":"#VALUE!"},{"$f":"SUBSTITUTE(IN!G1371,\"-\",\"\")","v":""},"",{"$f":"IN!F1371*60","v":0},0,"-",{"$f":"SUBSTITUTE(IN!F1371,\",\",\".\")","v":""}]
[0,{"$error":"#VALUE!"},{"$error":"#VALUE!"},{"$f":"SUBSTITUTE(IN!G1372,\"-\",\"\")","v":""},"",{"$f":"IN!F1372*60","v":0},0,"-",{"$f":"SUBSTITUTE(IN!F1372,\",\",\".\")","v":""}]
[0,{"$error":"#VALUE!"},{"$error":"#VALUE!"},{"$f":"SUBSTITUTE(IN!G1373,\"-\",\"\")","v":""},"",{"$f":"IN!F1373*60","v":0},0,"-",{"$f":"SUBSTITUTE(IN!F1373,\",\",\".\")","v":""}]
[0,{"$error":"#VALUE!"},{"$error":"#VALUE!"},{"$f":"SUBSTITUTE(IN!G1374,\"-\",\"\")","v":""},"",{"$f":"IN!F1374*60","v":0},0,"-",{"$f":"SUBSTITUTE(IN!F1374,\",\",\".\")","v":""}]
[0,{"$error":"#VALUE!"},{"$error":"#VALUE!"},{"$f":"SUBSTITUTE(IN!G1375,\"-\",\"\")","v":""},"",{"$f":"IN!F1375*60","v":0},0,"-",{"$f":"SUBSTITUTE(IN!F1375,\",\",\".\")","v":""}]
[0,{"$error":"#VALUE!"},{"$error":"#VALUE!"},{"$f":"SUBSTITUTE(IN!G1376,\"-\",\"\")","v":""},"",{"$f":"IN!F1376*60","v":0},0,"-",{"$f":"SUBSTITUTE(IN!F1376,\",\",\".\")","v":""}]
[0,{"$error":"#VALUE!"},{"$error":"#VALUE!"},{"$f":"SUBSTITUTE(IN!G1377,\"-\",\"\")","v":""},"",{"$f":"IN!F1377*60","v":0},0,"-",{"$f":"SUBSTITUTE(IN!F1377,\",\",\".\")","v":""}]
[0,{"$error":"#VALUE!"},{"$error":"#VALUE!"},{"$f":"SUBSTITUTE(IN!G1378,\"-\",\"\")","v":""},"",{"$f":"IN!F1378*60","v":0},0,"-",{"$f":"SUBSTITUTE(IN!F1378,\",\",\".\")","v":""}]
[0,{"$error":"#VALUE!"},{"$error":"#VALUE!"},{"$f":"SUBSTITUTE(IN!G1379,\"-\",\"\")","v":""},"",{"$f":"IN!F1379*60","v":0},0,"-",{"$f":"SUBSTITUTE(IN!F1379,\",\",\".\")","v":""}]
[0,{"$error":"#VALUE!"},{"$error":"#VALUE!"},{"$f":"SUBSTITUTE(IN!G1380,\"-\",\"\")","v":""},"",{"$f":"IN!F1380*60","v":0},0,"-",{"$f":"SUBSTITUTE(IN!F1380,\",\",\".\")","v":""}]
[0,{"$error":"#VALUE!"},{"$error":"#VALUE!"},{"$f":"SUBSTITUTE(IN!G1381,\"-\",\"\")","v":""},"",{"$f":"IN!F1381*60","v":0},0,"-",{"$f":"SUBSTITUTE(IN!F1381,\",\",\".\")","v":""}]
[0,{"$error":"#VALUE!"},{"$error":"#VALUE!"},{"$f":"SUBSTITUTE(IN!G1382,\"-\",\"\")","v":""},"",{"$f":"IN!F1382*60","v":0},0,"-",{"$f":"SUBSTITUTE(IN!F1382,\",\",\".\")","v":""}]
[0,{"$error":"#VALUE!"},{"$error":"#VALUE!"},{"$f":"SUBSTITUTE(IN!G1383,\"-\",\"\")","v":""},"",{"$f":"IN!F1383*60","v":0},0,"-",{"$f":"SUBSTITUTE(IN!F1383,\",\",\".\")","v":""}]
[0,{"$error":"#VALUE!"},{"$error":"#VALUE!"},{"$f":"SUBSTITUTE(IN!G1384,\"-\",\"\")","v":""},"",{"$f":"IN!F1384*60","v":0},0,"-",{"$f":"SUBSTITUTE(IN!F1384,\",\",\".\")","v":""}]
[0,{"$error":"#VALUE!"},{"$error":"#VALUE!"},{"$f":"SUBSTITUTE(IN!G1385,\"-\",\"\")","v":""},"",{"$f":"IN!F1385*60","v":0},0,"-",{"$f":"SUBSTITUTE(IN!F1385,\",\",\".\")","v":""}]
[0,{"$error":"#VALUE!"},{"$error":"#VALUE!"},{"$f":"SUBSTITUTE(IN!G1386,\"-\",\"\")","v":""},"",{"$f":"IN!F1386*60","v":0},0,"-",{"$f":"SUBSTITUTE(IN!F1386,\",\",\".\")","v":""}]
[0,{"$error":"#VALUE!"},{"$error":"#VALUE!"},{"$f":"SUBSTITUTE(IN!G1387,\"-\",\"\")","v":""},"",{"$f":"IN!F1387*60","v":0},0,"-",{"$f":"SUBSTITUTE(IN!F1387,\",\",\".\")","v":""}]
[0,{"$error":"#VALUE!"},{"$error":"#VALUE!"},{"$f":"SUBSTITUTE(IN!G1388,\"-\",\"\")","v":""},"",{"$f":"IN!F1388*60","v":0},0,"-",{"$f":"SUBSTITUTE(IN!F1388,\",\",\".\")","v":""}]
[0,{"$error":"#VALUE!"},{"$error":"#VALUE!"},{"$f":"SUBSTITUTE(IN!G1389,\"-\",\"\")","v":""},"",{"$f":"IN!F1389*60","v":0},0,"-",{"$f":"SUBSTITUTE(IN!F1389,\",\",\".\")","v":""}]
[0,{"$error":"#VALUE!"},{"$error":"#VALUE!"},{"$f":"SUBSTITUTE(IN!G1390,\"-\",\"\")","v":""},"",{"$f":"IN!F1390*60","v":0},0,"-",{"$f":"SUBSTITUTE(IN!F1390,\",\",\".\")","v":""}]
[0,{"$error":"#VALUE!"},{"$error":"#VALUE!"},{"$f":"SUBSTITUTE(IN!G1391,\"-\",\"\")","v":""},"",{"$f":"IN!F1391*60","v":0},0,"-",{"$f":"SUBSTITUTE(IN!F1391,\",\",\".\")","v":""}]
[0,{"$error":"#VALUE!"},{"$error":"#VALUE!"},{"$f":"SUBSTITUTE(IN!G1392,\"-\",\"\")","v":""},"",{"$f":"IN!F1392*60","v":0},0,"-",{"$f":"SUBSTITUTE(IN!F1392,\",\",\".\")","v":""}]
[0,{"$error":"#VALUE!"},{"$error":"#VALUE!"},{"$f":"SUBSTITUTE(IN!G1393,\"-\",\"\")","v":""},"",{"$f":"IN!F1393*60","v":0},0,"-",{"$f":"SUBSTITUTE(IN!F1393,\",\",\".\")","v":""}]
[0,{"$error":"#VALUE!"},{"$error":"#VALUE!"},{"$f":"SUBSTITUTE(IN!G1394,\"-\",\"\")","v":""},"",{"$f":"IN!F1394*60","v":0},0,"-",{"$f":"SUBSTITUTE(IN!F1394,\",\",\".\")","v":""}]
[0,{"$error":"#VALUE!"},{"$error":"#VALUE!"},{"$f":"SUBSTITUTE(IN!G1395,\"-\",\"\")","v":""},"",{"$f":"IN!F1395*60","v":0},0,"-",{"$f":"SUBSTITUTE(IN!F1395,\",\",\".\")","v":""}]
[0,{"$error":"#VALUE!"},{"$error":"#VALUE!"},{"$f":"SUBSTITUTE(IN!G1396,\"-\",\"\")","v":""},"",{"$f":"IN!F1396*60","v":0},0,"-",{"$f":"SUBSTITUTE(IN!F1396,\",\",\".\")","v":""}]
[0,{"$error":"#VALUE!"},{"$error":"#VALUE!"},{"$f":"SUBSTITUTE(IN!G1397,\"-\",\"\")","v":""},"",{"$f":"IN!F1397*60","v":0},0,"-",{"$f":"SUBSTITUTE(IN!F1397,\",\",\".\")","v":""}]
[0,{"$error":"#VALUE!"},{"$error":"#VALUE!"},{"$f":"SUBSTITUTE(IN!G1398,\"-\",\"\")","v":""},"",{"$f":"IN!F1398*60","v":0},0,"-",{"$f":"SUBSTITUTE(IN!F1398,\",\",\".\")","v":""}]
[0,{"$error":"#VALUE!"},{"$error":"#VALUE!"},{"$f":"SUBSTITUTE(IN!G1399,\"-\",\"\")","v":""},"",{"$f":"IN!F1399*60","v":0},0,"-",{"$f":"SUBSTITUTE(IN!F1399,\",\",\".\")","v":""}]
[0,{"$error":"#VALUE!"},{"$error":"#VALUE!"},{"$f":"SUBSTITUTE(IN!G1400,\"-\",\"\")","v":""},"",{"$f":"IN!F1400*60","v":0},0,"-",{"$f":"SUBSTITUTE(IN!F1400,\",\",\".\")","v":""}]
[0,{"$error":"#VALUE!"},{"$error":"#VALUE!"},{"$f":"SUBSTITUTE(IN!G1401,\"-\",\"\")","v":""},"",{"$f":"IN!F1401*60","v":0},0,"-",{"$f":"SUBSTITUTE(IN!F1401,\",\",\".\")","v":""}]
[0,{"$error":"#VALUE!"},{"$error":"#VALUE!"},{"$f":"SUBSTITUTE(IN!G1402,\"-\",\"\")","v":""},"",{"$f":"IN!F1402*60","v":0},0,"-",{"$f":"SUBSTITUTE(IN!F1402,\",\",\".\")","v":""}]
[0,{"$error":"#VALUE!"},{"$error":"#VALUE!"},{"$f":"SUBSTITUTE(IN!G1403,\"-\",\"\")","v":""},"",{"$f":"IN!F1403*60","v":0},0,"-",{"$f":"SUBSTITUTE(IN!F1403,\",\",\".\")","v":""}]
[0,{"$error":"#VALUE!"},{"$error":"#VALUE!"},{"$f":"SUBSTITUTE(IN!G1404,\"-\",\"\")","v":""},"",{"$f":"IN!F1404*60","v":0},0,"-",{"$f":"SUBSTITUTE(IN!F1404,\",\",\".\")","v":""}]
[0,{"$error":"#VALUE!"},{"$error":"#VALUE!"},{"$f":"SUBSTITUTE(IN!G1405,\"-\",\"\")","v":""},"",{"$f":"IN!F1405*60","v":0},0,"-",{"$f":"SUBSTITUTE(IN!F1405,\",\",\".\")","v":""}]
[0,{"$error":"#VALUE!"},{"$error":"#VALUE!"},{"$f":"SUBSTITUTE(IN!G1406,\"-\",\"\")","v":""},"",{"$f":"IN!F1406*60","v":0},0,"-",{"$f":"SUBSTITUTE(IN!F1406,\",\",\".\")","v":""}]
[0,{"$error":"#VALUE!"},{"$error":"#VALUE!"},{"$f":"SUBSTITUTE(IN!G1407,\"-\",\"\")","v":""},"",{"$f":"IN!F1407*60","v":0},0,"-",{"$f":"SUBSTITUTE(IN!F1407,\",\",\".\")","v":""}]
[0,{"$error":"#VALUE!"},{"$error":"#VALUE!"},{"$f":"SUBSTITUTE(IN!G1408,\"-\",\"\")","v":""},"",{"$f":"IN!F1408*60","v":0},0,"-",{"$f":"SUBSTITUTE(IN!F1408,\",\",\".\")","v":""}]
[0,{"$error":"#VALUE!"},{"$error":"#VALUE!"},{"$f":"SUBSTITUTE(IN!G1409,\"-\",\"\")","v":""},"",{"$f":"IN!F1409*60","v":0},0,"-",{"$f":"SUBSTITUTE(IN!F1409,\",\",\".\")","v":""}]
[0,{"$error":"#VALUE!"},{"$error":"#VALUE!"},{"$f":"SUBSTITUTE(IN!G1410,\"-\",\"\")","v":""},"",{"$f":"IN!F1410*60","v":0},0,"-",{"$f":"SUBSTITUTE(IN!F1410,\",\",\".\")","v":""}]
[0,{"$error":"#VALUE!"},{"$error":"#VALUE!"},{"$f":"SUBSTITUTE(IN!G1411,\"-\",\"\")","v":""},"",{"$f":"IN!F1411*60","v":0},0,"-",{"$f":"SUBSTITUTE(IN!F1411,\",\",\".\")","v":""}]
[0,{"$error":"#VALUE!"},{"$error":"#VALUE!"},{"$f":"SUBSTITUTE(IN!G1412,\"-\",\"\")","v":""},"",{"$f":"IN!F1412*60","v":0},0,"-",{"$f":"SUBSTITUTE(IN!F1412,\",\",\".\")","v":""}]
[{"$f":"LEN(D1413)","v":0},{"$f":"VALUE(LEFT(D1413,1))","v":{"$error":"#VALUE!"}},{"$f":"IF(B1413<2,20,19)","v":{"$error":"#VALUE!"}},{"$f":"SUBSTITUTE(IN!G1413,\"-\",\"\")","v":""},{"$f":"IF(A1413=10,CONCATENATE(C1413,D1413),D1413)","v":""},{"$f":"IN!F1413*60","v":0},{"$f":"ROUND(F1413,0)","v":0},{"$f":"CONCATENATE(MID(E1413,1,8),\"-\",MID(E1413,9,4))","v":"-"},{"$f":"SUBSTITUTE(IN!F1413,\",\",\".\")","v":""}]
[0,{"$error":"#VALUE!"},{"$error":"#VALUE!"},{"$f":"SUBSTITUTE(IN!G1414,\"-\",\"\")","v":""},"",{"$f":"IN!F1414*60","v":0},0,"-",{"$f":"SUBSTITUTE(IN!F1414,\",\",\".\")","v":""}]
[0,{"$error":"#VALUE!"},{"$error":"#VALUE!"},{"$f":"SUBSTITUTE(IN!G1415,\"-\",\"\")","v":""},"",{"$f":"IN!F1415*60","v":0},0,"-",{"$f":"SUBSTITUTE(IN!F1415,\",\",\".\")","v":""}]
[0,{"$error":"#VALUE!"},{"$error":"#VALUE!"},{"$f":"SUBSTITUTE(IN!G1416,\"-\",\"\")","v":""},"",{"$f":"IN!F1416*60","v":0},0,"-",{"$f":"SUBSTITUTE(IN!F1416,\",\",\".\")","v":""}]
[0,{"$error":"#VALUE!"},{"$error":"#VALUE!"},{"$f":"SUBSTITUTE(IN!G1417,\"-\",\"\")","v":""},"",{"$f":"IN!F1417*60","v":0},0,"-",{"$f":"SUBSTITUTE(IN!F1417,\",\",\".\")","v":""}]
[0,{"$error":"#VALUE!"},{"$error":"#VALUE!"},{"$f":"SUBSTITUTE(IN!G1418,\"-\",\"\")","v":""},"",{"$f":"IN!F1418*60","v":0},0,"-",{"$f":"SUBSTITUTE(IN!F1418,\",\",\".\")","v":""}]
[0,{"$error":"#VALUE!"},{"$error":"#VALUE!"},{"$f":"SUBSTITUTE(IN!G1419,\"-\",\"\")","v":""},"",{"$f":"IN!F1419*60","v":0},0,"-",{"$f":"SUBSTITUTE(IN!F1419,\",\",\".\")","v":""}]
[0,{"$error":"#VALUE!"},{"$error":"#VALUE!"},{"$f":"SUBSTITUTE(IN!G1420,\"-\",\"\")","v":""},"",{"$f":"IN!F1420*60","v":0},0,"-",{"$f":"SUBSTITUTE(IN!F1420,\",\",\".\")","v":""}]
[0,{"$error":"#VALUE!"},{"$error":"#VALUE!"},{"$f":"SUBSTITUTE(IN!G1421,\"-\",\"\")","v":""},"",{"$f":"IN!F1421*60","v":0},0,"-",{"$f":"SUBSTITUTE(IN!F1421,\",\",\".\")","v":""}]
[0,{"$error":"#VALUE!"},{"$error":"#VALUE!"},{"$f":"SUBSTITUTE(IN!G1422,\"-\",\"\")","v":""},"",{"$f":"IN!F1422*60","v":0},0,"-",{"$f":"SUBSTITUTE(IN!F1422,\",\",\".\")","v":""}]
[0,{"$error":"#VALUE!"},{"$error":"#VALUE!"},{"$f":"SUBSTITUTE(IN!G1423,\"-\",\"\")","v":""},"",{"$f":"IN!F1423*60","v":0},0,"-",{"$f":"SUBSTITUTE(IN!F1423,\",\",\".\")","v":""}]
[0,{"$error":"#VALUE!"},{"$error":"#VALUE!"},{"$f":"SUBSTITUTE(IN!G1424,\"-\",\"\")","v":""},"",{"$f":"IN!F1424*60","v":0},0,"-",{"$f":"SUBSTITUTE(IN!F1424,\",\",\".\")","v":""}]
[0,{"$error":"#VALUE!"},{"$error":"#VALUE!"},{"$f":"SUBSTITUTE(IN!G1425,\"-\",\"\")","v":""},"",{"$f":"IN!F1425*60","v":0},0,"-",{"$f":"SUBSTITUTE(IN!F1425,\",\",\".\")","v":""}]
[0,{"$error":"#VALUE!"},{"$error":"#VALUE!"},{"$f":"SUBSTITUTE(IN!G1426,\"-\",\"\")","v":""},"",{"$f":"IN!F1426*60","v":0},0,"-",{"$f":"SUBSTITUTE(IN!F1426,\",\",\".\")","v":""}]
[0,{"$error":"#VALUE!"},{"$error":"#VALUE!"},{"$f":"SUBSTITUTE(IN!G1427,\"-\",\"\")","v":""},"",{"$f":"IN!F1427*60","v":0},0,"-",{"$f":"SUBSTITUTE(IN!F1427,\",\",\".\")","v":""}]
[0,{"$error":"#VALUE!"},{"$error":"#VALUE!"},{"$f":"SUBSTITUTE(IN!G1428,\"-\",\"\")","v":""},"",{"$f":"IN!F1428*60","v":0},0,"-",{"$f":"SUBSTITUTE(IN!F1428,\",\",\".\")","v":""}]
[0,{"$error":"#VALUE!"},{"$error":"#VALUE!"},{"$f":"SUBSTITUTE(IN!G1429,\"-\",\"\")","v":""},"",{"$f":"IN!F1429*60","v":0},0,"-",{"$f":"SUBSTITUTE(IN!F1429,\",\",\".\")","v":""}]
[0,{"$error":"#VALUE!"},{"$error":"#VALUE!"},{"$f":"SUBSTITUTE(IN!G1430,\"-\",\"\")","v":""},"",{"$f":"IN!F1430*60","v":0},0,"-",{"$f":"SUBSTITUTE(IN!F1430,\",\",\".\")","v":""}]
[0,{"$error":"#VALUE!"},{"$error":"#VALUE!"},{"$f":"SUBSTITUTE(IN!G1431,\"-\",\"\")","v":""},"",{"$f":"IN!F1431*60","v":0},0,"-",{"$f":"SUBSTITUTE(IN!F1431,\",\",\".\")","v":""}]
[0,{"$error":"#VALUE!"},{"$error":"#VALUE!"},{"$f":"SUBSTITUTE(IN!G1432,\"-\",\"\")","v":""},"",{"$f":"IN!F1432*60","v":0},0,"-",{"$f":"SUBSTITUTE(IN!F1432,\",\",\".\")","v":""}]
[0,{"$error":"#VALUE!"},{"$error":"#VALUE!"},{"$f":"SUBSTITUTE(IN!G1433,\"-\",\"\")","v":""},"",{"$f":"IN!F1433*60","v":0},0,"-",{"$f":"SUBSTITUTE(IN!F1433,\",\",\".\")","v":""}]
[0,{"$error":"#VALUE!"},{"$error":"#VALUE!"},{"$f":"SUBSTITUTE(IN!G1434,\"-\",\"\")","v":""},"",{"$f":"IN!F1434*60","v":0},0,"-",{"$f":"SUBSTITUTE(IN!F1434,\",\",\".\")","v":""}]
[0,{"$error":"#VALUE!"},{"$error":"#VALUE!"},{"$f":"SUBSTITUTE(IN!G1435,\"-\",\"\")","v":""},"",{"$f":"IN!F1435*60","v":0},0,"-",{"$f":"SUBSTITUTE(IN!F1435,\",\",\".\")","v":""}]
[0,{"$error":"#VALUE!"},{"$error":"#VALUE!"},{"$f":"SUBSTITUTE(IN!G1436,\"-\",\"\")","v":""},"",{"$f":"IN!F1436*60","v":0},0,"-",{"$f":"SUBSTITUTE(IN!F1436,\",\",\".\")","v":""}]
[0,{"$error":"#VALUE!"},{"$error":"#VALUE!"},{"$f":"SUBSTITUTE(IN!G1437,\"-\",\"\")","v":""},"",{"$f":"IN!F1437*60","v":0},0,"-",{"$f":"SUBSTITUTE(IN!F1437,\",\",\".\")","v":""}]
[0,{"$error":"#VALUE!"},{"$error":"#VALUE!"},{"$f":"SUBSTITUTE(IN!G1438,\"-\",\"\")","v":""},"",{"$f":"IN!F1438*60","v":0},0,"-",{"$f":"SUBSTITUTE(IN!F1438,\",\",\".\")","v":""}]
[0,{"$error":"#VALUE!"},{"$error":"#VALUE!"},{"$f":"SUBSTITUTE(IN!G1439,\"-\",\"\")","v":""},"",{"$f":"IN!F1439*60","v":0},0,"-",{"$f":"SUBSTITUTE(IN!F1439,\",\",\".\")","v":""}]
[0,{"$error":"#VALUE!"},{"$error":"#VALUE!"},{"$f":"SUBSTITUTE(IN!G1440,\"-\",\"\")","v":""},"",{"$f":"IN!F1440*60","v":0},0,"-",{"$f":"SUBSTITUTE(IN!F1440,\",\",\".\")","v":""}]
[0,{"$error":"#VALUE!"},{"$error":"#VALUE!"},{"$f":"SUBSTITUTE(IN!G1441,\"-\",\"\")","v":""},"",{"$f":"IN!F1441*60","v":0},0,"-",{"$f":"SUBSTITUTE(IN!F1441,\",\",\".\")","v":""}]
[0,{"$error":"#VALUE!"},{"$error":"#VALUE!"},{"$f":"SUBSTITUTE(IN!G1442,\"-\",\"\")","v":""},"",{"$f":"IN!F1442*60","v":0},0,"-",{"$f":"SUBSTITUTE(IN!F1442,\",\",\".\")","v":""}]
[0,{"$error":"#VALUE!"},{"$error":"#VALUE!"},{"$f":"SUBSTITUTE(IN!G1443,\"-\",\"\")","v":""},"",{"$f":"IN!F1443*60","v":0},0,"-",{"$f":"SUBSTITUTE(IN!F1443,\",\",\".\")","v":""}]
[0,{"$error":"#VALUE!"},{"$error":"#VALUE!"},{"$f":"SUBSTITUTE(IN!G1444,\"-\",\"\")","v":""},"",{"$f":"IN!F1444*60","v":0},0,"-",{"$f":"SUBSTITUTE(IN!F1444,\",\",\".\")","v":""}]
[0,{"$error":"#VALUE!"},{"$error":"#VALUE!"},{"$f":"SUBSTITUTE(IN!G1445,\"-\",\"\")","v":""},"",{"$f":"IN!F1445*60","v":0},0,"-",{"$f":"SUBSTITUTE(IN!F1445,\",\",\".\")","v":""}]
[0,{"$error":"#VALUE!"},{"$error":"#VALUE!"},{"$f":"SUBSTITUTE(IN!G1446,\"-\",\"\")","v":""},"",{"$f":"IN!F1446*60","v":0},0,"-",{"$f":"SUBSTITUTE(IN!F1446,\",\",\".\")","v":""}]
[0,{"$error":"#VALUE!"},{"$error":"#VALUE!"},{"$f":"SUBSTITUTE(IN!G1447,\"-\",\"\")","v":""},"",{"$f":"IN!F1447*60","v":0},0,"-",{"$f":"SUBSTITUTE(IN!F1447,\",\",\".\")","v":""}]
[0,{"$error":"#VALUE!"},{"$error":"#VALUE!"},{"$f":"SUBSTITUTE(IN!G1448,\"-\",\"\")","v":""},"",{"$f":"IN!F1448*60","v":0},0,"-",{"$f":"SUBSTITUTE(IN!F1448,\",\",\".\")","v":""}]
[0,{"$error":"#VALUE!"},{"$error":"#VALUE!"},{"$f":"SUBSTITUTE(IN!G1449,\"-\",\"\")","v":""},"",{"$f":"IN!F1449*60","v":0},0,"-",{"$f":"SUBSTITUTE(IN!F1449,\",\",\".\")","v":""}]
[0,{"$error":"#VALUE!"},{"$error":"#VALUE!"},{"$f":"SUBSTITUTE(IN!G1450,\"-\",\"\")","v":""},"",{"$f":"IN!F1450*60","v":0},0,"-",{"$f":"SUBSTITUTE(IN!F1450,\",\",\".\")","v":""}]
[0,{"$error":"#VALUE!"},{"$error":"#VALUE!"},{"$f":"SUBSTITUTE(IN!G1451,\"-\",\"\")","v":""},"",{"$f":"IN!F1451*60","v":0},0,"-",{"$f":"SUBSTITUTE(IN!F1451,\",\",\".\")","v":""}]
[0,{"$error":"#VALUE!"},{"$error":"#VALUE!"},{"$f":"SUBSTITUTE(IN!G1452,\"-\",\"\")","v":""},"",{"$f":"IN!F1452*60","v":0},0,"-",{"$f":"SUBSTITUTE(IN!F1452,\",\",\".\")","v":""}]
[0,{"$error":"#VALUE!"},{"$error":"#VALUE!"},{"$f":"SUBSTITUTE(IN!G1453,\"-\",\"\")","v":""},"",{"$f":"IN!F1453*60","v":0},0,"-",{"$f":"SUBSTITUTE(IN!F1453,\",\",\".\")","v":""}]
[0,{"$error":"#VALUE!"},{"$error":"#VALUE!"},{"$f":"SUBSTITUTE(IN!G1454,\"-\",\"\")","v":""},"",{"$f":"IN!F1454*60","v":0},0,"-",{"$f":"SUBSTITUTE(IN!F1454,\",\",\".\")","v":""}]
[0,{"$error":"#VALUE!"},{"$error":"#VALUE!"},{"$f":"SUBSTITUTE(IN!G1455,\"-\",\"\")","v":""},"",{"$f":"IN!F1455*60","v":0},0,"-",{"$f":"SUBSTITUTE(IN!F1455,\",\",\".\")","v":""}]
[0,{"$error":"#VALUE!"},{"$error":"#VALUE!"},{"$f":"SUBSTITUTE(IN!G1456,\"-\",\"\")","v":""},"",{"$f":"IN!F1456*60","v":0},0,"-",{"$f":"SUBSTITUTE(IN!F1456,\",\",\".\")","v":""}]
[0,{"$error":"#VALUE!"},{"$error":"#VALUE!"},{"$f":"SUBSTITUTE(IN!G1457,\"-\",\"\")","v":""},"",{"$f":"IN!F1457*60","v":0},0,"-",{"$f":"SUBSTITUTE(IN!F1457,\",\",\".\")","v":""}]
[0,{"$error":"#VALUE!"},{"$error":"#VALUE!"},{"$f":"SUBSTITUTE(IN!G1458,\"-\",\"\")","v":""},"",{"$f":"IN!F1458*60","v":0},0,"-",{"$f":"SUBSTITUTE(IN!F1458,\",\",\".\")","v":""}]
[0,{"$error":"#VALUE!"},{"$error":"#VALUE!"},{"$f":"SUBSTITUTE(IN!G1459,\"-\",\"\")","v":""},"",{"$f":"IN!F1459*60","v":0},0,"-",{"$f":"SUBSTITUTE(IN!F1459,\",\",\".\")","v":""}]
[0,{"$error":"#VALUE!"},{"$error":"#VALUE!"},{"$f":"SUBSTITUTE(IN!G1460,\"-\",\"\")","v":""},"",{"$f":"IN!F1460*60","v":0},0,"-",{"$f":"SUBSTITUTE(IN!F1460,\",\",\".\")","v":""}]
[0,{"$error":"#VALUE!"},{"$error":"#VALUE!"},{"$f":"SUBSTITUTE(IN!G1461,\"-\",\"\")","v":""},"",{"$f":"IN!F1461*60","v":0},0,"-",{"$f":"SUBSTITUTE(IN!F1461,\",\",\".\")","v":""}]
[0,{"$error":"#VALUE!"},{"$error":"#VALUE!"},{"$f":"SUBSTITUTE(IN!G1462,\"-\",\"\")","v":""},"",{"$f":"IN!F1462*60","v":0},0,"-",{"$f":"SUBSTITUTE(IN!F1462,\",\",\".\")","v":""}]
[0,{"$error":"#VALUE!"},{"$error":"#VALUE!"},{"$f":"SUBSTITUTE(IN!G1463,\"-\",\"\")","v":""},"",{"$f":"IN!F1463*60","v":0},0,"-",{"$f":"SUBSTITUTE(IN!F1463,\",\",\".\")","v":""}]
[0,{"$error":"#VALUE!"},{"$error":"#VALUE!"},{"$f":"SUBSTITUTE(IN!G1464,\"-\",\"\")","v":""},"",{"$f":"IN!F1464*60","v":0},0,"-",{"$f":"SUBSTITUTE(IN!F1464,\",\",\".\")","v":""}]
[0,{"$error":"#VALUE!"},{"$error":"#VALUE!"},{"$f":"SUBSTITUTE(IN!G1465,\"-\",\"\")","v":""},"",{"$f":"IN!F1465*60","v":0},0,"-",{"$f":"SUBSTITUTE(IN!F1465,\",\",\".\")","v":""}]
[0,{"$error":"#VALUE!"},{"$error":"#VALUE!"},{"$f":"SUBSTITUTE(IN!G1466,\"-\",\"\")","v":""},"",{"$f":"IN!F1466*60","v":0},0,"-",{"$f":"SUBSTITUTE(IN!F1466,\",\",\".\")","v":""}]
[0,{"$error":"#VALUE!"},{"$error":"#VALUE!"},{"$f":"SUBSTITUTE(IN!G1467,\"-\",\"\")","v":""},"",{"$f":"IN!F1467*60","v":0},0,"-",{"$f":"SUBSTITUTE(IN!F1467,\",\",\".\")","v":""}]
[0,{"$error":"#VALUE!"},{"$error":"#VALUE!"},{"$f":"SUBSTITUTE(IN!G1468,\"-\",\"\")","v":""},"",{"$f":"IN!F1468*60","v":0},0,"-",{"$f":"SUBSTITUTE(IN!F1468,\",\",\".\")","v":""}]
[0,{"$error":"#VALUE!"},{"$error":"#VALUE!"},{"$f":"SUBSTITUTE(IN!G1469,\"-\",\"\")","v":""},"",{"$f":"IN!F1469*60","v":0},0,"-",{"$f":"SUBSTITUTE(IN!F1469,\",\",\".\")","v":""}]
[0,{"$error":"#VALUE!"},{"$error":"#VALUE!"},{"$f":"SUBSTITUTE(IN!G1470,\"-\",\"\")","v":""},"",{"$f":"IN!F1470*60","v":0},0,"-",{"$f":"SUBSTITUTE(IN!F1470,\",\",\".\")","v":""}]
[0,{"$error":"#VALUE!"},{"$error":"#VALUE!"},{"$f":"SUBSTITUTE(IN!G1471,\"-\",\"\")","v":""},"",{"$f":"IN!F1471*60","v":0},0,"-",{"$f":"SUBSTITUTE(IN!F1471,\",\",\".\")","v":""}]
[0,{"$error":"#VALUE!"},{"$error":"#VALUE!"},{"$f":"SUBSTITUTE(IN!G1472,\"-\",\"\")","v":""},"",{"$f":"IN!F1472*60","v":0},0,"-",{"$f":"SUBSTITUTE(IN!F1472,\",\",\".\")","v":""}]
[0,{"$error":"#VALUE!"},{"$error":"#VALUE!"},{"$f":"SUBSTITUTE(IN!G1473,\"-\",\"\")","v":""},"",{"$f":"IN!F1473*60","v":0},0,"-",{"$f":"SUBSTITUTE(IN!F1473,\",\",\".\")","v":""}]
[0,{"$error":"#VALUE!"},{"$error":"#VALUE!"},{"$f":"SUBSTITUTE(IN!G1474,\"-\",\"\")","v":""},"",{"$f":"IN!F1474*60","v":0},0,"-",{"$f":"SUBSTITUTE(IN!F1474,\",\",\".\")","v":""}]
[0,{"$error":"#VALUE!"},{"$error":"#VALUE!"},{"$f":"SUBSTITUTE(IN!G1475,\"-\",\"\")","v":""},"",{"$f":"IN!F1475*60","v":0},0,"-",{"$f":"SUBSTITUTE(IN!F1475,\",\",\".\")","v":""}]
[0,{"$error":"#VALUE!"},{"$error":"#VALUE!"},{"$f":"SUBSTITUTE(IN!G1476,\"-\",\"\")","v":""},"",{"$f":"IN!F1476*60","v":0},0,"-",{"$f":"SUBSTITUTE(IN!F1476,\",\",\".\")","v":""}]
[{"$f":"LEN(D1477)","v":0},{"$f":"VALUE(LEFT(D1477,1))","v":{"$error":"#VALUE!"}},{"$f":"IF(B1477<2,20,19)","v":{"$error":"#VALUE!"}},{"$f":"SUBSTITUTE(IN!G1477,\"-\",\"\")","v":""},{"$f":"IF(A1477=10,CONCATENATE(C1477,D1477),D1477)","v":""},{"$f":"IN!F1477*60","v":0},{"$f":"ROUND(F1477,0)","v":0},{"$f":"CONCATENATE(MID(E1477,1,8),\"-\",MID(E1477,9,4))","v":"-"},{"$f":"SUBSTITUTE(IN!F1477,\",\",\".\")","v":""}]
[0,{"$error":"#VALUE!"},{"$error":"#VALUE!"},{"$f":"SUBSTITUTE(IN!G1478,\"-\",\"\")","v":""},"",{"$f":"IN!F1478*60","v":0},0,"-",{"$f":"SUBSTITUTE(IN!F1478,\",\",\".\")","v":""}]
[0,{"$error":"#VALUE!"},{"$error":"#VALUE!"},{"$f":"SUBSTITUTE(IN!G1479,\"-\",\"\")","v":""},"",{"$f":"IN!F1479*60","v":0},0,"-",{"$f":"SUBSTITUTE(IN!F1479,\",\",\".\")","v":""}]
[0,{"$error":"#VALUE!"},{"$error":"#VALUE!"},{"$f":"SUBSTITUTE(IN!G1480,\"-\",\"\")","v":""},"",{"$f":"IN!F1480*60","v":0},0,"-",{"$f":"SUBSTITUTE(IN!F1480,\",\",\".\")","v":""}]
[0,{"$error":"#VALUE!"},{"$error":"#VALUE!"},{"$f":"SUBSTITUTE(IN!G1481,\"-\",\"\")","v":""},"",{"$f":"IN!F1481*60","v":0},0,"-",{"$f":"SUBSTITUTE(IN!F1481,\",\",\".\")","v":""}]
[0,{"$error":"#VALUE!"},{"$error":"#VALUE!"},{"$f":"SUBSTITUTE(IN!G1482,\"-\",\"\")","v":""},"",{"$f":"IN!F1482*60","v":0},0,"-",{"$f":"SUBSTITUTE(IN!F1482,\",\",\".\")","v":""}]
[0,{"$error":"#VALUE!"},{"$error":"#VALUE!"},{"$f":"SUBSTITUTE(IN!G1483,\"-\",\"\")","v":""},"",{"$f":"IN!F1483*60","v":0},0,"-",{"$f":"SUBSTITUTE(IN!F1483,\",\",\".\")","v":""}]
[0,{"$error":"#VALUE!"},{"$error":"#VALUE!"},{"$f":"SUBSTITUTE(IN!G1484,\"-\",\"\")","v":""},"",{"$f":"IN!F1484*60","v":0},0,"-",{"$f":"SUBSTITUTE(IN!F1484,\",\",\".\")","v":""}]
[0,{"$error":"#VALUE!"},{"$error":"#VALUE!"},{"$f":"SUBSTITUTE(IN!G1485,\"-\",\"\")","v":""},"",{"$f":"IN!F1485*60","v":0},0,"-",{"$f":"SUBSTITUTE(IN!F1485,\",\",\".\")","v":""}]
[0,{"$error":"#VALUE!"},{"$error":"#VALUE!"},{"$f":"SUBSTITUTE(IN!G1486,\"-\",\"\")","v":""},"",{"$f":"IN!F1486*60","v":0},0,"-",{"$f":"SUBSTITUTE(IN!F1486,\",\",\".\")","v":""}]
[0,{"$error":"#VALUE!"},{"$error":"#VALUE!"},{"$f":"SUBSTITUTE(IN!G1487,\"-\",\"\")","v":""},"",{"$f":"IN!F1487*60","v":0},0,"-",{"$f":"SUBSTITUTE(IN!F1487,\",\",\".\")","v":""}]
[0,{"$error":"#VALUE!"},{"$error":"#VALUE!"},{"$f":"SUBSTITUTE(IN!G1488,\"-\",\"\")","v":""},"",{"$f":"IN!F1488*60","v":0},0,"-",{"$f":"SUBSTITUTE(IN!F1488,\",\",\".\")","v":""}]
[0,{"$error":"#VALUE!"},{"$error":"#VALUE!"},{"$f":"SUBSTITUTE(IN!G1489,\"-\",\"\")","v":""},"",{"$f":"IN!F1489*60","v":0},0,"-",{"$f":"SUBSTITUTE(IN!F1489,\",\",\".\")","v":""}]
[0,{"$error":"#VALUE!"},{"$error":"#VALUE!"},{"$f":"SUBSTITUTE(IN!G1490,\"-\",\"\")","v":""},"",{"$f":"IN!F1490*60","v":0},0,"-",{"$f":"SUBSTITUTE(IN!F1490,\",\",\".\")","v":""}]
[0,{"$error":"#VALUE!"},{"$error":"#VALUE!"},{"$f":"SUBSTITUTE(IN!G1491,\"-\",\"\")","v":""},"",{"$f":"IN!F1491*60","v":0},0,"-",{"$f":"SUBSTITUTE(IN!F1491,\",\",\".\")","v":""}]
[0,{"$error":"#VALUE!"},{"$error":"#VALUE!"},{"$f":"SUBSTITUTE(IN!G1492,\"-\",\"\")","v":""},"",{"$f":"IN!F1492*60","v":0},0,"-",{"$f":"SUBSTITUTE(IN!F1492,\",\",\".\")","v":""}]
[0,{"$error":"#VALUE!"},{"$error":"#VALUE!"},{"$f":"SUBSTITUTE(IN!G1493,\"-\",\"\")","v":""},"",{"$f":"IN!F1493*60","v":0},0,"-",{"$f":"SUBSTITUTE(IN!F1493,\",\",\".\")","v":""}]
[0,{"$error":"#VALUE!"},{"$error":"#VALUE!"},{"$f":"SUBSTITUTE(IN!G1494,\"-\",\"\")","v":""},"",{"$f":"IN!F1494*60","v":0},0,"-",{"$f":"SUBSTITUTE(IN!F1494,\",\",\".\")","v":""}]
[0,{"$error":"#VALUE!"},{"$error":"#VALUE!"},{"$f":"SUBSTITUTE(IN!G1495,\"-\",\"\")","v":""},"",{"$f":"IN!F1495*60","v":0},0,"-",{"$f":"SUBSTITUTE(IN!F1495,\",\",\".\")","v":""}]
[0,{"$error":"#VALUE!"},{"$error":"#VALUE!"},{"$f":"SUBSTITUTE(IN!G1496,\"-\",\"\")","v":""},"",{"$f":"IN!F1496*60","v":0},0,"-",{"$f":"SUBSTITUTE(IN!F1496,\",\",\".\")","v":""}]
[0,{"$error":"#VALUE!"},{"$error":"#VALUE!"},{"$f":"SUBSTITUTE(IN!G1497,\"-\",\"\")","v":""},"",{"$f":"IN!F1497*60","v":0},0,"-",{"$f":"SUBSTITUTE(IN!F1497,\",\",\".\")","v":""}]
[0,{"$error":"#VALUE!"},{"$error":"#VALUE!"},{"$f":"SUBSTITUTE(IN!G1498,\"-\",\"\")","v":""},"",{"$f":"IN!F1498*60","v":0},0,"-",{"$f":"SUBSTITUTE(IN!F1498,\",\",\".\")","v":""}]
[0,{"$error":"#VALUE!"},{"$error":"#VALUE!"},{"$f":"SUBSTITUTE(IN!G1499,\"-\",\"\")","v":""},"",{"$f":"IN!F1499*60","v":0},0,"-",{"$f":"SUBSTITUTE(IN!F1499,\",\",\".\")","v":""}]
[0,{"$error":"#VALUE!"},{"$error":"#VALUE!"},{"$f":"SUBSTITUTE(IN!G1500,\"-\",\"\")","v":""},"",{"$f":"IN!F1500*60","v":0},0,"-",{"$f":"SUBSTITUTE(IN!F1500,\",\",\".\")","v":""}]
[0,{"$error":"#VALUE!"},{"$error":"#VALUE!"},{"$f":"SUBSTITUTE(IN!G1501,\"-\",\"\")","v":""},"",{"$f":"IN!F1501*60","v":0},0,"-",{"$f":"SUBSTITUTE(IN!F1501,\",\",\".\")","v":""}]
[0,{"$error":"#VALUE!"},{"$error":"#VALUE!"},{"$f":"SUBSTITUTE(IN!G1502,\"-\",\"\")","v":""},"",{"$f":"IN!F1502*60","v":0},0,"-",{"$f":"SUBSTITUTE(IN!F1502,\",\",\".\")","v":""}]
[0,{"$error":"#VALUE!"},{"$error":"#VALUE!"},{"$f":"SUBSTITUTE(IN!G1503,\"-\",\"\")","v":""},"",{"$f":"IN!F1503*60","v":0},0,"-",{"$f":"SUBSTITUTE(IN!F1503,\",\",\".\")","v":""}]
[0,{"$error":"#VALUE!"},{"$error":"#VALUE!"},{"$f":"SUBSTITUTE(IN!G1504,\"-\",\"\")","v":""},"",{"$f":"IN!F1504*60","v":0},0,"-",{"$f":"SUBSTITUTE(IN!F1504,\",\",\".\")","v":""}]
[0,{"$error":"#VALUE!"},{"$error":"#VALUE!"},{"$f":"SUBSTITUTE(IN!G1505,\"-\",\"\")","v":""},"",{"$f":"IN!F1505*60","v":0},0,"-",{"$f":"SUBSTITUTE(IN!F1505,\",\",\".\")","v":""}]
[0,{"$error":"#VALUE!"},{"$error":"#VALUE!"},{"$f":"SUBSTITUTE(IN!G1506,\"-\",\"\")","v":""},"",{"$f":"IN!F1506*60","v":0},0,"-",{"$f":"SUBSTITUTE(IN!F1506,\",\",\".\")","v":""}]
[0,{"$error":"#VALUE!"},{"$error":"#VALUE!"},{"$f":"SUBSTITUTE(IN!G1507,\"-\",\"\")","v":""},"",{"$f":"IN!F1507*60","v":0},0,"-",{"$f":"SUBSTITUTE(IN!F1507,\",\",\".\")","v":""}]
[0,{"$error":"#VALUE!"},{"$error":"#VALUE!"},{"$f":"SUBSTITUTE(IN!G1508,\"-\",\"\")","v":""},"",{"$f":"IN!F1508*60","v":0},0,"-",{"$f":"SUBSTITUTE(IN!F1508,\",\",\".\")","v":""}]
[0,{"$error":"#VALUE!"},{"$error":"#VALUE!"},{"$f":"SUBSTITUTE(IN!G1509,\"-\",\"\")","v":""},"",{"$f":"IN!F1509*60","v":0},0,"-",{"$f":"SUBSTITUTE(IN!F1509,\",\",\".\")","v":""}]
[0,{"$error":"#VALUE!"},{"$error":"#VALUE!"},{"$f":"SUBSTITUTE(IN!G1510,\"-\",\"\")","v":""},"",{"$f":"IN!F1510*60","v":0},0,"-",{"$f":"SUBSTITUTE(IN!F1510,\",\",\".\")","v":""}]
[0,{"$error":"#VALUE!"},{"$error":"#VALUE!"},{"$f":"SUBSTITUTE(IN!G1511,\"-\",\"\")","v":""},"",{"$f":"IN!F1511*60","v":0},0,"-",{"$f":"SUBSTITUTE(IN!F1511,\",\",\".\")","v":""}]
[0,{"$error":"#VALUE!"},{"$error":"#VALUE!"},{"$f":"SUBSTITUTE(IN!G1512,\"-\",\"\")","v":""},"",{"$f":"IN!F1512*60","v":0},0,"-",{"$f":"SUBSTITUTE(IN!F1512,\",\",\".\")","v":""}]
[0,{"$error":"#VALUE!"},{"$error":"#VALUE!"},{"$f":"SUBSTITUTE(IN!G1513,\"-\",\"\")","v":""},"",{"$f":"IN!F1513*60","v":0},0,"-",{"$f":"SUBSTITUTE(IN!F1513,\",\",\".\")","v":""}]
[0,{"$error":"#VALUE!"},{"$error":"#VALUE!"},{"$f":"SUBSTITUTE(IN!G1514,\"-\",\"\")","v":""},"",{"$f":"IN!F1514*60","v":0},0,"-",{"$f":"SUBSTITUTE(IN!F1514,\",\",\".\")","v":""}]
[0,{"$error":"#VALUE!"},{"$error":"#VALUE!"},{"$f":"SUBSTITUTE(IN!G1515,\"-\",\"\")","v":""},"",{"$f":"IN!F1515*60","v":0},0,"-",{"$f":"SUBSTITUTE(IN!F1515,\",\",\".\")","v":""}]
[0,{"$error":"#VALUE!"},{"$error":"#VALUE!"},{"$f":"SUBSTITUTE(IN!G1516,\"-\",\"\")","v":""},"",{"$f":"IN!F1516*60","v":0},0,"-",{"$f":"SUBSTITUTE(IN!F1516,\",\",\".\")","v":""}]
[0,{"$error":"#VALUE!"},{"$error":"#VALUE!"},{"$f":"SUBSTITUTE(IN!G1517,\"-\",\"\")","v":""},"",{"$f":"IN!F1517*60","v":0},0,"-",{"$f":"SUBSTITUTE(IN!F1517,\",\",\".\")","v":""}]
[0,{"$error":"#VALUE!"},{"$error":"#VALUE!"},{"$f":"SUBSTITUTE(IN!G1518,\"-\",\"\")","v":""},"",{"$f":"IN!F1518*60","v":0},0,"-",{"$f":"SUBSTITUTE(IN!F1518,\",\",\".\")","v":""}]
[0,{"$error":"#VALUE!"},{"$error":"#VALUE!"},{"$f":"SUBSTITUTE(IN!G1519,\"-\",\"\")","v":""},"",{"$f":"IN!F1519*60","v":0},0,"-",{"$f":"SUBSTITUTE(IN!F1519,\",\",\".\")","v":""}]
[0,{"$error":"#VALUE!"},{"$error":"#VALUE!"},{"$f":"SUBSTITUTE(IN!G1520,\"-\",\"\")","v":""},"",{"$f":"IN!F1520*60","v":0},0,"-",{"$f":"SUBSTITUTE(IN!F1520,\",\",\".\")","v":""}]
[0,{"$error":"#VALUE!"},{"$error":"#VALUE!"},{"$f":"SUBSTITUTE(IN!G1521,\"-\",\"\")","v":""},"",{"$f":"IN!F1521*60","v":0},0,"-",{"$f":"SUBSTITUTE(IN!F1521,\",\",\".\")","v":""}]
[0,{"$error":"#VALUE!"},{"$error":"#VALUE!"},{"$f":"SUBSTITUTE(IN!G1522,\"-\",\"\")","v":""},"",{"$f":"IN!F1522*60","v":0},0,"-",{"$f":"SUBSTITUTE(IN!F1522,\",\",\".\")","v":""}]
[0,{"$error":"#VALUE!"},{"$error":"#VALUE!"},{"$f":"SUBSTITUTE(IN!G1523,\"-\",\"\")","v":""},"",{"$f":"IN!F1523*60","v":0},0,"-",{"$f":"SUBSTITUTE(IN!F1523,\",\",\".\")","v":""}]
[0,{"$error":"#VALUE!"},{"$error":"#VALUE!"},{"$f":"SUBSTITUTE(IN!G1524,\"-\",\"\")","v":""},"",{"$f":"IN!F1524*60","v":0},0,"-",{"$f":"SUBSTITUTE(IN!F1524,\",\",\".\")","v":""}]
[0,{"$error":"#VALUE!"},{"$error":"#VALUE!"},{"$f":"SUBSTITUTE(IN!G1525,\"-\",\"\")","v":""},"",{"$f":"IN!F1525*60","v":0},0,"-",{"$f":"SUBSTITUTE(IN!F1525,\",\",\".\")","v":""}]
[0,{"$error":"#VALUE!"},{"$error":"#VALUE!"},{"$f":"SUBSTITUTE(IN!G1526,\"-\",\"\")","v":""},"",{"$f":"IN!F1526*60","v":0},0,"-",{"$f":"SUBSTITUTE(IN!F1526,\",\",\".\")","v":""}]
[0,{"$error":"#VALUE!"},{"$error":"#VALUE!"},{"$f":"SUBSTITUTE(IN!G1527,\"-\",\"\")","v":""},"",{"$f":"IN!F1527*60","v":0},0,"-",{"$f":"SUBSTITUTE(IN!F1527,\",\",\".\")","v":""}]
[0,{"$error":"#VALUE!"},{"$error":"#VALUE!"},{"$f":"SUBSTITUTE(IN!G1528,\"-\",\"\")","v":""},"",{"$f":"IN!F1528*60","v":0},0,"-",{"$f":"SUBSTITUTE(IN!F1528,\",\",\".\")","v":""}]
[0,{"$error":"#VALUE!"},{"$error":"#VALUE!"},{"$f":"SUBSTITUTE(IN!G1529,\"-\",\"\")","v":""},"",{"$f":"IN!F1529*60","v":0},0,"-",{"$f":"SUBSTITUTE(IN!F1529,\",\",\".\")","v":""}]
[0,{"$error":"#VALUE!"},{"$error":"#VALUE!"},{"$f":"SUBSTITUTE(IN!G1530,\"-\",\"\")","v":""},"",{"$f":"IN!F1530*60","v":0},0,"-",{"$f":"SUBSTITUTE(IN!F1530,\",\",\".\")","v":""}]
[0,{"$error":"#VALUE!"},{"$error":"#VALUE!"},{"$f":"SUBSTITUTE(IN!G1531,\"-\",\"\")","v":""},"",{"$f":"IN!F1531*60","v":0},0,"-",{"$f":"SUBSTITUTE(IN!F1531,\",\",\".\")","v":""}]
[0,{"$error":"#VALUE!"},{"$error":"#VALUE!"},{"$f":"SUBSTITUTE(IN!G1532,\"-\",\"\")","v":""},"",{"$f":"IN!F1532*60","v":0},0,"-",{"$f":"SUBSTITUTE(IN!F1532,\",\",\".\")","v":""}]
[0,{"$error":"#VALUE!"},{"$error":"#VALUE!"},{"$f":"SUBSTITUTE(IN!G1533,\"-\",\"\")","v":""},"",{"$f":"IN!F1533*60","v":0},0,"-",{"$f":"SUBSTITUTE(IN!F1533,\",\",\".\")","v":""}]
[0,{"$error":"#VALUE!"},{"$error":"#VALUE!"},{"$f":"SUBSTITUTE(IN!G1534,\"-\",\"\")","v":""},"",{"$f":"IN!F1534*60","v":0},0,"-",{"$f":"SUBSTITUTE(IN!F1534,\",\",\".\")","v":""}]
[0,{"$error":"#VALUE!"},{"$error":"#VALUE!"},{"$f":"SUBSTITUTE(IN!G1535,\"-\",\"\")","v":""},"",{"$f":"IN!F1535*60","v":0},0,"-",{"$f":"SUBSTITUTE(IN!F1535,\",\",\".\")","v":""}]
[0,{"$error":"#VALUE!"},{"$error":"#VALUE!"},{"$f":"SUBSTITUTE(IN!G1536,\"-\",\"\")","v":""},"",{"$f":"IN!F1536*60","v":0},0,"-",{"$f":"SUBSTITUTE(IN!F1536,\",\",\".\")","v":""}]
[0,{"$error":"#VALUE!"},{"$error":"#VALUE!"},{"$f":"SUBSTITUTE(IN!G1537,\"-\",\"\")","v":""},"",{"$f":"IN!F1537*60","v":0},0,"-",{"$f":"SUBSTITUTE(IN!F1537,\",\",\".\")","v":""}]
[0,{"$error":"#VALUE!"},{"$error":"#VALUE!"},{"$f":"SUBSTITUTE(IN!G1538,\"-\",\"\")","v":""},"",{"$f":"IN!F1538*60","v":0},0,"-",{"$f":"SUBSTITUTE(IN!F1538,\",\",\".\")","v":""}]
[0,{"$error":"#VALUE!"},{"$error":"#VALUE!"},{"$f":"SUBSTITUTE(IN!G1539,\"-\",\"\")","v":""},"",{"$f":"IN!F1539*60","v":0},0,"-",{"$f":"SUBSTITUTE(IN!F1539,\",\",\".\")","v":""}]
[0,{"$error":"#VALUE!"},{"$error":"#VALUE!"},{"$f":"SUBSTITUTE(IN!G1540,\"-\",\"\")","v":""},"",{"$f":"IN!F1540*60","v":0},0,"-",{"$f":"SUBSTITUTE(IN!F1540,\",\",\".\")","v":""}]
[{"$f":"LEN(D1541)","v":0},{"$f":"VALUE(LEFT(D1541,1))","v":{"$error":"#VALUE!"}},{"$f":"IF(B1541<2,20,19)","v":{"$error":"#VALUE!"}},{"$f":"SUBSTITUTE(IN!G1541,\"-\",\"\")","v":""},{"$f":"IF(A1541=10,CONCATENATE(C1541,D1541),D1541)","v":""},{"$f":"IN!F1541*60","v":0},{"$f":"ROUND(F1541,0)","v":0},{"$f":"CONCATENATE(MID(E1541,1,8),\"-\",MID(E1541,9,4))","v":"-"},{"$f":"SUBSTITUTE(IN!F1541,\",\",\".\")","v":""}]
[0,{"$error":"#VALUE!"},{"$error":"#VALUE!"},{"$f":"SUBSTITUTE(IN!G1542,\"-\",\"\")","v":""},"",{"$f":"IN!F1542*60","v":0},0,"-",{"$f":"SUBSTITUTE(IN!F1542,\",\",\".\")","v":""}]
[0,{"$error":"#VALUE!"},{"$error":"#VALUE!"},{"$f":"SUBSTITUTE(IN!G1543,\"-\",\"\")","v":""},"",{"$f":"IN!F1543*60","v":0},0,"-",{"$f":"SUBSTITUTE(IN!F1543,\",\",\".\")","v":""}]
[0,{"$error":"#VALUE!"},{"$error":"#VALUE!"},{"$f":"SUBSTITUTE(IN!G1544,\"-\",\"\")","v":""},"",{"$f":"IN!F1544*60","v":0},0,"-",{"$f":"SUBSTITUTE(IN!F1544,\",\",\".\")","v":""}]
[0,{"$error":"#VALUE!"},{"$error":"#VALUE!"},{"$f":"SUBSTITUTE(IN!G1545,\"-\",\"\")","v":""},"",{"$f":"IN!F1545*60","v":0},0,"-",{"$f":"SUBSTITUTE(IN!F1545,\",\",\".\")","v":""}]
[0,{"$error":"#VALUE!"},{"$error":"#VALUE!"},{"$f":"SUBSTITUTE(IN!G1546,\"-\",\"\")","v":""},"",{"$f":"IN!F1546*60","v":0},0,"-",{"$f":"SUBSTITUTE(IN!F1546,\",\",\".\")","v":""}]
[0,{"$error":"#VALUE!"},{"$error":"#VALUE!"},{"$f":"SUBSTITUTE(IN!G1547,\"-\",\"\")","v":""},"",{"$f":"IN!F1547*60","v":0},0,"-",{"$f":"SUBSTITUTE(IN!F1547,\",\",\".\")","v":""}]
[0,{"$error":"#VALUE!"},{"$error":"#VALUE!"},{"$f":"SUBSTITUTE(IN!G1548,\"-\",\"\")","v":""},"",{"$f":"IN!F1548*60","v":0},0,"-",{"$f":"SUBSTITUTE(IN!F1548,\",\",\".\")","v":""}]
[0,{"$error":"#VALUE!"},{"$error":"#VALUE!"},{"$f":"SUBSTITUTE(IN!G1549,\"-\",\"\")","v":""},"",{"$f":"IN!F1549*60","v":0},0,"-",{"$f":"SUBSTITUTE(IN!F1549,\",\",\".\")","v":""}]
[0,{"$error":"#VALUE!"},{"$error":"#VALUE!"},{"$f":"SUBSTITUTE(IN!G1550,\"-\",\"\")","v":""},"",{"$f":"IN!F1550*60","v":0},0,"-",{"$f":"SUBSTITUTE(IN!F1550,\",\",\".\")","v":""}]
[0,{"$error":"#VALUE!"},{"$error":"#VALUE!"},{"$f":"SUBSTITUTE(IN!G1551,\"-\",\"\")","v":""},"",{"$f":"IN!F1551*60","v":0},0,"-",{"$f":"SUBSTITUTE(IN!F1551,\",\",\".\")","v":""}]
[0,{"$error":"#VALUE!"},{"$error":"#VALUE!"},{"$f":"SUBSTITUTE(IN!G1552,\"-\",\"\")","v":""},"",{"$f":"IN!F1552*60","v":0},0,"-",{"$f":"SUBSTITUTE(IN!F1552,\",\",\".\")","v":""}]
[0,{"$error":"#VALUE!"},{"$error":"#VALUE!"},{"$f":"SUBSTITUTE(IN!G1553,\"-\",\"\")","v":""},"",{"$f":"IN!F1553*60","v":0},0,"-",{"$f":"SUBSTITUTE(IN!F1553,\",\",\".\")","v":""}]
[0,{"$error":"#VALUE!"},{"$error":"#VALUE!"},{"$f":"SUBSTITUTE(IN!G1554,\"-\",\"\")","v":""},"",{"$f":"IN!F1554*60","v":0},0,"-",{"$f":"SUBSTITUTE(IN!F1554,\",\",\".\")","v":""}]
[0,{"$error":"#VALUE!"},{"$error":"#VALUE!"},{"$f":"SUBSTITUTE(IN!G1555,\"-\",\"\")","v":""},"",{"$f":"IN!F1555*60","v":0},0,"-",{"$f":"SUBSTITUTE(IN!F1555,\",\",\".\")","v":""}]
[0,{"$error":"#VALUE!"},{"$error":"#VALUE!"},{"$f":"SUBSTITUTE(IN!G1556,\"-\",\"\")","v":""},"",{"$f":"IN!F1556*60","v":0},0,"-",{"$f":"SUBSTITUTE(IN!F1556,\",\",\".\")","v":""}]
[0,{"$error":"#VALUE!"},{"$error":"#VALUE!"},{"$f":"SUBSTITUTE(IN!G1557,\"-\",\"\")","v":""},"",{"$f":"IN!F1557*60","v":0},0,"-",{"$f":"SUBSTITUTE(IN!F1557,\",\",\".\")","v":""}]
[0,{"$error":"#VALUE!"},{"$error":"#VALUE!"},{"$f":"SUBSTITUTE(IN!G1558,\"-\",\"\")","v":""},"",{"$f":"IN!F1558*60","v":0},0,"-",{"$f":"SUBSTITUTE(IN!F1558,\",\",\".\")","v":""}]
[0,{"$error":"#VALUE!"},{"$error":"#VALUE!"},{"$f":"SUBSTITUTE(IN!G1559,\"-\",\"\")","v":""},"",{"$f":"IN!F1559*60","v":0},0,"-",{"$f":"SUBSTITUTE(IN!F1559,\",\",\".\")","v":""}]
[0,{"$error":"#VALUE!"},{"$error":"#VALUE!"},{"$f":"SUBSTITUTE(IN!G1560,\"-\",\"\")","v":""},"",{"$f":"IN!F1560*60","v":0},0,"-",{"$f":"SUBSTITUTE(IN!F1560,\",\",\".\")","v":""}]
[0,{"$error":"#VALUE!"},{"$error":"#VALUE!"},{"$f":"SUBSTITUTE(IN!G1561,\"-\",\"\")","v":""},"",{"$f":"IN!F1561*60","v":0},0,"-",{"$f":"SUBSTITUTE(IN!F1561,\",\",\".\")","v":""}]
[0,{"$error":"#VALUE!"},{"$error":"#VALUE!"},{"$f":"SUBSTITUTE(IN!G1562,\"-\",\"\")","v":""},"",{"$f":"IN!F1562*60","v":0},0,"-",{"$f":"SUBSTITUTE(IN!F1562,\",\",\".\")","v":""}]
[0,{"$error":"#VALUE!"},{"$error":"#VALUE!"},{"$f":"SUBSTITUTE(IN!G1563,\"-\",\"\")","v":""},"",{"$f":"IN!F1563*60","v":0},0,"-",{"$f":"SUBSTITUTE(IN!F1563,\",\",\".\")","v":""}]
[0,{"$error":"#VALUE!"},{"$error":"#VALUE!"},{"$f":"SUBSTITUTE(IN!G1564,\"-\",\"\")","v":""},"",{"$f":"IN!F1564*60","v":0},0,"-",{"$f":"SUBSTITUTE(IN!F1564,\",\",\".\")","v":""}]
[0,{"$error":"#VALUE!"},{"$error":"#VALUE!"},{"$f":"SUBSTITUTE(IN!G1565,\"-\",\"\")","v":""},"",{"$f":"IN!F1565*60","v":0},0,"-",{"$f":"SUBSTITUTE(IN!F1565,\",\",\".\")","v":""}]
[0,{"$error":"#VALUE!"},{"$error":"#VALUE!"},{"$f":"SUBSTITUTE(IN!G1566,\"-\",\"\")","v":""},"",{"$f":"IN!F1566*60","v":0},0,"-",{"$f":"SUBSTITUTE(IN!F1566,\",\",\".\")","v":""}]
[0,{"$error":"#VALUE!"},{"$error":"#VALUE!"},{"$f":"SUBSTITUTE(IN!G1567,\"-\",\"\")","v":""},"",{"$f":"IN!F1567*60","v":0},0,"-",{"$f":"SUBSTITUTE(IN!F1567,\",\",\".\")","v":""}]
[0,{"$error":"#VALUE!"},{"$error":"#VALUE!"},{"$f":"SUBSTITUTE(IN!G1568,\"-\",\"\")","v":""},"",{"$f":"IN!F1568*60","v":0},0,"-",{"$f":"SUBSTITUTE(IN!F1568,\",\",\".\")","v":""}]
[0,{"$error":"#VALUE!"},{"$error":"#VALUE!"},{"$f":"SUBSTITUTE(IN!G1569,\"-\",\"\")","v":""},"",{"$f":"IN!F1569*60","v":0},0,"-",{"$f":"SUBSTITUTE(IN!F1569,\",\",\".\")","v":""}]
[0,{"$error":"#VALUE!"},{"$error":"#VALUE!"},{"$f":"SUBSTITUTE(IN!G1570,\"-\",\"\")","v":""},"",{"$f":"IN!F1570*60","v":0},0,"-",{"$f":"SUBSTITUTE(IN!F1570,\",\",\".\")","v":""}]
[0,{"$error":"#VALUE!"},{"$error":"#VALUE!"},{"$f":"SUBSTITUTE(IN!G1571,\"-\",\"\")","v":""},"",{"$f":"IN!F1571*60","v":0},0,"-",{"$f":"SUBSTITUTE(IN!F1571,\",\",\".\")","v":""}]
[0,{"$error":"#VALUE!"},{"$error":"#VALUE!"},{"$f":"SUBSTITUTE(IN!G1572,\"-\",\"\")","v":""},"",{"$f":"IN!F1572*60","v":0},0,"-",{"$f":"SUBSTITUTE(IN!F1572,\",\",\".\")","v":""}]
[0,{"$error":"#VALUE!"},{"$error":"#VALUE!"},{"$f":"SUBSTITUTE(IN!G1573,\"-\",\"\")","v":""},"",{"$f":"IN!F1573*60","v":0},0,"-",{"$f":"SUBSTITUTE(IN!F1573,\",\",\".\")","v":""}]
[0,{"$error":"#VALUE!"},{"$error":"#VALUE!"},{"$f":"SUBSTITUTE(IN!G1574,\"-\",\"\")","v":""},"",{"$f":"IN!F1574*60","v":0},0,"-",{"$f":"SUBSTITUTE(IN!F1574,\",\",\".\")","v":""}]
[0,{"$error":"#VALUE!"},{"$error":"#VALUE!"},{"$f":"SUBSTITUTE(IN!G1575,\"-\",\"\")","v":""},"",{"$f":"IN!F1575*60","v":0},0,"-",{"$f":"SUBSTITUTE(IN!F1575,\",\",\".\")","v":""}]
[0,{"$error":"#VALUE!"},{"$error":"#VALUE!"},{"$f":"SUBSTITUTE(IN!G1576,\"-\",\"\")","v":""},"",{"$f":"IN!F1576*60","v":0},0,"-",{"$f":"SUBSTITUTE(IN!F1576,\",\",\".\")","v":""}]
[0,{"$error":"#VALUE!"},{"$error":"#VALUE!"},{"$f":"SUBSTITUTE(IN!G1577,\"-\",\"\")","v":""},"",{"$f":"IN!F1577*60","v":0},0,"-",{"$f":"SUBSTITUTE(IN!F1577,\",\",\".\")","v":""}]
[0,{"$error":"#VALUE!"},{"$error":"#VALUE!"},{"$f":"SUBSTITUTE(IN!G1578,\"-\",\"\")","v":""},"",{"$f":"IN!F1578*60","v":0},0,"-",{"$f":"SUBSTITUTE(IN!F1578,\",\",\".\")","v":""}]
[0,{"$error":"#VALUE!"},{"$error":"#VALUE!"},{"$f":"SUBSTITUTE(IN!G1579,\"-\",\"\")","v":""},"",{"$f":"IN!F1579*60","v":0},0,"-",{"$f":"SUBSTITUTE(IN!F1579,\",\",\".\")","v":""}]
[0,{"$error":"#VALUE!"},{"$error":"#VALUE!"},{"$f":"SUBSTITUTE(IN!G1580,\"-\",\"\")","v":""},"",{"$f":"IN!F1580*60","v":0},0,"-",{"$f":"SUBSTITUTE(IN!F1580,\",\",\".\")","v":""}]
[0,{"$error":"#VALUE!"},{"$error":"#VALUE!"},{"$f":"SUBSTITUTE(IN!G1581,\"-\",\"\")","v":""},"",{"$f":"IN!F1581*60","v":0},0,"-",{"$f":"SUBSTITUTE(IN!F1581,\",\",\".\")","v":""}]
[0,{"$error":"#VALUE!"},{"$error":"#VALUE!"},{"$f":"SUBSTITUTE(IN!G1582,\"-\",\"\")","v":""},"",{"$f":"IN!F1582*60","v":0},0,"-",{"$f":"SUBSTITUTE(IN!F1582,\",\",\".\")","v":""}]
[0,{"$error":"#VALUE!"},{"$error":"#VALUE!"},{"$f":"SUBSTITUTE(IN!G1583,\"-\",\"\")","v":""},"",{"$f":"IN!F1583*60","v":0},0,"-",{"$f":"SUBSTITUTE(IN!F1583,\",\",\".\")","v":""}]
[0,{"$error":"#VALUE!"},{"$error":"#VALUE!"},{"$f":"SUBSTITUTE(IN!G1584,\"-\",\"\")","v":""},"",{"$f":"IN!F1584*60","v":0},0,"-",{"$f":"SUBSTITUTE(IN!F1584,\",\",\".\")","v":""}]
[0,{"$error":"#VALUE!"},{"$error":"#VALUE!"},{"$f":"SUBSTITUTE(IN!G1585,\"-\",\"\")","v":""},"",{"$f":"IN!F1585*60","v":0},0,"-",{"$f":"SUBSTITUTE(IN!F1585,\",\",\".\")","v":""}]
[0,{"$error":"#VALUE!"},{"$error":"#VALUE!"},{"$f":"SUBSTITUTE(IN!G1586,\"-\",\"\")","v":""},"",{"$f":"IN!F1586*60","v":0},0,"-",{"$f":"SUBSTITUTE(IN!F1586,\",\",\".\")","v":""}]
[0,{"$error":"#VALUE!"},{"$error":"#VALUE!"},{"$f":"SUBSTITUTE(IN!G1587,\"-\",\"\")","v":""},"",{"$f":"IN!F1587*60","v":0},0,"-",{"$f":"SUBSTITUTE(IN!F1587,\",\",\".\")","v":""}]
[0,{"$error":"#VALUE!"},{"$error":"#VALUE!"},{"$f":"SUBSTITUTE(IN!G1588,\"-\",\"\")","v":""},"",{"$f":"IN!F1588*60","v":0},0,"-",{"$f":"SUBSTITUTE(IN!F1588,\",\",\".\")","v":""}]
[0,{"$error":"#VALUE!"},{"$error":"#VALUE!"},{"$f":"SUBSTITUTE(IN!G1589,\"-\",\"\")","v":""},"",{"$f":"IN!F1589*60","v":0},0,"-",{"$f":"SUBSTITUTE(IN!F1589,\",\",\".\")","v":""}]
[0,{"$error":"#VALUE!"},{"$error":"#VALUE!"},{"$f":"SUBSTITUTE(IN!G1590,\"-\",\"\")","v":""},"",{"$f":"IN!F1590*60","v":0},0,"-",{"$f":"SUBSTITUTE(IN!F1590,\",\",\".\")","v":""}]
[0,{"$error":"#VALUE!"},{"$error":"#VALUE!"},{"$f":"SUBSTITUTE(IN!G1591,\"-\",\"\")","v":""},"",{"$f":"IN!F1591*60","v":0},0,"-",{"$f":"SUBSTITUTE(IN!F1591,\",\",\".\")","v":""}]
[0,{"$error":"#VALUE!"},{"$error":"#VALUE!"},{"$f":"SUBSTITUTE(IN!G1592,\"-\",\"\")","v":""},"",{"$f":"IN!F1592*60","v":0},0,"-",{"$f":"SUBSTITUTE(IN!F1592,\",\",\".\")","v":""}]
[0,{"$error":"#VALUE!"},{"$error":"#VALUE!"},{"$f":"SUBSTITUTE(IN!G1593,\"-\",\"\")","v":""},"",{"$f":"IN!F1593*60","v":0},0,"-",{"$f":"SUBSTITUTE(IN!F1593,\",\",\".\")","v":""}]
[0,{"$error":"#VALUE!"},{"$error":"#VALUE!"},{"$f":"SUBSTITUTE(IN!G1594,\"-\",\"\")","v":""},"",{"$f":"IN!F1594*60","v":0},0,"-",{"$f":"SUBSTITUTE(IN!F1594,\",\",\".\")","v":""}]
[0,{"$error":"#VALUE!"},{"$error":"#VALUE!"},{"$f":"SUBSTITUTE(IN!G1595,\"-\",\"\")","v":""},"",{"$f":"IN!F1595*60","v":0},0,"-",{"$f":"SUBSTITUTE(IN!F1595,\",\",\".\")","v":""}]
[0,{"$error":"#VALUE!"},{"$error":"#VALUE!"},{"$f":"SUBSTITUTE(IN!G1596,\"-\",\"\")","v":""},"",{"$f":"IN!F1596*60","v":0},0,"-",{"$f":"SUBSTITUTE(IN!F1596,\",\",\".\")","v":""}]
[0,{"$error":"#VALUE!"},{"$error":"#VALUE!"},{"$f":"SUBSTITUTE(IN!G1597,\"-\",\"\")","v":""},"",{"$f":"IN!F1597*60","v":0},0,"-",{"$f":"SUBSTITUTE(IN!F1597,\",\",\".\")","v":""}]
[0,{"$error":"#VALUE!"},{"$error":"#VALUE!"},{"$f":"SUBSTITUTE(IN!G1598,\"-\",\"\")","v":""},"",{"$f":"IN!F1598*60","v":0},0,"-",{"$f":"SUBSTITUTE(IN!F1598,\",\",\".\")","v":""}]
[0,{"$error":"#VALUE!"},{"$error":"#VALUE!"},{"$f":"SUBSTITUTE(IN!G1599,\"-\",\"\")","v":""},"",{"$f":"IN!F1599*60","v":0},0,"-",{"$f":"SUBSTITUTE(IN!F1599,\",\",\".\")","v":""}]
[0,{"$error":"#VALUE!"},{"$error":"#VALUE!"},{"$f":"SUBSTITUTE(IN!G1600,\"-\",\"\")","v":""},"",{"$f":"IN!F1600*60","v":0},0,"-",{"$f":"SUBSTITUTE(IN!F1600,\",\",\".\")","v":""}]
[0,{"$error":"#VALUE!"},{"$error":"#VALUE!"},{"$f":"SUBSTITUTE(IN!G1601,\"-\",\"\")","v":""},"",{"$f":"IN!F1601*60","v":0},0,"-",{"$f":"SUBSTITUTE(IN!F1601,\",\",\".\")","v":""}]
[0,{"$error":"#VALUE!"},{"$error":"#VALUE!"},{"$f":"SUBSTITUTE(IN!G1602,\"-\",\"\")","v":""},"",{"$f":"IN!F1602*60","v":0},0,"-",{"$f":"SUBSTITUTE(IN!F1602,\",\",\".\")","v":""}]
[0,{"$error":"#VALUE!"},{"$error":"#VALUE!"},{"$f":"SUBSTITUTE(IN!G1603,\"-\",\"\")","v":""},"",{"$f":"IN!F1603*60","v":0},0,"-",{"$f":"SUBSTITUTE(IN!F1603,\",\",\".\")","v":""}]
[0,{"$error":"#VALUE!"},{"$error":"#VALUE!"},{"$f":"SUBSTITUTE(IN!G1604,\"-\",\"\")","v":""},"",{"$f":"IN!F1604*60","v":0},0,"-",{"$f":"SUBSTITUTE(IN!F1604,\",\",\".\")","v":""}]
[{"$f":"LEN(D1605)","v":0},{"$f":"VALUE(LEFT(D1605,1))","v":{"$error":"#VALUE!"}},{"$f":"IF(B1605<2,20,19)","v":{"$error":"#VALUE!"}},{"$f":"SUBSTITUTE(IN!G1605,\"-\",\"\")","v":""},{"$f":"IF(A1605=10,CONCATENATE(C1605,D1605),D1605)","v":""},{"$f":"IN!F1605*60","v":0},{"$f":"ROUND(F1605,0)","v":0},{"$f":"CONCATENATE(MID(E1605,1,8),\"-\",MID(E1605,9,4))","v":"-"},{"$f":"SUBSTITUTE(IN!F1605,\",\",\".\")","v":""}]
[0,{"$error":"#VALUE!"},{"$error":"#VALUE!"},{"$f":"SUBSTITUTE(IN!G1606,\"-\",\"\")","v":""},"",{"$f":"IN!F1606*60","v":0},0,"-",{"$f":"SUBSTITUTE(IN!F1606,\",\",\".\")","v":""}]
[0,{"$error":"#VALUE!"},{"$error":"#VALUE!"},{"$f":"SUBSTITUTE(IN!G1607,\"-\",\"\")","v":""},"",{"$f":"IN!F1607*60","v":0},0,"-",{"$f":"SUBSTITUTE(IN!F1607,\",\",\".\")","v":""}]
[0,{"$error":"#VALUE!"},{"$error":"#VALUE!"},{"$f":"SUBSTITUTE(IN!G1608,\"-\",\"\")","v":""},"",{"$f":"IN!F1608*60","v":0},0,"-",{"$f":"SUBSTITUTE(IN!F1608,\",\",\".\")","v":""}]
[0,{"$error":"#VALUE!"},{"$error":"#VALUE!"},{"$f":"SUBSTITUTE(IN!G1609,\"-\",\"\")","v":""},"",{"$f":"IN!F1609*60","v":0},0,"-",{"$f":"SUBSTITUTE(IN!F1609,\",\",\".\")","v":""}]
[0,{"$error":"#VALUE!"},{"$error":"#VALUE!"},{"$f":"SUBSTITUTE(IN!G1610,\"-\",\"\")","v":""},"",{"$f":"IN!F1610*60","v":0},0,"-",{"$f":"SUBSTITUTE(IN!F1610,\",\",\".\")","v":""}]
[0,{"$error":"#VALUE!"},{"$error":"#VALUE!"},{"$f":"SUBSTITUTE(IN!G1611,\"-\",\"\")","v":""},"",{"$f":"IN!F1611*60","v":0},0,"-",{"$f":"SUBSTITUTE(IN!F1611,\",\",\".\")","v":""}]
[0,{"$error":"#VALUE!"},{"$error":"#VALUE!"},{"$f":"SUBSTITUTE(IN!G1612,\"-\",\"\")","v":""},"",{"$f":"IN!F1612*60","v":0},0,"-",{"$f":"SUBSTITUTE(IN!F1612,\",\",\".\")","v":""}]
[0,{"$error":"#VALUE!"},{"$error":"#VALUE!"},{"$f":"SUBSTITUTE(IN!G1613,\"-\",\"\")","v":""},"",{"$f":"IN!F1613*60","v":0},0,"-",{"$f":"SUBSTITUTE(IN!F1613,\",\",\".\")","v":""}]
[0,{"$error":"#VALUE!"},{"$error":"#VALUE!"},{"$f":"SUBSTITUTE(IN!G1614,\"-\",\"\")","v":""},"",{"$f":"IN!F1614*60","v":0},0,"-",{"$f":"SUBSTITUTE(IN!F1614,\",\",\".\")","v":""}]
[0,{"$error":"#VALUE!"},{"$error":"#VALUE!"},{"$f":"SUBSTITUTE(IN!G1615,\"-\",\"\")","v":""},"",{"$f":"IN!F1615*60","v":0},0,"-",{"$f":"SUBSTITUTE(IN!F1615,\",\",\".\")","v":""}]
[0,{"$error":"#VALUE!"},{"$error":"#VALUE!"},{"$f":"SUBSTITUTE(IN!G1616,\"-\",\"\")","v":""},"",{"$f":"IN!F1616*60","v":0},0,"-",{"$f":"SUBSTITUTE(IN!F1616,\",\",\".\")","v":""}]
[0,{"$error":"#VALUE!"},{"$error":"#VALUE!"},{"$f":"SUBSTITUTE(IN!G1617,\"-\",\"\")","v":""},"",{"$f":"IN!F1617*60","v":0},0,"-",{"$f":"SUBSTITUTE(IN!F1617,\",\",\".\")","v":""}]
[0,{"$error":"#VALUE!"},{"$error":"#VALUE!"},{"$f":"SUBSTITUTE(IN!G1618,\"-\",\"\")","v":""},"",{"$f":"IN!F1618*60","v":0},0,"-",{"$f":"SUBSTITUTE(IN!F1618,\",\",\".\")","v":""}]
[0,{"$error":"#VALUE!"},{"$error":"#VALUE!"},{"$f":"SUBSTITUTE(IN!G1619,\"-\",\"\")","v":""},"",{"$f":"IN!F1619*60","v":0},0,"-",{"$f":"SUBSTITUTE(IN!F1619,\",\",\".\")","v":""}]
[0,{"$error":"#VALUE!"},{"$error":"#VALUE!"},{"$f":"SUBSTITUTE(IN!G1620,\"-\",\"\")","v":""},"",{"$f":"IN!F1620*60","v":0},0,"-",{"$f":"SUBSTITUTE(IN!F1620,\",\",\".\")","v":""}]
[0,{"$error":"#VALUE!"},{"$error":"#VALUE!"},{"$f":"SUBSTITUTE(IN!G1621,\"-\",\"\")","v":""},"",{"$f":"IN!F1621*60","v":0},0,"-",{"$f":"SUBSTITUTE(IN!F1621,\",\",\".\")","v":""}]
[0,{"$error":"#VALUE!"},{"$error":"#VALUE!"},{"$f":"SUBSTITUTE(IN!G1622,\"-\",\"\")","v":""},"",{"$f":"IN!F1622*60","v":0},0,"-",{"$f":"SUBSTITUTE(IN!F1622,\",\",\".\")","v":""}]
[0,{"$error":"#VALUE!"},{"$error":"#VALUE!"},{"$f":"SUBSTITUTE(IN!G1623,\"-\",\"\")","v":""},"",{"$f":"IN!F1623*60","v":0},0,"-",{"$f":"SUBSTITUTE(IN!F1623,\",\",\".\")","v":""}]
[0,{"$error":"#VALUE!"},{"$error":"#VALUE!"},{"$f":"SUBSTITUTE(IN!G1624,\"-\",\"\")","v":""},"",{"$f":"IN!F1624*60","v":0},0,"-",{"$f":"SUBSTITUTE(IN!F1624,\",\",\".\")","v":""}]
[0,{"$error":"#VALUE!"},{"$error":"#VALUE!"},{"$f":"SUBSTITUTE(IN!G1625,\"-\",\"\")","v":""},"",{"$f":"IN!F1625*60","v":0},0,"-",{"$f":"SUBSTITUTE(IN!F1625,\",\",\".\")","v":""}]
[0,{"$error":"#VALUE!"},{"$error":"#VALUE!"},{"$f":"SUBSTITUTE(IN!G1626,\"-\",\"\")","v":""},"",{"$f":"IN!F1626*60","v":0},0,"-",{"$f":"SUBSTITUTE(IN!F1626,\",\",\".\")","v":""}]
[0,{"$error":"#VALUE!"},{"$error":"#VALUE!"},{"$f":"SUBSTITUTE(IN!G1627,\"-\",\"\")","v":""},"",{"$f":"IN!F1627*60","v":0},0,"-",{"$f":"SUBSTITUTE(IN!F1627,\",\",\".\")","v":""}]
[0,{"$error":"#VALUE!"},{"$error":"#VALUE!"},{"$f":"SUBSTITUTE(IN!G1628,\"-\",\"\")","v":""},"",{"$f":"IN!F1628*60","v":0},0,"-",{"$f":"SUBSTITUTE(IN!F1628,\",\",\".\")","v":""}]
[0,{"$error":"#VALUE!"},{"$error":"#VALUE!"},{"$f":"SUBSTITUTE(IN!G1629,\"-\",\"\")","v":""},"",{"$f":"IN!F1629*60","v":0},0,"-",{"$f":"SUBSTITUTE(IN!F1629,\",\",\".\")","v":""}]
[0,{"$error":"#VALUE!"},{"$error":"#VALUE!"},{"$f":"SUBSTITUTE(IN!G1630,\"-\",\"\")","v":""},"",{"$f":"IN!F1630*60","v":0},0,"-",{"$f":"SUBSTITUTE(IN!F1630,\",\",\".\")","v":""}]
[0,{"$error":"#VALUE!"},{"$error":"#VALUE!"},{"$f":"SUBSTITUTE(IN!G1631,\"-\",\"\")","v":""},"",{"$f":"IN!F1631*60","v":0},0,"-",{"$f":"SUBSTITUTE(IN!F1631,\",\",\".\")","v":""}]
[0,{"$error":"#VALUE!"},{"$error":"#VALUE!"},{"$f":"SUBSTITUTE(IN!G1632,\"-\",\"\")","v":""},"",{"$f":"IN!F1632*60","v":0},0,"-",{"$f":"SUBSTITUTE(IN!F1632,\",\",\".\")","v":""}]
[0,{"$error":"#VALUE!"},{"$error":"#VALUE!"},{"$f":"SUBSTITUTE(IN!G1633,\"-\",\"\")","v":""},"",{"$f":"IN!F1633*60","v":0},0,"-",{"$f":"SUBSTITUTE(IN!F1633,\",\",\".\")","v":""}]
[0,{"$error":"#VALUE!"},{"$error":"#VALUE!"},{"$f":"SUBSTITUTE(IN!G1634,\"-\",\"\")","v":""},"",{"$f":"IN!F1634*60","v":0},0,"-",{"$f":"SUBSTITUTE(IN!F1634,\",\",\".\")","v":""}]
[0,{"$error":"#VALUE!"},{"$error":"#VALUE!"},{"$f":"SUBSTITUTE(IN!G1635,\"-\",\"\")","v":""},"",{"$f":"IN!F1635*60","v":0},0,"-",{"$f":"SUBSTITUTE(IN!F1635,\",\",\".\")","v":""}]
[0,{"$error":"#VALUE!"},{"$error":"#VALUE!"},{"$f":"SUBSTITUTE(IN!G1636,\"-\",\"\")","v":""},"",{"$f":"IN!F1636*60","v":0},0,"-",{"$f":"SUBSTITUTE(IN!F1636,\",\",\".\")","v":""}]
[0,{"$error":"#VALUE!"},{"$error":"#VALUE!"},{"$f":"SUBSTITUTE(IN!G1637,\"-\",\"\")","v":""},"",{"$f":"IN!F1637*60","v":0},0,"-",{"$f":"SUBSTITUTE(IN!F1637,\",\",\".\")","v":""}]
[0,{"$error":"#VALUE!"},{"$error":"#VALUE!"},{"$f":"SUBSTITUTE(IN!G1638,\"-\",\"\")","v":""},"",{"$f":"IN!F1638*60","v":0},0,"-",{"$f":"SUBSTITUTE(IN!F1638,\",\",\".\")","v":""}]
[0,{"$error":"#VALUE!"},{"$error":"#VALUE!"},{"$f":"SUBSTITUTE(IN!G1639,\"-\",\"\")","v":""},"",{"$f":"IN!F1639*60","v":0},0,"-",{"$f":"SUBSTITUTE(IN!F1639,\",\",\".\")","v":""}]
[0,{"$error":"#VALUE!"},{"$error":"#VALUE!"},{"$f":"SUBSTITUTE(IN!G1640,\"-\",\"\")","v":""},"",{"$f":"IN!F1640*60","v":0},0,"-",{"$f":"SUBSTITUTE(IN!F1640,\",\",\".\")","v":""}]
[0,{"$error":"#VALUE!"},{"$error":"#VALUE!"},{"$f":"SUBSTITUTE(IN!G1641,\"-\",\"\")","v":""},"",{"$f":"IN!F1641*60","v":0},0,"-",{"$f":"SUBSTITUTE(IN!F1641,\",\",\".\")","v":""}]
[0,{"$error":"#VALUE!"},{"$error":"#VALUE!"},{"$f":"SUBSTITUTE(IN!G1642,\"-\",\"\")","v":""},"",{"$f":"IN!F1642*60","v":0},0,"-",{"$f":"SUBSTITUTE(IN!F1642,\",\",\".\")","v":""}]
[0,{"$error":"#VALUE!"},{"$error":"#VALUE!"},{"$f":"SUBSTITUTE(IN!G1643,\"-\",\"\")","v":""},"",{"$f":"IN!F1643*60","v":0},0,"-",{"$f":"SUBSTITUTE(IN!F1643,\",\",\".\")","v":""}]
[0,{"$error":"#VALUE!"},{"$error":"#VALUE!"},{"$f":"SUBSTITUTE(IN!G1644,\"-\",\"\")","v":""},"",{"$f":"IN!F1644*60","v":0},0,"-",{"$f":"SUBSTITUTE(IN!F1644,\",\",\".\")","v":""}]
[0,{"$error":"#VALUE!"},{"$error":"#VALUE!"},{"$f":"SUBSTITUTE(IN!G1645,\"-\",\"\")","v":""},"",{"$f":"IN!F1645*60","v":0},0,"-",{"$f":"SUBSTITUTE(IN!F1645,\",\",\".\")","v":""}]
[0,{"$error":"#VALUE!"},{"$error":"#VALUE!"},{"$f":"SUBSTITUTE(IN!G1646,\"-\",\"\")","v":""},"",{"$f":"IN!F1646*60","v":0},0,"-",{"$f":"SUBSTITUTE(IN!F1646,\",\",\".\")","v":""}]
[0,{"$error":"#VALUE!"},{"$error":"#VALUE!"},{"$f":"SUBSTITUTE(IN!G1647,\"-\",\"\")","v":""},"",{"$f":"IN!F1647*60","v":0},0,"-",{"$f":"SUBSTITUTE(IN!F1647,\",\",\".\")","v":""}]
[0,{"$error":"#VALUE!"},{"$error":"#VALUE!"},{"$f":"SUBSTITUTE(IN!G1648,\"-\",\"\")","v":""},"",{"$f":"IN!F1648*60","v":0},0,"-",{"$f":"SUBSTITUTE(IN!F1648,\",\",\".\")","v":""}]
[0,{"$error":"#VALUE!"},{"$error":"#VALUE!"},{"$f":"SUBSTITUTE(IN!G1649,\"-\",\"\")","v":""},"",{"$f":"IN!F1649*60","v":0},0,"-",{"$f":"SUBSTITUTE(IN!F1649,\",\",\".\")","v":""}]
[0,{"$error":"#VALUE!"},{"$error":"#VALUE!"},{"$f":"SUBSTITUTE(IN!G1650,\"-\",\"\")","v":""},"",{"$f":"IN!F1650*60","v":0},0,"-",{"$f":"SUBSTITUTE(IN!F1650,\",\",\".\")","v":""}]
[0,{"$error":"#VALUE!"},{"$error":"#VALUE!"},{"$f":"SUBSTITUTE(IN!G1651,\"-\",\"\")","v":""},"",{"$f":"IN!F1651*60","v":0},0,"-",{"$f":"SUBSTITUTE(IN!F1651,\",\",\".\")","v":""}]
[0,{"$error":"#VALUE!"},{"$error":"#VALUE!"},{"$f":"SUBSTITUTE(IN!G1652,\"-\",\"\")","v":""},"",{"$f":"IN!F1652*60","v":0},0,"-",{"$f":"SUBSTITUTE(IN!F1652,\",\",\".\")","v":""}]
[0,{"$error":"#VALUE!"},{"$error":"#VALUE!"},{"$f":"SUBSTITUTE(IN!G1653,\"-\",\"\")","v":""},"",{"$f":"IN!F1653*60","v":0},0,"-",{"$f":"SUBSTITUTE(IN!F1653,\",\",\".\")","v":""}]
[0,{"$error":"#VALUE!"},{"$error":"#VALUE!"},{"$f":"SUBSTITUTE(IN!G1654,\"-\",\"\")","v":""},"",{"$f":"IN!F1654*60","v":0},0,"-",{"$f":"SUBSTITUTE(IN!F1654,\",\",\".\")","v":""}]
[0,{"$error":"#VALUE!"},{"$error":"#VALUE!"},{"$f":"SUBSTITUTE(IN!G1655,\"-\",\"\")","v":""},"",{"$f":"IN!F1655*60","v":0},0,"-",{"$f":"SUBSTITUTE(IN!F1655,\",\",\".\")","v":""}]
[0,{"$error":"#VALUE!"},{"$error":"#VALUE!"},{"$f":"SUBSTITUTE(IN!G1656,\"-\",\"\")","v":""},"",{"$f":"IN!F1656*60","v":0},0,"-",{"$f":"SUBSTITUTE(IN!F1656,\",\",\".\")","v":""}]
[0,{"$error":"#VALUE!"},{"$error":"#VALUE!"},{"$f":"SUBSTITUTE(IN!G1657,\"-\",\"\")","v":""},"",{"$f":"IN!F1657*60","v":0},0,"-",{"$f":"SUBSTITUTE(IN!F1657,\",\",\".\")","v":""}]
[0,{"$error":"#VALUE!"},{"$error":"#VALUE!"},{"$f":"SUBSTITUTE(IN!G1658,\"-\",\"\")","v":""},"",{"$f":"IN!F1658*60","v":0},0,"-",{"$f":"SUBSTITUTE(IN!F1658,\",\",\".\")","v":""}]
[0,{"$error":"#VALUE!"},{"$error":"#VALUE!"},{"$f":"SUBSTITUTE(IN!G1659,\"-\",\"\")","v":""},"",{"$f":"IN!F1659*60","v":0},0,"-",{"$f":"SUBSTITUTE(IN!F1659,\",\",\".\")","v":""}]
[0,{"$error":"#VALUE!"},{"$error":"#VALUE!"},{"$f":"SUBSTITUTE(IN!G1660,\"-\",\"\")","v":""},"",{"$f":"IN!F1660*60","v":0},0,"-",{"$f":"SUBSTITUTE(IN!F1660,\",\",\".\")","v":""}]
[0,{"$error":"#VALUE!"},{"$error":"#VALUE!"},{"$f":"SUBSTITUTE(IN!G1661,\"-\",\"\")","v":""},"",{"$f":"IN!F1661*60","v":0},0,"-",{"$f":"SUBSTITUTE(IN!F1661,\",\",\".\")","v":""}]
[0,{"$error":"#VALUE!"},{"$error":"#VALUE!"},{"$f":"SUBSTITUTE(IN!G1662,\"-\",\"\")","v":""},"",{"$f":"IN!F1662*60","v":0},0,"-",{"$f":"SUBSTITUTE(IN!F1662,\",\",\".\")","v":""}]
[0,{"$error":"#VALUE!"},{"$error":"#VALUE!"},{"$f":"SUBSTITUTE(IN!G1663,\"-\",\"\")","v":""},"",{"$f":"IN!F1663*60","v":0},0,"-",{"$f":"SUBSTITUTE(IN!F1663,\",\",\".\")","v":""}]
[0,{"$error":"#VALUE!"},{"$error":"#VALUE!"},{"$f":"SUBSTITUTE(IN!G1664,\"-\",\"\")","v":""},"",{"$f":"IN!F1664*60","v":0},0,"-",{"$f":"SUBSTITUTE(IN!F1664,\",\",\".\")","v":""}]
[0,{"$error":"#VALUE!"},{"$error":"#VALUE!"},{"$f":"SUBSTITUTE(IN!G1665,\"-\",\"\")","v":""},"",{"$f":"IN!F1665*60","v":0},0,"-",{"$f":"SUBSTITUTE(IN!F1665,\",\",\".\")","v":""}]
[0,{"$error":"#VALUE!"},{"$error":"#VALUE!"},{"$f":"SUBSTITUTE(IN!G1666,\"-\",\"\")","v":""},"",{"$f":"IN!F1666*60","v":0},0,"-",{"$f":"SUBSTITUTE(IN!F1666,\",\",\".\")","v":""}]
[0,{"$error":"#VALUE!"},{"$error":"#VALUE!"},{"$f":"SUBSTITUTE(IN!G1667,\"-\",\"\")","v":""},"",{"$f":"IN!F1667*60","v":0},0,"-",{"$f":"SUBSTITUTE(IN!F1667,\",\",\".\")","v":""}]
[0,{"$error":"#VALUE!"},{"$error":"#VALUE!"},{"$f":"SUBSTITUTE(IN!G1668,\"-\",\"\")","v":""},"",{"$f":"IN!F1668*60","v":0},0,"-",{"$f":"SUBSTITUTE(IN!F1668,\",\",\".\")","v":""}]
[{"$f":"LEN(D1669)","v":0},{"$f":"VALUE(LEFT(D1669,1))","v":{"$error":"#VALUE!"}},{"$f":"IF(B1669<2,20,19)","v":{"$error":"#VALUE!"}},{"$f":"SUBSTITUTE(IN!G1669,\"-\",\"\")","v":""},{"$f":"IF(A1669=10,CONCATENATE(C1669,D1669),D1669)","v":""},{"$f":"IN!F1669*60","v":0},{"$f":"ROUND(F1669,0)","v":0},{"$f":"CONCATENATE(MID(E1669,1,8),\"-\",MID(E1669,9,4))","v":"-"},{"$f":"SUBSTITUTE(IN!F1669,\",\",\".\")","v":""}]
[0,{"$error":"#VALUE!"},{"$error":"#VALUE!"},{"$f":"SUBSTITUTE(IN!G1670,\"-\",\"\")","v":""},"",{"$f":"IN!F1670*60","v":0},0,"-",{"$f":"SUBSTITUTE(IN!F1670,\",\",\".\")","v":""}]
[0,{"$error":"#VALUE!"},{"$error":"#VALUE!"},{"$f":"SUBSTITUTE(IN!G1671,\"-\",\"\")","v":""},"",{"$f":"IN!F1671*60","v":0},0,"-",{"$f":"SUBSTITUTE(IN!F1671,\",\",\".\")","v":""}]
[0,{"$error":"#VALUE!"},{"$error":"#VALUE!"},{"$f":"SUBSTITUTE(IN!G1672,\"-\",\"\")","v":""},"",{"$f":"IN!F1672*60","v":0},0,"-",{"$f":"SUBSTITUTE(IN!F1672,\",\",\".\")","v":""}]
[0,{"$error":"#VALUE!"},{"$error":"#VALUE!"},{"$f":"SUBSTITUTE(IN!G1673,\"-\",\"\")","v":""},"",{"$f":"IN!F1673*60","v":0},0,"-",{"$f":"SUBSTITUTE(IN!F1673,\",\",\".\")","v":""}]
[0,{"$error":"#VALUE!"},{"$error":"#VALUE!"},{"$f":"SUBSTITUTE(IN!G1674,\"-\",\"\")","v":""},"",{"$f":"IN!F1674*60","v":0},0,"-",{"$f":"SUBSTITUTE(IN!F1674,\",\",\".\")","v":""}]
[0,{"$error":"#VALUE!"},{"$error":"#VALUE!"},{"$f":"SUBSTITUTE(IN!G1675,\"-\",\"\")","v":""},"",{"$f":"IN!F1675*60","v":0},0,"-",{"$f":"SUBSTITUTE(IN!F1675,\",\",\".\")","v":""}]
[0,{"$error":"#VALUE!"},{"$error":"#VALUE!"},{"$f":"SUBSTITUTE(IN!G1676,\"-\",\"\")","v":""},"",{"$f":"IN!F1676*60","v":0},0,"-",{"$f":"SUBSTITUTE(IN!F1676,\",\",\".\")","v":""}]
[0,{"$error":"#VALUE!"},{"$error":"#VALUE!"},{"$f":"SUBSTITUTE(IN!G1677,\"-\",\"\")","v":""},"",{"$f":"IN!F1677*60","v":0},0,"-",{"$f":"SUBSTITUTE(IN!F1677,\",\",\".\")","v":""}]
[0,{"$error":"#VALUE!"},{"$error":"#VALUE!"},{"$f":"SUBSTITUTE(IN!G1678,\"-\",\"\")","v":""},"",{"$f":"IN!F1678*60","v":0},0,"-",{"$f":"SUBSTITUTE(IN!F1678,\",\",\".\")","v":""}]
[0,{"$error":"#VALUE!"},{"$error":"#VALUE!"},{"$f":"SUBSTITUTE(IN!G1679,\"-\",\"\")","v":""},"",{"$f":"IN!F1679*60","v":0},0,"-",{"$f":"SUBSTITUTE(IN!F1679,\",\",\".\")","v":""}]
[0,{"$error":"#VALUE!"},{"$error":"#VALUE!"},{"$f":"SUBSTITUTE(IN!G1680,\"-\",\"\")","v":""},"",{"$f":"IN!F1680*60","v":0},0,"-",{"$f":"SUBSTITUTE(IN!F1680,\",\",\".\")","v":""}]
[0,{"$error":"#VALUE!"},{"$error":"#VALUE!"},{"$f":"SUBSTITUTE(IN!G1681,\"-\",\"\")","v":""},"",{"$f":"IN!F1681*60","v":0},0,"-",{"$f":"SUBSTITUTE(IN!F1681,\",\",\".\")","v":""}]
[0,{"$error":"#VALUE!"},{"$error":"#VALUE!"},{"$f":"SUBSTITUTE(IN!G1682,\"-\",\"\")","v":""},"",{"$f":"IN!F1682*60","v":0},0,"-",{"$f":"SUBSTITUTE(IN!F1682,\",\",\".\")","v":""}]
[0,{"$error":"#VALUE!"},{"$error":"#VALUE!"},{"$f":"SUBSTITUTE(IN!G1683,\"-\",\"\")","v":""},"",{"$f":"IN!F1683*60","v":0},0,"-",{"$f":"SUBSTITUTE(IN!F1683,\",\",\".\")","v":""}]
[0,{"$error":"#VALUE!"},{"$error":"#VALUE!"},{"$f":"SUBSTITUTE(IN!G1684,\"-\",\"\")","v":""},"",{"$f":"IN!F1684*60","v":0},0,"-",{"$f":"SUBSTITUTE(IN!F1684,\",\",\".\")","v":""}]
[0,{"$error":"#VALUE!"},{"$error":"#VALUE!"},{"$f":"SUBSTITUTE(IN!G1685,\"-\",\"\")","v":""},"",{"$f":"IN!F1685*60","v":0},0,"-",{"$f":"SUBSTITUTE(IN!F1685,\",\",\".\")","v":""}]
[0,{"$error":"#VALUE!"},{"$error":"#VALUE!"},{"$f":"SUBSTITUTE(IN!G1686,\"-\",\"\")","v":""},"",{"$f":"IN!F1686*60","v":0},0,"-",{"$f":"SUBSTITUTE(IN!F1686,\",\",\".\")","v":""}]
[0,{"$error":"#VALUE!"},{"$error":"#VALUE!"},{"$f":"SUBSTITUTE(IN!G1687,\"-\",\"\")","v":""},"",{"$f":"IN!F1687*60","v":0},0,"-",{"$f":"SUBSTITUTE(IN!F1687,\",\",\".\")","v":""}]
[0,{"$error":"#VALUE!"},{"$error":"#VALUE!"},{"$f":"SUBSTITUTE(IN!G1688,\"-\",\"\")","v":""},"",{"$f":"IN!F1688*60","v":0},0,"-",{"$f":"SUBSTITUTE(IN!F1688,\",\",\".\")","v":""}]
[0,{"$error":"#VALUE!"},{"$error":"#VALUE!"},{"$f":"SUBSTITUTE(IN!G1689,\"-\",\"\")","v":""},"",{"$f":"IN!F1689*60","v":0},0,"-",{"$f":"SUBSTITUTE(IN!F1689,\",\",\".\")","v":""}]
[0,{"$error":"#VALUE!"},{"$error":"#VALUE!"},{"$f":"SUBSTITUTE(IN!G1690,\"-\",\"\")","v":""},"",{"$f":"IN!F1690*60","v":0},0,"-",{"$f":"SUBSTITUTE(IN!F1690,\",\",\".\")","v":""}]
[0,{"$error":"#VALUE!"},{"$error":"#VALUE!"},{"$f":"SUBSTITUTE(IN!G1691,\"-\",\"\")","v":""},"",{"$f":"IN!F1691*60","v":0},0,"-",{"$f":"SUBSTITUTE(IN!F1691,\",\",\".\")","v":""}]
[0,{"$error":"#VALUE!"},{"$error":"#VALUE!"},{"$f":"SUBSTITUTE(IN!G1692,\"-\",\"\")","v":""},"",{"$f":"IN!F1692*60","v":0},0,"-",{"$f":"SUBSTITUTE(IN!F1692,\",\",\".\")","v":""}]
[0,{"$error":"#VALUE!"},{"$error":"#VALUE!"},{"$f":"SUBSTITUTE(IN!G1693,\"-\",\"\")","v":""},"",{"$f":"IN!F1693*60","v":0},0,"-",{"$f":"SUBSTITUTE(IN!F1693,\",\",\".\")","v":""}]
[0,{"$error":"#VALUE!"},{"$error":"#VALUE!"},{"$f":"SUBSTITUTE(IN!G1694,\"-\",\"\")","v":""},"",{"$f":"IN!F1694*60","v":0},0,"-",{"$f":"SUBSTITUTE(IN!F1694,\",\",\".\")","v":""}]
[0,{"$error":"#VALUE!"},{"$error":"#VALUE!"},{"$f":"SUBSTITUTE(IN!G1695,\"-\",\"\")","v":""},"",{"$f":"IN!F1695*60","v":0},0,"-",{"$f":"SUBSTITUTE(IN!F1695,\",\",\".\")","v":""}]
[0,{"$error":"#VALUE!"},{"$error":"#VALUE!"},{"$f":"SUBSTITUTE(IN!G1696,\"-\",\"\")","v":""},"",{"$f":"IN!F1696*60","v":0},0,"-",{"$f":"SUBSTITUTE(IN!F1696,\",\",\".\")","v":""}]
[0,{"$error":"#VALUE!"},{"$error":"#VALUE!"},{"$f":"SUBSTITUTE(IN!G1697,\"-\",\"\")","v":""},"",{"$f":"IN!F1697*60","v":0},0,"-",{"$f":"SUBSTITUTE(IN!F1697,\",\",\".\")","v":""}]
[0,{"$error":"#VALUE!"},{"$error":"#VALUE!"},{"$f":"SUBSTITUTE(IN!G1698,\"-\",\"\")","v":""},"",{"$f":"IN!F1698*60","v":0},0,"-",{"$f":"SUBSTITUTE(IN!F1698,\",\",\".\")","v":""}]
[0,{"$error":"#VALUE!"},{"$error":"#VALUE!"},{"$f":"SUBSTITUTE(IN!G1699,\"-\",\"\")","v":""},"",{"$f":"IN!F1699*60","v":0},0,"-",{"$f":"SUBSTITUTE(IN!F1699,\",\",\".\")","v":""}]
[0,{"$error":"#VALUE!"},{"$error":"#VALUE!"},{"$f":"SUBSTITUTE(IN!G1700,\"-\",\"\")","v":""},"",{"$f":"IN!F1700*60","v":0},0,"-",{"$f":"SUBSTITUTE(IN!F1700,\",\",\".\")","v":""}]
[0,{"$error":"#VALUE!"},{"$error":"#VALUE!"},{"$f":"SUBSTITUTE(IN!G1701,\"-\",\"\")","v":""},"",{"$f":"IN!F1701*60","v":0},0,"-",{"$f":"SUBSTITUTE(IN!F1701,\",\",\".\")","v":""}]
[0,{"$error":"#VALUE!"},{"$error":"#VALUE!"},{"$f":"SUBSTITUTE(IN!G1702,\"-\",\"\")","v":""},"",{"$f":"IN!F1702*60","v":0},0,"-",{"$f":"SUBSTITUTE(IN!F1702,\",\",\".\")","v":""}]
[0,{"$error":"#VALUE!"},{"$error":"#VALUE!"},{"$f":"SUBSTITUTE(IN!G1703,\"-\",\"\")","v":""},"",{"$f":"IN!F1703*60","v":0},0,"-",{"$f":"SUBSTITUTE(IN!F1703,\",\",\".\")","v":""}]
[0,{"$error":"#VALUE!"},{"$error":"#VALUE!"},{"$f":"SUBSTITUTE(IN!G1704,\"-\",\"\")","v":""},"",{"$f":"IN!F1704*60","v":0},0,"-",{"$f":"SUBSTITUTE(IN!F1704,\",\",\".\")","v":""}]
[0,{"$error":"#VALUE!"},{"$error":"#VALUE!"},{"$f":"SUBSTITUTE(IN!G1705,\"-\",\"\")","v":""},"",{"$f":"IN!F1705*60","v":0},0,"-",{"$f":"SUBSTITUTE(IN!F1705,\",\",\".\")","v":""}]
[0,{"$error":"#VALUE!"},{"$error":"#VALUE!"},{"$f":"SUBSTITUTE(IN!G1706,\"-\",\"\")","v":""},"",{"$f":"IN!F1706*60","v":0},0,"-",{"$f":"SUBSTITUTE(IN!F1706,\",\",\".\")","v":""}]
[0,{"$error":"#VALUE!"},{"$error":"#VALUE!"},{"$f":"SUBSTITUTE(IN!G1707,\"-\",\"\")","v":""},"",{"$f":"IN!F1707*60","v":0},0,"-",{"$f":"SUBSTITUTE(IN!F1707,\",\",\".\")","v":""}]
[0,{"$error":"#VALUE!"},{"$error":"#VALUE!"},{"$f":"SUBSTITUTE(IN!G1708,\"-\",\"\")","v":""},"",{"$f":"IN!F1708*60","v":0},0,"-",{"$f":"SUBSTITUTE(IN!F1708,\",\",\".\")","v":""}]
[0,{"$error":"#VALUE!"},{"$error":"#VALUE!"},{"$f":"SUBSTITUTE(IN!G1709,\"-\",\"\")","v":""},"",{"$f":"IN!F1709*60","v":0},0,"-",{"$f":"SUBSTITUTE(IN!F1709,\",\",\".\")","v":""}]
[0,{"$error":"#VALUE!"},{"$error":"#VALUE!"},{"$f":"SUBSTITUTE(IN!G1710,\"-\",\"\")","v":""},"",{"$f":"IN!F1710*60","v":0},0,"-",{"$f":"SUBSTITUTE(IN!F1710,\",\",\".\")","v":""}]
[0,{"$error":"#VALUE!"},{"$error":"#VALUE!"},{"$f":"SUBSTITUTE(IN!G1711,\"-\",\"\")","v":""},"",{"$f":"IN!F1711*60","v":0},0,"-",{"$f":"SUBSTITUTE(IN!F1711,\",\",\".\")","v":""}]
[0,{"$error":"#VALUE!"},{"$error":"#VALUE!"},{"$f":"SUBSTITUTE(IN!G1712,\"-\",\"\")","v":""},"",{"$f":"IN!F1712*60","v":0},0,"-",{"$f":"SUBSTITUTE(IN!F1712,\",\",\".\")","v":""}]
[0,{"$error":"#VALUE!"},{"$error":"#VALUE!"},{"$f":"SUBSTITUTE(IN!G1713,\"-\",\"\")","v":""},"",{"$f":"IN!F1713*60","v":0},0,"-",{"$f":"SUBSTITUTE(IN!F1713,\",\",\".\")","v":""}]
[0,{"$error":"#VALUE!"},{"$error":"#VALUE!"},{"$f":"SUBSTITUTE(IN!G1714,\"-\",\"\")","v":""},"",{"$f":"IN!F1714*60","v":0},0,"-",{"$f":"SUBSTITUTE(IN!F1714,\",\",\".\")","v":""}]
[0,{"$error":"#VALUE!"},{"$error":"#VALUE!"},{"$f":"SUBSTITUTE(IN!G1715,\"-\",\"\")","v":""},"",{"$f":"IN!F1715*60","v":0},0,"-",{"$f":"SUBSTITUTE(IN!F1715,\",\",\".\")","v":""}]
[0,{"$error":"#VALUE!"},{"$error":"#VALUE!"},{"$f":"SUBSTITUTE(IN!G1716,\"-\",\"\")","v":""},"",{"$f":"IN!F1716*60","v":0},0,"-",{"$f":"SUBSTITUTE(IN!F1716,\",\",\".\")","v":""}]
[0,{"$error":"#VALUE!"},{"$error":"#VALUE!"},{"$f":"SUBSTITUTE(IN!G1717,\"-\",\"\")","v":""},"",{"$f":"IN!F1717*60","v":0},0,"-",{"$f":"SUBSTITUTE(IN!F1717,\",\",\".\")","v":""}]
[0,{"$error":"#VALUE!"},{"$error":"#VALUE!"},{"$f":"SUBSTITUTE(IN!G1718,\"-\",\"\")","v":""},"",{"$f":"IN!F1718*60","v":0},0,"-",{"$f":"SUBSTITUTE(IN!F1718,\",\",\".\")","v":""}]
[0,{"$error":"#VALUE!"},{"$error":"#VALUE!"},{"$f":"SUBSTITUTE(IN!G1719,\"-\",\"\")","v":""},"",{"$f":"IN!F1719*60","v":0},0,"-",{"$f":"SUBSTITUTE(IN!F1719,\",\",\".\")","v":""}]
[0,{"$error":"#VALUE!"},{"$error":"#VALUE!"},{"$f":"SUBSTITUTE(IN!G1720,\"-\",\"\")","v":""},"",{"$f":"IN!F1720*60","v":0},0,"-",{"$f":"SUBSTITUTE(IN!F1720,\",\",\".\")","v":""}]
[0,{"$error":"#VALUE!"},{"$error":"#VALUE!"},{"$f":"SUBSTITUTE(IN!G1721,\"-\",\"\")","v":""},"",{"$f":"IN!F1721*60","v":0},0,"-",{"$f":"SUBSTITUTE(IN!F1721,\",\",\".\")","v":""}]
[0,{"$error":"#VALUE!"},{"$error":"#VALUE!"},{"$f":"SUBSTITUTE(IN!G1722,\"-\",\"\")","v":""},"",{"$f":"IN!F1722*60","v":0},0,"-",{"$f":"SUBSTITUTE(IN!F1722,\",\",\".\")","v":""}]
[0,{"$error":"#VALUE!"},{"$error":"#VALUE!"},{"$f":"SUBSTITUTE(IN!G1723,\"-\",\"\")","v":""},"",{"$f":"IN!F1723*60","v":0},0,"-",{"$f":"SUBSTITUTE(IN!F1723,\",\",\".\")","v":""}]
[0,{"$error":"#VALUE!"},{"$error":"#VALUE!"},{"$f":"SUBSTITUTE(IN!G1724,\"-\",\"\")","v":""},"",{"$f":"IN!F1724*60","v":0},0,"-",{"$f":"SUBSTITUTE(IN!F1724,\",\",\".\")","v":""}]
[0,{"$error":"#VALUE!"},{"$error":"#VALUE!"},{"$f":"SUBSTITUTE(IN!G1725,\"-\",\"\")","v":""},"",{"$f":"IN!F1725*60","v":0},0,"-",{"$f":"SUBSTITUTE(IN!F1725,\",\",\".\")","v":""}]
[0,{"$error":"#VALUE!"},{"$error":"#VALUE!"},{"$f":"SUBSTITUTE(IN!G1726,\"-\",\"\")","v":""},"",{"$f":"IN!F1726*60","v":0},0,"-",{"$f":"SUBSTITUTE(IN!F1726,\",\",\".\")","v":""}]
[0,{"$error":"#VALUE!"},{"$error":"#VALUE!"},{"$f":"SUBSTITUTE(IN!G1727,\"-\",\"\")","v":""},"",{"$f":"IN!F1727*60","v":0},0,"-",{"$f":"SUBSTITUTE(IN!F1727,\",\",\".\")","v":""}]
[0,{"$error":"#VALUE!"},{"$error":"#VALUE!"},{"$f":"SUBSTITUTE(IN!G1728,\"-\",\"\")","v":""},"",{"$f":"IN!F1728*60","v":0},0,"-",{"$f":"SUBSTITUTE(IN!F1728,\",\",\".\")","v":""}]
[0,{"$error":"#VALUE!"},{"$error":"#VALUE!"},{"$f":"SUBSTITUTE(IN!G1729,\"-\",\"\")","v":""},"",{"$f":"IN!F1729*60","v":0},0,"-",{"$f":"SUBSTITUTE(IN!F1729,\",\",\".\")","v":""}]
[0,{"$error":"#VALUE!"},{"$error":"#VALUE!"},{"$f":"SUBSTITUTE(IN!G1730,\"-\",\"\")","v":""},"",{"$f":"IN!F1730*60","v":0},0,"-",{"$f":"SUBSTITUTE(IN!F1730,\",\",\".\")","v":""}]
[0,{"$error":"#VALUE!"},{"$error":"#VALUE!"},{"$f":"SUBSTITUTE(IN!G1731,\"-\",\"\")","v":""},"",{"$f":"IN!F1731*60","v":0},0,"-",{"$f":"SUBSTITUTE(IN!F1731,\",\",\".\")","v":""}]
[0,{"$error":"#VALUE!"},{"$error":"#VALUE!"},{"$f":"SUBSTITUTE(IN!G1732,\"-\",\"\")","v":""},"",{"$f":"IN!F1732*60","v":0},0,"-",{"$f":"SUBSTITUTE(IN!F1732,\",\",\".\")","v":""}]
[{"$f":"LEN(D1733)","v":0},{"$f":"VALUE(LEFT(D1733,1))","v":{"$error":"#VALUE!"}},{"$f":"IF(B1733<2,20,19)","v":{"$error":"#VALUE!"}},{"$f":"SUBSTITUTE(IN!G1733,\"-\",\"\")","v":""},{"$f":"IF(A1733=10,CONCATENATE(C1733,D1733),D1733)","v":""},{"$f":"IN!F1733*60","v":0},{"$f":"ROUND(F1733,0)","v":0},{"$f":"CONCATENATE(MID(E1733,1,8),\"-\",MID(E1733,9,4))","v":"-"},{"$f":"SUBSTITUTE(IN!F1733,\",\",\".\")","v":""}]
[0,{"$error":"#VALUE!"},{"$error":"#VALUE!"},{"$f":"SUBSTITUTE(IN!G1734,\"-\",\"\")","v":""},"",{"$f":"IN!F1734*60","v":0},0,"-",{"$f":"SUBSTITUTE(IN!F1734,\",\",\".\")","v":""}]
[0,{"$error":"#VALUE!"},{"$error":"#VALUE!"},{"$f":"SUBSTITUTE(IN!G1735,\"-\",\"\")","v":""},"",{"$f":"IN!F1735*60","v":0},0,"-",{"$f":"SUBSTITUTE(IN!F1735,\",\",\".\")","v":""}]
[0,{"$error":"#VALUE!"},{"$error":"#VALUE!"},{"$f":"SUBSTITUTE(IN!G1736,\"-\",\"\")","v":""},"",{"$f":"IN!F1736*60","v":0},0,"-",{"$f":"SUBSTITUTE(IN!F1736,\",\",\".\")","v":""}]
[0,{"$error":"#VALUE!"},{"$error":"#VALUE!"},{"$f":"SUBSTITUTE(IN!G1737,\"-\",\"\")","v":""},"",{"$f":"IN!F1737*60","v":0},0,"-",{"$f":"SUBSTITUTE(IN!F1737,\",\",\".\")","v":""}]
[0,{"$error":"#VALUE!"},{"$error":"#VALUE!"},{"$f":"SUBSTITUTE(IN!G1738,\"-\",\"\")","v":""},"",{"$f":"IN!F1738*60","v":0},0,"-",{"$f":"SUBSTITUTE(IN!F1738,\",\",\".\")","v":""}]
[0,{"$error":"#VALUE!"},{"$error":"#VALUE!"},{"$f":"SUBSTITUTE(IN!G1739,\"-\",\"\")","v":""},"",{"$f":"IN!F1739*60","v":0},0,"-",{"$f":"SUBSTITUTE(IN!F1739,\",\",\".\")","v":""}]
[0,{"$error":"#VALUE!"},{"$error":"#VALUE!"},{"$f":"SUBSTITUTE(IN!G1740,\"-\",\"\")","v":""},"",{"$f":"IN!F1740*60","v":0},0,"-",{"$f":"SUBSTITUTE(IN!F1740,\",\",\".\")","v":""}]
[0,{"$error":"#VALUE!"},{"$error":"#VALUE!"},{"$f":"SUBSTITUTE(IN!G1741,\"-\",\"\")","v":""},"",{"$f":"IN!F1741*60","v":0},0,"-",{"$f":"SUBSTITUTE(IN!F1741,\",\",\".\")","v":""}]
[0,{"$error":"#VALUE!"},{"$error":"#VALUE!"},{"$f":"SUBSTITUTE(IN!G1742,\"-\",\"\")","v":""},"",{"$f":"IN!F1742*60","v":0},0,"-",{"$f":"SUBSTITUTE(IN!F1742,\",\",\".\")","v":""}]
[0,{"$error":"#VALUE!"},{"$error":"#VALUE!"},{"$f":"SUBSTITUTE(IN!G1743,\"-\",\"\")","v":""},"",{"$f":"IN!F1743*60","v":0},0,"-",{"$f":"SUBSTITUTE(IN!F1743,\",\",\".\")","v":""}]
[0,{"$error":"#VALUE!"},{"$error":"#VALUE!"},{"$f":"SUBSTITUTE(IN!G1744,\"-\",\"\")","v":""},"",{"$f":"IN!F1744*60","v":0},0,"-",{"$f":"SUBSTITUTE(IN!F1744,\",\",\".\")","v":""}]
[0,{"$error":"#VALUE!"},{"$error":"#VALUE!"},{"$f":"SUBSTITUTE(IN!G1745,\"-\",\"\")","v":""},"",{"$f":"IN!F1745*60","v":0},0,"-",{"$f":"SUBSTITUTE(IN!F1745,\",\",\".\")","v":""}]
[0,{"$error":"#VALUE!"},{"$error":"#VALUE!"},{"$f":"SUBSTITUTE(IN!G1746,\"-\",\"\")","v":""},"",{"$f":"IN!F1746*60","v":0},0,"-",{"$f":"SUBSTITUTE(IN!F1746,\",\",\".\")","v":""}]
[0,{"$error":"#VALUE!"},{"$error":"#VALUE!"},{"$f":"SUBSTITUTE(IN!G1747,\"-\",\"\")","v":""},"",{"$f":"IN!F1747*60","v":0},0,"-",{"$f":"SUBSTITUTE(IN!F1747,\",\",\".\")","v":""}]
[0,{"$error":"#VALUE!"},{"$error":"#VALUE!"},{"$f":"SUBSTITUTE(IN!G1748,\"-\",\"\")","v":""},"",{"$f":"IN!F1748*60","v":0},0,"-",{"$f":"SUBSTITUTE(IN!F1748,\",\",\".\")","v":""}]
[0,{"$error":"#VALUE!"},{"$error":"#VALUE!"},{"$f":"SUBSTITUTE(IN!G1749,\"-\",\"\")","v":""},"",{"$f":"IN!F1749*60","v":0},0,"-",{"$f":"SUBSTITUTE(IN!F1749,\",\",\".\")","v":""}]
[0,{"$error":"#VALUE!"},{"$error":"#VALUE!"},{"$f":"SUBSTITUTE(IN!G1750,\"-\",\"\")","v":""},"",{"$f":"IN!F1750*60","v":0},0,"-",{"$f":"SUBSTITUTE(IN!F1750,\",\",\".\")","v":""}]
[0,{"$error":"#VALUE!"},{"$error":"#VALUE!"},{"$f":"SUBSTITUTE(IN!G1751,\"-\",\"\")","v":""},"",{"$f":"IN!F1751*60","v":0},0,"-",{"$f":"SUBSTITUTE(IN!F1751,\",\",\".\")","v":""}]
[0,{"$error":"#VALUE!"},{"$error":"#VALUE!"},{"$f":"SUBSTITUTE(IN!G1752,\"-\",\"\")","v":""},"",{"$f":"IN!F1752*60","v":0},0,"-",{"$f":"SUBSTITUTE(IN!F1752,\",\",\".\")","v":""}]
[0,{"$error":"#VALUE!"},{"$error":"#VALUE!"},{"$f":"SUBSTITUTE(IN!G1753,\"-\",\"\")","v":""},"",{"$f":"IN!F1753*60","v":0},0,"-",{"$f":"SUBSTITUTE(IN!F1753,\",\",\".\")","v":""}]
[0,{"$error":"#VALUE!"},{"$error":"#VALUE!"},{"$f":"SUBSTITUTE(IN!G1754,\"-\",\"\")","v":""},"",{"$f":"IN!F1754*60","v":0},0,"-",{"$f":"SUBSTITUTE(IN!F1754,\",\",\".\")","v":""}]
[0,{"$error":"#VALUE!"},{"$error":"#VALUE!"},{"$f":"SUBSTITUTE(IN!G1755,\"-\",\"\")","v":""},"",{"$f":"IN!F1755*60","v":0},0,"-",{"$f":"SUBSTITUTE(IN!F1755,\",\",\".\")","v":""}]
[0,{"$error":"#VALUE!"},{"$error":"#VALUE!"},{"$f":"SUBSTITUTE(IN!G1756,\"-\",\"\")","v":""},"",{"$f":"IN!F1756*60","v":0},0,"-",{"$f":"SUBSTITUTE(IN!F1756,\",\",\".\")","v":""}]
[0,{"$error":"#VALUE!"},{"$error":"#VALUE!"},{"$f":"SUBSTITUTE(IN!G1757,\"-\",\"\")","v":""},"",{"$f":"IN!F1757*60","v":0},0,"-",{"$f":"SUBSTITUTE(IN!F1757,\",\",\".\")","v":""}]
[0,{"$error":"#VALUE!"},{"$error":"#VALUE!"},{"$f":"SUBSTITUTE(IN!G1758,\"-\",\"\")","v":""},"",{"$f":"IN!F1758*60","v":0},0,"-",{"$f":"SUBSTITUTE(IN!F1758,\",\",\".\")","v":""}]
[0,{"$error":"#VALUE!"},{"$error":"#VALUE!"},{"$f":"SUBSTITUTE(IN!G1759,\"-\",\"\")","v":""},"",{"$f":"IN!F1759*60","v":0},0,"-",{"$f":"SUBSTITUTE(IN!F1759,\",\",\".\")","v":""}]
[0,{"$error":"#VALUE!"},{"$error":"#VALUE!"},{"$f":"SUBSTITUTE(IN!G1760,\"-\",\"\")","v":""},"",{"$f":"IN!F1760*60","v":0},0,"-",{"$f":"SUBSTITUTE(IN!F1760,\",\",\".\")","v":""}]
[0,{"$error":"#VALUE!"},{"$error":"#VALUE!"},{"$f":"SUBSTITUTE(IN!G1761,\"-\",\"\")","v":""},"",{"$f":"IN!F1761*60","v":0},0,"-",{"$f":"SUBSTITUTE(IN!F1761,\",\",\".\")","v":""}]
[0,{"$error":"#VALUE!"},{"$error":"#VALUE!"},{"$f":"SUBSTITUTE(IN!G1762,\"-\",\"\")","v":""},"",{"$f":"IN!F1762*60","v":0},0,"-",{"$f":"SUBSTITUTE(IN!F1762,\",\",\".\")","v":""}]
[0,{"$error":"#VALUE!"},{"$error":"#VALUE!"},{"$f":"SUBSTITUTE(IN!G1763,\"-\",\"\")","v":""},"",{"$f":"IN!F1763*60","v":0},0,"-",{"$f":"SUBSTITUTE(IN!F1763,\",\",\".\")","v":""}]
[0,{"$error":"#VALUE!"},{"$error":"#VALUE!"},{"$f":"SUBSTITUTE(IN!G1764,\"-\",\"\")","v":""},"",{"$f":"IN!F1764*60","v":0},0,"-",{"$f":"SUBSTITUTE(IN!F1764,\",\",\".\")","v":""}]
[0,{"$error":"#VALUE!"},{"$error":"#VALUE!"},{"$f":"SUBSTITUTE(IN!G1765,\"-\",\"\")","v":""},"",{"$f":"IN!F1765*60","v":0},0,"-",{"$f":"SUBSTITUTE(IN!F1765,\",\",\".\")","v":""}]
[0,{"$error":"#VALUE!"},{"$error":"#VALUE!"},{"$f":"SUBSTITUTE(IN!G1766,\"-\",\"\")","v":""},"",{"$f":"IN!F1766*60","v":0},0,"-",{"$f":"SUBSTITUTE(IN!F1766,\",\",\".\")","v":""}]
[0,{"$error":"#VALUE!"},{"$error":"#VALUE!"},{"$f":"SUBSTITUTE(IN!G1767,\"-\",\"\")","v":""},"",{"$f":"IN!F1767*60","v":0},0,"-",{"$f":"SUBSTITUTE(IN!F1767,\",\",\".\")","v":""}]
[0,{"$error":"#VALUE!"},{"$error":"#VALUE!"},{"$f":"SUBSTITUTE(IN!G1768,\"-\",\"\")","v":""},"",{"$f":"IN!F1768*60","v":0},0,"-",{"$f":"SUBSTITUTE(IN!F1768,\",\",\".\")","v":""}]
[0,{"$error":"#VALUE!"},{"$error":"#VALUE!"},{"$f":"SUBSTITUTE(IN!G1769,\"-\",\"\")","v":""},"",{"$f":"IN!F1769*60","v":0},0,"-",{"$f":"SUBSTITUTE(IN!F1769,\",\",\".\")","v":""}]
[0,{"$error":"#VALUE!"},{"$error":"#VALUE!"},{"$f":"SUBSTITUTE(IN!G1770,\"-\",\"\")","v":""},"",{"$f":"IN!F1770*60","v":0},0,"-",{"$f":"SUBSTITUTE(IN!F1770,\",\",\".\")","v":""}]
[0,{"$error":"#VALUE!"},{"$error":"#VALUE!"},{"$f":"SUBSTITUTE(IN!G1771,\"-\",\"\")","v":""},"",{"$f":"IN!F1771*60","v":0},0,"-",{"$f":"SUBSTITUTE(IN!F1771,\",\",\".\")","v":""}]
[0,{"$error":"#VALUE!"},{"$error":"#VALUE!"},{"$f":"SUBSTITUTE(IN!G1772,\"-\",\"\")","v":""},"",{"$f":"IN!F1772*60","v":0},0,"-",{"$f":"SUBSTITUTE(IN!F1772,\",\",\".\")","v":""}]
[0,{"$error":"#VALUE!"},{"$error":"#VALUE!"},{"$f":"SUBSTITUTE(IN!G1773,\"-\",\"\")","v":""},"",{"$f":"IN!F1773*60","v":0},0,"-",{"$f":"SUBSTITUTE(IN!F1773,\",\",\".\")","v":""}]
[0,{"$error":"#VALUE!"},{"$error":"#VALUE!"},{"$f":"SUBSTITUTE(IN!G1774,\"-\",\"\")","v":""},"",{"$f":"IN!F1774*60","v":0},0,"-",{"$f":"SUBSTITUTE(IN!F1774,\",\",\".\")","v":""}]
[0,{"$error":"#VALUE!"},{"$error":"#VALUE!"},{"$f":"SUBSTITUTE(IN!G1775,\"-\",\"\")","v":""},"",{"$f":"IN!F1775*60","v":0},0,"-",{"$f":"SUBSTITUTE(IN!F1775,\",\",\".\")","v":""}]
[0,{"$error":"#VALUE!"},{"$error":"#VALUE!"},{"$f":"SUBSTITUTE(IN!G1776,\"-\",\"\")","v":""},"",{"$f":"IN!F1776*60","v":0},0,"-",{"$f":"SUBSTITUTE(IN!F1776,\",\",\".\")","v":""}]
[0,{"$error":"#VALUE!"},{"$error":"#VALUE!"},{"$f":"SUBSTITUTE(IN!G1777,\"-\",\"\")","v":""},"",{"$f":"IN!F1777*60","v":0},0,"-",{"$f":"SUBSTITUTE(IN!F1777,\",\",\".\")","v":""}]
[0,{"$error":"#VALUE!"},{"$error":"#VALUE!"},{"$f":"SUBSTITUTE(IN!G1778,\"-\",\"\")","v":""},"",{"$f":"IN!F1778*60","v":0},0,"-",{"$f":"SUBSTITUTE(IN!F1778,\",\",\".\")","v":""}]
[0,{"$error":"#VALUE!"},{"$error":"#VALUE!"},{"$f":"SUBSTITUTE(IN!G1779,\"-\",\"\")","v":""},"",{"$f":"IN!F1779*60","v":0},0,"-",{"$f":"SUBSTITUTE(IN!F1779,\",\",\".\")","v":""}]
[0,{"$error":"#VALUE!"},{"$error":"#VALUE!"},{"$f":"SUBSTITUTE(IN!G1780,\"-\",\"\")","v":""},"",{"$f":"IN!F1780*60","v":0},0,"-",{"$f":"SUBSTITUTE(IN!F1780,\",\",\".\")","v":""}]
[0,{"$error":"#VALUE!"},{"$error":"#VALUE!"},{"$f":"SUBSTITUTE(IN!G1781,\"-\",\"\")","v":""},"",{"$f":"IN!F1781*60","v":0},0,"-",{"$f":"SUBSTITUTE(IN!F1781,\",\",\".\")","v":""}]
[0,{"$error":"#VALUE!"},{"$error":"#VALUE!"},{"$f":"SUBSTITUTE(IN!G1782,\"-\",\"\")","v":""},"",{"$f":"IN!F1782*60","v":0},0,"-",{"$f":"SUBSTITUTE(IN!F1782,\",\",\".\")","v":""}]
[0,{"$error":"#VALUE!"},{"$error":"#VALUE!"},{"$f":"SUBSTITUTE(IN!G1783,\"-\",\"\")","v":""},"",{"$f":"IN!F1783*60","v":0},0,"-",{"$f":"SUBSTITUTE(IN!F1783,\",\",\".\")","v":""}]
[0,{"$error":"#VALUE!"},{"$error":"#VALUE!"},{"$f":"SUBSTITUTE(IN!G1784,\"-\",\"\")","v":""},"",{"$f":"IN!F1784*60","v":0},0,"-",{"$f":"SUBSTITUTE(IN!F1784,\",\",\".\")","v":""}]
[0,{"$error":"#VALUE!"},{"$error":"#VALUE!"},{"$f":"SUBSTITUTE(IN!G1785,\"-\",\"\")","v":""},"",{"$f":"IN!F1785*60","v":0},0,"-",{"$f":"SUBSTITUTE(IN!F1785,\",\",\".\")","v":""}]
[0,{"$error":"#VALUE!"},{"$error":"#VALUE!"},{"$f":"SUBSTITUTE(IN!G1786,\"-\",\"\")","v":""},"",{"$f":"IN!F1786*60","v":0},0,"-",{"$f":"SUBSTITUTE(IN!F1786,\",\",\".\")","v":""}]
[0,{"$error":"#VALUE!"},{"$error":"#VALUE!"},{"$f":"SUBSTITUTE(IN!G1787,\"-\",\"\")","v":""},"",{"$f":"IN!F1787*60","v":0},0,"-",{"$f":"SUBSTITUTE(IN!F1787,\",\",\".\")","v":""}]
[0,{"$error":"#VALUE!"},{"$error":"#VALUE!"},{"$f":"SUBSTITUTE(IN!G1788,\"-\",\"\")","v":""},"",{"$f":"IN!F1788*60","v":0},0,"-",{"$f":"SUBSTITUTE(IN!F1788,\",\",\".\")","v":""}]
[0,{"$error":"#VALUE!"},{"$error":"#VALUE!"},{"$f":"SUBSTITUTE(IN!G1789,\"-\",\"\")","v":""},"",{"$f":"IN!F1789*60","v":0},0,"-",{"$f":"SUBSTITUTE(IN!F1789,\",\",\".\")","v":""}]
[0,{"$error":"#VALUE!"},{"$error":"#VALUE!"},{"$f":"SUBSTITUTE(IN!G1790,\"-\",\"\")","v":""},"",{"$f":"IN!F1790*60","v":0},0,"-",{"$f":"SUBSTITUTE(IN!F1790,\",\",\".\")","v":""}]
[0,{"$error":"#VALUE!"},{"$error":"#VALUE!"},{"$f":"SUBSTITUTE(IN!G1791,\"-\",\"\")","v":""},"",{"$f":"IN!F1791*60","v":0},0,"-",{"$f":"SUBSTITUTE(IN!F1791,\",\",\".\")","v":""}]
[0,{"$error":"#VALUE!"},{"$error":"#VALUE!"},{"$f":"SUBSTITUTE(IN!G1792,\"-\",\"\")","v":""},"",{"$f":"IN!F1792*60","v":0},0,"-",{"$f":"SUBSTITUTE(IN!F1792,\",\",\".\")","v":""}]
[0,{"$error":"#VALUE!"},{"$error":"#VALUE!"},{"$f":"SUBSTITUTE(IN!G1793,\"-\",\"\")","v":""},"",{"$f":"IN!F1793*60","v":0},0,"-",{"$f":"SUBSTITUTE(IN!F1793,\",\",\".\")","v":""}]
[0,{"$error":"#VALUE!"},{"$error":"#VALUE!"},{"$f":"SUBSTITUTE(IN!G1794,\"-\",\"\")","v":""},"",{"$f":"IN!F1794*60","v":0},0,"-",{"$f":"SUBSTITUTE(IN!F1794,\",\",\".\")","v":""}]
[0,{"$error":"#VALUE!"},{"$error":"#VALUE!"},{"$f":"SUBSTITUTE(IN!G1795,\"-\",\"\")","v":""},"",{"$f":"IN!F1795*60","v":0},0,"-",{"$f":"SUBSTITUTE(IN!F1795,\",\",\".\")","v":""}]
[0,{"$error":"#VALUE!"},{"$error":"#VALUE!"},{"$f":"SUBSTITUTE(IN!G1796,\"-\",\"\")","v":""},"",{"$f":"IN!F1796*60","v":0},0,"-",{"$f":"SUBSTITUTE(IN!F1796,\",\",\".\")","v":""}]
[{"$f":"LEN(D1797)","v":0},{"$f":"VALUE(LEFT(D1797,1))","v":{"$error":"#VALUE!"}},{"$f":"IF(B1797<2,20,19)","v":{"$error":"#VALUE!"}},{"$f":"SUBSTITUTE(IN!G1797,\"-\",\"\")","v":""},{"$f":"IF(A1797=10,CONCATENATE(C1797,D1797),D1797)","v":""},{"$f":"IN!F1797*60","v":0},{"$f":"ROUND(F1797,0)","v":0},{"$f":"CONCATENATE(MID(E1797,1,8),\"-\",MID(E1797,9,4))","v":"-"},{"$f":"SUBSTITUTE(IN!F1797,\",\",\".\")","v":""}]
[0,{"$error":"#VALUE!"},{"$error":"#VALUE!"},{"$f":"SUBSTITUTE(IN!G1798,\"-\",\"\")","v":""},"",{"$f":"IN!F1798*60","v":0},0,"-",{"$f":"SUBSTITUTE(IN!F1798,\",\",\".\")","v":""}]
[0,{"$error":"#VALUE!"},{"$error":"#VALUE!"},{"$f":"SUBSTITUTE(IN!G1799,\"-\",\"\")","v":""},"",{"$f":"IN!F1799*60","v":0},0,"-",{"$f":"SUBSTITUTE(IN!F1799,\",\",\".\")","v":""}]
[0,{"$error":"#VALUE!"},{"$error":"#VALUE!"},{"$f":"SUBSTITUTE(IN!G1800,\"-\",\"\")","v":""},"",{"$f":"IN!F1800*60","v":0},0,"-",{"$f":"SUBSTITUTE(IN!F1800,\",\",\".\")","v":""}]
[0,{"$error":"#VALUE!"},{"$error":"#VALUE!"},{"$f":"SUBSTITUTE(IN!G1801,\"-\",\"\")","v":""},"",{"$f":"IN!F1801*60","v":0},0,"-",{"$f":"SUBSTITUTE(IN!F1801,\",\",\".\")","v":""}]
[0,{"$error":"#VALUE!"},{"$error":"#VALUE!"},{"$f":"SUBSTITUTE(IN!G1802,\"-\",\"\")","v":""},"",{"$f":"IN!F1802*60","v":0},0,"-",{"$f":"SUBSTITUTE(IN!F1802,\",\",\".\")","v":""}]
[0,{"$error":"#VALUE!"},{"$error":"#VALUE!"},{"$f":"SUBSTITUTE(IN!G1803,\"-\",\"\")","v":""},"",{"$f":"IN!F1803*60","v":0},0,"-",{"$f":"SUBSTITUTE(IN!F1803,\",\",\".\")","v":""}]
[0,{"$error":"#VALUE!"},{"$error":"#VALUE!"},{"$f":"SUBSTITUTE(IN!G1804,\"-\",\"\")","v":""},"",{"$f":"IN!F1804*60","v":0},0,"-",{"$f":"SUBSTITUTE(IN!F1804,\",\",\".\")","v":""}]
[0,{"$error":"#VALUE!"},{"$error":"#VALUE!"},{"$f":"SUBSTITUTE(IN!G1805,\"-\",\"\")","v":""},"",{"$f":"IN!F1805*60","v":0},0,"-",{"$f":"SUBSTITUTE(IN!F1805,\",\",\".\")","v":""}]
[0,{"$error":"#VALUE!"},{"$error":"#VALUE!"},{"$f":"SUBSTITUTE(IN!G1806,\"-\",\"\")","v":""},"",{"$f":"IN!F1806*60","v":0},0,"-",{"$f":"SUBSTITUTE(IN!F1806,\",\",\".\")","v":""}]
[0,{"$error":"#VALUE!"},{"$error":"#VALUE!"},{"$f":"SUBSTITUTE(IN!G1807,\"-\",\"\")","v":""},"",{"$f":"IN!F1807*60","v":0},0,"-",{"$f":"SUBSTITUTE(IN!F1807,\",\",\".\")","v":""}]
[0,{"$error":"#VALUE!"},{"$error":"#VALUE!"},{"$f":"SUBSTITUTE(IN!G1808,\"-\",\"\")","v":""},"",{"$f":"IN!F1808*60","v":0},0,"-",{"$f":"SUBSTITUTE(IN!F1808,\",\",\".\")","v":""}]
[0,{"$error":"#VALUE!"},{"$error":"#VALUE!"},{"$f":"SUBSTITUTE(IN!G1809,\"-\",\"\")","v":""},"",{"$f":"IN!F1809*60","v":0},0,"-",{"$f":"SUBSTITUTE(IN!F1809,\",\",\".\")","v":""}]
[0,{"$error":"#VALUE!"},{"$error":"#VALUE!"},{"$f":"SUBSTITUTE(IN!G1810,\"-\",\"\")","v":""},"",{"$f":"IN!F1810*60","v":0},0,"-",{"$f":"SUBSTITUTE(IN!F1810,\",\",\".\")","v":""}]
[0,{"$error":"#VALUE!"},{"$error":"#VALUE!"},{"$f":"SUBSTITUTE(IN!G1811,\"-\",\"\")","v":""},"",{"$f":"IN!F1811*60","v":0},0,"-",{"$f":"SUBSTITUTE(IN!F1811,\",\",\".\")","v":""}]
[0,{"$error":"#VALUE!"},{"$error":"#VALUE!"},{"$f":"SUBSTITUTE(IN!G1812,\"-\",\"\")","v":""},"",{"$f":"IN!F1812*60","v":0},0,"-",{"$f":"SUBSTITUTE(IN!F1812,\",\",\".\")","v":""}]
[0,{"$error":"#VALUE!"},{"$error":"#VALUE!"},{"$f":"SUBSTITUTE(IN!G1813,\"-\",\"\")","v":""},"",{"$f":"IN!F1813*60","v":0},0,"-",{"$f":"SUBSTITUTE(IN!F1813,\",\",\".\")","v":""}]
[0,{"$error":"#VALUE!"},{"$error":"#VALUE!"},{"$f":"SUBSTITUTE(IN!G1814,\"-\",\"\")","v":""},"",{"$f":"IN!F1814*60","v":0},0,"-",{"$f":"SUBSTITUTE(IN!F1814,\",\",\".\")","v":""}]
[0,{"$error":"#VALUE!"},{"$error":"#VALUE!"},{"$f":"SUBSTITUTE(IN!G1815,\"-\",\"\")","v":""},"",{"$f":"IN!F1815*60","v":0},0,"-",{"$f":"SUBSTITUTE(IN!F1815,\",\",\".\")","v":""}]
[0,{"$error":"#VALUE!"},{"$error":"#VALUE!"},{"$f":"SUBSTITUTE(IN!G1816,\"-\",\"\")","v":""},"",{"$f":"IN!F1816*60","v":0},0,"-",{"$f":"SUBSTITUTE(IN!F1816,\",\",\".\")","v":""}]
[0,{"$error":"#VALUE!"},{"$error":"#VALUE!"},{"$f":"SUBSTITUTE(IN!G1817,\"-\",\"\")","v":""},"",{"$f":"IN!F1817*60","v":0},0,"-",{"$f":"SUBSTITUTE(IN!F1817,\",\",\".\")","v":""}]
[0,{"$error":"#VALUE!"},{"$error":"#VALUE!"},{"$f":"SUBSTITUTE(IN!G1818,\"-\",\"\")","v":""},"",{"$f":"IN!F1818*60","v":0},0,"-",{"$f":"SUBSTITUTE(IN!F1818,\",\",\".\")","v":""}]
[0,{"$error":"#VALUE!"},{"$error":"#VALUE!"},{"$f":"SUBSTITUTE(IN!G1819,\"-\",\"\")","v":""},"",{"$f":"IN!F1819*60","v":0},0,"-",{"$f":"SUBSTITUTE(IN!F1819,\",\",\".\")","v":""}]
[0,{"$error":"#VALUE!"},{"$error":"#VALUE!"},{"$f":"SUBSTITUTE(IN!G1820,\"-\",\"\")","v":""},"",{"$f":"IN!F1820*60","v":0},0,"-",{"$f":"SUBSTITUTE(IN!F1820,\",\",\".\")","v":""}]
[0,{"$error":"#VALUE!"},{"$error":"#VALUE!"},{"$f":"SUBSTITUTE(IN!G1821,\"-\",\"\")","v":""},"",{"$f":"IN!F1821*60","v":0},0,"-",{"$f":"SUBSTITUTE(IN!F1821,\",\",\".\")","v":""}]
[0,{"$error":"#VALUE!"},{"$error":"#VALUE!"},{"$f":"SUBSTITUTE(IN!G1822,\"-\",\"\")","v":""},"",{"$f":"IN!F1822*60","v":0},0,"-",{"$f":"SUBSTITUTE(IN!F1822,\",\",\".\")","v":""}]
[0,{"$error":"#VALUE!"},{"$error":"#VALUE!"},{"$f":"SUBSTITUTE(IN!G1823,\"-\",\"\")","v":""},"",{"$f":"IN!F1823*60","v":0},0,"-",{"$f":"SUBSTITUTE(IN!F1823,\",\",\".\")","v":""}]
[0,{"$error":"#VALUE!"},{"$error":"#VALUE!"},{"$f":"SUBSTITUTE(IN!G1824,\"-\",\"\")","v":""},"",{"$f":"IN!F1824*60","v":0},0,"-",{"$f":"SUBSTITUTE(IN!F1824,\",\",\".\")","v":""}]
[0,{"$error":"#VALUE!"},{"$error":"#VALUE!"},{"$f":"SUBSTITUTE(IN!G1825,\"-\",\"\")","v":""},"",{"$f":"IN!F1825*60","v":0},0,"-",{"$f":"SUBSTITUTE(IN!F1825,\",\",\".\")","v":""}]
[0,{"$error":"#VALUE!"},{"$error":"#VALUE!"},{"$f":"SUBSTITUTE(IN!G1826,\"-\",\"\")","v":""},"",{"$f":"IN!F1826*60","v":0},0,"-",{"$f":"SUBSTITUTE(IN!F1826,\",\",\".\")","v":""}]
[0,{"$error":"#VALUE!"},{"$error":"#VALUE!"},{"$f":"SUBSTITUTE(IN!G1827,\"-\",\"\")","v":""},"",{"$f":"IN!F1827*60","v":0},0,"-",{"$f":"SUBSTITUTE(IN!F1827,\",\",\".\")","v":""}]
[0,{"$error":"#VALUE!"},{"$error":"#VALUE!"},{"$f":"SUBSTITUTE(IN!G1828,\"-\",\"\")","v":""},"",{"$f":"IN!F1828*60","v":0},0,"-",{"$f":"SUBSTITUTE(IN!F1828,\",\",\".\")","v":""}]
[0,{"$error":"#VALUE!"},{"$error":"#VALUE!"},{"$f":"SUBSTITUTE(IN!G1829,\"-\",\"\")","v":""},"",{"$f":"IN!F1829*60","v":0},0,"-",{"$f":"SUBSTITUTE(IN!F1829,\",\",\".\")","v":""}]
[0,{"$error":"#VALUE!"},{"$error":"#VALUE!"},{"$f":"SUBSTITUTE(IN!G1830,\"-\",\"\")","v":""},"",{"$f":"IN!F1830*60","v":0},0,"-",{"$f":"SUBSTITUTE(IN!F1830,\",\",\".\")","v":""}]
[0,{"$error":"#VALUE!"},{"$error":"#VALUE!"},{"$f":"SUBSTITUTE(IN!G1831,\"-\",\"\")","v":""},"",{"$f":"IN!F1831*60","v":0},0,"-",{"$f":"SUBSTITUTE(IN!F1831,\",\",\".\")","v":""}]
[0,{"$error":"#VALUE!"},{"$error":"#VALUE!"},{"$f":"SUBSTITUTE(IN!G1832,\"-\",\"\")","v":""},"",{"$f":"IN!F1832*60","v":0},0,"-",{"$f":"SUBSTITUTE(IN!F1832,\",\",\".\")","v":""}]
[0,{"$error":"#VALUE!"},{"$error":"#VALUE!"},{"$f":"SUBSTITUTE(IN!G1833,\"-\",\"\")","v":""},"",{"$f":"IN!F1833*60","v":0},0,"-",{"$f":"SUBSTITUTE(IN!F1833,\",\",\".\")","v":""}]
[0,{"$error":"#VALUE!"},{"$error":"#VALUE!"},{"$f":"SUBSTITUTE(IN!G1834,\"-\",\"\")","v":""},"",{"$f":"IN!F1834*60","v":0},0,"-",{"$f":"SUBSTITUTE(IN!F1834,\",\",\".\")","v":""}]
[0,{"$error":"#VALUE!"},{"$error":"#VALUE!"},{"$f":"SUBSTITUTE(IN!G1835,\"-\",\"\")","v":""},"",{"$f":"IN!F1835*60","v":0},0,"-",{"$f":"SUBSTITUTE(IN!F1835,\",\",\".\")","v":""}]
[0,{"$error":"#VALUE!"},{"$error":"#VALUE!"},{"$f":"SUBSTITUTE(IN!G1836,\"-\",\"\")","v":""},"",{"$f":"IN!F1836*60","v":0},0,"-",{"$f":"SUBSTITUTE(IN!F1836,\",\",\".\")","v":""}]
[0,{"$error":"#VALUE!"},{"$error":"#VALUE!"},{"$f":"SUBSTITUTE(IN!G1837,\"-\",\"\")","v":""},"",{"$f":"IN!F1837*60","v":0},0,"-",{"$f":"SUBSTITUTE(IN!F1837,\",\",\".\")","v":""}]
[0,{"$error":"#VALUE!"},{"$error":"#VALUE!"},{"$f":"SUBSTITUTE(IN!G1838,\"-\",\"\")","v":""},"",{"$f":"IN!F1838*60","v":0},0,"-",{"$f":"SUBSTITUTE(IN!F1838,\",\",\".\")","v":""}]
[0,{"$error":"#VALUE!"},{"$error":"#VALUE!"},{"$f":"SUBSTITUTE(IN!G1839,\"-\",\"\")","v":""},"",{"$f":"IN!F1839*60","v":0},0,"-",{"$f":"SUBSTITUTE(IN!F1839,\",\",\".\")","v":""}]
[0,{"$error":"#VALUE!"},{"$error":"#VALUE!"},{"$f":"SUBSTITUTE(IN!G1840,\"-\",\"\")","v":""},"",{"$f":"IN!F1840*60","v":0},0,"-",{"$f":"SUBSTITUTE(IN!F1840,\",\",\".\")","v":""}]
[0,{"$error":"#VALUE!"},{"$error":"#VALUE!"},{"$f":"SUBSTITUTE(IN!G1841,\"-\",\"\")","v":""},"",{"$f":"IN!F1841*60","v":0},0,"-",{"$f":"SUBSTITUTE(IN!F1841,\",\",\".\")","v":""}]
[0,{"$error":"#VALUE!"},{"$error":"#VALUE!"},{"$f":"SUBSTITUTE(IN!G1842,\"-\",\"\")","v":""},"",{"$f":"IN!F1842*60","v":0},0,"-",{"$f":"SUBSTITUTE(IN!F1842,\",\",\".\")","v":""}]
[0,{"$error":"#VALUE!"},{"$error":"#VALUE!"},{"$f":"SUBSTITUTE(IN!G1843,\"-\",\"\")","v":""},"",{"$f":"IN!F1843*60","v":0},0,"-",{"$f":"SUBSTITUTE(IN!F1843,\",\",\".\")","v":""}]
[0,{"$error":"#VALUE!"},{"$error":"#VALUE!"},{"$f":"SUBSTITUTE(IN!G1844,\"-\",\"\")","v":""},"",{"$f":"IN!F1844*60","v":0},0,"-",{"$f":"SUBSTITUTE(IN!F1844,\",\",\".\")","v":""}]
[0,{"$error":"#VALUE!"},{"$error":"#VALUE!"},{"$f":"SUBSTITUTE(IN!G1845,\"-\",\"\")","v":""},"",{"$f":"IN!F1845*60","v":0},0,"-",{"$f":"SUBSTITUTE(IN!F1845,\",\",\".\")","v":""}]
[0,{"$error":"#VALUE!"},{"$error":"#VALUE!"},{"$f":"SUBSTITUTE(IN!G1846,\"-\",\"\")","v":""},"",{"$f":"IN!F1846*60","v":0},0,"-",{"$f":"SUBSTITUTE(IN!F1846,\",\",\".\")","v":""}]
[0,{"$error":"#VALUE!"},{"$error":"#VALUE!"},{"$f":"SUBSTITUTE(IN!G1847,\"-\",\"\")","v":""},"",{"$f":"IN!F1847*60","v":0},0,"-",{"$f":"SUBSTITUTE(IN!F1847,\",\",\".\")","v":""}]
[0,{"$error":"#VALUE!"},{"$error":"#VALUE!"},{"$f":"SUBSTITUTE(IN!G1848,\"-\",\"\")","v":""},"",{"$f":"IN!F1848*60","v":0},0,"-",{"$f":"SUBSTITUTE(IN!F1848,\",\",\".\")","v":""}]
[0,{"$error":"#VALUE!"},{"$error":"#VALUE!"},{"$f":"SUBSTITUTE(IN!G1849,\"-\",\"\")","v":""},"",{"$f":"IN!F1849*60","v":0},0,"-",{"$f":"SUBSTITUTE(IN!F1849,\",\",\".\")","v":""}]
[0,{"$error":"#VALUE!"},{"$error":"#VALUE!"},{"$f":"SUBSTITUTE(IN!G1850,\"-\",\"\")","v":""},"",{"$f":"IN!F1850*60","v":0},0,"-",{"$f":"SUBSTITUTE(IN!F1850,\",\",\".\")","v":""}]
[0,{"$error":"#VALUE!"},{"$error":"#VALUE!"},{"$f":"SUBSTITUTE(IN!G1851,\"-\",\"\")","v":""},"",{"$f":"IN!F1851*60","v":0},0,"-",{"$f":"SUBSTITUTE(IN!F1851,\",\",\".\")","v":""}]
[0,{"$error":"#VALUE!"},{"$error":"#VALUE!"},{"$f":"SUBSTITUTE(IN!G1852,\"-\",\"\")","v":""},"",{"$f":"IN!F1852*60","v":0},0,"-",{"$f":"SUBSTITUTE(IN!F1852,\",\",\".\")","v":""}]
[0,{"$error":"#VALUE!"},{"$error":"#VALUE!"},{"$f":"SUBSTITUTE(IN!G1853,\"-\",\"\")","v":""},"",{"$f":"IN!F1853*60","v":0},0,"-",{"$f":"SUBSTITUTE(IN!F1853,\",\",\".\")","v":""}]
[0,{"$error":"#VALUE!"},{"$error":"#VALUE!"},{"$f":"SUBSTITUTE(IN!G1854,\"-\",\"\")","v":""},"",{"$f":"IN!F1854*60","v":0},0,"-",{"$f":"SUBSTITUTE(IN!F1854,\",\",\".\")","v":""}]
[0,{"$error":"#VALUE!"},{"$error":"#VALUE!"},{"$f":"SUBSTITUTE(IN!G1855,\"-\",\"\")","v":""},"",{"$f":"IN!F1855*60","v":0},0,"-",{"$f":"SUBSTITUTE(IN!F1855,\",\",\".\")","v":""}]
[0,{"$error":"#VALUE!"},{"$error":"#VALUE!"},{"$f":"SUBSTITUTE(IN!G1856,\"-\",\"\")","v":""},"",{"$f":"IN!F1856*60","v":0},0,"-",{"$f":"SUBSTITUTE(IN!F1856,\",\",\".\")","v":""}]
[0,{"$error":"#VALUE!"},{"$error":"#VALUE!"},{"$f":"SUBSTITUTE(IN!G1857,\"-\",\"\")","v":""},"",{"$f":"IN!F1857*60","v":0},0,"-",{"$f":"SUBSTITUTE(IN!F1857,\",\",\".\")","v":""}]
[0,{"$error":"#VALUE!"},{"$error":"#VALUE!"},{"$f":"SUBSTITUTE(IN!G1858,\"-\",\"\")","v":""},"",{"$f":"IN!F1858*60","v":0},0,"-",{"$f":"SUBSTITUTE(IN!F1858,\",\",\".\")","v":""}]
[0,{"$error":"#VALUE!"},{"$error":"#VALUE!"},{"$f":"SUBSTITUTE(IN!G1859,\"-\",\"\")","v":""},"",{"$f":"IN!F1859*60","v":0},0,"-",{"$f":"SUBSTITUTE(IN!F1859,\",\",\".\")","v":""}]
[0,{"$error":"#VALUE!"},{"$error":"#VALUE!"},{"$f":"SUBSTITUTE(IN!G1860,\"-\",\"\")","v":""},"",{"$f":"IN!F1860*60","v":0},0,"-",{"$f":"SUBSTITUTE(IN!F1860,\",\",\".\")","v":""}]
[{"$f":"LEN(D1861)","v":0},{"$f":"VALUE(LEFT(D1861,1))","v":{"$error":"#VALUE!"}},{"$f":"IF(B1861<2,20,19)","v":{"$error":"#VALUE!"}},{"$f":"SUBSTITUTE(IN!G1861,\"-\",\"\")","v":""},{"$f":"IF(A1861=10,CONCATENATE(C1861,D1861),D1861)","v":""},{"$f":"IN!F1861*60","v":0},{"$f":"ROUND(F1861,0)","v":0},{"$f":"CONCATENATE(MID(E1861,1,8),\"-\",MID(E1861,9,4))","v":"-"},{"$f":"SUBSTITUTE(IN!F1861,\",\",\".\")","v":""}]
[0,{"$error":"#VALUE!"},{"$error":"#VALUE!"},{"$f":"SUBSTITUTE(IN!G1862,\"-\",\"\")","v":""},"",{"$f":"IN!F1862*60","v":0},0,"-",{"$f":"SUBSTITUTE(IN!F1862,\",\",\".\")","v":""}]
[0,{"$error":"#VALUE!"},{"$error":"#VALUE!"},{"$f":"SUBSTITUTE(IN!G1863,\"-\",\"\")","v":""},"",{"$f":"IN!F1863*60","v":0},0,"-",{"$f":"SUBSTITUTE(IN!F1863,\",\",\".\")","v":""}]
[0,{"$error":"#VALUE!"},{"$error":"#VALUE!"},{"$f":"SUBSTITUTE(IN!G1864,\"-\",\"\")","v":""},"",{"$f":"IN!F1864*60","v":0},0,"-",{"$f":"SUBSTITUTE(IN!F1864,\",\",\".\")","v":""}]
[0,{"$error":"#VALUE!"},{"$error":"#VALUE!"},{"$f":"SUBSTITUTE(IN!G1865,\"-\",\"\")","v":""},"",{"$f":"IN!F1865*60","v":0},0,"-",{"$f":"SUBSTITUTE(IN!F1865,\",\",\".\")","v":""}]
[0,{"$error":"#VALUE!"},{"$error":"#VALUE!"},{"$f":"SUBSTITUTE(IN!G1866,\"-\",\"\")","v":""},"",{"$f":"IN!F1866*60","v":0},0,"-",{"$f":"SUBSTITUTE(IN!F1866,\",\",\".\")","v":""}]
[0,{"$error":"#VALUE!"},{"$error":"#VALUE!"},{"$f":"SUBSTITUTE(IN!G1867,\"-\",\"\")","v":""},"",{"$f":"IN!F1867*60","v":0},0,"-",{"$f":"SUBSTITUTE(IN!F1867,\",\",\".\")","v":""}]
[0,{"$error":"#VALUE!"},{"$error":"#VALUE!"},{"$f":"SUBSTITUTE(IN!G1868,\"-\",\"\")","v":""},"",{"$f":"IN!F1868*60","v":0},0,"-",{"$f":"SUBSTITUTE(IN!F1868,\",\",\".\")","v":""}]
[0,{"$error":"#VALUE!"},{"$error":"#VALUE!"},{"$f":"SUBSTITUTE(IN!G1869,\"-\",\"\")","v":""},"",{"$f":"IN!F1869*60","v":0},0,"-",{"$f":"SUBSTITUTE(IN!F1869,\",\",\".\")","v":""}]
[0,{"$error":"#VALUE!"},{"$error":"#VALUE!"},{"$f":"SUBSTITUTE(IN!G1870,\"-\",\"\")","v":""},"",{"$f":"IN!F1870*60","v":0},0,"-",{"$f":"SUBSTITUTE(IN!F1870,\",\",\".\")","v":""}]
[0,{"$error":"#VALUE!"},{"$error":"#VALUE!"},{"$f":"SUBSTITUTE(IN!G1871,\"-\",\"\")","v":""},"",{"$f":"IN!F1871*60","v":0},0,"-",{"$f":"SUBSTITUTE(IN!F1871,\",\",\".\")","v":""}]
[0,{"$error":"#VALUE!"},{"$error":"#VALUE!"},{"$f":"SUBSTITUTE(IN!G1872,\"-\",\"\")","v":""},"",{"$f":"IN!F1872*60","v":0},0,"-",{"$f":"SUBSTITUTE(IN!F1872,\",\",\".\")","v":""}]
[0,{"$error":"#VALUE!"},{"$error":"#VALUE!"},{"$f":"SUBSTITUTE(IN!G1873,\"-\",\"\")","v":""},"",{"$f":"IN!F1873*60","v":0},0,"-",{"$f":"SUBSTITUTE(IN!F1873,\",\",\".\")","v":""}]
[0,{"$error":"#VALUE!"},{"$error":"#VALUE!"},{"$f":"SUBSTITUTE(IN!G1874,\"-\",\"\")","v":""},"",{"$f":"IN!F1874*60","v":0},0,"-",{"$f":"SUBSTITUTE(IN!F1874,\",\",\".\")","v":""}]
[0,{"$error":"#VALUE!"},{"$error":"#VALUE!"},{"$f":"SUBSTITUTE(IN!G1875,\"-\",\"\")","v":""},"",{"$f":"IN!F1875*60","v":0},0,"-",{"$f":"SUBSTITUTE(IN!F1875,\",\",\".\")","v":""}]
[0,{"$error":"#VALUE!"},{"$error":"#VALUE!"},{"$f":"SUBSTITUTE(IN!G1876,\"-\",\"\")","v":""},"",{"$f":"IN!F1876*60","v":0},0,"-",{"$f":"SUBSTITUTE(IN!F1876,\",\",\".\")","v":""}]
[0,{"$error":"#VALUE!"},{"$error":"#VALUE!"},{"$f":"SUBSTITUTE(IN!G1877,\"-\",\"\")","v":""},"",{"$f":"IN!F1877*60","v":0},0,"-",{"$f":"SUBSTITUTE(IN!F1877,\",\",\".\")","v":""}]
[0,{"$error":"#VALUE!"},{"$error":"#VALUE!"},{"$f":"SUBSTITUTE(IN!G1878,\"-\",\"\")","v":""},"",{"$f":"IN!F1878*60","v":0},0,"-",{"$f":"SUBSTITUTE(IN!F1878,\",\",\".\")","v":""}]
[0,{"$error":"#VALUE!"},{"$error":"#VALUE!"},{"$f":"SUBSTITUTE(IN!G1879,\"-\",\"\")","v":""},"",{"$f":"IN!F1879*60","v":0},0,"-",{"$f":"SUBSTITUTE(IN!F1879,\",\",\".\")","v":""}]
[0,{"$error":"#VALUE!"},{"$error":"#VALUE!"},{"$f":"SUBSTITUTE(IN!G1880,\"-\",\"\")","v":""},"",{"$f":"IN!F1880*60","v":0},0,"-",{"$f":"SUBSTITUTE(IN!F1880,\",\",\".\")","v":""}]
[0,{"$error":"#VALUE!"},{"$error":"#VALUE!"},{"$f":"SUBSTITUTE(IN!G1881,\"-\",\"\")","v":""},"",{"$f":"IN!F1881*60","v":0},0,"-",{"$f":"SUBSTITUTE(IN!F1881,\",\",\".\")","v":""}]
[0,{"$error":"#VALUE!"},{"$error":"#VALUE!"},{"$f":"SUBSTITUTE(IN!G1882,\"-\",\"\")","v":""},"",{"$f":"IN!F1882*60","v":0},0,"-",{"$f":"SUBSTITUTE(IN!F1882,\",\",\".\")","v":""}]
[0,{"$error":"#VALUE!"},{"$error":"#VALUE!"},{"$f":"SUBSTITUTE(IN!G1883,\"-\",\"\")","v":""},"",{"$f":"IN!F1883*60","v":0},0,"-",{"$f":"SUBSTITUTE(IN!F1883,\",\",\".\")","v":""}]
[0,{"$error":"#VALUE!"},{"$error":"#VALUE!"},{"$f":"SUBSTITUTE(IN!G1884,\"-\",\"\")","v":""},"",{"$f":"IN!F1884*60","v":0},0,"-",{"$f":"SUBSTITUTE(IN!F1884,\",\",\".\")","v":""}]
[0,{"$error":"#VALUE!"},{"$error":"#VALUE!"},{"$f":"SUBSTITUTE(IN!G1885,\"-\",\"\")","v":""},"",{"$f":"IN!F1885*60","v":0},0,"-",{"$f":"SUBSTITUTE(IN!F1885,\",\",\".\")","v":""}]
[0,{"$error":"#VALUE!"},{"$error":"#VALUE!"},{"$f":"SUBSTITUTE(IN!G1886,\"-\",\"\")","v":""},"",{"$f":"IN!F1886*60","v":0},0,"-",{"$f":"SUBSTITUTE(IN!F1886,\",\",\".\")","v":""}]
[0,{"$error":"#VALUE!"},{"$error":"#VALUE!"},{"$f":"SUBSTITUTE(IN!G1887,\"-\",\"\")","v":""},"",{"$f":"IN!F1887*60","v":0},0,"-",{"$f":"SUBSTITUTE(IN!F1887,\",\",\".\")","v":""}]
[0,{"$error":"#VALUE!"},{"$error":"#VALUE!"},{"$f":"SUBSTITUTE(IN!G1888,\"-\",\"\")","v":""},"",{"$f":"IN!F1888*60","v":0},0,"-",{"$f":"SUBSTITUTE(IN!F1888,\",\",\".\")","v":""}]
[0,{"$error":"#VALUE!"},{"$error":"#VALUE!"},{"$f":"SUBSTITUTE(IN!G1889,\"-\",\"\")","v":""},"",{"$f":"IN!F1889*60","v":0},0,"-",{"$f":"SUBSTITUTE(IN!F1889,\",\",\".\")","v":""}]
[0,{"$error":"#VALUE!"},{"$error":"#VALUE!"},{"$f":"SUBSTITUTE(IN!G1890,\"-\",\"\")","v":""},"",{"$f":"IN!F1890*60","v":0},0,"-",{"$f":"SUBSTITUTE(IN!F1890,\",\",\".\")","v":""}]
[0,{"$error":"#VALUE!"},{"$error":"#VALUE!"},{"$f":"SUBSTITUTE(IN!G1891,\"-\",\"\")","v":""},"",{"$f":"IN!F1891*60","v":0},0,"-",{"$f":"SUBSTITUTE(IN!F1891,\",\",\".\")","v":""}]
[0,{"$error":"#VALUE!"},{"$error":"#VALUE!"},{"$f":"SUBSTITUTE(IN!G1892,\"-\",\"\")","v":""},"",{"$f":"IN!F1892*60","v":0},0,"-",{"$f":"SUBSTITUTE(IN!F1892,\",\",\".\")","v":""}]
[0,{"$error":"#VALUE!"},{"$error":"#VALUE!"},{"$f":"SUBSTITUTE(IN!G1893,\"-\",\"\")","v":""},"",{"$f":"IN!F1893*60","v":0},0,"-",{"$f":"SUBSTITUTE(IN!F1893,\",\",\".\")","v":""}]
[0,{"$error":"#VALUE!"},{"$error":"#VALUE!"},{"$f":"SUBSTITUTE(IN!G1894,\"-\",\"\")","v":""},"",{"$f":"IN!F1894*60","v":0},0,"-",{"$f":"SUBSTITUTE(IN!F1894,\",\",\".\")","v":""}]
[0,{"$error":"#VALUE!"},{"$error":"#VALUE!"},{"$f":"SUBSTITUTE(IN!G1895,\"-\",\"\")","v":""},"",{"$f":"IN!F1895*60","v":0},0,"-",{"$f":"SUBSTITUTE(IN!F1895,\",\",\".\")","v":""}]
[0,{"$error":"#VALUE!"},{"$error":"#VALUE!"},{"$f":"SUBSTITUTE(IN!G1896,\"-\",\"\")","v":""},"",{"$f":"IN!F1896*60","v":0},0,"-",{"$f":"SUBSTITUTE(IN!F1896,\",\",\".\")","v":""}]
[0,{"$error":"#VALUE!"},{"$error":"#VALUE!"},{"$f":"SUBSTITUTE(IN!G1897,\"-\",\"\")","v":""},"",{"$f":"IN!F1897*60","v":0},0,"-",{"$f":"SUBSTITUTE(IN!F1897,\",\",\".\")","v":""}]
[0,{"$error":"#VALUE!"},{"$error":"#VALUE!"},{"$f":"SUBSTITUTE(IN!G1898,\"-\",\"\")","v":""},"",{"$f":"IN!F1898*60","v":0},0,"-",{"$f":"SUBSTITUTE(IN!F1898,\",\",\".\")","v":""}]
[0,{"$error":"#VALUE!"},{"$error":"#VALUE!"},{"$f":"SUBSTITUTE(IN!G1899,\"-\",\"\")","v":""},"",{"$f":"IN!F1899*60","v":0},0,"-",{"$f":"SUBSTITUTE(IN!F1899,\",\",\".\")","v":""}]
[0,{"$error":"#VALUE!"},{"$error":"#VALUE!"},{"$f":"SUBSTITUTE(IN!G1900,\"-\",\"\")","v":""},"",{"$f":"IN!F1900*60","v":0},0,"-",{"$f":"SUBSTITUTE(IN!F1900,\",\",\".\")","v":""}]
[0,{"$error":"#VALUE!"},{"$error":"#VALUE!"},{"$f":"SUBSTITUTE(IN!G1901,\"-\",\"\")","v":""},"",{"$f":"IN!F1901*60","v":0},0,"-",{"$f":"SUBSTITUTE(IN!F1901,\",\",\".\")","v":""}]
[0,{"$error":"#VALUE!"},{"$error":"#VALUE!"},{"$f":"SUBSTITUTE(IN!G1902,\"-\",\"\")","v":""},"",{"$f":"IN!F1902*60","v":0},0,"-",{"$f":"SUBSTITUTE(IN!F1902,\",\",\".\")","v":""}]
[0,{"$error":"#VALUE!"},{"$error":"#VALUE!"},{"$f":"SUBSTITUTE(IN!G1903,\"-\",\"\")","v":""},"",{"$f":"IN!F1903*60","v":0},0,"-",{"$f":"SUBSTITUTE(IN!F1903,\",\",\".\")","v":""}]
[0,{"$error":"#VALUE!"},{"$error":"#VALUE!"},{"$f":"SUBSTITUTE(IN!G1904,\"-\",\"\")","v":""},"",{"$f":"IN!F1904*60","v":0},0,"-",{"$f":"SUBSTITUTE(IN!F1904,\",\",\".\")","v":""}]
[0,{"$error":"#VALUE!"},{"$error":"#VALUE!"},{"$f":"SUBSTITUTE(IN!G1905,\"-\",\"\")","v":""},"",{"$f":"IN!F1905*60","v":0},0,"-",{"$f":"SUBSTITUTE(IN!F1905,\",\",\".\")","v":""}]
[0,{"$error":"#VALUE!"},{"$error":"#VALUE!"},{"$f":"SUBSTITUTE(IN!G1906,\"-\",\"\")","v":""},"",{"$f":"IN!F1906*60","v":0},0,"-",{"$f":"SUBSTITUTE(IN!F1906,\",\",\".\")","v":""}]
[0,{"$error":"#VALUE!"},{"$error":"#VALUE!"},{"$f":"SUBSTITUTE(IN!G1907,\"-\",\"\")","v":""},"",{"$f":"IN!F1907*60","v":0},0,"-",{"$f":"SUBSTITUTE(IN!F1907,\",\",\".\")","v":""}]
[0,{"$error":"#VALUE!"},{"$error":"#VALUE!"},{"$f":"SUBSTITUTE(IN!G1908,\"-\",\"\")","v":""},"",{"$f":"IN!F1908*60","v":0},0,"-",{"$f":"SUBSTITUTE(IN!F1908,\",\",\".\")","v":""}]
[0,{"$error":"#VALUE!"},{"$error":"#VALUE!"},{"$f":"SUBSTITUTE(IN!G1909,\"-\",\"\")","v":""},"",{"$f":"IN!F1909*60","v":0},0,"-",{"$f":"SUBSTITUTE(IN!F1909,\",\",\".\")","v":""}]
[0,{"$error":"#VALUE!"},{"$error":"#VALUE!"},{"$f":"SUBSTITUTE(IN!G1910,\"-\",\"\")","v":""},"",{"$f":"IN!F1910*60","v":0},0,"-",{"$f":"SUBSTITUTE(IN!F1910,\",\",\".\")","v":""}]
[0,{"$error":"#VALUE!"},{"$error":"#VALUE!"},{"$f":"SUBSTITUTE(IN!G1911,\"-\",\"\")","v":""},"",{"$f":"IN!F1911*60","v":0},0,"-",{"$f":"SUBSTITUTE(IN!F1911,\",\",\".\")","v":""}]
[0,{"$error":"#VALUE!"},{"$error":"#VALUE!"},{"$f":"SUBSTITUTE(IN!G1912,\"-\",\"\")","v":""},"",{"$f":"IN!F1912*60","v":0},0,"-",{"$f":"SUBSTITUTE(IN!F1912,\",\",\".\")","v":""}]
[0,{"$error":"#VALUE!"},{"$error":"#VALUE!"},{"$f":"SUBSTITUTE(IN!G1913,\"-\",\"\")","v":""},"",{"$f":"IN!F1913*60","v":0},0,"-",{"$f":"SUBSTITUTE(IN!F1913,\",\",\".\")","v":""}]
[0,{"$error":"#VALUE!"},{"$error":"#VALUE!"},{"$f":"SUBSTITUTE(IN!G1914,\"-\",\"\")","v":""},"",{"$f":"IN!F1914*60","v":0},0,"-",{"$f":"SUBSTITUTE(IN!F1914,\",\",\".\")","v":""}]
[0,{"$error":"#VALUE!"},{"$error":"#VALUE!"},{"$f":"SUBSTITUTE(IN!G1915,\"-\",\"\")","v":""},"",{"$f":"IN!F1915*60","v":0},0,"-",{"$f":"SUBSTITUTE(IN!F1915,\",\",\".\")","v":""}]
[0,{"$error":"#VALUE!"},{"$error":"#VALUE!"},{"$f":"SUBSTITUTE(IN!G1916,\"-\",\"\")","v":""},"",{"$f":"IN!F1916*60","v":0},0,"-",{"$f":"SUBSTITUTE(IN!F1916,\",\",\".\")","v":""}]
[0,{"$error":"#VALUE!"},{"$error":"#VALUE!"},{"$f":"SUBSTITUTE(IN!G1917,\"-\",\"\")","v":""},"",{"$f":"IN!F1917*60","v":0},0,"-",{"$f":"SUBSTITUTE(IN!F1917,\",\",\".\")","v":""}]
[0,{"$error":"#VALUE!"},{"$error":"#VALUE!"},{"$f":"SUBSTITUTE(IN!G1918,\"-\",\"\")","v":""},"",{"$f":"IN!F1918*60","v":0},0,"-",{"$f":"SUBSTITUTE(IN!F1918,\",\",\".\")","v":""}]
[0,{"$error":"#VALUE!"},{"$error":"#VALUE!"},{"$f":"SUBSTITUTE(IN!G1919,\"-\",\"\")","v":""},"",{"$f":"IN!F1919*60","v":0},0,"-",{"$f":"SUBSTITUTE(IN!F1919,\",\",\".\")","v":""}]
[0,{"$error":"#VALUE!"},{"$error":"#VALUE!"},{"$f":"SUBSTITUTE(IN!G1920,\"-\",\"\")","v":""},"",{"$f":"IN!F1920*60","v":0},0,"-",{"$f":"SUBSTITUTE(IN!F1920,\",\",\".\")","v":""}]
[0,{"$error":"#VALUE!"},{"$error":"#VALUE!"},{"$f":"SUBSTITUTE(IN!G1921,\"-\",\"\")","v":""},"",{"$f":"IN!F1921*60","v":0},0,"-",{"$f":"SUBSTITUTE(IN!F1921,\",\",\".\")","v":""}]
[0,{"$error":"#VALUE!"},{"$error":"#VALUE!"},{"$f":"SUBSTITUTE(IN!G1922,\"-\",\"\")","v":""},"",{"$f":"IN!F1922*60","v":0},0,"-",{"$f":"SUBSTITUTE(IN!F1922,\",\",\".\")","v":""}]
[0,{"$error":"#VALUE!"},{"$error":"#VALUE!"},{"$f":"SUBSTITUTE(IN!G1923,\"-\",\"\")","v":""},"",{"$f":"IN!F1923*60","v":0},0,"-",{"$f":"SUBSTITUTE(IN!F1923,\",\",\".\")","v":""}]
[0,{"$error":"#VALUE!"},{"$error":"#VALUE!"},{"$f":"SUBSTITUTE(IN!G1924,\"-\",\"\")","v":""},"",{"$f":"IN!F1924*60","v":0},0,"-",{"$f":"SUBSTITUTE(IN!F1924,\",\",\".\")","v":""}]
[{"$f":"LEN(D1925)","v":0},{"$f":"VALUE(LEFT(D1925,1))","v":{"$error":"#VALUE!"}},{"$f":"IF(B1925<2,20,19)","v":{"$error":"#VALUE!"}},{"$f":"SUBSTITUTE(IN!G1925,\"-\",\"\")","v":""},{"$f":"IF(A1925=10,CONCATENATE(C1925,D1925),D1925)","v":""},{"$f":"IN!F1925*60","v":0},{"$f":"ROUND(F1925,0)","v":0},{"$f":"CONCATENATE(MID(E1925,1,8),\"-\",MID(E1925,9,4))","v":"-"},{"$f":"SUBSTITUTE(IN!F1925,\",\",\".\")","v":""}]
[0,{"$error":"#VALUE!"},{"$error":"#VALUE!"},{"$f":"SUBSTITUTE(IN!G1926,\"-\",\"\")","v":""},"",{"$f":"IN!F1926*60","v":0},0,"-",{"$f":"SUBSTITUTE(IN!F1926,\",\",\".\")","v":""}]
[0,{"$error":"#VALUE!"},{"$error":"#VALUE!"},{"$f":"SUBSTITUTE(IN!G1927,\"-\",\"\")","v":""},"",{"$f":"IN!F1927*60","v":0},0,"-",{"$f":"SUBSTITUTE(IN!F1927,\",\",\".\")","v":""}]
[0,{"$error":"#VALUE!"},{"$error":"#VALUE!"},{"$f":"SUBSTITUTE(IN!G1928,\"-\",\"\")","v":""},"",{"$f":"IN!F1928*60","v":0},0,"-",{"$f":"SUBSTITUTE(IN!F1928,\",\",\".\")","v":""}]
[0,{"$error":"#VALUE!"},{"$error":"#VALUE!"},{"$f":"SUBSTITUTE(IN!G1929,\"-\",\"\")","v":""},"",{"$f":"IN!F1929*60","v":0},0,"-",{"$f":"SUBSTITUTE(IN!F1929,\",\",\".\")","v":""}]
[0,{"$error":"#VALUE!"},{"$error":"#VALUE!"},{"$f":"SUBSTITUTE(IN!G1930,\"-\",\"\")","v":""},"",{"$f":"IN!F1930*60","v":0},0,"-",{"$f":"SUBSTITUTE(IN!F1930,\",\",\".\")","v":""}]
[0,{"$error":"#VALUE!"},{"$error":"#VALUE!"},{"$f":"SUBSTITUTE(IN!G1931,\"-\",\"\")","v":""},"",{"$f":"IN!F1931*60","v":0},0,"-",{"$f":"SUBSTITUTE(IN!F1931,\",\",\".\")","v":""}]
[0,{"$error":"#VALUE!"},{"$error":"#VALUE!"},{"$f":"SUBSTITUTE(IN!G1932,\"-\",\"\")","v":""},"",{"$f":"IN!F1932*60","v":0},0,"-",{"$f":"SUBSTITUTE(IN!F1932,\",\",\".\")","v":""}]
[0,{"$error":"#VALUE!"},{"$error":"#VALUE!"},{"$f":"SUBSTITUTE(IN!G1933,\"-\",\"\")","v":""},"",{"$f":"IN!F1933*60","v":0},0,"-",{"$f":"SUBSTITUTE(IN!F1933,\",\",\".\")","v":""}]
[0,{"$error":"#VALUE!"},{"$error":"#VALUE!"},{"$f":"SUBSTITUTE(IN!G1934,\"-\",\"\")","v":""},"",{"$f":"IN!F1934*60","v":0},0,"-",{"$f":"SUBSTITUTE(IN!F1934,\",\",\".\")","v":""}]
[0,{"$error":"#VALUE!"},{"$error":"#VALUE!"},{"$f":"SUBSTITUTE(IN!G1935,\"-\",\"\")","v":""},"",{"$f":"IN!F1935*60","v":0},0,"-",{"$f":"SUBSTITUTE(IN!F1935,\",\",\".\")","v":""}]
[0,{"$error":"#VALUE!"},{"$error":"#VALUE!"},{"$f":"SUBSTITUTE(IN!G1936,\"-\",\"\")","v":""},"",{"$f":"IN!F1936*60","v":0},0,"-",{"$f":"SUBSTITUTE(IN!F1936,\",\",\".\")","v":""}]
[0,{"$error":"#VALUE!"},{"$error":"#VALUE!"},{"$f":"SUBSTITUTE(IN!G1937,\"-\",\"\")","v":""},"",{"$f":"IN!F1937*60","v":0},0,"-",{"$f":"SUBSTITUTE(IN!F1937,\",\",\".\")","v":""}]
[0,{"$error":"#VALUE!"},{"$error":"#VALUE!"},{"$f":"SUBSTITUTE(IN!G1938,\"-\",\"\")","v":""},"",{"$f":"IN!F1938*60","v":0},0,"-",{"$f":"SUBSTITUTE(IN!F1938,\",\",\".\")","v":""}]
[0,{"$error":"#VALUE!"},{"$error":"#VALUE!"},{"$f":"SUBSTITUTE(IN!G1939,\"-\",\"\")","v":""},"",{"$f":"IN!F1939*60","v":0},0,"-",{"$f":"SUBSTITUTE(IN!F1939,\",\",\".\")","v":""}]
[0,{"$error":"#VALUE!"},{"$error":"#VALUE!"},{"$f":"SUBSTITUTE(IN!G1940,\"-\",\"\")","v":""},"",{"$f":"IN!F1940*60","v":0},0,"-",{"$f":"SUBSTITUTE(IN!F1940,\",\",\".\")","v":""}]
[0,{"$error":"#VALUE!"},{"$error":"#VALUE!"},{"$f":"SUBSTITUTE(IN!G1941,\"-\",\"\")","v":""},"",{"$f":"IN!F1941*60","v":0},0,"-",{"$f":"SUBSTITUTE(IN!F1941,\",\",\".\")","v":""}]
[0,{"$error":"#VALUE!"},{"$error":"#VALUE!"},{"$f":"SUBSTITUTE(IN!G1942,\"-\",\"\")","v":""},"",{"$f":"IN!F1942*60","v":0},0,"-",{"$f":"SUBSTITUTE(IN!F1942,\",\",\".\")","v":""}]
[0,{"$error":"#VALUE!"},{"$error":"#VALUE!"},{"$f":"SUBSTITUTE(IN!G1943,\"-\",\"\")","v":""},"",{"$f":"IN!F1943*60","v":0},0,"-",{"$f":"SUBSTITUTE(IN!F1943,\",\",\".\")","v":""}]
[0,{"$error":"#VALUE!"},{"$error":"#VALUE!"},{"$f":"SUBSTITUTE(IN!G1944,\"-\",\"\")","v":""},"",{"$f":"IN!F1944*60","v":0},0,"-",{"$f":"SUBSTITUTE(IN!F1944,\",\",\".\")","v":""}]
[0,{"$error":"#VALUE!"},{"$error":"#VALUE!"},{"$f":"SUBSTITUTE(IN!G1945,\"-\",\"\")","v":""},"",{"$f":"IN!F1945*60","v":0},0,"-",{"$f":"SUBSTITUTE(IN!F1945,\",\",\".\")","v":""}]
[0,{"$error":"#VALUE!"},{"$error":"#VALUE!"},{"$f":"SUBSTITUTE(IN!G1946,\"-\",\"\")","v":""},"",{"$f":"IN!F1946*60","v":0},0,"-",{"$f":"SUBSTITUTE(IN!F1946,\",\",\".\")","v":""}]
[0,{"$error":"#VALUE!"},{"$error":"#VALUE!"},{"$f":"SUBSTITUTE(IN!G1947,\"-\",\"\")","v":""},"",{"$f":"IN!F1947*60","v":0},0,"-",{"$f":"SUBSTITUTE(IN!F1947,\",\",\".\")","v":""}]
[0,{"$error":"#VALUE!"},{"$error":"#VALUE!"},{"$f":"SUBSTITUTE(IN!G1948,\"-\",\"\")","v":""},"",{"$f":"IN!F1948*60","v":0},0,"-",{"$f":"SUBSTITUTE(IN!F1948,\",\",\".\")","v":""}]
[0,{"$error":"#VALUE!"},{"$error":"#VALUE!"},{"$f":"SUBSTITUTE(IN!G1949,\"-\",\"\")","v":""},"",{"$f":"IN!F1949*60","v":0},0,"-",{"$f":"SUBSTITUTE(IN!F1949,\",\",\".\")","v":""}]
[0,{"$error":"#VALUE!"},{"$error":"#VALUE!"},{"$f":"SUBSTITUTE(IN!G1950,\"-\",\"\")","v":""},"",{"$f":"IN!F1950*60","v":0},0,"-",{"$f":"SUBSTITUTE(IN!F1950,\",\",\".\")","v":""}]
[0,{"$error":"#VALUE!"},{"$error":"#VALUE!"},{"$f":"SUBSTITUTE(IN!G1951,\"-\",\"\")","v":""},"",{"$f":"IN!F1951*60","v":0},0,"-",{"$f":"SUBSTITUTE(IN!F1951,\",\",\".\")","v":""}]
[0,{"$error":"#VALUE!"},{"$error":"#VALUE!"},{"$f":"SUBSTITUTE(IN!G1952,\"-\",\"\")","v":""},"",{"$f":"IN!F1952*60","v":0},0,"-",{"$f":"SUBSTITUTE(IN!F1952,\",\",\".\")","v":""}]
[0,{"$error":"#VALUE!"},{"$error":"#VALUE!"},{"$f":"SUBSTITUTE(IN!G1953,\"-\",\"\")","v":""},"",{"$f":"IN!F1953*60","v":0},0,"-",{"$f":"SUBSTITUTE(IN!F1953,\",\",\".\")","v":""}]
[0,{"$error":"#VALUE!"},{"$error":"#VALUE!"},{"$f":"SUBSTITUTE(IN!G1954,\"-\",\"\")","v":""},"",{"$f":"IN!F1954*60","v":0},0,"-",{"$f":"SUBSTITUTE(IN!F1954,\",\",\".\")","v":""}]
[0,{"$error":"#VALUE!"},{"$error":"#VALUE!"},{"$f":"SUBSTITUTE(IN!G1955,\"-\",\"\")","v":""},"",{"$f":"IN!F1955*60","v":0},0,"-",{"$f":"SUBSTITUTE(IN!F1955,\",\",\".\")","v":""}]
[0,{"$error":"#VALUE!"},{"$error":"#VALUE!"},{"$f":"SUBSTITUTE(IN!G1956,\"-\",\"\")","v":""},"",{"$f":"IN!F1956*60","v":0},0,"-",{"$f":"SUBSTITUTE(IN!F1956,\",\",\".\")","v":""}]
[0,{"$error":"#VALUE!"},{"$error":"#VALUE!"},{"$f":"SUBSTITUTE(IN!G1957,\"-\",\"\")","v":""},"",{"$f":"IN!F1957*60","v":0},0,"-",{"$f":"SUBSTITUTE(IN!F1957,\",\",\".\")","v":""}]
[0,{"$error":"#VALUE!"},{"$error":"#VALUE!"},{"$f":"SUBSTITUTE(IN!G1958,\"-\",\"\")","v":""},"",{"$f":"IN!F1958*60","v":0},0,"-",{"$f":"SUBSTITUTE(IN!F1958,\",\",\".\")","v":""}]
[0,{"$error":"#VALUE!"},{"$error":"#VALUE!"},{"$f":"SUBSTITUTE(IN!G1959,\"-\",\"\")","v":""},"",{"$f":"IN!F1959*60","v":0},0,"-",{"$f":"SUBSTITUTE(IN!F1959,\",\",\".\")","v":""}]
[0,{"$error":"#VALUE!"},{"$error":"#VALUE!"},{"$f":"SUBSTITUTE(IN!G1960,\"-\",\"\")","v":""},"",{"$f":"IN!F1960*60","v":0},0,"-",{"$f":"SUBSTITUTE(IN!F1960,\",\",\".\")","v":""}]
[0,{"$error":"#VALUE!"},{"$error":"#VALUE!"},{"$f":"SUBSTITUTE(IN!G1961,\"-\",\"\")","v":""},"",{"$f":"IN!F1961*60","v":0},0,"-",{"$f":"SUBSTITUTE(IN!F1961,\",\",\".\")","v":""}]
[0,{"$error":"#VALUE!"},{"$error":"#VALUE!"},{"$f":"SUBSTITUTE(IN!G1962,\"-\",\"\")","v":""},"",{"$f":"IN!F1962*60","v":0},0,"-",{"$f":"SUBSTITUTE(IN!F1962,\",\",\".\")","v":""}]
[0,{"$error":"#VALUE!"},{"$error":"#VALUE!"},{"$f":"SUBSTITUTE(IN!G1963,\"-\",\"\")","v":""},"",{"$f":"IN!F1963*60","v":0},0,"-",{"$f":"SUBSTITUTE(IN!F1963,\",\",\".\")","v":""}]
[0,{"$error":"#VALUE!"},{"$error":"#VALUE!"},{"$f":"SUBSTITUTE(IN!G1964,\"-\",\"\")","v":""},"",{"$f":"IN!F1964*60","v":0},0,"-",{"$f":"SUBSTITUTE(IN!F1964,\",\",\".\")","v":""}]
[0,{"$error":"#VALUE!"},{"$error":"#VALUE!"},{"$f":"SUBSTITUTE(IN!G1965,\"-\",\"\")","v":""},"",{"$f":"IN!F1965*60","v":0},0,"-",{"$f":"SUBSTITUTE(IN!F1965,\",\",\".\")","v":""}]
[0,{"$error":"#VALUE!"},{"$error":"#VALUE!"},{"$f":"SUBSTITUTE(IN!G1966,\"-\",\"\")","v":""},"",{"$f":"IN!F1966*60","v":0},0,"-",{"$f":"SUBSTITUTE(IN!F1966,\",\",\".\")","v":""}]
[0,{"$error":"#VALUE!"},{"$error":"#VALUE!"},{"$f":"SUBSTITUTE(IN!G1967,\"-\",\"\")","v":""},"",{"$f":"IN!F1967*60","v":0},0,"-",{"$f":"SUBSTITUTE(IN!F1967,\",\",\".\")","v":""}]
[0,{"$error":"#VALUE!"},{"$error":"#VALUE!"},{"$f":"SUBSTITUTE(IN!G1968,\"-\",\"\")","v":""},"",{"$f":"IN!F1968*60","v":0},0,"-",{"$f":"SUBSTITUTE(IN!F1968,\",\",\".\")","v":""}]
[0,{"$error":"#VALUE!"},{"$error":"#VALUE!"},{"$f":"SUBSTITUTE(IN!G1969,\"-\",\"\")","v":""},"",{"$f":"IN!F1969*60","v":0},0,"-",{"$f":"SUBSTITUTE(IN!F1969,\",\",\".\")","v":""}]
[0,{"$error":"#VALUE!"},{"$error":"#VALUE!"},{"$f":"SUBSTITUTE(IN!G1970,\"-\",\"\")","v":""},"",{"$f":"IN!F1970*60","v":0},0,"-",{"$f":"SUBSTITUTE(IN!F1970,\",\",\".\")","v":""}]
[0,{"$error":"#VALUE!"},{"$error":"#VALUE!"},{"$f":"SUBSTITUTE(IN!G1971,\"-\",\"\")","v":""},"",{"$f":"IN!F1971*60","v":0},0,"-",{"$f":"SUBSTITUTE(IN!F1971,\",\",\".\")","v":""}]
[0,{"$error":"#VALUE!"},{"$error":"#VALUE!"},{"$f":"SUBSTITUTE(IN!G1972,\"-\",\"\")","v":""},"",{"$f":"IN!F1972*60","v":0},0,"-",{"$f":"SUBSTITUTE(IN!F1972,\",\",\".\")","v":""}]
[0,{"$error":"#VALUE!"},{"$error":"#VALUE!"},{"$f":"SUBSTITUTE(IN!G1973,\"-\",\"\")","v":""},"",{"$f":"IN!F1973*60","v":0},0,"-",{"$f":"SUBSTITUTE(IN!F1973,\",\",\".\")","v":""}]
[0,{"$error":"#VALUE!"},{"$error":"#VALUE!"},{"$f":"SUBSTITUTE(IN!G1974,\"-\",\"\")","v":""},"",{"$f":"IN!F1974*60","v":0},0,"-",{"$f":"SUBSTITUTE(IN!F1974,\",\",\".\")","v":""}]
[0,{"$error":"#VALUE!"},{"$error":"#VALUE!"},{"$f":"SUBSTITUTE(IN!G1975,\"-\",\"\")","v":""},"",{"$f":"IN!F1975*60","v":0},0,"-",{"$f":"SUBSTITUTE(IN!F1975,\",\",\".\")","v":""}]
[0,{"$error":"#VALUE!"},{"$error":"#VALUE!"},{"$f":"SUBSTITUTE(IN!G1976,\"-\",\"\")","v":""},"",{"$f":"IN!F1976*60","v":0},0,"-",{"$f":"SUBSTITUTE(IN!F1976,\",\",\".\")","v":""}]
[0,{"$error":"#VALUE!"},{"$error":"#VALUE!"},{"$f":"SUBSTITUTE(IN!G1977,\"-\",\"\")","v":""},"",{"$f":"IN!F1977*60","v":0},0,"-",{"$f":"SUBSTITUTE(IN!F1977,\",\",\".\")","v":""}]
[0,{"$error":"#VALUE!"},{"$error":"#VALUE!"},{"$f":"SUBSTITUTE(IN!G1978,\"-\",\"\")","v":""},"",{"$f":"IN!F1978*60","v":0},0,"-",{"$f":"SUBSTITUTE(IN!F1978,\",\",\".\")","v":""}]
[0,{"$error":"#VALUE!"},{"$error":"#VALUE!"},{"$f":"SUBSTITUTE(IN!G1979,\"-\",\"\")","v":""},"",{"$f":"IN!F1979*60","v":0},0,"-",{"$f":"SUBSTITUTE(IN!F1979,\",\",\".\")","v":""}]
[0,{"$error":"#VALUE!"},{"$error":"#VALUE!"},{"$f":"SUBSTITUTE(IN!G1980,\"-\",\"\")","v":""},"",{"$f":"IN!F1980*60","v":0},0,"-",{"$f":"SUBSTITUTE(IN!F1980,\",\",\".\")","v":""}]
[0,{"$error":"#VALUE!"},{"$error":"#VALUE!"},{"$f":"SUBSTITUTE(IN!G1981,\"-\",\"\")","v":""},"",{"$f":"IN!F1981*60","v":0},0,"-",{"$f":"SUBSTITUTE(IN!F1981,\",\",\".\")","v":""}]
[0,{"$error":"#VALUE!"},{"$error":"#VALUE!"},{"$f":"SUBSTITUTE(IN!G1982,\"-\",\"\")","v":""},"",{"$f":"IN!F1982*60","v":0},0,"-",{"$f":"SUBSTITUTE(IN!F1982,\",\",\".\")","v":""}]
[0,{"$error":"#VALUE!"},{"$error":"#VALUE!"},{"$f":"SUBSTITUTE(IN!G1983,\"-\",\"\")","v":""},"",{"$f":"IN!F1983*60","v":0},0,"-",{"$f":"SUBSTITUTE(IN!F1983,\",\",\".\")","v":""}]
[0,{"$error":"#VALUE!"},{"$error":"#VALUE!"},{"$f":"SUBSTITUTE(IN!G1984,\"-\",\"\")","v":""},"",{"$f":"IN!F1984*60","v":0},0,"-",{"$f":"SUBSTITUTE(IN!F1984,\",\",\".\")","v":""}]
[0,{"$error":"#VALUE!"},{"$error":"#VALUE!"},{"$f":"SUBSTITUTE(IN!G1985,\"-\",\"\")","v":""},"",{"$f":"IN!F1985*60","v":0},0,"-",{"$f":"SUBSTITUTE(IN!F1985,\",\",\".\")","v":""}]
[0,{"$error":"#VALUE!"},{"$error":"#VALUE!"},{"$f":"SUBSTITUTE(IN!G1986,\"-\",\"\")","v":""},"",{"$f":"IN!F1986*60","v":0},0,"-",{"$f":"SUBSTITUTE(IN!F1986,\",\",\".\")","v":""}]
[0,{"$error":"#VALUE!"},{"$error":"#VALUE!"},{"$f":"SUBSTITUTE(IN!G1987,\"-\",\"\")","v":""},"",{"$f":"IN!F1987*60","v":0},0,"-",{"$f":"SUBSTITUTE(IN!F1987,\",\",\".\")","v":""}]
[0,{"$error":"#VALUE!"},{"$error":"#VALUE!"},{"$f":"SUBSTITUTE(IN!G1988,\"-\",\"\")","v":""},"",{"$f":"IN!F1988*60","v":0},0,"-",{"$f":"SUBSTITUTE(IN!F1988,\",\",\".\")","v":""}]
[{"$f":"LEN(D1989)","v":0},{"$f":"VALUE(LEFT(D1989,1))","v":{"$error":"#VALUE!"}},{"$f":"IF(B1989<2,20,19)","v":{"$error":"#VALUE!"}},{"$f":"SUBSTITUTE(IN!G1989,\"-\",\"\")","v":""},{"$f":"IF(A1989=10,CONCATENATE(C1989,D1989),D1989)","v":""},{"$f":"IN!F1989*60","v":0},{"$f":"ROUND(F1989,0)","v":0},{"$f":"CONCATENATE(MID(E1989,1,8),\"-\",MID(E1989,9,4))","v":"-"},{"$f":"SUBSTITUTE(IN!F1989,\",\",\".\")","v":""}]
[0,{"$error":"#VALUE!"},{"$error":"#VALUE!"},{"$f":"SUBSTITUTE(IN!G1990,\"-\",\"\")","v":""},"",{"$f":"IN!F1990*60","v":0},0,"-",{"$f":"SUBSTITUTE(IN!F1990,\",\",\".\")","v":""}]
[0,{"$error":"#VALUE!"},{"$error":"#VALUE!"},{"$f":"SUBSTITUTE(IN!G1991,\"-\",\"\")","v":""},"",{"$f":"IN!F1991*60","v":0},0,"-",{"$f":"SUBSTITUTE(IN!F1991,\",\",\".\")","v":""}]
[0,{"$error":"#VALUE!"},{"$error":"#VALUE!"},{"$f":"SUBSTITUTE(IN!G1992,\"-\",\"\")","v":""},"",{"$f":"IN!F1992*60","v":0},0,"-",{"$f":"SUBSTITUTE(IN!F1992,\",\",\".\")","v":""}]
[0,{"$error":"#VALUE!"},{"$error":"#VALUE!"},{"$f":"SUBSTITUTE(IN!G1993,\"-\",\"\")","v":""},"",{"$f":"IN!F1993*60","v":0},0,"-",{"$f":"SUBSTITUTE(IN!F1993,\",\",\".\")","v":""}]
[0,{"$error":"#VALUE!"},{"$error":"#VALUE!"},{"$f":"SUBSTITUTE(IN!G1994,\"-\",\"\")","v":""},"",{"$f":"IN!F1994*60","v":0},0,"-",{"$f":"SUBSTITUTE(IN!F1994,\",\",\".\")","v":""}]
[0,{"$error":"#VALUE!"},{"$error":"#VALUE!"},{"$f":"SUBSTITUTE(IN!G1995,\"-\",\"\")","v":""},"",{"$f":"IN!F1995*60","v":0},0,"-",{"$f":"SUBSTITUTE(IN!F1995,\",\",\".\")","v":""}]
[0,{"$error":"#VALUE!"},{"$error":"#VALUE!"},{"$f":"SUBSTITUTE(IN!G1996,\"-\",\"\")","v":""},"",{"$f":"IN!F1996*60","v":0},0,"-",{"$f":"SUBSTITUTE(IN!F1996,\",\",\".\")","v":""}]
[0,{"$error":"#VALUE!"},{"$error":"#VALUE!"},{"$f":"SUBSTITUTE(IN!G1997,\"-\",\"\")","v":""},"",{"$f":"IN!F1997*60","v":0},0,"-",{"$f":"SUBSTITUTE(IN!F1997,\",\",\".\")","v":""}]
[0,{"$error":"#VALUE!"},{"$error":"#VALUE!"},{"$f":"SUBSTITUTE(IN!G1998,\"-\",\"\")","v":""},"",{"$f":"IN!F1998*60","v":0},0,"-",{"$f":"SUBSTITUTE(IN!F1998,\",\",\".\")","v":""}]
[0,{"$error":"#VALUE!"},{"$error":"#VALUE!"},{"$f":"SUBSTITUTE(IN!G1999,\"-\",\"\")","v":""},"",{"$f":"IN!F1999*60","v":0},0,"-",{"$f":"SUBSTITUTE(IN!F1999,\",\",\".\")","v":""}]
[0,{"$error":"#VALUE!"},{"$error":"#VALUE!"},{"$f":"SUBSTITUTE(IN!G2000,\"-\",\"\")","v":""},"",{"$f":"IN!F2000*60","v":0},0,"-",{"$f":"SUBSTITUTE(IN!F2000,\",\",\".\")","v":""}]
[0,{"$error":"#VALUE!"},{"$error":"#VALUE!"},{"$f":"SUBSTITUTE(IN!G2001,\"-\",\"\")","v":""},"",{"$f":"IN!F2001*60","v":0},0,"-",{"$f":"SUBSTITUTE(IN!F2001,\",\",\".\")","v":""}]
[0,{"$error":"#VALUE!"},{"$error":"#VALUE!"},{"$f":"SUBSTITUTE(IN!G2002,\"-\",\"\")","v":""},"",{"$f":"IN!F2002*60","v":0},0,"-",{"$f":"SUBSTITUTE(IN!F2002,\",\",\".\")","v":""}]
[0,{"$error":"#VALUE!"},{"$error":"#VALUE!"},{"$f":"SUBSTITUTE(IN!G2003,\"-\",\"\")","v":""},"",{"$f":"IN!F2003*60","v":0},0,"-",{"$f":"SUBSTITUTE(IN!F2003,\",\",\".\")","v":""}]
[0,{"$error":"#VALUE!"},{"$error":"#VALUE!"},{"$f":"SUBSTITUTE(IN!G2004,\"-\",\"\")","v":""},"",{"$f":"IN!F2004*60","v":0},0,"-",{"$f":"SUBSTITUTE(IN!F2004,\",\",\".\")","v":""}]
[0,{"$error":"#VALUE!"},{"$error":"#VALUE!"},{"$f":"SUBSTITUTE(IN!G2005,\"-\",\"\")","v":""},"",{"$f":"IN!F2005*60","v":0},0,"-",{"$f":"SUBSTITUTE(IN!F2005,\",\",\".\")","v":""}]
[0,{"$error":"#VALUE!"},{"$error":"#VALUE!"},{"$f":"SUBSTITUTE(IN!G2006,\"-\",\"\")","v":""},"",{"$f":"IN!F2006*60","v":0},0,"-",{"$f":"SUBSTITUTE(IN!F2006,\",\",\".\")","v":""}]
[0,{"$error":"#VALUE!"},{"$error":"#VALUE!"},{"$f":"SUBSTITUTE(IN!G2007,\"-\",\"\")","v":""},"",{"$f":"IN!F2007*60","v":0},0,"-",{"$f":"SUBSTITUTE(IN!F2007,\",\",\".\")","v":""}]
[0,{"$error":"#VALUE!"},{"$error":"#VALUE!"},{"$f":"SUBSTITUTE(IN!G2008,\"-\",\"\")","v":""},"",{"$f":"IN!F2008*60","v":0},0,"-",{"$f":"SUBSTITUTE(IN!F2008,\",\",\".\")","v":""}]
[0,{"$error":"#VALUE!"},{"$error":"#VALUE!"},{"$f":"SUBSTITUTE(IN!G2009,\"-\",\"\")","v":""},"",{"$f":"IN!F2009*60","v":0},0,"-",{"$f":"SUBSTITUTE(IN!F2009,\",\",\".\")","v":""}]
[0,{"$error":"#VALUE!"},{"$error":"#VALUE!"},{"$f":"SUBSTITUTE(IN!G2010,\"-\",\"\")","v":""},"",{"$f":"IN!F2010*60","v":0},0,"-",{"$f":"SUBSTITUTE(IN!F2010,\",\",\".\")","v":""}]
[0,{"$error":"#VALUE!"},{"$error":"#VALUE!"},{"$f":"SUBSTITUTE(IN!G2011,\"-\",\"\")","v":""},"",{"$f":"IN!F2011*60","v":0},0,"-",{"$f":"SUBSTITUTE(IN!F2011,\",\",\".\")","v":""}]
[0,{"$error":"#VALUE!"},{"$error":"#VALUE!"},{"$f":"SUBSTITUTE(IN!G2012,\"-\",\"\")","v":""},"",{"$f":"IN!F2012*60","v":0},0,"-",{"$f":"SUBSTITUTE(IN!F2012,\",\",\".\")","v":""}]
[0,{"$error":"#VALUE!"},{"$error":"#VALUE!"},{"$f":"SUBSTITUTE(IN!G2013,\"-\",\"\")","v":""},"",{"$f":"IN!F2013*60","v":0},0,"-",{"$f":"SUBSTITUTE(IN!F2013,\",\",\".\")","v":""}]
[0,{"$error":"#VALUE!"},{"$error":"#VALUE!"},{"$f":"SUBSTITUTE(IN!G2014,\"-\",\"\")","v":""},"",{"$f":"IN!F2014*60","v":0},0,"-",{"$f":"SUBSTITUTE(IN!F2014,\",\",\".\")","v":""}]
[0,{"$error":"#VALUE!"},{"$error":"#VALUE!"},{"$f":"SUBSTITUTE(IN!G2015,\"-\",\"\")","v":""},"",{"$f":"IN!F2015*60","v":0},0,"-",{"$f":"SUBSTITUTE(IN!F2015,\",\",\".\")","v":""}]
[0,{"$error":"#VALUE!"},{"$error":"#VALUE!"},{"$f":"SUBSTITUTE(IN!G2016,\"-\",\"\")","v":""},"",{"$f":"IN!F2016*60","v":0},0,"-",{"$f":"SUBSTITUTE(IN!F2016,\",\",\".\")","v":""}]
[0,{"$error":"#VALUE!"},{"$error":"#VALUE!"},{"$f":"SUBSTITUTE(IN!G2017,\"-\",\"\")","v":""},"",{"$f":"IN!F2017*60","v":0},0,"-",{"$f":"SUBSTITUTE(IN!F2017,\",\",\".\")","v":""}]
[0,{"$error":"#VALUE!"},{"$error":"#VALUE!"},{"$f":"SUBSTITUTE(IN!G2018,\"-\",\"\")","v":""},"",{"$f":"IN!F2018*60","v":0},0,"-",{"$f":"SUBSTITUTE(IN!F2018,\",\",\".\")","v":""}]
[0,{"$error":"#VALUE!"},{"$error":"#VALUE!"},{"$f":"SUBSTITUTE(IN!G2019,\"-\",\"\")","v":""},"",{"$f":"IN!F2019*60","v":0},0,"-",{"$f":"SUBSTITUTE(IN!F2019,\",\",\".\")","v":""}]
[0,{"$error":"#VALUE!"},{"$error":"#VALUE!"},{"$f":"SUBSTITUTE(IN!G2020,\"-\",\"\")","v":""},"",{"$f":"IN!F2020*60","v":0},0,"-",{"$f":"SUBSTITUTE(IN!F2020,\",\",\".\")","v":""}]
[0,{"$error":"#VALUE!"},{"$error":"#VALUE!"},{"$f":"SUBSTITUTE(IN!G2021,\"-\",\"\")","v":""},"",{"$f":"IN!F2021*60","v":0},0,"-",{"$f":"SUBSTITUTE(IN!F2021,\",\",\".\")","v":""}]
[0,{"$error":"#VALUE!"},{"$error":"#VALUE!"},{"$f":"SUBSTITUTE(IN!G2022,\"-\",\"\")","v":""},"",{"$f":"IN!F2022*60","v":0},0,"-",{"$f":"SUBSTITUTE(IN!F2022,\",\",\".\")","v":""}]
[0,{"$error":"#VALUE!"},{"$error":"#VALUE!"},{"$f":"SUBSTITUTE(IN!G2023,\"-\",\"\")","v":""},"",{"$f":"IN!F2023*60","v":0},0,"-",{"$f":"SUBSTITUTE(IN!F2023,\",\",\".\")","v":""}]
[0,{"$error":"#VALUE!"},{"$error":"#VALUE!"},{"$f":"SUBSTITUTE(IN!G2024,\"-\",\"\")","v":""},"",{"$f":"IN!F2024*60","v":0},0,"-",{"$f":"SUBSTITUTE(IN!F2024,\",\",\".\")","v":""}]
[0,{"$error":"#VALUE!"},{"$error":"#VALUE!"},{"$f":"SUBSTITUTE(IN!G2025,\"-\",\"\")","v":""},"",{"$f":"IN!F2025*60","v":0},0,"-",{"$f":"SUBSTITUTE(IN!F2025,\",\",\".\")","v":""}]
[0,{"$error":"#VALUE!"},{"$error":"#VALUE!"},{"$f":"SUBSTITUTE(IN!G2026,\"-\",\"\")","v":""},"",{"$f":"IN!F2026*60","v":0},0,"-",{"$f":"SUBSTITUTE(IN!F2026,\",\",\".\")","v":""}]
[0,{"$error":"#VALUE!"},{"$error":"#VALUE!"},{"$f":"SUBSTITUTE(IN!G2027,\"-\",\"\")","v":""},"",{"$f":"IN!F2027*60","v":0},0,"-",{"$f":"SUBSTITUTE(IN!F2027,\",\",\".\")","v":""}]
[0,{"$error":"#VALUE!"},{"$error":"#VALUE!"},{"$f":"SUBSTITUTE(IN!G2028,\"-\",\"\")","v":""},"",{"$f":"IN!F2028*60","v":0},0,"-",{"$f":"SUBSTITUTE(IN!F2028,\",\",\".\")","v":""}]
[0,{"$error":"#VALUE!"},{"$error":"#VALUE!"},{"$f":"SUBSTITUTE(IN!G2029,\"-\",\"\")","v":""},"",{"$f":"IN!F2029*60","v":0},0,"-",{"$f":"SUBSTITUTE(IN!F2029,\",\",\".\")","v":""}]
[0,{"$error":"#VALUE!"},{"$error":"#VALUE!"},{"$f":"SUBSTITUTE(IN!G2030,\"-\",\"\")","v":""},"",{"$f":"IN!F2030*60","v":0},0,"-",{"$f":"SUBSTITUTE(IN!F2030,\",\",\".\")","v":""}]
[0,{"$error":"#VALUE!"},{"$error":"#VALUE!"},{"$f":"SUBSTITUTE(IN!G2031,\"-\",\"\")","v":""},"",{"$f":"IN!F2031*60","v":0},0,"-",{"$f":"SUBSTITUTE(IN!F2031,\",\",\".\")","v":""}]
[0,{"$error":"#VALUE!"},{"$error":"#VALUE!"},{"$f":"SUBSTITUTE(IN!G2032,\"-\",\"\")","v":""},"",{"$f":"IN!F2032*60","v":0},0,"-",{"$f":"SUBSTITUTE(IN!F2032,\",\",\".\")","v":""}]
[0,{"$error":"#VALUE!"},{"$error":"#VALUE!"},{"$f":"SUBSTITUTE(IN!G2033,\"-\",\"\")","v":""},"",{"$f":"IN!F2033*60","v":0},0,"-",{"$f":"SUBSTITUTE(IN!F2033,\",\",\".\")","v":""}]
[0,{"$error":"#VALUE!"},{"$error":"#VALUE!"},{"$f":"SUBSTITUTE(IN!G2034,\"-\",\"\")","v":""},"",{"$f":"IN!F2034*60","v":0},0,"-",{"$f":"SUBSTITUTE(IN!F2034,\",\",\".\")","v":""}]
[0,{"$error":"#VALUE!"},{"$error":"#VALUE!"},{"$f":"SUBSTITUTE(IN!G2035,\"-\",\"\")","v":""},"",{"$f":"IN!F2035*60","v":0},0,"-",{"$f":"SUBSTITUTE(IN!F2035,\",\",\".\")","v":""}]
[0,{"$error":"#VALUE!"},{"$error":"#VALUE!"},{"$f":"SUBSTITUTE(IN!G2036,\"-\",\"\")","v":""},"",{"$f":"IN!F2036*60","v":0},0,"-",{"$f":"SUBSTITUTE(IN!F2036,\",\",\".\")","v":""}]
[0,{"$error":"#VALUE!"},{"$error":"#VALUE!"},{"$f":"SUBSTITUTE(IN!G2037,\"-\",\"\")","v":""},"",{"$f":"IN!F2037*60","v":0},0,"-",{"$f":"SUBSTITUTE(IN!F2037,\",\",\".\")","v":""}]
[0,{"$error":"#VALUE!"},{"$error":"#VALUE!"},{"$f":"SUBSTITUTE(IN!G2038,\"-\",\"\")","v":""},"",{"$f":"IN!F2038*60","v":0},0,"-",{"$f":"SUBSTITUTE(IN!F2038,\",\",\".\")","v":""}]
[0,{"$error":"#VALUE!"},{"$error":"#VALUE!"},{"$f":"SUBSTITUTE(IN!G2039,\"-\",\"\")","v":""},"",{"$f":"IN!F2039*60","v":0},0,"-",{"$f":"SUBSTITUTE(IN!F2039,\",\",\".\")","v":""}]
[0,{"$error":"#VALUE!"},{"$error":"#VALUE!"},{"$f":"SUBSTITUTE(IN!G2040,\"-\",\"\")","v":""},"",{"$f":"IN!F2040*60","v":0},0,"-",{"$f":"SUBSTITUTE(IN!F2040,\",\",\".\")","v":""}]
[0,{"$error":"#VALUE!"},{"$error":"#VALUE!"},{"$f":"SUBSTITUTE(IN!G2041,\"-\",\"\")","v":""},"",{"$f":"IN!F2041*60","v":0},0,"-",{"$f":"SUBSTITUTE(IN!F2041,\",\",\".\")","v":""}]
[0,{"$error":"#VALUE!"},{"$error":"#VALUE!"},{"$f":"SUBSTITUTE(IN!G2042,\"-\",\"\")","v":""},"",{"$f":"IN!F2042*60","v":0},0,"-",{"$f":"SUBSTITUTE(IN!F2042,\",\",\".\")","v":""}]
[0,{"$error":"#VALUE!"},{"$error":"#VALUE!"},{"$f":"SUBSTITUTE(IN!G2043,\"-\",\"\")","v":""},"",{"$f":"IN!F2043*60","v":0},0,"-",{"$f":"SUBSTITUTE(IN!F2043,\",\",\".\")","v":""}]
[0,{"$error":"#VALUE!"},{"$error":"#VALUE!"},{"$f":"SUBSTITUTE(IN!G2044,\"-\",\"\")","v":""},"",{"$f":"IN!F2044*60","v":0},0,"-",{"$f":"SUBSTITUTE(IN!F2044,\",\",\".\")","v":""}]
[0,{"$error":"#VALUE!"},{"$error":"#VALUE!"},{"$f":"SUBSTITUTE(IN!G2045,\"-\",\"\")","v":""},"",{"$f":"IN!F2045*60","v":0},0,"-",{"$f":"SUBSTITUTE(IN!F2045,\",\",\".\")","v":""}]
[0,{"$error":"#VALUE!"},{"$error":"#VALUE!"},{"$f":"SUBSTITUTE(IN!G2046,\"-\",\"\")","v":""},"",{"$f":"IN!F2046*60","v":0},0,"-",{"$f":"SUBSTITUTE(IN!F2046,\",\",\".\")","v":""}]
[0,{"$error":"#VALUE!"},{"$error":"#VALUE!"},{"$f":"SUBSTITUTE(IN!G2047,\"-\",\"\")","v":""},"",{"$f":"IN!F2047*60","v":0},0,"-",{"$f":"SUBSTITUTE(IN!F2047,\",\",\".\")","v":""}]
[0,{"$error":"#VALUE!"},{"$error":"#VALUE!"},{"$f":"SUBSTITUTE(IN!G2048,\"-\",\"\")","v":""},"",{"$f":"IN!F2048*60","v":0},0,"-",{"$f":"SUBSTITUTE(IN!F2048,\",\",\".\")","v":""}]
[0,{"$error":"#VALUE!"},{"$error":"#VALUE!"},{"$f":"SUBSTITUTE(IN!G2049,\"-\",\"\")","v":""},"",{"$f":"IN!F2049*60","v":0},0,"-",{"$f":"SUBSTITUTE(IN!F2049,\",\",\".\")","v":""}]
[0,{"$error":"#VALUE!"},{"$error":"#VALUE!"},{"$f":"SUBSTITUTE(IN!G2050,\"-\",\"\")","v":""},"",{"$f":"IN!F2050*60","v":0},0,"-",{"$f":"SUBSTITUTE(IN!F2050,\",\",\".\")","v":""}]
[0,{"$error":"#VALUE!"},{"$error":"#VALUE!"},{"$f":"SUBSTITUTE(IN!G2051,\"-\",\"\")","v":""},"",{"$f":"IN!F2051*60","v":0},0,"-",{"$f":"SUBSTITUTE(IN!F2051,\",\",\".\")","v":""}]
[0,{"$error":"#VALUE!"},{"$error":"#VALUE!"},{"$f":"SUBSTITUTE(IN!G2052,\"-\",\"\")","v":""},"",{"$f":"IN!F2052*60","v":0},0,"-",{"$f":"SUBSTITUTE(IN!F2052,\",\",\".\")","v":""}]
[{"$f":"LEN(D2053)","v":0},{"$f":"VALUE(LEFT(D2053,1))","v":{"$error":"#VALUE!"}},{"$f":"IF(B2053<2,20,19)","v":{"$error":"#VALUE!"}},{"$f":"SUBSTITUTE(IN!G2053,\"-\",\"\")","v":""},{"$f":"IF(A2053=10,CONCATENATE(C2053,D2053),D2053)","v":""},{"$f":"IN!F2053*60","v":0},{"$f":"ROUND(F2053,0)","v":0},{"$f":"CONCATENATE(MID(E2053,1,8),\"-\",MID(E2053,9,4))","v":"-"},{"$f":"SUBSTITUTE(IN!F2053,\",\",\".\")","v":""}]
[0,{"$error":"#VALUE!"},{"$error":"#VALUE!"},{"$f":"SUBSTITUTE(IN!G2054,\"-\",\"\")","v":""},"",{"$f":"IN!F2054*60","v":0},0,"-",{"$f":"SUBSTITUTE(IN!F2054,\",\",\".\")","v":""}]
[0,{"$error":"#VALUE!"},{"$error":"#VALUE!"},{"$f":"SUBSTITUTE(IN!G2055,\"-\",\"\")","v":""},"",{"$f":"IN!F2055*60","v":0},0,"-",{"$f":"SUBSTITUTE(IN!F2055,\",\",\".\")","v":""}]
[0,{"$error":"#VALUE!"},{"$error":"#VALUE!"},{"$f":"SUBSTITUTE(IN!G2056,\"-\",\"\")","v":""},"",{"$f":"IN!F2056*60","v":0},0,"-",{"$f":"SUBSTITUTE(IN!F2056,\",\",\".\")","v":""}]
[0,{"$error":"#VALUE!"},{"$error":"#VALUE!"},{"$f":"SUBSTITUTE(IN!G2057,\"-\",\"\")","v":""},"",{"$f":"IN!F2057*60","v":0},0,"-",{"$f":"SUBSTITUTE(IN!F2057,\",\",\".\")","v":""}]
[0,{"$error":"#VALUE!"},{"$error":"#VALUE!"},{"$f":"SUBSTITUTE(IN!G2058,\"-\",\"\")","v":""},"",{"$f":"IN!F2058*60","v":0},0,"-",{"$f":"SUBSTITUTE(IN!F2058,\",\",\".\")","v":""}]
[0,{"$error":"#VALUE!"},{"$error":"#VALUE!"},{"$f":"SUBSTITUTE(IN!G2059,\"-\",\"\")","v":""},"",{"$f":"IN!F2059*60","v":0},0,"-",{"$f":"SUBSTITUTE(IN!F2059,\",\",\".\")","v":""}]
[0,{"$error":"#VALUE!"},{"$error":"#VALUE!"},{"$f":"SUBSTITUTE(IN!G2060,\"-\",\"\")","v":""},"",{"$f":"IN!F2060*60","v":0},0,"-",{"$f":"SUBSTITUTE(IN!F2060,\",\",\".\")","v":""}]
[0,{"$error":"#VALUE!"},{"$error":"#VALUE!"},{"$f":"SUBSTITUTE(IN!G2061,\"-\",\"\")","v":""},"",{"$f":"IN!F2061*60","v":0},0,"-",{"$f":"SUBSTITUTE(IN!F2061,\",\",\".\")","v":""}]
[0,{"$error":"#VALUE!"},{"$error":"#VALUE!"},{"$f":"SUBSTITUTE(IN!G2062,\"-\",\"\")","v":""},"",{"$f":"IN!F2062*60","v":0},0,"-",{"$f":"SUBSTITUTE(IN!F2062,\",\",\".\")","v":""}]
[0,{"$error":"#VALUE!"},{"$error":"#VALUE!"},{"$f":"SUBSTITUTE(IN!G2063,\"-\",\"\")","v":""},"",{"$f":"IN!F2063*60","v":0},0,"-",{"$f":"SUBSTITUTE(IN!F2063,\",\",\".\")","v":""}]
[0,{"$error":"#VALUE!"},{"$error":"#VALUE!"},{"$f":"SUBSTITUTE(IN!G2064,\"-\",\"\")","v":""},"",{"$f":"IN!F2064*60","v":0},0,"-",{"$f":"SUBSTITUTE(IN!F2064,\",\",\".\")","v":""}]
[0,{"$error":"#VALUE!"},{"$error":"#VALUE!"},{"$f":"SUBSTITUTE(IN!G2065,\"-\",\"\")","v":""},"",{"$f":"IN!F2065*60","v":0},0,"-",{"$f":"SUBSTITUTE(IN!F2065,\",\",\".\")","v":""}]
[0,{"$error":"#VALUE!"},{"$error":"#VALUE!"},{"$f":"SUBSTITUTE(IN!G2066,\"-\",\"\")","v":""},"",{"$f":"IN!F2066*60","v":0},0,"-",{"$f":"SUBSTITUTE(IN!F2066,\",\",\".\")","v":""}]
[0,{"$error":"#VALUE!"},{"$error":"#VALUE!"},{"$f":"SUBSTITUTE(IN!G2067,\"-\",\"\")","v":""},"",{"$f":"IN!F2067*60","v":0},0,"-",{"$f":"SUBSTITUTE(IN!F2067,\",\",\".\")","v":""}]
[0,{"$error":"#VALUE!"},{"$error":"#VALUE!"},{"$f":"SUBSTITUTE(IN!G2068,\"-\",\"\")","v":""},"",{"$f":"IN!F2068*60","v":0},0,"-",{"$f":"SUBSTITUTE(IN!F2068,\",\",\".\")","v":""}]
[0,{"$error":"#VALUE!"},{"$error":"#VALUE!"},{"$f":"SUBSTITUTE(IN!G2069,\"-\",\"\")","v":""},"",{"$f":"IN!F2069*60","v":0},0,"-",{"$f":"SUBSTITUTE(IN!F2069,\",\",\".\")","v":""}]
[0,{"$error":"#VALUE!"},{"$error":"#VALUE!"},{"$f":"SUBSTITUTE(IN!G2070,\"-\",\"\")","v":""},"",{"$f":"IN!F2070*60","v":0},0,"-",{"$f":"SUBSTITUTE(IN!F2070,\",\",\".\")","v":""}]
[0,{"$error":"#VALUE!"},{"$error":"#VALUE!"},{"$f":"SUBSTITUTE(IN!G2071,\"-\",\"\")","v":""},"",{"$f":"IN!F2071*60","v":0},0,"-",{"$f":"SUBSTITUTE(IN!F2071,\",\",\".\")","v":""}]
[0,{"$error":"#VALUE!"},{"$error":"#VALUE!"},{"$f":"SUBSTITUTE(IN!G2072,\"-\",\"\")","v":""},"",{"$f":"IN!F2072*60","v":0},0,"-",{"$f":"SUBSTITUTE(IN!F2072,\",\",\".\")","v":""}]
[0,{"$error":"#VALUE!"},{"$error":"#VALUE!"},{"$f":"SUBSTITUTE(IN!G2073,\"-\",\"\")","v":""},"",{"$f":"IN!F2073*60","v":0},0,"-",{"$f":"SUBSTITUTE(IN!F2073,\",\",\".\")","v":""}]
[0,{"$error":"#VALUE!"},{"$error":"#VALUE!"},{"$f":"SUBSTITUTE(IN!G2074,\"-\",\"\")","v":""},"",{"$f":"IN!F2074*60","v":0},0,"-",{"$f":"SUBSTITUTE(IN!F2074,\",\",\".\")","v":""}]
[0,{"$error":"#VALUE!"},{"$error":"#VALUE!"},{"$f":"SUBSTITUTE(IN!G2075,\"-\",\"\")","v":""},"",{"$f":"IN!F2075*60","v":0},0,"-",{"$f":"SUBSTITUTE(IN!F2075,\",\",\".\")","v":""}]
[0,{"$error":"#VALUE!"},{"$error":"#VALUE!"},{"$f":"SUBSTITUTE(IN!G2076,\"-\",\"\")","v":""},"",{"$f":"IN!F2076*60","v":0},0,"-",{"$f":"SUBSTITUTE(IN!F2076,\",\",\".\")","v":""}]
[0,{"$error":"#VALUE!"},{"$error":"#VALUE!"},{"$f":"SUBSTITUTE(IN!G2077,\"-\",\"\")","v":""},"",{"$f":"IN!F2077*60","v":0},0,"-",{"$f":"SUBSTITUTE(IN!F2077,\",\",\".\")","v":""}]
[0,{"$error":"#VALUE!"},{"$error":"#VALUE!"},{"$f":"SUBSTITUTE(IN!G2078,\"-\",\"\")","v":""},"",{"$f":"IN!F2078*60","v":0},0,"-",{"$f":"SUBSTITUTE(IN!F2078,\",\",\".\")","v":""}]
[0,{"$error":"#VALUE!"},{"$error":"#VALUE!"},{"$f":"SUBSTITUTE(IN!G2079,\"-\",\"\")","v":""},"",{"$f":"IN!F2079*60","v":0},0,"-",{"$f":"SUBSTITUTE(IN!F2079,\",\",\".\")","v":""}]
[0,{"$error":"#VALUE!"},{"$error":"#VALUE!"},{"$f":"SUBSTITUTE(IN!G2080,\"-\",\"\")","v":""},"",{"$f":"IN!F2080*60","v":0},0,"-",{"$f":"SUBSTITUTE(IN!F2080,\",\",\".\")","v":""}]
[0,{"$error":"#VALUE!"},{"$error":"#VALUE!"},{"$f":"SUBSTITUTE(IN!G2081,\"-\",\"\")","v":""},"",{"$f":"IN!F2081*60","v":0},0,"-",{"$f":"SUBSTITUTE(IN!F2081,\",\",\".\")","v":""}]
[0,{"$error":"#VALUE!"},{"$error":"#VALUE!"},{"$f":"SUBSTITUTE(IN!G2082,\"-\",\"\")","v":""},"",{"$f":"IN!F2082*60","v":0},0,"-",{"$f":"SUBSTITUTE(IN!F2082,\",\",\".\")","v":""}]
[0,{"$error":"#VALUE!"},{"$error":"#VALUE!"},{"$f":"SUBSTITUTE(IN!G2083,\"-\",\"\")","v":""},"",{"$f":"IN!F2083*60","v":0},0,"-",{"$f":"SUBSTITUTE(IN!F2083,\",\",\".\")","v":""}]
[0,{"$error":"#VALUE!"},{"$error":"#VALUE!"},{"$f":"SUBSTITUTE(IN!G2084,\"-\",\"\")","v":""},"",{"$f":"IN!F2084*60","v":0},0,"-",{"$f":"SUBSTITUTE(IN!F2084,\",\",\".\")","v":""}]
[0,{"$error":"#VALUE!"},{"$error":"#VALUE!"},{"$f":"SUBSTITUTE(IN!G2085,\"-\",\"\")","v":""},"",{"$f":"IN!F2085*60","v":0},0,"-",{"$f":"SUBSTITUTE(IN!F2085,\",\",\".\")","v":""}]
[0,{"$error":"#VALUE!"},{"$error":"#VALUE!"},{"$f":"SUBSTITUTE(IN!G2086,\"-\",\"\")","v":""},"",{"$f":"IN!F2086*60","v":0},0,"-",{"$f":"SUBSTITUTE(IN!F2086,\",\",\".\")","v":""}]
[0,{"$error":"#VALUE!"},{"$error":"#VALUE!"},{"$f":"SUBSTITUTE(IN!G2087,\"-\",\"\")","v":""},"",{"$f":"IN!F2087*60","v":0},0,"-",{"$f":"SUBSTITUTE(IN!F2087,\",\",\".\")","v":""}]
[0,{"$error":"#VALUE!"},{"$error":"#VALUE!"},{"$f":"SUBSTITUTE(IN!G2088,\"-\",\"\")","v":""},"",{"$f":"IN!F2088*60","v":0},0,"-",{"$f":"SUBSTITUTE(IN!F2088,\",\",\".\")","v":""}]
[0,{"$error":"#VALUE!"},{"$error":"#VALUE!"},{"$f":"SUBSTITUTE(IN!G2089,\"-\",\"\")","v":""},"",{"$f":"IN!F2089*60","v":0},0,"-",{"$f":"SUBSTITUTE(IN!F2089,\",\",\".\")","v":""}]
[0,{"$error":"#VALUE!"},{"$error":"#VALUE!"},{"$f":"SUBSTITUTE(IN!G2090,\"-\",\"\")","v":""},"",{"$f":"IN!F2090*60","v":0},0,"-",{"$f":"SUBSTITUTE(IN!F2090,\",\",\".\")","v":""}]
[0,{"$error":"#VALUE!"},{"$error":"#VALUE!"},{"$f":"SUBSTITUTE(IN!G2091,\"-\",\"\")","v":""},"",{"$f":"IN!F2091*60","v":0},0,"-",{"$f":"SUBSTITUTE(IN!F2091,\",\",\".\")","v":""}]
[0,{"$error":"#VALUE!"},{"$error":"#VALUE!"},{"$f":"SUBSTITUTE(IN!G2092,\"-\",\"\")","v":""},"",{"$f":"IN!F2092*60","v":0},0,"-",{"$f":"SUBSTITUTE(IN!F2092,\",\",\".\")","v":""}]
[0,{"$error":"#VALUE!"},{"$error":"#VALUE!"},{"$f":"SUBSTITUTE(IN!G2093,\"-\",\"\")","v":""},"",{"$f":"IN!F2093*60","v":0},0,"-",{"$f":"SUBSTITUTE(IN!F2093,\",\",\".\")","v":""}]
[0,{"$error":"#VALUE!"},{"$error":"#VALUE!"},{"$f":"SUBSTITUTE(IN!G2094,\"-\",\"\")","v":""},"",{"$f":"IN!F2094*60","v":0},0,"-",{"$f":"SUBSTITUTE(IN!F2094,\",\",\".\")","v":""}]
[0,{"$error":"#VALUE!"},{"$error":"#VALUE!"},{"$f":"SUBSTITUTE(IN!G2095,\"-\",\"\")","v":""},"",{"$f":"IN!F2095*60","v":0},0,"-",{"$f":"SUBSTITUTE(IN!F2095,\",\",\".\")","v":""}]
[0,{"$error":"#VALUE!"},{"$error":"#VALUE!"},{"$f":"SUBSTITUTE(IN!G2096,\"-\",\"\")","v":""},"",{"$f":"IN!F2096*60","v":0},0,"-",{"$f":"SUBSTITUTE(IN!F2096,\",\",\".\")","v":""}]
[0,{"$error":"#VALUE!"},{"$error":"#VALUE!"},{"$f":"SUBSTITUTE(IN!G2097,\"-\",\"\")","v":""},"",{"$f":"IN!F2097*60","v":0},0,"-",{"$f":"SUBSTITUTE(IN!F2097,\",\",\".\")","v":""}]
[0,{"$error":"#VALUE!"},{"$error":"#VALUE!"},{"$f":"SUBSTITUTE(IN!G2098,\"-\",\"\")","v":""},"",{"$f":"IN!F2098*60","v":0},0,"-",{"$f":"SUBSTITUTE(IN!F2098,\",\",\".\")","v":""}]
[0,{"$error":"#VALUE!"},{"$error":"#VALUE!"},{"$f":"SUBSTITUTE(IN!G2099,\"-\",\"\")","v":""},"",{"$f":"IN!F2099*60","v":0},0,"-",{"$f":"SUBSTITUTE(IN!F2099,\",\",\".\")","v":""}]
[0,{"$error":"#VALUE!"},{"$error":"#VALUE!"},{"$f":"SUBSTITUTE(IN!G2100,\"-\",\"\")","v":""},"",{"$f":"IN!F2100*60","v":0},0,"-",{"$f":"SUBSTITUTE(IN!F2100,\",\",\".\")","v":""}]
[0,{"$error":"#VALUE!"},{"$error":"#VALUE!"},{"$f":"SUBSTITUTE(IN!G2101,\"-\",\"\")","v":""},"",{"$f":"IN!F2101*60","v":0},0,"-",{"$f":"SUBSTITUTE(IN!F2101,\",\",\".\")","v":""}]
[0,{"$error":"#VALUE!"},{"$error":"#VALUE!"},{"$f":"SUBSTITUTE(IN!G2102,\"-\",\"\")","v":""},"",{"$f":"IN!F2102*60","v":0},0,"-",{"$f":"SUBSTITUTE(IN!F2102,\",\",\".\")","v":""}]
[0,{"$error":"#VALUE!"},{"$error":"#VALUE!"},{"$f":"SUBSTITUTE(IN!G2103,\"-\",\"\")","v":""},"",{"$f":"IN!F2103*60","v":0},0,"-",{"$f":"SUBSTITUTE(IN!F2103,\",\",\".\")","v":""}]
[0,{"$error":"#VALUE!"},{"$error":"#VALUE!"},{"$f":"SUBSTITUTE(IN!G2104,\"-\",\"\")","v":""},"",{"$f":"IN!F2104*60","v":0},0,"-",{"$f":"SUBSTITUTE(IN!F2104,\",\",\".\")","v":""}]
[0,{"$error":"#VALUE!"},{"$error":"#VALUE!"},{"$f":"SUBSTITUTE(IN!G2105,\"-\",\"\")","v":""},"",{"$f":"IN!F2105*60","v":0},0,"-",{"$f":"SUBSTITUTE(IN!F2105,\",\",\".\")","v":""}]
[0,{"$error":"#VALUE!"},{"$error":"#VALUE!"},{"$f":"SUBSTITUTE(IN!G2106,\"-\",\"\")","v":""},"",{"$f":"IN!F2106*60","v":0},0,"-",{"$f":"SUBSTITUTE(IN!F2106,\",\",\".\")","v":""}]
[0,{"$error":"#VALUE!"},{"$error":"#VALUE!"},{"$f":"SUBSTITUTE(IN!G2107,\"-\",\"\")","v":""},"",{"$f":"IN!F2107*60","v":0},0,"-",{"$f":"SUBSTITUTE(IN!F2107,\",\",\".\")","v":""}]
[0,{"$error":"#VALUE!"},{"$error":"#VALUE!"},{"$f":"SUBSTITUTE(IN!G2108,\"-\",\"\")","v":""},"",{"$f":"IN!F2108*60","v":0},0,"-",{"$f":"SUBSTITUTE(IN!F2108,\",\",\".\")","v":""}]
[0,{"$error":"#VALUE!"},{"$error":"#VALUE!"},{"$f":"SUBSTITUTE(IN!G2109,\"-\",\"\")","v":""},"",{"$f":"IN!F2109*60","v":0},0,"-",{"$f":"SUBSTITUTE(IN!F2109,\",\",\".\")","v":""}]
[0,{"$error":"#VALUE!"},{"$error":"#VALUE!"},{"$f":"SUBSTITUTE(IN!G2110,\"-\",\"\")","v":""},"",{"$f":"IN!F2110*60","v":0},0,"-",{"$f":"SUBSTITUTE(IN!F2110,\",\",\".\")","v":""}]
[0,{"$error":"#VALUE!"},{"$error":"#VALUE!"},{"$f":"SUBSTITUTE(IN!G2111,\"-\",\"\")","v":""},"",{"$f":"IN!F2111*60","v":0},0,"-",{"$f":"SUBSTITUTE(IN!F2111,\",\",\".\")","v":""}]
[0,{"$error":"#VALUE!"},{"$error":"#VALUE!"},{"$f":"SUBSTITUTE(IN!G2112,\"-\",\"\")","v":""},"",{"$f":"IN!F2112*60","v":0},0,"-",{"$f":"SUBSTITUTE(IN!F2112,\",\",\".\")","v":""}]
[0,{"$error":"#VALUE!"},{"$error":"#VALUE!"},{"$f":"SUBSTITUTE(IN!G2113,\"-\",\"\")","v":""},"",{"$f":"IN!F2113*60","v":0},0,"-",{"$f":"SUBSTITUTE(IN!F2113,\",\",\".\")","v":""}]
[0,{"$error":"#VALUE!"},{"$error":"#VALUE!"},{"$f":"SUBSTITUTE(IN!G2114,\"-\",\"\")","v":""},"",{"$f":"IN!F2114*60","v":0},0,"-",{"$f":"SUBSTITUTE(IN!F2114,\",\",\".\")","v":""}]
[0,{"$error":"#VALUE!"},{"$error":"#VALUE!"},{"$f":"SUBSTITUTE(IN!G2115,\"-\",\"\")","v":""},"",{"$f":"IN!F2115*60","v":0},0,"-",{"$f":"SUBSTITUTE(IN!F2115,\",\",\".\")","v":""}]
[0,{"$error":"#VALUE!"},{"$error":"#VALUE!"},{"$f":"SUBSTITUTE(IN!G2116,\"-\",\"\")","v":""},"",{"$f":"IN!F2116*60","v":0},0,"-",{"$f":"SUBSTITUTE(IN!F2116,\",\",\".\")","v":""}]
[{"$f":"LEN(D2117)","v":0},{"$f":"VALUE(LEFT(D2117,1))","v":{"$error":"#VALUE!"}},{"$f":"IF(B2117<2,20,19)","v":{"$error":"#VALUE!"}},{"$f":"SUBSTITUTE(IN!G2117,\"-\",\"\")","v":""},{"$f":"IF(A2117=10,CONCATENATE(C2117,D2117),D2117)","v":""},{"$f":"IN!F2117*60","v":0},{"$f":"ROUND(F2117,0)","v":0},{"$f":"CONCATENATE(MID(E2117,1,8),\"-\",MID(E2117,9,4))","v":"-"},{"$f":"SUBSTITUTE(IN!F2117,\",\",\".\")","v":""}]
[0,{"$error":"#VALUE!"},{"$error":"#VALUE!"},{"$f":"SUBSTITUTE(IN!G2118,\"-\",\"\")","v":""},"",{"$f":"IN!F2118*60","v":0},0,"-",{"$f":"SUBSTITUTE(IN!F2118,\",\",\".\")","v":""}]
[0,{"$error":"#VALUE!"},{"$error":"#VALUE!"},{"$f":"SUBSTITUTE(IN!G2119,\"-\",\"\")","v":""},"",{"$f":"IN!F2119*60","v":0},0,"-",{"$f":"SUBSTITUTE(IN!F2119,\",\",\".\")","v":""}]
[0,{"$error":"#VALUE!"},{"$error":"#VALUE!"},{"$f":"SUBSTITUTE(IN!G2120,\"-\",\"\")","v":""},"",{"$f":"IN!F2120*60","v":0},0,"-",{"$f":"SUBSTITUTE(IN!F2120,\",\",\".\")","v":""}]
[0,{"$error":"#VALUE!"},{"$error":"#VALUE!"},{"$f":"SUBSTITUTE(IN!G2121,\"-\",\"\")","v":""},"",{"$f":"IN!F2121*60","v":0},0,"-",{"$f":"SUBSTITUTE(IN!F2121,\",\",\".\")","v":""}]
[0,{"$error":"#VALUE!"},{"$error":"#VALUE!"},{"$f":"SUBSTITUTE(IN!G2122,\"-\",\"\")","v":""},"",{"$f":"IN!F2122*60","v":0},0,"-",{"$f":"SUBSTITUTE(IN!F2122,\",\",\".\")","v":""}]
[0,{"$error":"#VALUE!"},{"$error":"#VALUE!"},{"$f":"SUBSTITUTE(IN!G2123,\"-\",\"\")","v":""},"",{"$f":"IN!F2123*60","v":0},0,"-",{"$f":"SUBSTITUTE(IN!F2123,\",\",\".\")","v":""}]
[0,{"$error":"#VALUE!"},{"$error":"#VALUE!"},{"$f":"SUBSTITUTE(IN!G2124,\"-\",\"\")","v":""},"",{"$f":"IN!F2124*60","v":0},0,"-",{"$f":"SUBSTITUTE(IN!F2124,\",\",\".\")","v":""}]
[0,{"$error":"#VALUE!"},{"$error":"#VALUE!"},{"$f":"SUBSTITUTE(IN!G2125,\"-\",\"\")","v":""},"",{"$f":"IN!F2125*60","v":0},0,"-",{"$f":"SUBSTITUTE(IN!F2125,\",\",\".\")","v":""}]
[0,{"$error":"#VALUE!"},{"$error":"#VALUE!"},{"$f":"SUBSTITUTE(IN!G2126,\"-\",\"\")","v":""},"",{"$f":"IN!F2126*60","v":0},0,"-",{"$f":"SUBSTITUTE(IN!F2126,\",\",\".\")","v":""}]
[0,{"$error":"#VALUE!"},{"$error":"#VALUE!"},{"$f":"SUBSTITUTE(IN!G2127,\"-\",\"\")","v":""},"",{"$f":"IN!F2127*60","v":0},0,"-",{"$f":"SUBSTITUTE(IN!F2127,\",\",\".\")","v":""}]
[0,{"$error":"#VALUE!"},{"$error":"#VALUE!"},{"$f":"SUBSTITUTE(IN!G2128,\"-\",\"\")","v":""},"",{"$f":"IN!F2128*60","v":0},0,"-",{"$f":"SUBSTITUTE(IN!F2128,\",\",\".\")","v":""}]
[0,{"$error":"#VALUE!"},{"$error":"#VALUE!"},{"$f":"SUBSTITUTE(IN!G2129,\"-\",\"\")","v":""},"",{"$f":"IN!F2129*60","v":0},0,"-",{"$f":"SUBSTITUTE(IN!F2129,\",\",\".\")","v":""}]
[0,{"$error":"#VALUE!"},{"$error":"#VALUE!"},{"$f":"SUBSTITUTE(IN!G2130,\"-\",\"\")","v":""},"",{"$f":"IN!F2130*60","v":0},0,"-",{"$f":"SUBSTITUTE(IN!F2130,\",\",\".\")","v":""}]
[0,{"$error":"#VALUE!"},{"$error":"#VALUE!"},{"$f":"SUBSTITUTE(IN!G2131,\"-\",\"\")","v":""},"",{"$f":"IN!F2131*60","v":0},0,"-",{"$f":"SUBSTITUTE(IN!F2131,\",\",\".\")","v":""}]
[0,{"$error":"#VALUE!"},{"$error":"#VALUE!"},{"$f":"SUBSTITUTE(IN!G2132,\"-\",\"\")","v":""},"",{"$f":"IN!F2132*60","v":0},0,"-",{"$f":"SUBSTITUTE(IN!F2132,\",\",\".\")","v":""}]
[0,{"$error":"#VALUE!"},{"$error":"#VALUE!"},{"$f":"SUBSTITUTE(IN!G2133,\"-\",\"\")","v":""},"",{"$f":"IN!F2133*60","v":0},0,"-",{"$f":"SUBSTITUTE(IN!F2133,\",\",\".\")","v":""}]
[0,{"$error":"#VALUE!"},{"$error":"#VALUE!"},{"$f":"SUBSTITUTE(IN!G2134,\"-\",\"\")","v":""},"",{"$f":"IN!F2134*60","v":0},0,"-",{"$f":"SUBSTITUTE(IN!F2134,\",\",\".\")","v":""}]
[0,{"$error":"#VALUE!"},{"$error":"#VALUE!"},{"$f":"SUBSTITUTE(IN!G2135,\"-\",\"\")","v":""},"",{"$f":"IN!F2135*60","v":0},0,"-",{"$f":"SUBSTITUTE(IN!F2135,\",\",\".\")","v":""}]
[0,{"$error":"#VALUE!"},{"$error":"#VALUE!"},{"$f":"SUBSTITUTE(IN!G2136,\"-\",\"\")","v":""},"",{"$f":"IN!F2136*60","v":0},0,"-",{"$f":"SUBSTITUTE(IN!F2136,\",\",\".\")","v":""}]
[0,{"$error":"#VALUE!"},{"$error":"#VALUE!"},{"$f":"SUBSTITUTE(IN!G2137,\"-\",\"\")","v":""},"",{"$f":"IN!F2137*60","v":0},0,"-",{"$f":"SUBSTITUTE(IN!F2137,\",\",\".\")","v":""}]
[0,{"$error":"#VALUE!"},{"$error":"#VALUE!"},{"$f":"SUBSTITUTE(IN!G2138,\"-\",\"\")","v":""},"",{"$f":"IN!F2138*60","v":0},0,"-",{"$f":"SUBSTITUTE(IN!F2138,\",\",\".\")","v":""}]
[0,{"$error":"#VALUE!"},{"$error":"#VALUE!"},{"$f":"SUBSTITUTE(IN!G2139,\"-\",\"\")","v":""},"",{"$f":"IN!F2139*60","v":0},0,"-",{"$f":"SUBSTITUTE(IN!F2139,\",\",\".\")","v":""}]
[0,{"$error":"#VALUE!"},{"$error":"#VALUE!"},{"$f":"SUBSTITUTE(IN!G2140,\"-\",\"\")","v":""},"",{"$f":"IN!F2140*60","v":0},0,"-",{"$f":"SUBSTITUTE(IN!F2140,\",\",\".\")","v":""}]
[0,{"$error":"#VALUE!"},{"$error":"#VALUE!"},{"$f":"SUBSTITUTE(IN!G2141,\"-\",\"\")","v":""},"",{"$f":"IN!F2141*60","v":0},0,"-",{"$f":"SUBSTITUTE(IN!F2141,\",\",\".\")","v":""}]
[0,{"$error":"#VALUE!"},{"$error":"#VALUE!"},{"$f":"SUBSTITUTE(IN!G2142,\"-\",\"\")","v":""},"",{"$f":"IN!F2142*60","v":0},0,"-",{"$f":"SUBSTITUTE(IN!F2142,\",\",\".\")","v":""}]
[0,{"$error":"#VALUE!"},{"$error":"#VALUE!"},{"$f":"SUBSTITUTE(IN!G2143,\"-\",\"\")","v":""},"",{"$f":"IN!F2143*60","v":0},0,"-",{"$f":"SUBSTITUTE(IN!F2143,\",\",\".\")","v":""}]
[0,{"$error":"#VALUE!"},{"$error":"#VALUE!"},{"$f":"SUBSTITUTE(IN!G2144,\"-\",\"\")","v":""},"",{"$f":"IN!F2144*60","v":0},0,"-",{"$f":"SUBSTITUTE(IN!F2144,\",\",\".\")","v":""}]
[0,{"$error":"#VALUE!"},{"$error":"#VALUE!"},{"$f":"SUBSTITUTE(IN!G2145,\"-\",\"\")","v":""},"",{"$f":"IN!F2145*60","v":0},0,"-",{"$f":"SUBSTITUTE(IN!F2145,\",\",\".\")","v":""}]
[0,{"$error":"#VALUE!"},{"$error":"#VALUE!"},{"$f":"SUBSTITUTE(IN!G2146,\"-\",\"\")","v":""},"",{"$f":"IN!F2146*60","v":0},0,"-",{"$f":"SUBSTITUTE(IN!F2146,\",\",\".\")","v":""}]
[0,{"$error":"#VALUE!"},{"$error":"#VALUE!"},{"$f":"SUBSTITUTE(IN!G2147,\"-\",\"\")","v":""},"",{"$f":"IN!F2147*60","v":0},0,"-",{"$f":"SUBSTITUTE(IN!F2147,\",\",\".\")","v":""}]
[0,{"$error":"#VALUE!"},{"$error":"#VALUE!"},{"$f":"SUBSTITUTE(IN!G2148,\"-\",\"\")","v":""},"",{"$f":"IN!F2148*60","v":0},0,"-",{"$f":"SUBSTITUTE(IN!F2148,\",\",\".\")","v":""}]
[0,{"$error":"#VALUE!"},{"$error":"#VALUE!"},{"$f":"SUBSTITUTE(IN!G2149,\"-\",\"\")","v":""},"",{"$f":"IN!F2149*60","v":0},0,"-",{"$f":"SUBSTITUTE(IN!F2149,\",\",\".\")","v":""}]
[0,{"$error":"#VALUE!"},{"$error":"#VALUE!"},{"$f":"SUBSTITUTE(IN!G2150,\"-\",\"\")","v":""},"",{"$f":"IN!F2150*60","v":0},0,"-",{"$f":"SUBSTITUTE(IN!F2150,\",\",\".\")","v":""}]
[0,{"$error":"#VALUE!"},{"$error":"#VALUE!"},{"$f":"SUBSTITUTE(IN!G2151,\"-\",\"\")","v":""},"",{"$f":"IN!F2151*60","v":0},0,"-",{"$f":"SUBSTITUTE(IN!F2151,\",\",\".\")","v":""}]
[0,{"$error":"#VALUE!"},{"$error":"#VALUE!"},{"$f":"SUBSTITUTE(IN!G2152,\"-\",\"\")","v":""},"",{"$f":"IN!F2152*60","v":0},0,"-",{"$f":"SUBSTITUTE(IN!F2152,\",\",\".\")","v":""}]
[0,{"$error":"#VALUE!"},{"$error":"#VALUE!"},{"$f":"SUBSTITUTE(IN!G2153,\"-\",\"\")","v":""},"",{"$f":"IN!F2153*60","v":0},0,"-",{"$f":"SUBSTITUTE(IN!F2153,\",\",\".\")","v":""}]
[0,{"$error":"#VALUE!"},{"$error":"#VALUE!"},{"$f":"SUBSTITUTE(IN!G2154,\"-\",\"\")","v":""},"",{"$f":"IN!F2154*60","v":0},0,"-",{"$f":"SUBSTITUTE(IN!F2154,\",\",\".\")","v":""}]
[0,{"$error":"#VALUE!"},{"$error":"#VALUE!"},{"$f":"SUBSTITUTE(IN!G2155,\"-\",\"\")","v":""},"",{"$f":"IN!F2155*60","v":0},0,"-",{"$f":"SUBSTITUTE(IN!F2155,\",\",\".\")","v":""}]
[0,{"$error":"#VALUE!"},{"$error":"#VALUE!"},{"$f":"SUBSTITUTE(IN!G2156,\"-\",\"\")","v":""},"",{"$f":"IN!F2156*60","v":0},0,"-",{"$f":"SUBSTITUTE(IN!F2156,\",\",\".\")","v":""}]
[0,{"$error":"#VALUE!"},{"$error":"#VALUE!"},{"$f":"SUBSTITUTE(IN!G2157,\"-\",\"\")","v":""},"",{"$f":"IN!F2157*60","v":0},0,"-",{"$f":"SUBSTITUTE(IN!F2157,\",\",\".\")","v":""}]
[0,{"$error":"#VALUE!"},{"$error":"#VALUE!"},{"$f":"SUBSTITUTE(IN!G2158,\"-\",\"\")","v":""},"",{"$f":"IN!F2158*60","v":0},0,"-",{"$f":"SUBSTITUTE(IN!F2158,\",\",\".\")","v":""}]
[0,{"$error":"#VALUE!"},{"$error":"#VALUE!"},{"$f":"SUBSTITUTE(IN!G2159,\"-\",\"\")","v":""},"",{"$f":"IN!F2159*60","v":0},0,"-",{"$f":"SUBSTITUTE(IN!F2159,\",\",\".\")","v":""}]
[0,{"$error":"#VALUE!"},{"$error":"#VALUE!"},{"$f":"SUBSTITUTE(IN!G2160,\"-\",\"\")","v":""},"",{"$f":"IN!F2160*60","v":0},0,"-",{"$f":"SUBSTITUTE(IN!F2160,\",\",\".\")","v":""}]
[0,{"$error":"#VALUE!"},{"$error":"#VALUE!"},{"$f":"SUBSTITUTE(IN!G2161,\"-\",\"\")","v":""},"",{"$f":"IN!F2161*60","v":0},0,"-",{"$f":"SUBSTITUTE(IN!F2161,\",\",\".\")","v":""}]
[0,{"$error":"#VALUE!"},{"$error":"#VALUE!"},{"$f":"SUBSTITUTE(IN!G2162,\"-\",\"\")","v":""},"",{"$f":"IN!F2162*60","v":0},0,"-",{"$f":"SUBSTITUTE(IN!F2162,\",\",\".\")","v":""}]
[0,{"$error":"#VALUE!"},{"$error":"#VALUE!"},{"$f":"SUBSTITUTE(IN!G2163,\"-\",\"\")","v":""},"",{"$f":"IN!F2163*60","v":0},0,"-",{"$f":"SUBSTITUTE(IN!F2163,\",\",\".\")","v":""}]
[0,{"$error":"#VALUE!"},{"$error":"#VALUE!"},{"$f":"SUBSTITUTE(IN!G2164,\"-\",\"\")","v":""},"",{"$f":"IN!F2164*60","v":0},0,"-",{"$f":"SUBSTITUTE(IN!F2164,\",\",\".\")","v":""}]
[0,{"$error":"#VALUE!"},{"$error":"#VALUE!"},{"$f":"SUBSTITUTE(IN!G2165,\"-\",\"\")","v":""},"",{"$f":"IN!F2165*60","v":0},0,"-",{"$f":"SUBSTITUTE(IN!F2165,\",\",\".\")","v":""}]
[0,{"$error":"#VALUE!"},{"$error":"#VALUE!"},{"$f":"SUBSTITUTE(IN!G2166,\"-\",\"\")","v":""},"",{"$f":"IN!F2166*60","v":0},0,"-",{"$f":"SUBSTITUTE(IN!F2166,\",\",\".\")","v":""}]
[0,{"$error":"#VALUE!"},{"$error":"#VALUE!"},{"$f":"SUBSTITUTE(IN!G2167,\"-\",\"\")","v":""},"",{"$f":"IN!F2167*60","v":0},0,"-",{"$f":"SUBSTITUTE(IN!F2167,\",\",\".\")","v":""}]
[0,{"$error":"#VALUE!"},{"$error":"#VALUE!"},{"$f":"SUBSTITUTE(IN!G2168,\"-\",\"\")","v":""},"",{"$f":"IN!F2168*60","v":0},0,"-",{"$f":"SUBSTITUTE(IN!F2168,\",\",\".\")","v":""}]
[0,{"$error":"#VALUE!"},{"$error":"#VALUE!"},{"$f":"SUBSTITUTE(IN!G2169,\"-\",\"\")","v":""},"",{"$f":"IN!F2169*60","v":0},0,"-",{"$f":"SUBSTITUTE(IN!F2169,\",\",\".\")","v":""}]
[0,{"$error":"#VALUE!"},{"$error":"#VALUE!"},{"$f":"SUBSTITUTE(IN!G2170,\"-\",\"\")","v":""},"",{"$f":"IN!F2170*60","v":0},0,"-",{"$f":"SUBSTITUTE(IN!F2170,\",\",\".\")","v":""}]
[0,{"$error":"#VALUE!"},{"$error":"#VALUE!"},{"$f":"SUBSTITUTE(IN!G2171,\"-\",\"\")","v":""},"",{"$f":"IN!F2171*60","v":0},0,"-",{"$f":"SUBSTITUTE(IN!F2171,\",\",\".\")","v":""}]
[0,{"$error":"#VALUE!"},{"$error":"#VALUE!"},{"$f":"SUBSTITUTE(IN!G2172,\"-\",\"\")","v":""},"",{"$f":"IN!F2172*60","v":0},0,"-",{"$f":"SUBSTITUTE(IN!F2172,\",\",\".\")","v":""}]
[0,{"$error":"#VALUE!"},{"$error":"#VALUE!"},{"$f":"SUBSTITUTE(IN!G2173,\"-\",\"\")","v":""},"",{"$f":"IN!F2173*60","v":0},0,"-",{"$f":"SUBSTITUTE(IN!F2173,\",\",\".\")","v":""}]
[0,{"$error":"#VALUE!"},{"$error":"#VALUE!"},{"$f":"SUBSTITUTE(IN!G2174,\"-\",\"\")","v":""},"",{"$f":"IN!F2174*60","v":0},0,"-",{"$f":"SUBSTITUTE(IN!F2174,\",\",\".\")","v":""}]
[0,{"$error":"#VALUE!"},{"$error":"#VALUE!"},{"$f":"SUBSTITUTE(IN!G2175,\"-\",\"\")","v":""},"",{"$f":"IN!F2175*60","v":0},0,"-",{"$f":"SUBSTITUTE(IN!F2175,\",\",\".\")","v":""}]
[0,{"$error":"#VALUE!"},{"$error":"#VALUE!"},{"$f":"SUBSTITUTE(IN!G2176,\"-\",\"\")","v":""},"",{"$f":"IN!F2176*60","v":0},0,"-",{"$f":"SUBSTITUTE(IN!F2176,\",\",\".\")","v":""}]
[0,{"$error":"#VALUE!"},{"$error":"#VALUE!"},{"$f":"SUBSTITUTE(IN!G2177,\"-\",\"\")","v":""},"",{"$f":"IN!F2177*60","v":0},0,"-",{"$f":"SUBSTITUTE(IN!F2177,\",\",\".\")","v":""}]
[0,{"$error":"#VALUE!"},{"$error":"#VALUE!"},{"$f":"SUBSTITUTE(IN!G2178,\"-\",\"\")","v":""},"",{"$f":"IN!F2178*60","v":0},0,"-",{"$f":"SUBSTITUTE(IN!F2178,\",\",\".\")","v":""}]
[0,{"$error":"#VALUE!"},{"$error":"#VALUE!"},{"$f":"SUBSTITUTE(IN!G2179,\"-\",\"\")","v":""},"",{"$f":"IN!F2179*60","v":0},0,"-",{"$f":"SUBSTITUTE(IN!F2179,\",\",\".\")","v":""}]
[0,{"$error":"#VALUE!"},{"$error":"#VALUE!"},{"$f":"SUBSTITUTE(IN!G2180,\"-\",\"\")","v":""},"",{"$f":"IN!F2180*60","v":0},0,"-",{"$f":"SUBSTITUTE(IN!F2180,\",\",\".\")","v":""}]
[{"$f":"LEN(D2181)","v":0},{"$f":"VALUE(LEFT(D2181,1))","v":{"$error":"#VALUE!"}},{"$f":"IF(B2181<2,20,19)","v":{"$error":"#VALUE!"}},{"$f":"SUBSTITUTE(IN!G2181,\"-\",\"\")","v":""},{"$f":"IF(A2181=10,CONCATENATE(C2181,D2181),D2181)","v":""},{"$f":"IN!F2181*60","v":0},{"$f":"ROUND(F2181,0)","v":0},{"$f":"CONCATENATE(MID(E2181,1,8),\"-\",MID(E2181,9,4))","v":"-"},{"$f":"SUBSTITUTE(IN!F2181,\",\",\".\")","v":""}]
[0,{"$error":"#VALUE!"},{"$error":"#VALUE!"},{"$f":"SUBSTITUTE(IN!G2182,\"-\",\"\")","v":""},"",{"$f":"IN!F2182*60","v":0},0,"-",{"$f":"SUBSTITUTE(IN!F2182,\",\",\".\")","v":""}]
[0,{"$error":"#VALUE!"},{"$error":"#VALUE!"},{"$f":"SUBSTITUTE(IN!G2183,\"-\",\"\")","v":""},"",{"$f":"IN!F2183*60","v":0},0,"-",{"$f":"SUBSTITUTE(IN!F2183,\",\",\".\")","v":""}]
[0,{"$error":"#VALUE!"},{"$error":"#VALUE!"},{"$f":"SUBSTITUTE(IN!G2184,\"-\",\"\")","v":""},"",{"$f":"IN!F2184*60","v":0},0,"-",{"$f":"SUBSTITUTE(IN!F2184,\",\",\".\")","v":""}]
[0,{"$error":"#VALUE!"},{"$error":"#VALUE!"},{"$f":"SUBSTITUTE(IN!G2185,\"-\",\"\")","v":""},"",{"$f":"IN!F2185*60","v":0},0,"-",{"$f":"SUBSTITUTE(IN!F2185,\",\",\".\")","v":""}]
[0,{"$error":"#VALUE!"},{"$error":"#VALUE!"},{"$f":"SUBSTITUTE(IN!G2186,\"-\",\"\")","v":""},"",{"$f":"IN!F2186*60","v":0},0,"-",{"$f":"SUBSTITUTE(IN!F2186,\",\",\".\")","v":""}]
[0,{"$error":"#VALUE!"},{"$error":"#VALUE!"},{"$f":"SUBSTITUTE(IN!G2187,\"-\",\"\")","v":""},"",{"$f":"IN!F2187*60","v":0},0,"-",{"$f":"SUBSTITUTE(IN!F2187,\",\",\".\")","v":""}]
[0,{"$error":"#VALUE!"},{"$error":"#VALUE!"},{"$f":"SUBSTITUTE(IN!G2188,\"-\",\"\")","v":""},"",{"$f":"IN!F2188*60","v":0},0,"-",{"$f":"SUBSTITUTE(IN!F2188,\",\",\".\")","v":""}]
[0,{"$error":"#VALUE!"},{"$error":"#VALUE!"},{"$f":"SUBSTITUTE(IN!G2189,\"-\",\"\")","v":""},"",{"$f":"IN!F2189*60","v":0},0,"-",{"$f":"SUBSTITUTE(IN!F2189,\",\",\".\")","v":""}]
[0,{"$error":"#VALUE!"},{"$error":"#VALUE!"},{"$f":"SUBSTITUTE(IN!G2190,\"-\",\"\")","v":""},"",{"$f":"IN!F2190*60","v":0},0,"-",{"$f":"SUBSTITUTE(IN!F2190,\",\",\".\")","v":""}]
[0,{"$error":"#VALUE!"},{"$error":"#VALUE!"},{"$f":"SUBSTITUTE(IN!G2191,\"-\",\"\")","v":""},"",{"$f":"IN!F2191*60","v":0},0,"-",{"$f":"SUBSTITUTE(IN!F2191,\",\",\".\")","v":""}]
[0,{"$error":"#VALUE!"},{"$error":"#VALUE!"},{"$f":"SUBSTITUTE(IN!G2192,\"-\",\"\")","v":""},"",{"$f":"IN!F2192*60","v":0},0,"-",{"$f":"SUBSTITUTE(IN!F2192,\",\",\".\")","v":""}]
[0,{"$error":"#VALUE!"},{"$error":"#VALUE!"},{"$f":"SUBSTITUTE(IN!G2193,\"-\",\"\")","v":""},"",{"$f":"IN!F2193*60","v":0},0,"-",{"$f":"SUBSTITUTE(IN!F2193,\",\",\".\")","v":""}]
[0,{"$error":"#VALUE!"},{"$error":"#VALUE!"},{"$f":"SUBSTITUTE(IN!G2194,\"-\",\"\")","v":""},"",{"$f":"IN!F2194*60","v":0},0,"-",{"$f":"SUBSTITUTE(IN!F2194,\",\",\".\")","v":""}]
[0,{"$error":"#VALUE!"},{"$error":"#VALUE!"},{"$f":"SUBSTITUTE(IN!G2195,\"-\",\"\")","v":""},"",{"$f":"IN!F2195*60","v":0},0,"-",{"$f":"SUBSTITUTE(IN!F2195,\",\",\".\")","v":""}]
[0,{"$error":"#VALUE!"},{"$error":"#VALUE!"},{"$f":"SUBSTITUTE(IN!G2196,\"-\",\"\")","v":""},"",{"$f":"IN!F2196*60","v":0},0,"-",{"$f":"SUBSTITUTE(IN!F2196,\",\",\".\")","v":""}]
[0,{"$error":"#VALUE!"},{"$error":"#VALUE!"},{"$f":"SUBSTITUTE(IN!G2197,\"-\",\"\")","v":""},"",{"$f":"IN!F2197*60","v":0},0,"-",{"$f":"SUBSTITUTE(IN!F2197,\",\",\".\")","v":""}]
[0,{"$error":"#VALUE!"},{"$error":"#VALUE!"},{"$f":"SUBSTITUTE(IN!G2198,\"-\",\"\")","v":""},"",{"$f":"IN!F2198*60","v":0},0,"-",{"$f":"SUBSTITUTE(IN!F2198,\",\",\".\")","v":""}]
[0,{"$error":"#VALUE!"},{"$error":"#VALUE!"},{"$f":"SUBSTITUTE(IN!G2199,\"-\",\"\")","v":""},"",{"$f":"IN!F2199*60","v":0},0,"-",{"$f":"SUBSTITUTE(IN!F2199,\",\",\".\")","v":""}]
[0,{"$error":"#VALUE!"},{"$error":"#VALUE!"},{"$f":"SUBSTITUTE(IN!G2200,\"-\",\"\")","v":""},"",{"$f":"IN!F2200*60","v":0},0,"-",{"$f":"SUBSTITUTE(IN!F2200,\",\",\".\")","v":""}]
[0,{"$error":"#VALUE!"},{"$error":"#VALUE!"},{"$f":"SUBSTITUTE(IN!G2201,\"-\",\"\")","v":""},"",{"$f":"IN!F2201*60","v":0},0,"-",{"$f":"SUBSTITUTE(IN!F2201,\",\",\".\")","v":""}]
[0,{"$error":"#VALUE!"},{"$error":"#VALUE!"},{"$f":"SUBSTITUTE(IN!G2202,\"-\",\"\")","v":""},"",{"$f":"IN!F2202*60","v":0},0,"-",{"$f":"SUBSTITUTE(IN!F2202,\",\",\".\")","v":""}]
[0,{"$error":"#VALUE!"},{"$error":"#VALUE!"},{"$f":"SUBSTITUTE(IN!G2203,\"-\",\"\")","v":""},"",{"$f":"IN!F2203*60","v":0},0,"-",{"$f":"SUBSTITUTE(IN!F2203,\",\",\".\")","v":""}]
[0,{"$error":"#VALUE!"},{"$error":"#VALUE!"},{"$f":"SUBSTITUTE(IN!G2204,\"-\",\"\")","v":""},"",{"$f":"IN!F2204*60","v":0},0,"-",{"$f":"SUBSTITUTE(IN!F2204,\",\",\".\")","v":""}]
[0,{"$error":"#VALUE!"},{"$error":"#VALUE!"},{"$f":"SUBSTITUTE(IN!G2205,\"-\",\"\")","v":""},"",{"$f":"IN!F2205*60","v":0},0,"-",{"$f":"SUBSTITUTE(IN!F2205,\",\",\".\")","v":""}]
[0,{"$error":"#VALUE!"},{"$error":"#VALUE!"},{"$f":"SUBSTITUTE(IN!G2206,\"-\",\"\")","v":""},"",{"$f":"IN!F2206*60","v":0},0,"-",{"$f":"SUBSTITUTE(IN!F2206,\",\",\".\")","v":""}]
[0,{"$error":"#VALUE!"},{"$error":"#VALUE!"},{"$f":"SUBSTITUTE(IN!G2207,\"-\",\"\")","v":""},"",{"$f":"IN!F2207*60","v":0},0,"-",{"$f":"SUBSTITUTE(IN!F2207,\",\",\".\")","v":""}]
[0,{"$error":"#VALUE!"},{"$error":"#VALUE!"},{"$f":"SUBSTITUTE(IN!G2208,\"-\",\"\")","v":""},"",{"$f":"IN!F2208*60","v":0},0,"-",{"$f":"SUBSTITUTE(IN!F2208,\",\",\".\")","v":""}]
[0,{"$error":"#VALUE!"},{"$error":"#VALUE!"},{"$f":"SUBSTITUTE(IN!G2209,\"-\",\"\")","v":""},"",{"$f":"IN!F2209*60","v":0},0,"-",{"$f":"SUBSTITUTE(IN!F2209,\",\",\".\")","v":""}]
[0,{"$error":"#VALUE!"},{"$error":"#VALUE!"},{"$f":"SUBSTITUTE(IN!G2210,\"-\",\"\")","v":""},"",{"$f":"IN!F2210*60","v":0},0,"-",{"$f":"SUBSTITUTE(IN!F2210,\",\",\".\")","v":""}]
[0,{"$error":"#VALUE!"},{"$error":"#VALUE!"},{"$f":"SUBSTITUTE(IN!G2211,\"-\",\"\")","v":""},"",{"$f":"IN!F2211*60","v":0},0,"-",{"$f":"SUBSTITUTE(IN!F2211,\",\",\".\")","v":""}]
[0,{"$error":"#VALUE!"},{"$error":"#VALUE!"},{"$f":"SUBSTITUTE(IN!G2212,\"-\",\"\")","v":""},"",{"$f":"IN!F2212*60","v":0},0,"-",{"$f":"SUBSTITUTE(IN!F2212,\",\",\".\")","v":""}]
[0,{"$error":"#VALUE!"},{"$error":"#VALUE!"},{"$f":"SUBSTITUTE(IN!G2213,\"-\",\"\")","v":""},"",{"$f":"IN!F2213*60","v":0},0,"-",{"$f":"SUBSTITUTE(IN!F2213,\",\",\".\")","v":""}]
[0,{"$error":"#VALUE!"},{"$error":"#VALUE!"},{"$f":"SUBSTITUTE(IN!G2214,\"-\",\"\")","v":""},"",{"$f":"IN!F2214*60","v":0},0,"-",{"$f":"SUBSTITUTE(IN!F2214,\",\",\".\")","v":""}]
[0,{"$error":"#VALUE!"},{"$error":"#VALUE!"},{"$f":"SUBSTITUTE(IN!G2215,\"-\",\"\")","v":""},"",{"$f":"IN!F2215*60","v":0},0,"-",{"$f":"SUBSTITUTE(IN!F2215,\",\",\".\")","v":""}]
[0,{"$error":"#VALUE!"},{"$error":"#VALUE!"},{"$f":"SUBSTITUTE(IN!G2216,\"-\",\"\")","v":""},"",{"$f":"IN!F2216*60","v":0},0,"-",{"$f":"SUBSTITUTE(IN!F2216,\",\",\".\")","v":""}]
[0,{"$error":"#VALUE!"},{"$error":"#VALUE!"},{"$f":"SUBSTITUTE(IN!G2217,\"-\",\"\")","v":""},"",{"$f":"IN!F2217*60","v":0},0,"-",{"$f":"SUBSTITUTE(IN!F2217,\",\",\".\")","v":""}]
[0,{"$error":"#VALUE!"},{"$error":"#VALUE!"},{"$f":"SUBSTITUTE(IN!G2218,\"-\",\"\")","v":""},"",{"$f":"IN!F2218*60","v":0},0,"-",{"$f":"SUBSTITUTE(IN!F2218,\",\",\".\")","v":""}]
[0,{"$error":"#VALUE!"},{"$error":"#VALUE!"},{"$f":"SUBSTITUTE(IN!G2219,\"-\",\"\")","v":""},"",{"$f":"IN!F2219*60","v":0},0,"-",{"$f":"SUBSTITUTE(IN!F2219,\",\",\".\")","v":""}]
[0,{"$error":"#VALUE!"},{"$error":"#VALUE!"},{"$f":"SUBSTITUTE(IN!G2220,\"-\",\"\")","v":""},"",{"$f":"IN!F2220*60","v":0},0,"-",{"$f":"SUBSTITUTE(IN!F2220,\",\",\".\")","v":""}]
[0,{"$error":"#VALUE!"},{"$error":"#VALUE!"},{"$f":"SUBSTITUTE(IN!G2221,\"-\",\"\")","v":""},"",{"$f":"IN!F2221*60","v":0},0,"-",{"$f":"SUBSTITUTE(IN!F2221,\",\",\".\")","v":""}]
[0,{"$error":"#VALUE!"},{"$error":"#VALUE!"},{"$f":"SUBSTITUTE(IN!G2222,\"-\",\"\")","v":""},"",{"$f":"IN!F2222*60","v":0},0,"-",{"$f":"SUBSTITUTE(IN!F2222,\",\",\".\")","v":""}]
[0,{"$error":"#VALUE!"},{"$error":"#VALUE!"},{"$f":"SUBSTITUTE(IN!G2223,\"-\",\"\")","v":""},"",{"$f":"IN!F2223*60","v":0},0,"-",{"$f":"SUBSTITUTE(IN!F2223,\",\",\".\")","v":""}]
[0,{"$error":"#VALUE!"},{"$error":"#VALUE!"},{"$f":"SUBSTITUTE(IN!G2224,\"-\",\"\")","v":""},"",{"$f":"IN!F2224*60","v":0},0,"-",{"$f":"SUBSTITUTE(IN!F2224,\",\",\".\")","v":""}]
[0,{"$error":"#VALUE!"},{"$error":"#VALUE!"},{"$f":"SUBSTITUTE(IN!G2225,\"-\",\"\")","v":""},"",{"$f":"IN!F2225*60","v":0},0,"-",{"$f":"SUBSTITUTE(IN!F2225,\",\",\".\")","v":""}]
[0,{"$error":"#VALUE!"},{"$error":"#VALUE!"},{"$f":"SUBSTITUTE(IN!G2226,\"-\",\"\")","v":""},"",{"$f":"IN!F2226*60","v":0},0,"-",{"$f":"SUBSTITUTE(IN!F2226,\",\",\".\")","v":""}]
[0,{"$error":"#VALUE!"},{"$error":"#VALUE!"},{"$f":"SUBSTITUTE(IN!G2227,\"-\",\"\")","v":""},"",{"$f":"IN!F2227*60","v":0},0,"-",{"$f":"SUBSTITUTE(IN!F2227,\",\",\".\")","v":""}]
[0,{"$error":"#VALUE!"},{"$error":"#VALUE!"},{"$f":"SUBSTITUTE(IN!G2228,\"-\",\"\")","v":""},"",{"$f":"IN!F2228*60","v":0},0,"-",{"$f":"SUBSTITUTE(IN!F2228,\",\",\".\")","v":""}]
[0,{"$error":"#VALUE!"},{"$error":"#VALUE!"},{"$f":"SUBSTITUTE(IN!G2229,\"-\",\"\")","v":""},"",{"$f":"IN!F2229*60","v":0},0,"-",{"$f":"SUBSTITUTE(IN!F2229,\",\",\".\")","v":""}]
[0,{"$error":"#VALUE!"},{"$error":"#VALUE!"},{"$f":"SUBSTITUTE(IN!G2230,\"-\",\"\")","v":""},"",{"$f":"IN!F2230*60","v":0},0,"-",{"$f":"SUBSTITUTE(IN!F2230,\",\",\".\")","v":""}]
[0,{"$error":"#VALUE!"},{"$error":"#VALUE!"},{"$f":"SUBSTITUTE(IN!G2231,\"-\",\"\")","v":""},"",{"$f":"IN!F2231*60","v":0},0,"-",{"$f":"SUBSTITUTE(IN!F2231,\",\",\".\")","v":""}]
[0,{"$error":"#VALUE!"},{"$error":"#VALUE!"},{"$f":"SUBSTITUTE(IN!G2232,\"-\",\"\")","v":""},"",{"$f":"IN!F2232*60","v":0},0,"-",{"$f":"SUBSTITUTE(IN!F2232,\",\",\".\")","v":""}]
[0,{"$error":"#VALUE!"},{"$error":"#VALUE!"},{"$f":"SUBSTITUTE(IN!G2233,\"-\",\"\")","v":""},"",{"$f":"IN!F2233*60","v":0},0,"-",{"$f":"SUBSTITUTE(IN!F2233,\",\",\".\")","v":""}]
[0,{"$error":"#VALUE!"},{"$error":"#VALUE!"},{"$f":"SUBSTITUTE(IN!G2234,\"-\",\"\")","v":""},"",{"$f":"IN!F2234*60","v":0},0,"-",{"$f":"SUBSTITUTE(IN!F2234,\",\",\".\")","v":""}]
[0,{"$error":"#VALUE!"},{"$error":"#VALUE!"},{"$f":"SUBSTITUTE(IN!G2235,\"-\",\"\")","v":""},"",{"$f":"IN!F2235*60","v":0},0,"-",{"$f":"SUBSTITUTE(IN!F2235,\",\",\".\")","v":""}]
[0,{"$error":"#VALUE!"},{"$error":"#VALUE!"},{"$f":"SUBSTITUTE(IN!G2236,\"-\",\"\")","v":""},"",{"$f":"IN!F2236*60","v":0},0,"-",{"$f":"SUBSTITUTE(IN!F2236,\",\",\".\")","v":""}]
[0,{"$error":"#VALUE!"},{"$error":"#VALUE!"},{"$f":"SUBSTITUTE(IN!G2237,\"-\",\"\")","v":""},"",{"$f":"IN!F2237*60","v":0},0,"-",{"$f":"SUBSTITUTE(IN!F2237,\",\",\".\")","v":""}]
[0,{"$error":"#VALUE!"},{"$error":"#VALUE!"},{"$f":"SUBSTITUTE(IN!G2238,\"-\",\"\")","v":""},"",{"$f":"IN!F2238*60","v":0},0,"-",{"$f":"SUBSTITUTE(IN!F2238,\",\",\".\")","v":""}]
[0,{"$error":"#VALUE!"},{"$error":"#VALUE!"},{"$f":"SUBSTITUTE(IN!G2239,\"-\",\"\")","v":""},"",{"$f":"IN!F2239*60","v":0},0,"-",{"$f":"SUBSTITUTE(IN!F2239,\",\",\".\")","v":""}]
[0,{"$error":"#VALUE!"},{"$error":"#VALUE!"},{"$f":"SUBSTITUTE(IN!G2240,\"-\",\"\")","v":""},"",{"$f":"IN!F2240*60","v":0},0,"-",{"$f":"SUBSTITUTE(IN!F2240,\",\",\".\")","v":""}]
[0,{"$error":"#VALUE!"},{"$error":"#VALUE!"},{"$f":"SUBSTITUTE(IN!G2241,\"-\",\"\")","v":""},"",{"$f":"IN!F2241*60","v":0},0,"-",{"$f":"SUBSTITUTE(IN!F2241,\",\",\".\")","v":""}]
[0,{"$error":"#VALUE!"},{"$error":"#VALUE!"},{"$f":"SUBSTITUTE(IN!G2242,\"-\",\"\")","v":""},"",{"$f":"IN!F2242*60","v":0},0,"-",{"$f":"SUBSTITUTE(IN!F2242,\",\",\".\")","v":""}]
[0,{"$error":"#VALUE!"},{"$error":"#VALUE!"},{"$f":"SUBSTITUTE(IN!G2243,\"-\",\"\")","v":""},"",{"$f":"IN!F2243*60","v":0},0,"-",{"$f":"SUBSTITUTE(IN!F2243,\",\",\".\")","v":""}]
[0,{"$error":"#VALUE!"},{"$error":"#VALUE!"},{"$f":"SUBSTITUTE(IN!G2244,\"-\",\"\")","v":""},"",{"$f":"IN!F2244*60","v":0},0,"-",{"$f":"SUBSTITUTE(IN!F2244,\",\",\".\")","v":""}]
[{"$f":"LEN(D2245)","v":0},{"$f":"VALUE(LEFT(D2245,1))","v":{"$error":"#VALUE!"}},{"$f":"IF(B2245<2,20,19)","v":{"$error":"#VALUE!"}},{"$f":"SUBSTITUTE(IN!G2245,\"-\",\"\")","v":""},{"$f":"IF(A2245=10,CONCATENATE(C2245,D2245),D2245)","v":""},{"$f":"IN!F2245*60","v":0},{"$f":"ROUND(F2245,0)","v":0},{"$f":"CONCATENATE(MID(E2245,1,8),\"-\",MID(E2245,9,4))","v":"-"},{"$f":"SUBSTITUTE(IN!F2245,\",\",\".\")","v":""}]
[0,{"$error":"#VALUE!"},{"$error":"#VALUE!"},{"$f":"SUBSTITUTE(IN!G2246,\"-\",\"\")","v":""},"",{"$f":"IN!F2246*60","v":0},0,"-",{"$f":"SUBSTITUTE(IN!F2246,\",\",\".\")","v":""}]
[0,{"$error":"#VALUE!"},{"$error":"#VALUE!"},{"$f":"SUBSTITUTE(IN!G2247,\"-\",\"\")","v":""},"",{"$f":"IN!F2247*60","v":0},0,"-",{"$f":"SUBSTITUTE(IN!F2247,\",\",\".\")","v":""}]
[0,{"$error":"#VALUE!"},{"$error":"#VALUE!"},{"$f":"SUBSTITUTE(IN!G2248,\"-\",\"\")","v":""},"",{"$f":"IN!F2248*60","v":0},0,"-",{"$f":"SUBSTITUTE(IN!F2248,\",\",\".\")","v":""}]
[0,{"$error":"#VALUE!"},{"$error":"#VALUE!"},{"$f":"SUBSTITUTE(IN!G2249,\"-\",\"\")","v":""},"",{"$f":"IN!F2249*60","v":0},0,"-",{"$f":"SUBSTITUTE(IN!F2249,\",\",\".\")","v":""}]
[0,{"$error":"#VALUE!"},{"$error":"#VALUE!"},{"$f":"SUBSTITUTE(IN!G2250,\"-\",\"\")","v":""},"",{"$f":"IN!F2250*60","v":0},0,"-",{"$f":"SUBSTITUTE(IN!F2250,\",\",\".\")","v":""}]
[0,{"$error":"#VALUE!"},{"$error":"#VALUE!"},{"$f":"SUBSTITUTE(IN!G2251,\"-\",\"\")","v":""},"",{"$f":"IN!F2251*60","v":0},0,"-",{"$f":"SUBSTITUTE(IN!F2251,\",\",\".\")","v":""}]
[0,{"$error":"#VALUE!"},{"$error":"#VALUE!"},{"$f":"SUBSTITUTE(IN!G2252,\"-\",\"\")","v":""},"",{"$f":"IN!F2252*60","v":0},0,"-",{"$f":"SUBSTITUTE(IN!F2252,\",\",\".\")","v":""}]
[0,{"$error":"#VALUE!"},{"$error":"#VALUE!"},{"$f":"SUBSTITUTE(IN!G2253,\"-\",\"\")","v":""},"",{"$f":"IN!F2253*60","v":0},0,"-",{"$f":"SUBSTITUTE(IN!F2253,\",\",\".\")","v":""}]
[0,{"$error":"#VALUE!"},{"$error":"#VALUE!"},{"$f":"SUBSTITUTE(IN!G2254,\"-\",\"\")","v":""},"",{"$f":"IN!F2254*60","v":0},0,"-",{"$f":"SUBSTITUTE(IN!F2254,\",\",\".\")","v":""}]
[0,{"$error":"#VALUE!"},{"$error":"#VALUE!"},{"$f":"SUBSTITUTE(IN!G2255,\"-\",\"\")","v":""},"",{"$f":"IN!F2255*60","v":0},0,"-",{"$f":"SUBSTITUTE(IN!F2255,\",\",\".\")","v":""}]
[0,{"$error":"#VALUE!"},{"$error":"#VALUE!"},{"$f":"SUBSTITUTE(IN!G2256,\"-\",\"\")","v":""},"",{"$f":"IN!F2256*60","v":0},0,"-",{"$f":"SUBSTITUTE(IN!F2256,\",\",\".\")","v":""}]
[0,{"$error":"#VALUE!"},{"$error":"#VALUE!"},{"$f":"SUBSTITUTE(IN!G2257,\"-\",\"\")","v":""},"",{"$f":"IN!F2257*60","v":0},0,"-",{"$f":"SUBSTITUTE(IN!F2257,\",\",\".\")","v":""}]
[0,{"$error":"#VALUE!"},{"$error":"#VALUE!"},{"$f":"SUBSTITUTE(IN!G2258,\"-\",\"\")","v":""},"",{"$f":"IN!F2258*60","v":0},0,"-",{"$f":"SUBSTITUTE(IN!F2258,\",\",\".\")","v":""}]
[0,{"$error":"#VALUE!"},{"$error":"#VALUE!"},{"$f":"SUBSTITUTE(IN!G2259,\"-\",\"\")","v":""},"",{"$f":"IN!F2259*60","v":0},0,"-",{"$f":"SUBSTITUTE(IN!F2259,\",\",\".\")","v":""}]
[0,{"$error":"#VALUE!"},{"$error":"#VALUE!"},{"$f":"SUBSTITUTE(IN!G2260,\"-\",\"\")","v":""},"",{"$f":"IN!F2260*60","v":0},0,"-",{"$f":"SUBSTITUTE(IN!F2260,\",\",\".\")","v":""}]
[0,{"$error":"#VALUE!"},{"$error":"#VALUE!"},{"$f":"SUBSTITUTE(IN!G2261,\"-\",\"\")","v":""},"",{"$f":"IN!F2261*60","v":0},0,"-",{"$f":"SUBSTITUTE(IN!F2261,\",\",\".\")","v":""}]
[0,{"$error":"#VALUE!"},{"$error":"#VALUE!"},{"$f":"SUBSTITUTE(IN!G2262,\"-\",\"\")","v":""},"",{"$f":"IN!F2262*60","v":0},0,"-",{"$f":"SUBSTITUTE(IN!F2262,\",\",\".\")","v":""}]
[0,{"$error":"#VALUE!"},{"$error":"#VALUE!"},{"$f":"SUBSTITUTE(IN!G2263,\"-\",\"\")","v":""},"",{"$f":"IN!F2263*60","v":0},0,"-",{"$f":"SUBSTITUTE(IN!F2263,\",\",\".\")","v":""}]
[0,{"$error":"#VALUE!"},{"$error":"#VALUE!"},{"$f":"SUBSTITUTE(IN!G2264,\"-\",\"\")","v":""},"",{"$f":"IN!F2264*60","v":0},0,"-",{"$f":"SUBSTITUTE(IN!F2264,\",\",\".\")","v":""}]
[0,{"$error":"#VALUE!"},{"$error":"#VALUE!"},{"$f":"SUBSTITUTE(IN!G2265,\"-\",\"\")","v":""},"",{"$f":"IN!F2265*60","v":0},0,"-",{"$f":"SUBSTITUTE(IN!F2265,\",\",\".\")","v":""}]
[0,{"$error":"#VALUE!"},{"$error":"#VALUE!"},{"$f":"SUBSTITUTE(IN!G2266,\"-\",\"\")","v":""},"",{"$f":"IN!F2266*60","v":0},0,"-",{"$f":"SUBSTITUTE(IN!F2266,\",\",\".\")","v":""}]
[0,{"$error":"#VALUE!"},{"$error":"#VALUE!"},{"$f":"SUBSTITUTE(IN!G2267,\"-\",\"\")","v":""},"",{"$f":"IN!F2267*60","v":0},0,"-",{"$f":"SUBSTITUTE(IN!F2267,\",\",\".\")","v":""}]
[0,{"$error":"#VALUE!"},{"$error":"#VALUE!"},{"$f":"SUBSTITUTE(IN!G2268,\"-\",\"\")","v":""},"",{"$f":"IN!F2268*60","v":0},0,"-",{"$f":"SUBSTITUTE(IN!F2268,\",\",\".\")","v":""}]
[0,{"$error":"#VALUE!"},{"$error":"#VALUE!"},{"$f":"SUBSTITUTE(IN!G2269,\"-\",\"\")","v":""},"",{"$f":"IN!F2269*60","v":0},0,"-",{"$f":"SUBSTITUTE(IN!F2269,\",\",\".\")","v":""}]
[0,{"$error":"#VALUE!"},{"$error":"#VALUE!"},{"$f":"SUBSTITUTE(IN!G2270,\"-\",\"\")","v":""},"",{"$f":"IN!F2270*60","v":0},0,"-",{"$f":"SUBSTITUTE(IN!F2270,\",\",\".\")","v":""}]
[0,{"$error":"#VALUE!"},{"$error":"#VALUE!"},{"$f":"SUBSTITUTE(IN!G2271,\"-\",\"\")","v":""},"",{"$f":"IN!F2271*60","v":0},0,"-",{"$f":"SUBSTITUTE(IN!F2271,\",\",\".\")","v":""}]
[0,{"$error":"#VALUE!"},{"$error":"#VALUE!"},{"$f":"SUBSTITUTE(IN!G2272,\"-\",\"\")","v":""},"",{"$f":"IN!F2272*60","v":0},0,"-",{"$f":"SUBSTITUTE(IN!F2272,\",\",\".\")","v":""}]
[0,{"$error":"#VALUE!"},{"$error":"#VALUE!"},{"$f":"SUBSTITUTE(IN!G2273,\"-\",\"\")","v":""},"",{"$f":"IN!F2273*60","v":0},0,"-",{"$f":"SUBSTITUTE(IN!F2273,\",\",\".\")","v":""}]
[0,{"$error":"#VALUE!"},{"$error":"#VALUE!"},{"$f":"SUBSTITUTE(IN!G2274,\"-\",\"\")","v":""},"",{"$f":"IN!F2274*60","v":0},0,"-",{"$f":"SUBSTITUTE(IN!F2274,\",\",\".\")","v":""}]
[0,{"$error":"#VALUE!"},{"$error":"#VALUE!"},{"$f":"SUBSTITUTE(IN!G2275,\"-\",\"\")","v":""},"",{"$f":"IN!F2275*60","v":0},0,"-",{"$f":"SUBSTITUTE(IN!F2275,\",\",\".\")","v":""}]
[0,{"$error":"#VALUE!"},{"$error":"#VALUE!"},{"$f":"SUBSTITUTE(IN!G2276,\"-\",\"\")","v":""},"",{"$f":"IN!F2276*60","v":0},0,"-",{"$f":"SUBSTITUTE(IN!F2276,\",\",\".\")","v":""}]
[0,{"$error":"#VALUE!"},{"$error":"#VALUE!"},{"$f":"SUBSTITUTE(IN!G2277,\"-\",\"\")","v":""},"",{"$f":"IN!F2277*60","v":0},0,"-",{"$f":"SUBSTITUTE(IN!F2277,\",\",\".\")","v":""}]
[0,{"$error":"#VALUE!"},{"$error":"#VALUE!"},{"$f":"SUBSTITUTE(IN!G2278,\"-\",\"\")","v":""},"",{"$f":"IN!F2278*60","v":0},0,"-",{"$f":"SUBSTITUTE(IN!F2278,\",\",\".\")","v":""}]
[0,{"$error":"#VALUE!"},{"$error":"#VALUE!"},{"$f":"SUBSTITUTE(IN!G2279,\"-\",\"\")","v":""},"",{"$f":"IN!F2279*60","v":0},0,"-",{"$f":"SUBSTITUTE(IN!F2279,\",\",\".\")","v":""}]
[0,{"$error":"#VALUE!"},{"$error":"#VALUE!"},{"$f":"SUBSTITUTE(IN!G2280,\"-\",\"\")","v":""},"",{"$f":"IN!F2280*60","v":0},0,"-",{"$f":"SUBSTITUTE(IN!F2280,\",\",\".\")","v":""}]
[0,{"$error":"#VALUE!"},{"$error":"#VALUE!"},{"$f":"SUBSTITUTE(IN!G2281,\"-\",\"\")","v":""},"",{"$f":"IN!F2281*60","v":0},0,"-",{"$f":"SUBSTITUTE(IN!F2281,\",\",\".\")","v":""}]
[0,{"$error":"#VALUE!"},{"$error":"#VALUE!"},{"$f":"SUBSTITUTE(IN!G2282,\"-\",\"\")","v":""},"",{"$f":"IN!F2282*60","v":0},0,"-",{"$f":"SUBSTITUTE(IN!F2282,\",\",\".\")","v":""}]
[0,{"$error":"#VALUE!"},{"$error":"#VALUE!"},{"$f":"SUBSTITUTE(IN!G2283,\"-\",\"\")","v":""},"",{"$f":"IN!F2283*60","v":0},0,"-",{"$f":"SUBSTITUTE(IN!F2283,\",\",\".\")","v":""}]
[0,{"$error":"#VALUE!"},{"$error":"#VALUE!"},{"$f":"SUBSTITUTE(IN!G2284,\"-\",\"\")","v":""},"",{"$f":"IN!F2284*60","v":0},0,"-",{"$f":"SUBSTITUTE(IN!F2284,\",\",\".\")","v":""}]
[0,{"$error":"#VALUE!"},{"$error":"#VALUE!"},{"$f":"SUBSTITUTE(IN!G2285,\"-\",\"\")","v":""},"",{"$f":"IN!F2285*60","v":0},0,"-",{"$f":"SUBSTITUTE(IN!F2285,\",\",\".\")","v":""}]
[0,{"$error":"#VALUE!"},{"$error":"#VALUE!"},{"$f":"SUBSTITUTE(IN!G2286,\"-\",\"\")","v":""},"",{"$f":"IN!F2286*60","v":0},0,"-",{"$f":"SUBSTITUTE(IN!F2286,\",\",\".\")","v":""}]
[0,{"$error":"#VALUE!"},{"$error":"#VALUE!"},{"$f":"SUBSTITUTE(IN!G2287,\"-\",\"\")","v":""},"",{"$f":"IN!F2287*60","v":0},0,"-",{"$f":"SUBSTITUTE(IN!F2287,\",\",\".\")","v":""}]
[0,{"$error":"#VALUE!"},{"$error":"#VALUE!"},{"$f":"SUBSTITUTE(IN!G2288,\"-\",\"\")","v":""},"",{"$f":"IN!F2288*60","v":0},0,"-",{"$f":"SUBSTITUTE(IN!F2288,\",\",\".\")","v":""}]
[0,{"$error":"#VALUE!"},{"$error":"#VALUE!"},{"$f":"SUBSTITUTE(IN!G2289,\"-\",\"\")","v":""},"",{"$f":"IN!F2289*60","v":0},0,"-",{"$f":"SUBSTITUTE(IN!F2289,\",\",\".\")","v":""}]
[0,{"$error":"#VALUE!"},{"$error":"#VALUE!"},{"$f":"SUBSTITUTE(IN!G2290,\"-\",\"\")","v":""},"",{"$f":"IN!F2290*60","v":0},0,"-",{"$f":"SUBSTITUTE(IN!F2290,\",\",\".\")","v":""}]
[0,{"$error":"#VALUE!"},{"$error":"#VALUE!"},{"$f":"SUBSTITUTE(IN!G2291,\"-\",\"\")","v":""},"",{"$f":"IN!F2291*60","v":0},0,"-",{"$f":"SUBSTITUTE(IN!F2291,\",\",\".\")","v":""}]
[0,{"$error":"#VALUE!"},{"$error":"#VALUE!"},{"$f":"SUBSTITUTE(IN!G2292,\"-\",\"\")","v":""},"",{"$f":"IN!F2292*60","v":0},0,"-",{"$f":"SUBSTITUTE(IN!F2292,\",\",\".\")","v":""}]
[0,{"$error":"#VALUE!"},{"$error":"#VALUE!"},{"$f":"SUBSTITUTE(IN!G2293,\"-\",\"\")","v":""},"",{"$f":"IN!F2293*60","v":0},0,"-",{"$f":"SUBSTITUTE(IN!F2293,\",\",\".\")","v":""}]
[0,{"$error":"#VALUE!"},{"$error":"#VALUE!"},{"$f":"SUBSTITUTE(IN!G2294,\"-\",\"\")","v":""},"",{"$f":"IN!F2294*60","v":0},0,"-",{"$f":"SUBSTITUTE(IN!F2294,\",\",\".\")","v":""}]
[0,{"$error":"#VALUE!"},{"$error":"#VALUE!"},{"$f":"SUBSTITUTE(IN!G2295,\"-\",\"\")","v":""},"",{"$f":"IN!F2295*60","v":0},0,"-",{"$f":"SUBSTITUTE(IN!F2295,\",\",\".\")","v":""}]
[0,{"$error":"#VALUE!"},{"$error":"#VALUE!"},{"$f":"SUBSTITUTE(IN!G2296,\"-\",\"\")","v":""},"",{"$f":"IN!F2296*60","v":0},0,"-",{"$f":"SUBSTITUTE(IN!F2296,\",\",\".\")","v":""}]
[0,{"$error":"#VALUE!"},{"$error":"#VALUE!"},{"$f":"SUBSTITUTE(IN!G2297,\"-\",\"\")","v":""},"",{"$f":"IN!F2297*60","v":0},0,"-",{"$f":"SUBSTITUTE(IN!F2297,\",\",\".\")","v":""}]
[0,{"$error":"#VALUE!"},{"$error":"#VALUE!"},{"$f":"SUBSTITUTE(IN!G2298,\"-\",\"\")","v":""},"",{"$f":"IN!F2298*60","v":0},0,"-",{"$f":"SUBSTITUTE(IN!F2298,\",\",\".\")","v":""}]
[0,{"$error":"#VALUE!"},{"$error":"#VALUE!"},{"$f":"SUBSTITUTE(IN!G2299,\"-\",\"\")","v":""},"",{"$f":"IN!F2299*60","v":0},0,"-",{"$f":"SUBSTITUTE(IN!F2299,\",\",\".\")","v":""}]
[0,{"$error":"#VALUE!"},{"$error":"#VALUE!"},{"$f":"SUBSTITUTE(IN!G2300,\"-\",\"\")","v":""},"",{"$f":"IN!F2300*60","v":0},0,"-",{"$f":"SUBSTITUTE(IN!F2300,\",\",\".\")","v":""}]
[0,{"$error":"#VALUE!"},{"$error":"#VALUE!"},{"$f":"SUBSTITUTE(IN!G2301,\"-\",\"\")","v":""},"",{"$f":"IN!F2301*60","v":0},0,"-",{"$f":"SUBSTITUTE(IN!F2301,\",\",\".\")","v":""}]
[0,{"$error":"#VALUE!"},{"$error":"#VALUE!"},{"$f":"SUBSTITUTE(IN!G2302,\"-\",\"\")","v":""},"",{"$f":"IN!F2302*60","v":0},0,"-",{"$f":"SUBSTITUTE(IN!F2302,\",\",\".\")","v":""}]
[0,{"$error":"#VALUE!"},{"$error":"#VALUE!"},{"$f":"SUBSTITUTE(IN!G2303,\"-\",\"\")","v":""},"",{"$f":"IN!F2303*60","v":0},0,"-",{"$f":"SUBSTITUTE(IN!F2303,\",\",\".\")","v":""}]
[0,{"$error":"#VALUE!"},{"$error":"#VALUE!"},{"$f":"SUBSTITUTE(IN!G2304,\"-\",\"\")","v":""},"",{"$f":"IN!F2304*60","v":0},0,"-",{"$f":"SUBSTITUTE(IN!F2304,\",\",\".\")","v":""}]
[0,{"$error":"#VALUE!"},{"$error":"#VALUE!"},{"$f":"SUBSTITUTE(IN!G2305,\"-\",\"\")","v":""},"",{"$f":"IN!F2305*60","v":0},0,"-",{"$f":"SUBSTITUTE(IN!F2305,\",\",\".\")","v":""}]
[0,{"$error":"#VALUE!"},{"$error":"#VALUE!"},{"$f":"SUBSTITUTE(IN!G2306,\"-\",\"\")","v":""},"",{"$f":"IN!F2306*60","v":0},0,"-",{"$f":"SUBSTITUTE(IN!F2306,\",\",\".\")","v":""}]
[0,{"$error":"#VALUE!"},{"$error":"#VALUE!"},{"$f":"SUBSTITUTE(IN!G2307,\"-\",\"\")","v":""},"",{"$f":"IN!F2307*60","v":0},0,"-",{"$f":"SUBSTITUTE(IN!F2307,\",\",\".\")","v":""}]
[0,{"$error":"#VALUE!"},{"$error":"#VALUE!"},{"$f":"SUBSTITUTE(IN!G2308,\"-\",\"\")","v":""},"",{"$f":"IN!F2308*60","v":0},0,"-",{"$f":"SUBSTITUTE(IN!F2308,\",\",\".\")","v":""}]
[{"$f":"LEN(D2309)","v":0},{"$f":"VALUE(LEFT(D2309,1))","v":{"$error":"#VALUE!"}},{"$f":"IF(B2309<2,20,19)","v":{"$error":"#VALUE!"}},{"$f":"SUBSTITUTE(IN!G2309,\"-\",\"\")","v":""},{"$f":"IF(A2309=10,CONCATENATE(C2309,D2309),D2309)","v":""},{"$f":"IN!F2309*60","v":0},{"$f":"ROUND(F2309,0)","v":0},{"$f":"CONCATENATE(MID(E2309,1,8),\"-\",MID(E2309,9,4))","v":"-"},{"$f":"SUBSTITUTE(IN!F2309,\",\",\".\")","v":""}]
[0,{"$error":"#VALUE!"},{"$error":"#VALUE!"},{"$f":"SUBSTITUTE(IN!G2310,\"-\",\"\")","v":""},"",{"$f":"IN!F2310*60","v":0},0,"-",{"$f":"SUBSTITUTE(IN!F2310,\",\",\".\")","v":""}]
[0,{"$error":"#VALUE!"},{"$error":"#VALUE!"},{"$f":"SUBSTITUTE(IN!G2311,\"-\",\"\")","v":""},"",{"$f":"IN!F2311*60","v":0},0,"-",{"$f":"SUBSTITUTE(IN!F2311,\",\",\".\")","v":""}]
[0,{"$error":"#VALUE!"},{"$error":"#VALUE!"},{"$f":"SUBSTITUTE(IN!G2312,\"-\",\"\")","v":""},"",{"$f":"IN!F2312*60","v":0},0,"-",{"$f":"SUBSTITUTE(IN!F2312,\",\",\".\")","v":""}]
[0,{"$error":"#VALUE!"},{"$error":"#VALUE!"},{"$f":"SUBSTITUTE(IN!G2313,\"-\",\"\")","v":""},"",{"$f":"IN!F2313*60","v":0},0,"-",{"$f":"SUBSTITUTE(IN!F2313,\",\",\".\")","v":""}]
[0,{"$error":"#VALUE!"},{"$error":"#VALUE!"},{"$f":"SUBSTITUTE(IN!G2314,\"-\",\"\")","v":""},"",{"$f":"IN!F2314*60","v":0},0,"-",{"$f":"SUBSTITUTE(IN!F2314,\",\",\".\")","v":""}]
[0,{"$error":"#VALUE!"},{"$error":"#VALUE!"},{"$f":"SUBSTITUTE(IN!G2315,\"-\",\"\")","v":""},"",{"$f":"IN!F2315*60","v":0},0,"-",{"$f":"SUBSTITUTE(IN!F2315,\",\",\".\")","v":""}]
[0,{"$error":"#VALUE!"},{"$error":"#VALUE!"},{"$f":"SUBSTITUTE(IN!G2316,\"-\",\"\")","v":""},"",{"$f":"IN!F2316*60","v":0},0,"-",{"$f":"SUBSTITUTE(IN!F2316,\",\",\".\")","v":""}]
[0,{"$error":"#VALUE!"},{"$error":"#VALUE!"},{"$f":"SUBSTITUTE(IN!G2317,\"-\",\"\")","v":""},"",{"$f":"IN!F2317*60","v":0},0,"-",{"$f":"SUBSTITUTE(IN!F2317,\",\",\".\")","v":""}]
[0,{"$error":"#VALUE!"},{"$error":"#VALUE!"},{"$f":"SUBSTITUTE(IN!G2318,\"-\",\"\")","v":""},"",{"$f":"IN!F2318*60","v":0},0,"-",{"$f":"SUBSTITUTE(IN!F2318,\",\",\".\")","v":""}]
[0,{"$error":"#VALUE!"},{"$error":"#VALUE!"},{"$f":"SUBSTITUTE(IN!G2319,\"-\",\"\")","v":""},"",{"$f":"IN!F2319*60","v":0},0,"-",{"$f":"SUBSTITUTE(IN!F2319,\",\",\".\")","v":""}]
[0,{"$error":"#VALUE!"},{"$error":"#VALUE!"},{"$f":"SUBSTITUTE(IN!G2320,\"-\",\"\")","v":""},"",{"$f":"IN!F2320*60","v":0},0,"-",{"$f":"SUBSTITUTE(IN!F2320,\",\",\".\")","v":""}]
[0,{"$error":"#VALUE!"},{"$error":"#VALUE!"},{"$f":"SUBSTITUTE(IN!G2321,\"-\",\"\")","v":""},"",{"$f":"IN!F2321*60","v":0},0,"-",{"$f":"SUBSTITUTE(IN!F2321,\",\",\".\")","v":""}]
[0,{"$error":"#VALUE!"},{"$error":"#VALUE!"},{"$f":"SUBSTITUTE(IN!G2322,\"-\",\"\")","v":""},"",{"$f":"IN!F2322*60","v":0},0,"-",{"$f":"SUBSTITUTE(IN!F2322,\",\",\".\")","v":""}]
[0,{"$error":"#VALUE!"},{"$error":"#VALUE!"},{"$f":"SUBSTITUTE(IN!G2323,\"-\",\"\")","v":""},"",{"$f":"IN!F2323*60","v":0},0,"-",{"$f":"SUBSTITUTE(IN!F2323,\",\",\".\")","v":""}]
[0,{"$error":"#VALUE!"},{"$error":"#VALUE!"},{"$f":"SUBSTITUTE(IN!G2324,\"-\",\"\")","v":""},"",{"$f":"IN!F2324*60","v":0},0,"-",{"$f":"SUBSTITUTE(IN!F2324,\",\",\".\")","v":""}]
[0,{"$error":"#VALUE!"},{"$error":"#VALUE!"},{"$f":"SUBSTITUTE(IN!G2325,\"-\",\"\")","v":""},"",{"$f":"IN!F2325*60","v":0},0,"-",{"$f":"SUBSTITUTE(IN!F2325,\",\",\".\")","v":""}]
[0,{"$error":"#VALUE!"},{"$error":"#VALUE!"},{"$f":"SUBSTITUTE(IN!G2326,\"-\",\"\")","v":""},"",{"$f":"IN!F2326*60","v":0},0,"-",{"$f":"SUBSTITUTE(IN!F2326,\",\",\".\")","v":""}]
[0,{"$error":"#VALUE!"},{"$error":"#VALUE!"},{"$f":"SUBSTITUTE(IN!G2327,\"-\",\"\")","v":""},"",{"$f":"IN!F2327*60","v":0},0,"-",{"$f":"SUBSTITUTE(IN!F2327,\",\",\".\")","v":""}]
[0,{"$error":"#VALUE!"},{"$error":"#VALUE!"},{"$f":"SUBSTITUTE(IN!G2328,\"-\",\"\")","v":""},"",{"$f":"IN!F2328*60","v":0},0,"-",{"$f":"SUBSTITUTE(IN!F2328,\",\",\".\")","v":""}]
[0,{"$error":"#VALUE!"},{"$error":"#VALUE!"},{"$f":"SUBSTITUTE(IN!G2329,\"-\",\"\")","v":""},"",{"$f":"IN!F2329*60","v":0},0,"-",{"$f":"SUBSTITUTE(IN!F2329,\",\",\".\")","v":""}]
[0,{"$error":"#VALUE!"},{"$error":"#VALUE!"},{"$f":"SUBSTITUTE(IN!G2330,\"-\",\"\")","v":""},"",{"$f":"IN!F2330*60","v":0},0,"-",{"$f":"SUBSTITUTE(IN!F2330,\",\",\".\")","v":""}]
[0,{"$error":"#VALUE!"},{"$error":"#VALUE!"},{"$f":"SUBSTITUTE(IN!G2331,\"-\",\"\")","v":""},"",{"$f":"IN!F2331*60","v":0},0,"-",{"$f":"SUBSTITUTE(IN!F2331,\",\",\".\")","v":""}]
[0,{"$error":"#VALUE!"},{"$error":"#VALUE!"},{"$f":"SUBSTITUTE(IN!G2332,\"-\",\"\")","v":""},"",{"$f":"IN!F2332*60","v":0},0,"-",{"$f":"SUBSTITUTE(IN!F2332,\",\",\".\")","v":""}]
[0,{"$error":"#VALUE!"},{"$error":"#VALUE!"},{"$f":"SUBSTITUTE(IN!G2333,\"-\",\"\")","v":""},"",{"$f":"IN!F2333*60","v":0},0,"-",{"$f":"SUBSTITUTE(IN!F2333,\",\",\".\")","v":""}]
[0,{"$error":"#VALUE!"},{"$error":"#VALUE!"},{"$f":"SUBSTITUTE(IN!G2334,\"-\",\"\")","v":""},"",{"$f":"IN!F2334*60","v":0},0,"-",{"$f":"SUBSTITUTE(IN!F2334,\",\",\".\")","v":""}]
[0,{"$error":"#VALUE!"},{"$error":"#VALUE!"},{"$f":"SUBSTITUTE(IN!G2335,\"-\",\"\")","v":""},"",{"$f":"IN!F2335*60","v":0},0,"-",{"$f":"SUBSTITUTE(IN!F2335,\",\",\".\")","v":""}]
[0,{"$error":"#VALUE!"},{"$error":"#VALUE!"},{"$f":"SUBSTITUTE(IN!G2336,\"-\",\"\")","v":""},"",{"$f":"IN!F2336*60","v":0},0,"-",{"$f":"SUBSTITUTE(IN!F2336,\",\",\".\")","v":""}]
[0,{"$error":"#VALUE!"},{"$error":"#VALUE!"},{"$f":"SUBSTITUTE(IN!G2337,\"-\",\"\")","v":""},"",{"$f":"IN!F2337*60","v":0},0,"-",{"$f":"SUBSTITUTE(IN!F2337,\",\",\".\")","v":""}]
[0,{"$error":"#VALUE!"},{"$error":"#VALUE!"},{"$f":"SUBSTITUTE(IN!G2338,\"-\",\"\")","v":""},"",{"$f":"IN!F2338*60","v":0},0,"-",{"$f":"SUBSTITUTE(IN!F2338,\",\",\".\")","v":""}]
[0,{"$error":"#VALUE!"},{"$error":"#VALUE!"},{"$f":"SUBSTITUTE(IN!G2339,\"-\",\"\")","v":""},"",{"$f":"IN!F2339*60","v":0},0,"-",{"$f":"SUBSTITUTE(IN!F2339,\",\",\".\")","v":""}]
[0,{"$error":"#VALUE!"},{"$error":"#VALUE!"},{"$f":"SUBSTITUTE(IN!G2340,\"-\",\"\")","v":""},"",{"$f":"IN!F2340*60","v":0},0,"-",{"$f":"SUBSTITUTE(IN!F2340,\",\",\".\")","v":""}]
[0,{"$error":"#VALUE!"},{"$error":"#VALUE!"},{"$f":"SUBSTITUTE(IN!G2341,\"-\",\"\")","v":""},"",{"$f":"IN!F2341*60","v":0},0,"-",{"$f":"SUBSTITUTE(IN!F2341,\",\",\".\")","v":""}]
[0,{"$error":"#VALUE!"},{"$error":"#VALUE!"},{"$f":"SUBSTITUTE(IN!G2342,\"-\",\"\")","v":""},"",{"$f":"IN!F2342*60","v":0},0,"-",{"$f":"SUBSTITUTE(IN!F2342,\",\",\".\")","v":""}]
[0,{"$error":"#VALUE!"},{"$error":"#VALUE!"},{"$f":"SUBSTITUTE(IN!G2343,\"-\",\"\")","v":""},"",{"$f":"IN!F2343*60","v":0},0,"-",{"$f":"SUBSTITUTE(IN!F2343,\",\",\".\")","v":""}]
[0,{"$error":"#VALUE!"},{"$error":"#VALUE!"},{"$f":"SUBSTITUTE(IN!G2344,\"-\",\"\")","v":""},"",{"$f":"IN!F2344*60","v":0},0,"-",{"$f":"SUBSTITUTE(IN!F2344,\",\",\".\")","v":""}]
[0,{"$error":"#VALUE!"},{"$error":"#VALUE!"},{"$f":"SUBSTITUTE(IN!G2345,\"-\",\"\")","v":""},"",{"$f":"IN!F2345*60","v":0},0,"-",{"$f":"SUBSTITUTE(IN!F2345,\",\",\".\")","v":""}]
[0,{"$error":"#VALUE!"},{"$error":"#VALUE!"},{"$f":"SUBSTITUTE(IN!G2346,\"-\",\"\")","v":""},"",{"$f":"IN!F2346*60","v":0},0,"-",{"$f":"SUBSTITUTE(IN!F2346,\",\",\".\")","v":""}]
[0,{"$error":"#VALUE!"},{"$error":"#VALUE!"},{"$f":"SUBSTITUTE(IN!G2347,\"-\",\"\")","v":""},"",{"$f":"IN!F2347*60","v":0},0,"-",{"$f":"SUBSTITUTE(IN!F2347,\",\",\".\")","v":""}]
[0,{"$error":"#VALUE!"},{"$error":"#VALUE!"},{"$f":"SUBSTITUTE(IN!G2348,\"-\",\"\")","v":""},"",{"$f":"IN!F2348*60","v":0},0,"-",{"$f":"SUBSTITUTE(IN!F2348,\",\",\".\")","v":""}]
[0,{"$error":"#VALUE!"},{"$error":"#VALUE!"},{"$f":"SUBSTITUTE(IN!G2349,\"-\",\"\")","v":""},"",{"$f":"IN!F2349*60","v":0},0,"-",{"$f":"SUBSTITUTE(IN!F2349,\",\",\".\")","v":""}]
[0,{"$error":"#VALUE!"},{"$error":"#VALUE!"},{"$f":"SUBSTITUTE(IN!G2350,\"-\",\"\")","v":""},"",{"$f":"IN!F2350*60","v":0},0,"-",{"$f":"SUBSTITUTE(IN!F2350,\",\",\".\")","v":""}]
[0,{"$error":"#VALUE!"},{"$error":"#VALUE!"},{"$f":"SUBSTITUTE(IN!G2351,\"-\",\"\")","v":""},"",{"$f":"IN!F2351*60","v":0},0,"-",{"$f":"SUBSTITUTE(IN!F2351,\",\",\".\")","v":""}]
[0,{"$error":"#VALUE!"},{"$error":"#VALUE!"},{"$f":"SUBSTITUTE(IN!G2352,\"-\",\"\")","v":""},"",{"$f":"IN!F2352*60","v":0},0,"-",{"$f":"SUBSTITUTE(IN!F2352,\",\",\".\")","v":""}]
[0,{"$error":"#VALUE!"},{"$error":"#VALUE!"},{"$f":"SUBSTITUTE(IN!G2353,\"-\",\"\")","v":""},"",{"$f":"IN!F2353*60","v":0},0,"-",{"$f":"SUBSTITUTE(IN!F2353,\",\",\".\")","v":""}]
[0,{"$error":"#VALUE!"},{"$error":"#VALUE!"},{"$f":"SUBSTITUTE(IN!G2354,\"-\",\"\")","v":""},"",{"$f":"IN!F2354*60","v":0},0,"-",{"$f":"SUBSTITUTE(IN!F2354,\",\",\".\")","v":""}]
[0,{"$error":"#VALUE!"},{"$error":"#VALUE!"},{"$f":"SUBSTITUTE(IN!G2355,\"-\",\"\")","v":""},"",{"$f":"IN!F2355*60","v":0},0,"-",{"$f":"SUBSTITUTE(IN!F2355,\",\",\".\")","v":""}]
[0,{"$error":"#VALUE!"},{"$error":"#VALUE!"},{"$f":"SUBSTITUTE(IN!G2356,\"-\",\"\")","v":""},"",{"$f":"IN!F2356*60","v":0},0,"-",{"$f":"SUBSTITUTE(IN!F2356,\",\",\".\")","v":""}]
[0,{"$error":"#VALUE!"},{"$error":"#VALUE!"},{"$f":"SUBSTITUTE(IN!G2357,\"-\",\"\")","v":""},"",{"$f":"IN!F2357*60","v":0},0,"-",{"$f":"SUBSTITUTE(IN!F2357,\",\",\".\")","v":""}]
[0,{"$error":"#VALUE!"},{"$error":"#VALUE!"},{"$f":"SUBSTITUTE(IN!G2358,\"-\",\"\")","v":""},"",{"$f":"IN!F2358*60","v":0},0,"-",{"$f":"SUBSTITUTE(IN!F2358,\",\",\".\")","v":""}]
[0,{"$error":"#VALUE!"},{"$error":"#VALUE!"},{"$f":"SUBSTITUTE(IN!G2359,\"-\",\"\")","v":""},"",{"$f":"IN!F2359*60","v":0},0,"-",{"$f":"SUBSTITUTE(IN!F2359,\",\",\".\")","v":""}]
[0,{"$error":"#VALUE!"},{"$error":"#VALUE!"},{"$f":"SUBSTITUTE(IN!G2360,\"-\",\"\")","v":""},"",{"$f":"IN!F2360*60","v":0},0,"-",{"$f":"SUBSTITUTE(IN!F2360,\",\",\".\")","v":""}]
[0,{"$error":"#VALUE!"},{"$error":"#VALUE!"},{"$f":"SUBSTITUTE(IN!G2361,\"-\",\"\")","v":""},"",{"$f":"IN!F2361*60","v":0},0,"-",{"$f":"SUBSTITUTE(IN!F2361,\",\",\".\")","v":""}]
[0,{"$error":"#VALUE!"},{"$error":"#VALUE!"},{"$f":"SUBSTITUTE(IN!G2362,\"-\",\"\")","v":""},"",{"$f":"IN!F2362*60","v":0},0,"-",{"$f":"SUBSTITUTE(IN!F2362,\",\",\".\")","v":""}]
[0,{"$error":"#VALUE!"},{"$error":"#VALUE!"},{"$f":"SUBSTITUTE(IN!G2363,\"-\",\"\")","v":""},"",{"$f":"IN!F2363*60","v":0},0,"-",{"$f":"SUBSTITUTE(IN!F2363,\",\",\".\")","v":""}]
[0,{"$error":"#VALUE!"},{"$error":"#VALUE!"},{"$f":"SUBSTITUTE(IN!G2364,\"-\",\"\")","v":""},"",{"$f":"IN!F2364*60","v":0},0,"-",{"$f":"SUBSTITUTE(IN!F2364,\",\",\".\")","v":""}]
[0,{"$error":"#VALUE!"},{"$error":"#VALUE!"},{"$f":"SUBSTITUTE(IN!G2365,\"-\",\"\")","v":""},"",{"$f":"IN!F2365*60","v":0},0,"-",{"$f":"SUBSTITUTE(IN!F2365,\",\",\".\")","v":""}]
[0,{"$error":"#VALUE!"},{"$error":"#VALUE!"},{"$f":"SUBSTITUTE(IN!G2366,\"-\",\"\")","v":""},"",{"$f":"IN!F2366*60","v":0},0,"-",{"$f":"SUBSTITUTE(IN!F2366,\",\",\".\")","v":""}]
[0,{"$error":"#VALUE!"},{"$error":"#VALUE!"},{"$f":"SUBSTITUTE(IN!G2367,\"-\",\"\")","v":""},"",{"$f":"IN!F2367*60","v":0},0,"-",{"$f":"SUBSTITUTE(IN!F2367,\",\",\".\")","v":""}]
[0,{"$error":"#VALUE!"},{"$error":"#VALUE!"},{"$f":"SUBSTITUTE(IN!G2368,\"-\",\"\")","v":""},"",{"$f":"IN!F2368*60","v":0},0,"-",{"$f":"SUBSTITUTE(IN!F2368,\",\",\".\")","v":""}]
[0,{"$error":"#VALUE!"},{"$error":"#VALUE!"},{"$f":"SUBSTITUTE(IN!G2369,\"-\",\"\")","v":""},"",{"$f":"IN!F2369*60","v":0},0,"-",{"$f":"SUBSTITUTE(IN!F2369,\",\",\".\")","v":""}]
[0,{"$error":"#VALUE!"},{"$error":"#VALUE!"},{"$f":"SUBSTITUTE(IN!G2370,\"-\",\"\")","v":""},"",{"$f":"IN!F2370*60","v":0},0,"-",{"$f":"SUBSTITUTE(IN!F2370,\",\",\".\")","v":""}]
[0,{"$error":"#VALUE!"},{"$error":"#VALUE!"},{"$f":"SUBSTITUTE(IN!G2371,\"-\",\"\")","v":""},"",{"$f":"IN!F2371*60","v":0},0,"-",{"$f":"SUBSTITUTE(IN!F2371,\",\",\".\")","v":""}]
[0,{"$error":"#VALUE!"},{"$error":"#VALUE!"},{"$f":"SUBSTITUTE(IN!G2372,\"-\",\"\")","v":""},"",{"$f":"IN!F2372*60","v":0},0,"-",{"$f":"SUBSTITUTE(IN!F2372,\",\",\".\")","v":""}]
[{"$f":"LEN(D2373)","v":0},{"$f":"VALUE(LEFT(D2373,1))","v":{"$error":"#VALUE!"}},{"$f":"IF(B2373<2,20,19)","v":{"$error":"#VALUE!"}},{"$f":"SUBSTITUTE(IN!G2373,\"-\",\"\")","v":""},{"$f":"IF(A2373=10,CONCATENATE(C2373,D2373),D2373)","v":""},{"$f":"IN!F2373*60","v":0},{"$f":"ROUND(F2373,0)","v":0},{"$f":"CONCATENATE(MID(E2373,1,8),\"-\",MID(E2373,9,4))","v":"-"},{"$f":"SUBSTITUTE(IN!F2373,\",\",\".\")","v":""}]
[0,{"$error":"#VALUE!"},{"$error":"#VALUE!"},{"$f":"SUBSTITUTE(IN!G2374,\"-\",\"\")","v":""},"",{"$f":"IN!F2374*60","v":0},0,"-",{"$f":"SUBSTITUTE(IN!F2374,\",\",\".\")","v":""}]
[0,{"$error":"#VALUE!"},{"$error":"#VALUE!"},{"$f":"SUBSTITUTE(IN!G2375,\"-\",\"\")","v":""},"",{"$f":"IN!F2375*60","v":0},0,"-",{"$f":"SUBSTITUTE(IN!F2375,\",\",\".\")","v":""}]
[0,{"$error":"#VALUE!"},{"$error":"#VALUE!"},{"$f":"SUBSTITUTE(IN!G2376,\"-\",\"\")","v":""},"",{"$f":"IN!F2376*60","v":0},0,"-",{"$f":"SUBSTITUTE(IN!F2376,\",\",\".\")","v":""}]
[0,{"$error":"#VALUE!"},{"$error":"#VALUE!"},{"$f":"SUBSTITUTE(IN!G2377,\"-\",\"\")","v":""},"",{"$f":"IN!F2377*60","v":0},0,"-",{"$f":"SUBSTITUTE(IN!F2377,\",\",\".\")","v":""}]
[0,{"$error":"#VALUE!"},{"$error":"#VALUE!"},{"$f":"SUBSTITUTE(IN!G2378,\"-\",\"\")","v":""},"",{"$f":"IN!F2378*60","v":0},0,"-",{"$f":"SUBSTITUTE(IN!F2378,\",\",\".\")","v":""}]
[0,{"$error":"#VALUE!"},{"$error":"#VALUE!"},{"$f":"SUBSTITUTE(IN!G2379,\"-\",\"\")","v":""},"",{"$f":"IN!F2379*60","v":0},0,"-",{"$f":"SUBSTITUTE(IN!F2379,\",\",\".\")","v":""}]
[0,{"$error":"#VALUE!"},{"$error":"#VALUE!"},{"$f":"SUBSTITUTE(IN!G2380,\"-\",\"\")","v":""},"",{"$f":"IN!F2380*60","v":0},0,"-",{"$f":"SUBSTITUTE(IN!F2380,\",\",\".\")","v":""}]
[0,{"$error":"#VALUE!"},{"$error":"#VALUE!"},{"$f":"SUBSTITUTE(IN!G2381,\"-\",\"\")","v":""},"",{"$f":"IN!F2381*60","v":0},0,"-",{"$f":"SUBSTITUTE(IN!F2381,\",\",\".\")","v":""}]
[0,{"$error":"#VALUE!"},{"$error":"#VALUE!"},{"$f":"SUBSTITUTE(IN!G2382,\"-\",\"\")","v":""},"",{"$f":"IN!F2382*60","v":0},0,"-",{"$f":"SUBSTITUTE(IN!F2382,\",\",\".\")","v":""}]
[0,{"$error":"#VALUE!"},{"$error":"#VALUE!"},{"$f":"SUBSTITUTE(IN!G2383,\"-\",\"\")","v":""},"",{"$f":"IN!F2383*60","v":0},0,"-",{"$f":"SUBSTITUTE(IN!F2383,\",\",\".\")","v":""}]
[0,{"$error":"#VALUE!"},{"$error":"#VALUE!"},{"$f":"SUBSTITUTE(IN!G2384,\"-\",\"\")","v":""},"",{"$f":"IN!F2384*60","v":0},0,"-",{"$f":"SUBSTITUTE(IN!F2384,\",\",\".\")","v":""}]
[0,{"$error":"#VALUE!"},{"$error":"#VALUE!"},{"$f":"SUBSTITUTE(IN!G2385,\"-\",\"\")","v":""},"",{"$f":"IN!F2385*60","v":0},0,"-",{"$f":"SUBSTITUTE(IN!F2385,\",\",\".\")","v":""}]
[0,{"$error":"#VALUE!"},{"$error":"#VALUE!"},{"$f":"SUBSTITUTE(IN!G2386,\"-\",\"\")","v":""},"",{"$f":"IN!F2386*60","v":0},0,"-",{"$f":"SUBSTITUTE(IN!F2386,\",\",\".\")","v":""}]
[0,{"$error":"#VALUE!"},{"$error":"#VALUE!"},{"$f":"SUBSTITUTE(IN!G2387,\"-\",\"\")","v":""},"",{"$f":"IN!F2387*60","v":0},0,"-",{"$f":"SUBSTITUTE(IN!F2387,\",\",\".\")","v":""}]
[0,{"$error":"#VALUE!"},{"$error":"#VALUE!"},{"$f":"SUBSTITUTE(IN!G2388,\"-\",\"\")","v":""},"",{"$f":"IN!F2388*60","v":0},0,"-",{"$f":"SUBSTITUTE(IN!F2388,\",\",\".\")","v":""}]
[0,{"$error":"#VALUE!"},{"$error":"#VALUE!"},{"$f":"SUBSTITUTE(IN!G2389,\"-\",\"\")","v":""},"",{"$f":"IN!F2389*60","v":0},0,"-",{"$f":"SUBSTITUTE(IN!F2389,\",\",\".\")","v":""}]
[0,{"$error":"#VALUE!"},{"$error":"#VALUE!"},{"$f":"SUBSTITUTE(IN!G2390,\"-\",\"\")","v":""},"",{"$f":"IN!F2390*60","v":0},0,"-",{"$f":"SUBSTITUTE(IN!F2390,\",\",\".\")","v":""}]
[0,{"$error":"#VALUE!"},{"$error":"#VALUE!"},{"$f":"SUBSTITUTE(IN!G2391,\"-\",\"\")","v":""},"",{"$f":"IN!F2391*60","v":0},0,"-",{"$f":"SUBSTITUTE(IN!F2391,\",\",\".\")","v":""}]
[0,{"$error":"#VALUE!"},{"$error":"#VALUE!"},{"$f":"SUBSTITUTE(IN!G2392,\"-\",\"\")","v":""},"",{"$f":"IN!F2392*60","v":0},0,"-",{"$f":"SUBSTITUTE(IN!F2392,\",\",\".\")","v":""}]
[0,{"$error":"#VALUE!"},{"$error":"#VALUE!"},{"$f":"SUBSTITUTE(IN!G2393,\"-\",\"\")","v":""},"",{"$f":"IN!F2393*60","v":0},0,"-",{"$f":"SUBSTITUTE(IN!F2393,\",\",\".\")","v":""}]
[0,{"$error":"#VALUE!"},{"$error":"#VALUE!"},{"$f":"SUBSTITUTE(IN!G2394,\"-\",\"\")","v":""},"",{"$f":"IN!F2394*60","v":0},0,"-",{"$f":"SUBSTITUTE(IN!F2394,\",\",\".\")","v":""}]
[0,{"$error":"#VALUE!"},{"$error":"#VALUE!"},{"$f":"SUBSTITUTE(IN!G2395,\"-\",\"\")","v":""},"",{"$f":"IN!F2395*60","v":0},0,"-",{"$f":"SUBSTITUTE(IN!F2395,\",\",\".\")","v":""}]
[0,{"$error":"#VALUE!"},{"$error":"#VALUE!"},{"$f":"SUBSTITUTE(IN!G2396,\"-\",\"\")","v":""},"",{"$f":"IN!F2396*60","v":0},0,"-",{"$f":"SUBSTITUTE(IN!F2396,\",\",\".\")","v":""}]
[0,{"$error":"#VALUE!"},{"$error":"#VALUE!"},{"$f":"SUBSTITUTE(IN!G2397,\"-\",\"\")","v":""},"",{"$f":"IN!F2397*60","v":0},0,"-",{"$f":"SUBSTITUTE(IN!F2397,\",\",\".\")","v":""}]
[0,{"$error":"#VALUE!"},{"$error":"#VALUE!"},{"$f":"SUBSTITUTE(IN!G2398,\"-\",\"\")","v":""},"",{"$f":"IN!F2398*60","v":0},0,"-",{"$f":"SUBSTITUTE(IN!F2398,\",\",\".\")","v":""}]
[0,{"$error":"#VALUE!"},{"$error":"#VALUE!"},{"$f":"SUBSTITUTE(IN!G2399,\"-\",\"\")","v":""},"",{"$f":"IN!F2399*60","v":0},0,"-",{"$f":"SUBSTITUTE(IN!F2399,\",\",\".\")","v":""}]
[0,{"$error":"#VALUE!"},{"$error":"#VALUE!"},{"$f":"SUBSTITUTE(IN!G2400,\"-\",\"\")","v":""},"",{"$f":"IN!F2400*60","v":0},0,"-",{"$f":"SUBSTITUTE(IN!F2400,\",\",\".\")","v":""}]
[0,{"$error":"#VALUE!"},{"$error":"#VALUE!"},{"$f":"SUBSTITUTE(IN!G2401,\"-\",\"\")","v":""},"",{"$f":"IN!F2401*60","v":0},0,"-",{"$f":"SUBSTITUTE(IN!F2401,\",\",\".\")","v":""}]
[0,{"$error":"#VALUE!"},{"$error":"#VALUE!"},{"$f":"SUBSTITUTE(IN!G2402,\"-\",\"\")","v":""},"",{"$f":"IN!F2402*60","v":0},0,"-",{"$f":"SUBSTITUTE(IN!F2402,\",\",\".\")","v":""}]
[0,{"$error":"#VALUE!"},{"$error":"#VALUE!"},{"$f":"SUBSTITUTE(IN!G2403,\"-\",\"\")","v":""},"",{"$f":"IN!F2403*60","v":0},0,"-",{"$f":"SUBSTITUTE(IN!F2403,\",\",\".\")","v":""}]
[0,{"$error":"#VALUE!"},{"$error":"#VALUE!"},{"$f":"SUBSTITUTE(IN!G2404,\"-\",\"\")","v":""},"",{"$f":"IN!F2404*60","v":0},0,"-",{"$f":"SUBSTITUTE(IN!F2404,\",\",\".\")","v":""}]
[0,{"$error":"#VALUE!"},{"$error":"#VALUE!"},{"$f":"SUBSTITUTE(IN!G2405,\"-\",\"\")","v":""},"",{"$f":"IN!F2405*60","v":0},0,"-",{"$f":"SUBSTITUTE(IN!F2405,\",\",\".\")","v":""}]
[0,{"$error":"#VALUE!"},{"$error":"#VALUE!"},{"$f":"SUBSTITUTE(IN!G2406,\"-\",\"\")","v":""},"",{"$f":"IN!F2406*60","v":0},0,"-",{"$f":"SUBSTITUTE(IN!F2406,\",\",\".\")","v":""}]
[0,{"$error":"#VALUE!"},{"$error":"#VALUE!"},{"$f":"SUBSTITUTE(IN!G2407,\"-\",\"\")","v":""},"",{"$f":"IN!F2407*60","v":0},0,"-",{"$f":"SUBSTITUTE(IN!F2407,\",\",\".\")","v":""}]
[0,{"$error":"#VALUE!"},{"$error":"#VALUE!"},{"$f":"SUBSTITUTE(IN!G2408,\"-\",\"\")","v":""},"",{"$f":"IN!F2408*60","v":0},0,"-",{"$f":"SUBSTITUTE(IN!F2408,\",\",\".\")","v":""}]
[0,{"$error":"#VALUE!"},{"$error":"#VALUE!"},{"$f":"SUBSTITUTE(IN!G2409,\"-\",\"\")","v":""},"",{"$f":"IN!F2409*60","v":0},0,"-",{"$f":"SUBSTITUTE(IN!F2409,\",\",\".\")","v":""}]
[0,{"$error":"#VALUE!"},{"$error":"#VALUE!"},{"$f":"SUBSTITUTE(IN!G2410,\"-\",\"\")","v":""},"",{"$f":"IN!F2410*60","v":0},0,"-",{"$f":"SUBSTITUTE(IN!F2410,\",\",\".\")","v":""}]
[0,{"$error":"#VALUE!"},{"$error":"#VALUE!"},{"$f":"SUBSTITUTE(IN!G2411,\"-\",\"\")","v":""},"",{"$f":"IN!F2411*60","v":0},0,"-",{"$f":"SUBSTITUTE(IN!F2411,\",\",\".\")","v":""}]
[0,{"$error":"#VALUE!"},{"$error":"#VALUE!"},{"$f":"SUBSTITUTE(IN!G2412,\"-\",\"\")","v":""},"",{"$f":"IN!F2412*60","v":0},0,"-",{"$f":"SUBSTITUTE(IN!F2412,\",\",\".\")","v":""}]
[0,{"$error":"#VALUE!"},{"$error":"#VALUE!"},{"$f":"SUBSTITUTE(IN!G2413,\"-\",\"\")","v":""},"",{"$f":"IN!F2413*60","v":0},0,"-",{"$f":"SUBSTITUTE(IN!F2413,\",\",\".\")","v":""}]
[0,{"$error":"#VALUE!"},{"$error":"#VALUE!"},{"$f":"SUBSTITUTE(IN!G2414,\"-\",\"\")","v":""},"",{"$f":"IN!F2414*60","v":0},0,"-",{"$f":"SUBSTITUTE(IN!F2414,\",\",\".\")","v":""}]
[0,{"$error":"#VALUE!"},{"$error":"#VALUE!"},{"$f":"SUBSTITUTE(IN!G2415,\"-\",\"\")","v":""},"",{"$f":"IN!F2415*60","v":0},0,"-",{"$f":"SUBSTITUTE(IN!F2415,\",\",\".\")","v":""}]
[0,{"$error":"#VALUE!"},{"$error":"#VALUE!"},{"$f":"SUBSTITUTE(IN!G2416,\"-\",\"\")","v":""},"",{"$f":"IN!F2416*60","v":0},0,"-",{"$f":"SUBSTITUTE(IN!F2416,\",\",\".\")","v":""}]
[0,{"$error":"#VALUE!"},{"$error":"#VALUE!"},{"$f":"SUBSTITUTE(IN!G2417,\"-\",\"\")","v":""},"",{"$f":"IN!F2417*60","v":0},0,"-",{"$f":"SUBSTITUTE(IN!F2417,\",\",\".\")","v":""}]
[0,{"$error":"#VALUE!"},{"$error":"#VALUE!"},{"$f":"SUBSTITUTE(IN!G2418,\"-\",\"\")","v":""},"",{"$f":"IN!F2418*60","v":0},0,"-",{"$f":"SUBSTITUTE(IN!F2418,\",\",\".\")","v":""}]
[0,{"$error":"#VALUE!"},{"$error":"#VALUE!"},{"$f":"SUBSTITUTE(IN!G2419,\"-\",\"\")","v":""},"",{"$f":"IN!F2419*60","v":0},0,"-",{"$f":"SUBSTITUTE(IN!F2419,\",\",\".\")","v":""}]
[0,{"$error":"#VALUE!"},{"$error":"#VALUE!"},{"$f":"SUBSTITUTE(IN!G2420,\"-\",\"\")","v":""},"",{"$f":"IN!F2420*60","v":0},0,"-",{"$f":"SUBSTITUTE(IN!F2420,\",\",\".\")","v":""}]
[0,{"$error":"#VALUE!"},{"$error":"#VALUE!"},{"$f":"SUBSTITUTE(IN!G2421,\"-\",\"\")","v":""},"",{"$f":"IN!F2421*60","v":0},0,"-",{"$f":"SUBSTITUTE(IN!F2421,\",\",\".\")","v":""}]
[0,{"$error":"#VALUE!"},{"$error":"#VALUE!"},{"$f":"SUBSTITUTE(IN!G2422,\"-\",\"\")","v":""},"",{"$f":"IN!F2422*60","v":0},0,"-",{"$f":"SUBSTITUTE(IN!F2422,\",\",\".\")","v":""}]
[0,{"$error":"#VALUE!"},{"$error":"#VALUE!"},{"$f":"SUBSTITUTE(IN!G2423,\"-\",\"\")","v":""},"",{"$f":"IN!F2423*60","v":0},0,"-",{"$f":"SUBSTITUTE(IN!F2423,\",\",\".\")","v":""}]
[0,{"$error":"#VALUE!"},{"$error":"#VALUE!"},{"$f":"SUBSTITUTE(IN!G2424,\"-\",\"\")","v":""},"",{"$f":"IN!F2424*60","v":0},0,"-",{"$f":"SUBSTITUTE(IN!F2424,\",\",\".\")","v":""}]
[0,{"$error":"#VALUE!"},{"$error":"#VALUE!"},{"$f":"SUBSTITUTE(IN!G2425,\"-\",\"\")","v":""},"",{"$f":"IN!F2425*60","v":0},0,"-",{"$f":"SUBSTITUTE(IN!F2425,\",\",\".\")","v":""}]
[0,{"$error":"#VALUE!"},{"$error":"#VALUE!"},{"$f":"SUBSTITUTE(IN!G2426,\"-\",\"\")","v":""},"",{"$f":"IN!F2426*60","v":0},0,"-",{"$f":"SUBSTITUTE(IN!F2426,\",\",\".\")","v":""}]
[0,{"$error":"#VALUE!"},{"$error":"#VALUE!"},{"$f":"SUBSTITUTE(IN!G2427,\"-\",\"\")","v":""},"",{"$f":"IN!F2427*60","v":0},0,"-",{"$f":"SUBSTITUTE(IN!F2427,\",\",\".\")","v":""}]
[0,{"$error":"#VALUE!"},{"$error":"#VALUE!"},{"$f":"SUBSTITUTE(IN!G2428,\"-\",\"\")","v":""},"",{"$f":"IN!F2428*60","v":0},0,"-",{"$f":"SUBSTITUTE(IN!F2428,\",\",\".\")","v":""}]
[0,{"$error":"#VALUE!"},{"$error":"#VALUE!"},{"$f":"SUBSTITUTE(IN!G2429,\"-\",\"\")","v":""},"",{"$f":"IN!F2429*60","v":0},0,"-",{"$f":"SUBSTITUTE(IN!F2429,\",\",\".\")","v":""}]
[0,{"$error":"#VALUE!"},{"$error":"#VALUE!"},{"$f":"SUBSTITUTE(IN!G2430,\"-\",\"\")","v":""},"",{"$f":"IN!F2430*60","v":0},0,"-",{"$f":"SUBSTITUTE(IN!F2430,\",\",\".\")","v":""}]
[0,{"$error":"#VALUE!"},{"$error":"#VALUE!"},{"$f":"SUBSTITUTE(IN!G2431,\"-\",\"\")","v":""},"",{"$f":"IN!F2431*60","v":0},0,"-",{"$f":"SUBSTITUTE(IN!F2431,\",\",\".\")","v":""}]
[0,{"$error":"#VALUE!"},{"$error":"#VALUE!"},{"$f":"SUBSTITUTE(IN!G2432,\"-\",\"\")","v":""},"",{"$f":"IN!F2432*60","v":0},0,"-",{"$f":"SUBSTITUTE(IN!F2432,\",\",\".\")","v":""}]
[0,{"$error":"#VALUE!"},{"$error":"#VALUE!"},{"$f":"SUBSTITUTE(IN!G2433,\"-\",\"\")","v":""},"",{"$f":"IN!F2433*60","v":0},0,"-",{"$f":"SUBSTITUTE(IN!F2433,\",\",\".\")","v":""}]
[0,{"$error":"#VALUE!"},{"$error":"#VALUE!"},{"$f":"SUBSTITUTE(IN!G2434,\"-\",\"\")","v":""},"",{"$f":"IN!F2434*60","v":0},0,"-",{"$f":"SUBSTITUTE(IN!F2434,\",\",\".\")","v":""}]
[0,{"$error":"#VALUE!"},{"$error":"#VALUE!"},{"$f":"SUBSTITUTE(IN!G2435,\"-\",\"\")","v":""},"",{"$f":"IN!F2435*60","v":0},0,"-",{"$f":"SUBSTITUTE(IN!F2435,\",\",\".\")","v":""}]
[0,{"$error":"#VALUE!"},{"$error":"#VALUE!"},{"$f":"SUBSTITUTE(IN!G2436,\"-\",\"\")","v":""},"",{"$f":"IN!F2436*60","v":0},0,"-",{"$f":"SUBSTITUTE(IN!F2436,\",\",\".\")","v":""}]
[{"$f":"LEN(D2437)","v":0},{"$f":"VALUE(LEFT(D2437,1))","v":{"$error":"#VALUE!"}},{"$f":"IF(B2437<2,20,19)","v":{"$error":"#VALUE!"}},{"$f":"SUBSTITUTE(IN!G2437,\"-\",\"\")","v":""},{"$f":"IF(A2437=10,CONCATENATE(C2437,D2437),D2437)","v":""},{"$f":"IN!F2437*60","v":0},{"$f":"ROUND(F2437,0)","v":0},{"$f":"CONCATENATE(MID(E2437,1,8),\"-\",MID(E2437,9,4))","v":"-"},{"$f":"SUBSTITUTE(IN!F2437,\",\",\".\")","v":""}]
[0,{"$error":"#VALUE!"},{"$error":"#VALUE!"},{"$f":"SUBSTITUTE(IN!G2438,\"-\",\"\")","v":""},"",{"$f":"IN!F2438*60","v":0},0,"-",{"$f":"SUBSTITUTE(IN!F2438,\",\",\".\")","v":""}]
[0,{"$error":"#VALUE!"},{"$error":"#VALUE!"},{"$f":"SUBSTITUTE(IN!G2439,\"-\",\"\")","v":""},"",{"$f":"IN!F2439*60","v":0},0,"-",{"$f":"SUBSTITUTE(IN!F2439,\",\",\".\")","v":""}]
[0,{"$error":"#VALUE!"},{"$error":"#VALUE!"},{"$f":"SUBSTITUTE(IN!G2440,\"-\",\"\")","v":""},"",{"$f":"IN!F2440*60","v":0},0,"-",{"$f":"SUBSTITUTE(IN!F2440,\",\",\".\")","v":""}]
[0,{"$error":"#VALUE!"},{"$error":"#VALUE!"},{"$f":"SUBSTITUTE(IN!G2441,\"-\",\"\")","v":""},"",{"$f":"IN!F2441*60","v":0},0,"-",{"$f":"SUBSTITUTE(IN!F2441,\",\",\".\")","v":""}]
[0,{"$error":"#VALUE!"},{"$error":"#VALUE!"},{"$f":"SUBSTITUTE(IN!G2442,\"-\",\"\")","v":""},"",{"$f":"IN!F2442*60","v":0},0,"-",{"$f":"SUBSTITUTE(IN!F2442,\",\",\".\")","v":""}]
[0,{"$error":"#VALUE!"},{"$error":"#VALUE!"},{"$f":"SUBSTITUTE(IN!G2443,\"-\",\"\")","v":""},"",{"$f":"IN!F2443*60","v":0},0,"-",{"$f":"SUBSTITUTE(IN!F2443,\",\",\".\")","v":""}]
[0,{"$error":"#VALUE!"},{"$error":"#VALUE!"},{"$f":"SUBSTITUTE(IN!G2444,\"-\",\"\")","v":""},"",{"$f":"IN!F2444*60","v":0},0,"-",{"$f":"SUBSTITUTE(IN!F2444,\",\",\".\")","v":""}]
[0,{"$error":"#VALUE!"},{"$error":"#VALUE!"},{"$f":"SUBSTITUTE(IN!G2445,\"-\",\"\")","v":""},"",{"$f":"IN!F2445*60","v":0},0,"-",{"$f":"SUBSTITUTE(IN!F2445,\",\",\".\")","v":""}]
[0,{"$error":"#VALUE!"},{"$error":"#VALUE!"},{"$f":"SUBSTITUTE(IN!G2446,\"-\",\"\")","v":""},"",{"$f":"IN!F2446*60","v":0},0,"-",{"$f":"SUBSTITUTE(IN!F2446,\",\",\".\")","v":""}]
[0,{"$error":"#VALUE!"},{"$error":"#VALUE!"},{"$f":"SUBSTITUTE(IN!G2447,\"-\",\"\")","v":""},"",{"$f":"IN!F2447*60","v":0},0,"-",{"$f":"SUBSTITUTE(IN!F2447,\",\",\".\")","v":""}]
[0,{"$error":"#VALUE!"},{"$error":"#VALUE!"},{"$f":"SUBSTITUTE(IN!G2448,\"-\",\"\")","v":""},"",{"$f":"IN!F2448*60","v":0},0,"-",{"$f":"SUBSTITUTE(IN!F2448,\",\",\".\")","v":""}]
[0,{"$error":"#VALUE!"},{"$error":"#VALUE!"},{"$f":"SUBSTITUTE(IN!G2449,\"-\",\"\")","v":""},"",{"$f":"IN!F2449*60","v":0},0,"-",{"$f":"SUBSTITUTE(IN!F2449,\",\",\".\")","v":""}]
[0,{"$error":"#VALUE!"},{"$error":"#VALUE!"},{"$f":"SUBSTITUTE(IN!G2450,\"-\",\"\")","v":""},"",{"$f":"IN!F2450*60","v":0},0,"-",{"$f":"SUBSTITUTE(IN!F2450,\",\",\".\")","v":""}]
[0,{"$error":"#VALUE!"},{"$error":"#VALUE!"},{"$f":"SUBSTITUTE(IN!G2451,\"-\",\"\")","v":""},"",{"$f":"IN!F2451*60","v":0},0,"-",{"$f":"SUBSTITUTE(IN!F2451,\",\",\".\")","v":""}]
[0,{"$error":"#VALUE!"},{"$error":"#VALUE!"},{"$f":"SUBSTITUTE(IN!G2452,\"-\",\"\")","v":""},"",{"$f":"IN!F2452*60","v":0},0,"-",{"$f":"SUBSTITUTE(IN!F2452,\",\",\".\")","v":""}]
[0,{"$error":"#VALUE!"},{"$error":"#VALUE!"},{"$f":"SUBSTITUTE(IN!G2453,\"-\",\"\")","v":""},"",{"$f":"IN!F2453*60","v":0},0,"-",{"$f":"SUBSTITUTE(IN!F2453,\",\",\".\")","v":""}]
[0,{"$error":"#VALUE!"},{"$error":"#VALUE!"},{"$f":"SUBSTITUTE(IN!G2454,\"-\",\"\")","v":""},"",{"$f":"IN!F2454*60","v":0},0,"-",{"$f":"SUBSTITUTE(IN!F2454,\",\",\".\")","v":""}]
[0,{"$error":"#VALUE!"},{"$error":"#VALUE!"},{"$f":"SUBSTITUTE(IN!G2455,\"-\",\"\")","v":""},"",{"$f":"IN!F2455*60","v":0},0,"-",{"$f":"SUBSTITUTE(IN!F2455,\",\",\".\")","v":""}]
[0,{"$error":"#VALUE!"},{"$error":"#VALUE!"},{"$f":"SUBSTITUTE(IN!G2456,\"-\",\"\")","v":""},"",{"$f":"IN!F2456*60","v":0},0,"-",{"$f":"SUBSTITUTE(IN!F2456,\",\",\".\")","v":""}]
[0,{"$error":"#VALUE!"},{"$error":"#VALUE!"},{"$f":"SUBSTITUTE(IN!G2457,\"-\",\"\")","v":""},"",{"$f":"IN!F2457*60","v":0},0,"-",{"$f":"SUBSTITUTE(IN!F2457,\",\",\".\")","v":""}]
[0,{"$error":"#VALUE!"},{"$error":"#VALUE!"},{"$f":"SUBSTITUTE(IN!G2458,\"-\",\"\")","v":""},"",{"$f":"IN!F2458*60","v":0},0,"-",{"$f":"SUBSTITUTE(IN!F2458,\",\",\".\")","v":""}]
[0,{"$error":"#VALUE!"},{"$error":"#VALUE!"},{"$f":"SUBSTITUTE(IN!G2459,\"-\",\"\")","v":""},"",{"$f":"IN!F2459*60","v":0},0,"-",{"$f":"SUBSTITUTE(IN!F2459,\",\",\".\")","v":""}]
[0,{"$error":"#VALUE!"},{"$error":"#VALUE!"},{"$f":"SUBSTITUTE(IN!G2460,\"-\",\"\")","v":""},"",{"$f":"IN!F2460*60","v":0},0,"-",{"$f":"SUBSTITUTE(IN!F2460,\",\",\".\")","v":""}]
[0,{"$error":"#VALUE!"},{"$error":"#VALUE!"},{"$f":"SUBSTITUTE(IN!G2461,\"-\",\"\")","v":""},"",{"$f":"IN!F2461*60","v":0},0,"-",{"$f":"SUBSTITUTE(IN!F2461,\",\",\".\")","v":""}]
[0,{"$error":"#VALUE!"},{"$error":"#VALUE!"},{"$f":"SUBSTITUTE(IN!G2462,\"-\",\"\")","v":""},"",{"$f":"IN!F2462*60","v":0},0,"-",{"$f":"SUBSTITUTE(IN!F2462,\",\",\".\")","v":""}]
[0,{"$error":"#VALUE!"},{"$error":"#VALUE!"},{"$f":"SUBSTITUTE(IN!G2463,\"-\",\"\")","v":""},"",{"$f":"IN!F2463*60","v":0},0,"-",{"$f":"SUBSTITUTE(IN!F2463,\",\",\".\")","v":""}]
[0,{"$error":"#VALUE!"},{"$error":"#VALUE!"},{"$f":"SUBSTITUTE(IN!G2464,\"-\",\"\")","v":""},"",{"$f":"IN!F2464*60","v":0},0,"-",{"$f":"SUBSTITUTE(IN!F2464,\",\",\".\")","v":""}]
[0,{"$error":"#VALUE!"},{"$error":"#VALUE!"},{"$f":"SUBSTITUTE(IN!G2465,\"-\",\"\")","v":""},"",{"$f":"IN!F2465*60","v":0},0,"-",{"$f":"SUBSTITUTE(IN!F2465,\",\",\".\")","v":""}]
[0,{"$error":"#VALUE!"},{"$error":"#VALUE!"},{"$f":"SUBSTITUTE(IN!G2466,\"-\",\"\")","v":""},"",{"$f":"IN!F2466*60","v":0},0,"-",{"$f":"SUBSTITUTE(IN!F2466,\",\",\".\")","v":""}]
[0,{"$error":"#VALUE!"},{"$error":"#VALUE!"},{"$f":"SUBSTITUTE(IN!G2467,\"-\",\"\")","v":""},"",{"$f":"IN!F2467*60","v":0},0,"-",{"$f":"SUBSTITUTE(IN!F2467,\",\",\".\")","v":""}]
[0,{"$error":"#VALUE!"},{"$error":"#VALUE!"},{"$f":"SUBSTITUTE(IN!G2468,\"-\",\"\")","v":""},"",{"$f":"IN!F2468*60","v":0},0,"-",{"$f":"SUBSTITUTE(IN!F2468,\",\",\".\")","v":""}]
[0,{"$error":"#VALUE!"},{"$error":"#VALUE!"},{"$f":"SUBSTITUTE(IN!G2469,\"-\",\"\")","v":""},"",{"$f":"IN!F2469*60","v":0},0,"-",{"$f":"SUBSTITUTE(IN!F2469,\",\",\".\")","v":""}]
[0,{"$error":"#VALUE!"},{"$error":"#VALUE!"},{"$f":"SUBSTITUTE(IN!G2470,\"-\",\"\")","v":""},"",{"$f":"IN!F2470*60","v":0},0,"-",{"$f":"SUBSTITUTE(IN!F2470,\",\",\".\")","v":""}]
[0,{"$error":"#VALUE!"},{"$error":"#VALUE!"},{"$f":"SUBSTITUTE(IN!G2471,\"-\",\"\")","v":""},"",{"$f":"IN!F2471*60","v":0},0,"-",{"$f":"SUBSTITUTE(IN!F2471,\",\",\".\")","v":""}]
[0,{"$error":"#VALUE!"},{"$error":"#VALUE!"},{"$f":"SUBSTITUTE(IN!G2472,\"-\",\"\")","v":""},"",{"$f":"IN!F2472*60","v":0},0,"-",{"$f":"SUBSTITUTE(IN!F2472,\",\",\".\")","v":""}]
[0,{"$error":"#VALUE!"},{"$error":"#VALUE!"},{"$f":"SUBSTITUTE(IN!G2473,\"-\",\"\")","v":""},"",{"$f":"IN!F2473*60","v":0},0,"-",{"$f":"SUBSTITUTE(IN!F2473,\",\",\".\")","v":""}]
[0,{"$error":"#VALUE!"},{"$error":"#VALUE!"},{"$f":"SUBSTITUTE(IN!G2474,\"-\",\"\")","v":""},"",{"$f":"IN!F2474*60","v":0},0,"-",{"$f":"SUBSTITUTE(IN!F2474,\",\",\".\")","v":""}]
[0,{"$error":"#VALUE!"},{"$error":"#VALUE!"},{"$f":"SUBSTITUTE(IN!G2475,\"-\",\"\")","v":""},"",{"$f":"IN!F2475*60","v":0},0,"-",{"$f":"SUBSTITUTE(IN!F2475,\",\",\".\")","v":""}]
[0,{"$error":"#VALUE!"},{"$error":"#VALUE!"},{"$f":"SUBSTITUTE(IN!G2476,\"-\",\"\")","v":""},"",{"$f":"IN!F2476*60","v":0},0,"-",{"$f":"SUBSTITUTE(IN!F2476,\",\",\".\")","v":""}]
[0,{"$error":"#VALUE!"},{"$error":"#VALUE!"},{"$f":"SUBSTITUTE(IN!G2477,\"-\",\"\")","v":""},"",{"$f":"IN!F2477*60","v":0},0,"-",{"$f":"SUBSTITUTE(IN!F2477,\",\",\".\")","v":""}]
[0,{"$error":"#VALUE!"},{"$error":"#VALUE!"},{"$f":"SUBSTITUTE(IN!G2478,\"-\",\"\")","v":""},"",{"$f":"IN!F2478*60","v":0},0,"-",{"$f":"SUBSTITUTE(IN!F2478,\",\",\".\")","v":""}]
[0,{"$error":"#VALUE!"},{"$error":"#VALUE!"},{"$f":"SUBSTITUTE(IN!G2479,\"-\",\"\")","v":""},"",{"$f":"IN!F2479*60","v":0},0,"-",{"$f":"SUBSTITUTE(IN!F2479,\",\",\".\")","v":""}]
[0,{"$error":"#VALUE!"},{"$error":"#VALUE!"},{"$f":"SUBSTITUTE(IN!G2480,\"-\",\"\")","v":""},"",{"$f":"IN!F2480*60","v":0},0,"-",{"$f":"SUBSTITUTE(IN!F2480,\",\",\".\")","v":""}]
[0,{"$error":"#VALUE!"},{"$error":"#VALUE!"},{"$f":"SUBSTITUTE(IN!G2481,\"-\",\"\")","v":""},"",{"$f":"IN!F2481*60","v":0},0,"-",{"$f":"SUBSTITUTE(IN!F2481,\",\",\".\")","v":""}]
[0,{"$error":"#VALUE!"},{"$error":"#VALUE!"},{"$f":"SUBSTITUTE(IN!G2482,\"-\",\"\")","v":""},"",{"$f":"IN!F2482*60","v":0},0,"-",{"$f":"SUBSTITUTE(IN!F2482,\",\",\".\")","v":""}]
[0,{"$error":"#VALUE!"},{"$error":"#VALUE!"},{"$f":"SUBSTITUTE(IN!G2483,\"-\",\"\")","v":""},"",{"$f":"IN!F2483*60","v":0},0,"-",{"$f":"SUBSTITUTE(IN!F2483,\",\",\".\")","v":""}]
[0,{"$error":"#VALUE!"},{"$error":"#VALUE!"},{"$f":"SUBSTITUTE(IN!G2484,\"-\",\"\")","v":""},"",{"$f":"IN!F2484*60","v":0},0,"-",{"$f":"SUBSTITUTE(IN!F2484,\",\",\".\")","v":""}]
[0,{"$error":"#VALUE!"},{"$error":"#VALUE!"},{"$f":"SUBSTITUTE(IN!G2485,\"-\",\"\")","v":""},"",{"$f":"IN!F2485*60","v":0},0,"-",{"$f":"SUBSTITUTE(IN!F2485,\",\",\".\")","v":""}]
[0,{"$error":"#VALUE!"},{"$error":"#VALUE!"},{"$f":"SUBSTITUTE(IN!G2486,\"-\",\"\")","v":""},"",{"$f":"IN!F2486*60","v":0},0,"-",{"$f":"SUBSTITUTE(IN!F2486,\",\",\".\")","v":""}]
[0,{"$error":"#VALUE!"},{"$error":"#VALUE!"},{"$f":"SUBSTITUTE(IN!G2487,\"-\",\"\")","v":""},"",{"$f":"IN!F2487*60","v":0},0,"-",{"$f":"SUBSTITUTE(IN!F2487,\",\",\".\")","v":""}]
[0,{"$error":"#VALUE!"},{"$error":"#VALUE!"},{"$f":"SUBSTITUTE(IN!G2488,\"-\",\"\")","v":""},"",{"$f":"IN!F2488*60","v":0},0,"-",{"$f":"SUBSTITUTE(IN!F2488,\",\",\".\")","v":""}]
[0,{"$error":"#VALUE!"},{"$error":"#VALUE!"},{"$f":"SUBSTITUTE(IN!G2489,\"-\",\"\")","v":""},"",{"$f":"IN!F2489*60","v":0},0,"-",{"$f":"SUBSTITUTE(IN!F2489,\",\",\".\")","v":""}]
[0,{"$error":"#VALUE!"},{"$error":"#VALUE!"},{"$f":"SUBSTITUTE(IN!G2490,\"-\",\"\")","v":""},"",{"$f":"IN!F2490*60","v":0},0,"-",{"$f":"SUBSTITUTE(IN!F2490,\",\",\".\")","v":""}]
[0,{"$error":"#VALUE!"},{"$error":"#VALUE!"},{"$f":"SUBSTITUTE(IN!G2491,\"-\",\"\")","v":""},"",{"$f":"IN!F2491*60","v":0},0,"-",{"$f":"SUBSTITUTE(IN!F2491,\",\",\".\")","v":""}]
[0,{"$error":"#VALUE!"},{"$error":"#VALUE!"},{"$f":"SUBSTITUTE(IN!G2492,\"-\",\"\")","v":""},"",{"$f":"IN!F2492*60","v":0},0,"-",{"$f":"SUBSTITUTE(IN!F2492,\",\",\".\")","v":""}]
[0,{"$error":"#VALUE!"},{"$error":"#VALUE!"},{"$f":"SUBSTITUTE(IN!G2493,\"-\",\"\")","v":""},"",{"$f":"IN!F2493*60","v":0},0,"-",{"$f":"SUBSTITUTE(IN!F2493,\",\",\".\")","v":""}]
[0,{"$error":"#VALUE!"},{"$error":"#VALUE!"},{"$f":"SUBSTITUTE(IN!G2494,\"-\",\"\")","v":""},"",{"$f":"IN!F2494*60","v":0},0,"-",{"$f":"SUBSTITUTE(IN!F2494,\",\",\".\")","v":""}]
[0,{"$error":"#VALUE!"},{"$error":"#VALUE!"},{"$f":"SUBSTITUTE(IN!G2495,\"-\",\"\")","v":""},"",{"$f":"IN!F2495*60","v":0},0,"-",{"$f":"SUBSTITUTE(IN!F2495,\",\",\".\")","v":""}]
[0,{"$error":"#VALUE!"},{"$error":"#VALUE!"},{"$f":"SUBSTITUTE(IN!G2496,\"-\",\"\")","v":""},"",{"$f":"IN!F2496*60","v":0},0,"-",{"$f":"SUBSTITUTE(IN!F2496,\",\",\".\")","v":""}]
[0,{"$error":"#VALUE!"},{"$error":"#VALUE!"},{"$f":"SUBSTITUTE(IN!G2497,\"-\",\"\")","v":""},"",{"$f":"IN!F2497*60","v":0},0,"-",{"$f":"SUBSTITUTE(IN!F2497,\",\",\".\")","v":""}]
[0,{"$error":"#VALUE!"},{"$error":"#VALUE!"},{"$f":"SUBSTITUTE(IN!G2498,\"-\",\"\")","v":""},"",{"$f":"IN!F2498*60","v":0},0,"-",{"$f":"SUBSTITUTE(IN!F2498,\",\",\".\")","v":""}]
[0,{"$error":"#VALUE!"},{"$error":"#VALUE!"},{"$f":"SUBSTITUTE(IN!G2499,\"-\",\"\")","v":""},"",{"$f":"IN!F2499*60","v":0},0,"-",{"$f":"SUBSTITUTE(IN!F2499,\",\",\".\")","v":""}]
[0,{"$error":"#VALUE!"},{"$error":"#VALUE!"},{"$f":"SUBSTITUTE(IN!G2500,\"-\",\"\")","v":""},"",{"$f":"IN!F2500*60","v":0},0,"-",{"$f":"SUBSTITUTE(IN!F2500,\",\",\".\")","v":""}]
[{"$f":"LEN(D2501)","v":0},{"$f":"VALUE(LEFT(D2501,1))","v":{"$error":"#VALUE!"}},{"$f":"IF(B2501<2,20,19)","v":{"$error":"#VALUE!"}},{"$f":"SUBSTITUTE(IN!G2501,\"-\",\"\")","v":""},{"$f":"IF(A2501=10,CONCATENATE(C2501,D2501),D2501)","v":""},{"$f":"IN!F2501*60","v":0},{"$f":"ROUND(F2501,0)","v":0},{"$f":"CONCATENATE(MID(E2501,1,8),\"-\",MID(E2501,9,4))","v":"-"},{"$f":"SUBSTITUTE(IN!F2501,\",\",\".\")","v":""}]
[0,{"$error":"#VALUE!"},{"$error":"#VALUE!"},{"$f":"SUBSTITUTE(IN!G2502,\"-\",\"\")","v":""},"",{"$f":"IN!F2502*60","v":0},0,"-",{"$f":"SUBSTITUTE(IN!F2502,\",\",\".\")","v":""}]
[0,{"$error":"#VALUE!"},{"$error":"#VALUE!"},{"$f":"SUBSTITUTE(IN!G2503,\"-\",\"\")","v":""},"",{"$f":"IN!F2503*60","v":0},0,"-",{"$f":"SUBSTITUTE(IN!F2503,\",\",\".\")","v":""}]
[0,{"$error":"#VALUE!"},{"$error":"#VALUE!"},{"$f":"SUBSTITUTE(IN!G2504,\"-\",\"\")","v":""},"",{"$f":"IN!F2504*60","v":0},0,"-",{"$f":"SUBSTITUTE(IN!F2504,\",\",\".\")","v":""}]
[0,{"$error":"#VALUE!"},{"$error":"#VALUE!"},{"$f":"SUBSTITUTE(IN!G2505,\"-\",\"\")","v":""},"",{"$f":"IN!F2505*60","v":0},0,"-",{"$f":"SUBSTITUTE(IN!F2505,\",\",\".\")","v":""}]
[0,{"$error":"#VALUE!"},{"$error":"#VALUE!"},{"$f":"SUBSTITUTE(IN!G2506,\"-\",\"\")","v":""},"",{"$f":"IN!F2506*60","v":0},0,"-",{"$f":"SUBSTITUTE(IN!F2506,\",\",\".\")","v":""}]
[0,{"$error":"#VALUE!"},{"$error":"#VALUE!"},{"$f":"SUBSTITUTE(IN!G2507,\"-\",\"\")","v":""},"",{"$f":"IN!F2507*60","v":0},0,"-",{"$f":"SUBSTITUTE(IN!F2507,\",\",\".\")","v":""}]
[0,{"$error":"#VALUE!"},{"$error":"#VALUE!"},{"$f":"SUBSTITUTE(IN!G2508,\"-\",\"\")","v":""},"",{"$f":"IN!F2508*60","v":0},0,"-",{"$f":"SUBSTITUTE(IN!F2508,\",\",\".\")","v":""}]
[0,{"$error":"#VALUE!"},{"$error":"#VALUE!"},{"$f":"SUBSTITUTE(IN!G2509,\"-\",\"\")","v":""},"",{"$f":"IN!F2509*60","v":0},0,"-",{"$f":"SUBSTITUTE(IN!F2509,\",\",\".\")","v":""}]
[0,{"$error":"#VALUE!"},{"$error":"#VALUE!"},{"$f":"SUBSTITUTE(IN!G2510,\"-\",\"\")","v":""},"",{"$f":"IN!F2510*60","v":0},0,"-",{"$f":"SUBSTITUTE(IN!F2510,\",\",\".\")","v":""}]
[0,{"$error":"#VALUE!"},{"$error":"#VALUE!"},{"$f":"SUBSTITUTE(IN!G2511,\"-\",\"\")","v":""},"",{"$f":"IN!F2511*60","v":0},0,"-",{"$f":"SUBSTITUTE(IN!F2511,\",\",\".\")","v":""}]
[0,{"$error":"#VALUE!"},{"$error":"#VALUE!"},{"$f":"SUBSTITUTE(IN!G2512,\"-\",\"\")","v":""},"",{"$f":"IN!F2512*60","v":0},0,"-",{"$f":"SUBSTITUTE(IN!F2512,\",\",\".\")","v":""}]
[0,{"$error":"#VALUE!"},{"$error":"#VALUE!"},{"$f":"SUBSTITUTE(IN!G2513,\"-\",\"\")","v":""},"",{"$f":"IN!F2513*60","v":0},0,"-",{"$f":"SUBSTITUTE(IN!F2513,\",\",\".\")","v":""}]
[0,{"$error":"#VALUE!"},{"$error":"#VALUE!"},{"$f":"SUBSTITUTE(IN!G2514,\"-\",\"\")","v":""},"",{"$f":"IN!F2514*60","v":0},0,"-",{"$f":"SUBSTITUTE(IN!F2514,\",\",\".\")","v":""}]
[0,{"$error":"#VALUE!"},{"$error":"#VALUE!"},{"$f":"SUBSTITUTE(IN!G2515,\"-\",\"\")","v":""},"",{"$f":"IN!F2515*60","v":0},0,"-",{"$f":"SUBSTITUTE(IN!F2515,\",\",\".\")","v":""}]
[0,{"$error":"#VALUE!"},{"$error":"#VALUE!"},{"$f":"SUBSTITUTE(IN!G2516,\"-\",\"\")","v":""},"",{"$f":"IN!F2516*60","v":0},0,"-",{"$f":"SUBSTITUTE(IN!F2516,\",\",\".\")","v":""}]
[0,{"$error":"#VALUE!"},{"$error":"#VALUE!"},{"$f":"SUBSTITUTE(IN!G2517,\"-\",\"\")","v":""},"",{"$f":"IN!F2517*60","v":0},0,"-",{"$f":"SUBSTITUTE(IN!F2517,\",\",\".\")","v":""}]
[0,{"$error":"#VALUE!"},{"$error":"#VALUE!"},{"$f":"SUBSTITUTE(IN!G2518,\"-\",\"\")","v":""},"",{"$f":"IN!F2518*60","v":0},0,"-",{"$f":"SUBSTITUTE(IN!F2518,\",\",\".\")","v":""}]
[0,{"$error":"#VALUE!"},{"$error":"#VALUE!"},{"$f":"SUBSTITUTE(IN!G2519,\"-\",\"\")","v":""},"",{"$f":"IN!F2519*60","v":0},0,"-",{"$f":"SUBSTITUTE(IN!F2519,\",\",\".\")","v":""}]
[0,{"$error":"#VALUE!"},{"$error":"#VALUE!"},{"$f":"SUBSTITUTE(IN!G2520,\"-\",\"\")","v":""},"",{"$f":"IN!F2520*60","v":0},0,"-",{"$f":"SUBSTITUTE(IN!F2520,\",\",\".\")","v":""}]
[0,{"$error":"#VALUE!"},{"$error":"#VALUE!"},{"$f":"SUBSTITUTE(IN!G2521,\"-\",\"\")","v":""},"",{"$f":"IN!F2521*60","v":0},0,"-",{"$f":"SUBSTITUTE(IN!F2521,\",\",\".\")","v":""}]
[0,{"$error":"#VALUE!"},{"$error":"#VALUE!"},{"$f":"SUBSTITUTE(IN!G2522,\"-\",\"\")","v":""},"",{"$f":"IN!F2522*60","v":0},0,"-",{"$f":"SUBSTITUTE(IN!F2522,\",\",\".\")","v":""}]
[0,{"$error":"#VALUE!"},{"$error":"#VALUE!"},{"$f":"SUBSTITUTE(IN!G2523,\"-\",\"\")","v":""},"",{"$f":"IN!F2523*60","v":0},0,"-",{"$f":"SUBSTITUTE(IN!F2523,\",\",\".\")","v":""}]
[0,{"$error":"#VALUE!"},{"$error":"#VALUE!"},{"$f":"SUBSTITUTE(IN!G2524,\"-\",\"\")","v":""},"",{"$f":"IN!F2524*60","v":0},0,"-",{"$f":"SUBSTITUTE(IN!F2524,\",\",\".\")","v":""}]
[0,{"$error":"#VALUE!"},{"$error":"#VALUE!"},{"$f":"SUBSTITUTE(IN!G2525,\"-\",\"\")","v":""},"",{"$f":"IN!F2525*60","v":0},0,"-",{"$f":"SUBSTITUTE(IN!F2525,\",\",\".\")","v":""}]
[0,{"$error":"#VALUE!"},{"$error":"#VALUE!"},{"$f":"SUBSTITUTE(IN!G2526,\"-\",\"\")","v":""},"",{"$f":"IN!F2526*60","v":0},0,"-",{"$f":"SUBSTITUTE(IN!F2526,\",\",\".\")","v":""}]
[0,{"$error":"#VALUE!"},{"$error":"#VALUE!"},{"$f":"SUBSTITUTE(IN!G2527,\"-\",\"\")","v":""},"",{"$f":"IN!F2527*60","v":0},0,"-",{"$f":"SUBSTITUTE(IN!F2527,\",\",\".\")","v":""}]
[0,{"$error":"#VALUE!"},{"$error":"#VALUE!"},{"$f":"SUBSTITUTE(IN!G2528,\"-\",\"\")","v":""},"",{"$f":"IN!F2528*60","v":0},0,"-",{"$f":"SUBSTITUTE(IN!F2528,\",\",\".\")","v":""}]
[0,{"$error":"#VALUE!"},{"$error":"#VALUE!"},{"$f":"SUBSTITUTE(IN!G2529,\"-\",\"\")","v":""},"",{"$f":"IN!F2529*60","v":0},0,"-",{"$f":"SUBSTITUTE(IN!F2529,\",\",\".\")","v":""}]
[0,{"$error":"#VALUE!"},{"$error":"#VALUE!"},{"$f":"SUBSTITUTE(IN!G2530,\"-\",\"\")","v":""},"",{"$f":"IN!F2530*60","v":0},0,"-",{"$f":"SUBSTITUTE(IN!F2530,\",\",\".\")","v":""}]
[0,{"$error":"#VALUE!"},{"$error":"#VALUE!"},{"$f":"SUBSTITUTE(IN!G2531,\"-\",\"\")","v":""},"",{"$f":"IN!F2531*60","v":0},0,"-",{"$f":"SUBSTITUTE(IN!F2531,\",\",\".\")","v":""}]
[0,{"$error":"#VALUE!"},{"$error":"#VALUE!"},{"$f":"SUBSTITUTE(IN!G2532,\"-\",\"\")","v":""},"",{"$f":"IN!F2532*60","v":0},0,"-",{"$f":"SUBSTITUTE(IN!F2532,\",\",\".\")","v":""}]
[0,{"$error":"#VALUE!"},{"$error":"#VALUE!"},{"$f":"SUBSTITUTE(IN!G2533,\"-\",\"\")","v":""},"",{"$f":"IN!F2533*60","v":0},0,"-",{"$f":"SUBSTITUTE(IN!F2533,\",\",\".\")","v":""}]
[0,{"$error":"#VALUE!"},{"$error":"#VALUE!"},{"$f":"SUBSTITUTE(IN!G2534,\"-\",\"\")","v":""},"",{"$f":"IN!F2534*60","v":0},0,"-",{"$f":"SUBSTITUTE(IN!F2534,\",\",\".\")","v":""}]
[0,{"$error":"#VALUE!"},{"$error":"#VALUE!"},{"$f":"SUBSTITUTE(IN!G2535,\"-\",\"\")","v":""},"",{"$f":"IN!F2535*60","v":0},0,"-",{"$f":"SUBSTITUTE(IN!F2535,\",\",\".\")","v":""}]
[0,{"$error":"#VALUE!"},{"$error":"#VALUE!"},{"$f":"SUBSTITUTE(IN!G2536,\"-\",\"\")","v":""},"",{"$f":"IN!F2536*60","v":0},0,"-",{"$f":"SUBSTITUTE(IN!F2536,\",\",\".\")","v":""}]
[0,{"$error":"#VALUE!"},{"$error":"#VALUE!"},{"$f":"SUBSTITUTE(IN!G2537,\"-\",\"\")","v":""},"",{"$f":"IN!F2537*60","v":0},0,"-",{"$f":"SUBSTITUTE(IN!F2537,\",\",\".\")","v":""}]
[0,{"$error":"#VALUE!"},{"$error":"#VALUE!"},{"$f":"SUBSTITUTE(IN!G2538,\"-\",\"\")","v":""},"",{"$f":"IN!F2538*60","v":0},0,"-",{"$f":"SUBSTITUTE(IN!F2538,\",\",\".\")","v":""}]
[0,{"$error":"#VALUE!"},{"$error":"#VALUE!"},{"$f":"SUBSTITUTE(IN!G2539,\"-\",\"\")","v":""},"",{"$f":"IN!F2539*60","v":0},0,"-",{"$f":"SUBSTITUTE(IN!F2539,\",\",\".\")","v":""}]
[0,{"$error":"#VALUE!"},{"$error":"#VALUE!"},{"$f":"SUBSTITUTE(IN!G2540,\"-\",\"\")","v":""},"",{"$f":"IN!F2540*60","v":0},0,"-",{"$f":"SUBSTITUTE(IN!F2540,\",\",\".\")","v":""}]
[0,{"$error":"#VALUE!"},{"$error":"#VALUE!"},{"$f":"SUBSTITUTE(IN!G2541,\"-\",\"\")","v":""},"",{"$f":"IN!F2541*60","v":0},0,"-",{"$f":"SUBSTITUTE(IN!F2541,\",\",\".\")","v":""}]
[0,{"$error":"#VALUE!"},{"$error":"#VALUE!"},{"$f":"SUBSTITUTE(IN!G2542,\"-\",\"\")","v":""},"",{"$f":"IN!F2542*60","v":0},0,"-",{"$f":"SUBSTITUTE(IN!F2542,\",\",\".\")","v":""}]
[0,{"$error":"#VALUE!"},{"$error":"#VALUE!"},{"$f":"SUBSTITUTE(IN!G2543,\"-\",\"\")","v":""},"",{"$f":"IN!F2543*60","v":0},0,"-",{"$f":"SUBSTITUTE(IN!F2543,\",\",\".\")","v":""}]
[0,{"$error":"#VALUE!"},{"$error":"#VALUE!"},{"$f":"SUBSTITUTE(IN!G2544,\"-\",\"\")","v":""},"",{"$f":"IN!F2544*60","v":0},0,"-",{"$f":"SUBSTITUTE(IN!F2544,\",\",\".\")","v":""}]
[0,{"$error":"#VALUE!"},{"$error":"#VALUE!"},{"$f":"SUBSTITUTE(IN!G2545,\"-\",\"\")","v":""},"",{"$f":"IN!F2545*60","v":0},0,"-",{"$f":"SUBSTITUTE(IN!F2545,\",\",\".\")","v":""}]
[0,{"$error":"#VALUE!"},{"$error":"#VALUE!"},{"$f":"SUBSTITUTE(IN!G2546,\"-\",\"\")","v":""},"",{"$f":"IN!F2546*60","v":0},0,"-",{"$f":"SUBSTITUTE(IN!F2546,\",\",\".\")","v":""}]
[0,{"$error":"#VALUE!"},{"$error":"#VALUE!"},{"$f":"SUBSTITUTE(IN!G2547,\"-\",\"\")","v":""},"",{"$f":"IN!F2547*60","v":0},0,"-",{"$f":"SUBSTITUTE(IN!F2547,\",\",\".\")","v":""}]
[0,{"$error":"#VALUE!"},{"$error":"#VALUE!"},{"$f":"SUBSTITUTE(IN!G2548,\"-\",\"\")","v":""},"",{"$f":"IN!F2548*60","v":0},0,"-",{"$f":"SUBSTITUTE(IN!F2548,\",\",\".\")","v":""}]
[0,{"$error":"#VALUE!"},{"$error":"#VALUE!"},{"$f":"SUBSTITUTE(IN!G2549,\"-\",\"\")","v":""},"",{"$f":"IN!F2549*60","v":0},0,"-",{"$f":"SUBSTITUTE(IN!F2549,\",\",\".\")","v":""}]
[0,{"$error":"#VALUE!"},{"$error":"#VALUE!"},{"$f":"SUBSTITUTE(IN!G2550,\"-\",\"\")","v":""},"",{"$f":"IN!F2550*60","v":0},0,"-",{"$f":"SUBSTITUTE(IN!F2550,\",\",\".\")","v":""}]
[0,{"$error":"#VALUE!"},{"$error":"#VALUE!"},{"$f":"SUBSTITUTE(IN!G2551,\"-\",\"\")","v":""},"",{"$f":"IN!F2551*60","v":0},0,"-",{"$f":"SUBSTITUTE(IN!F2551,\",\",\".\")","v":""}]
[0,{"$error":"#VALUE!"},{"$error":"#VALUE!"},{"$f":"SUBSTITUTE(IN!G2552,\"-\",\"\")","v":""},"",{"$f":"IN!F2552*60","v":0},0,"-",{"$f":"SUBSTITUTE(IN!F2552,\",\",\".\")","v":""}]
[0,{"$error":"#VALUE!"},{"$error":"#VALUE!"},{"$f":"SUBSTITUTE(IN!G2553,\"-\",\"\")","v":""},"",{"$f":"IN!F2553*60","v":0},0,"-",{"$f":"SUBSTITUTE(IN!F2553,\",\",\".\")","v":""}]
[0,{"$error":"#VALUE!"},{"$error":"#VALUE!"},{"$f":"SUBSTITUTE(IN!G2554,\"-\",\"\")","v":""},"",{"$f":"IN!F2554*60","v":0},0,"-",{"$f":"SUBSTITUTE(IN!F2554,\",\",\".\")","v":""}]
[0,{"$error":"#VALUE!"},{"$error":"#VALUE!"},{"$f":"SUBSTITUTE(IN!G2555,\"-\",\"\")","v":""},"",{"$f":"IN!F2555*60","v":0},0,"-",{"$f":"SUBSTITUTE(IN!F2555,\",\",\".\")","v":""}]
[0,{"$error":"#VALUE!"},{"$error":"#VALUE!"},{"$f":"SUBSTITUTE(IN!G2556,\"-\",\"\")","v":""},"",{"$f":"IN!F2556*60","v":0},0,"-",{"$f":"SUBSTITUTE(IN!F2556,\",\",\".\")","v":""}]
[0,{"$error":"#VALUE!"},{"$error":"#VALUE!"},{"$f":"SUBSTITUTE(IN!G2557,\"-\",\"\")","v":""},"",{"$f":"IN!F2557*60","v":0},0,"-",{"$f":"SUBSTITUTE(IN!F2557,\",\",\".\")","v":""}]
[0,{"$error":"#VALUE!"},{"$error":"#VALUE!"},{"$f":"SUBSTITUTE(IN!G2558,\"-\",\"\")","v":""},"",{"$f":"IN!F2558*60","v":0},0,"-",{"$f":"SUBSTITUTE(IN!F2558,\",\",\".\")","v":""}]
[0,{"$error":"#VALUE!"},{"$error":"#VALUE!"},{"$f":"SUBSTITUTE(IN!G2559,\"-\",\"\")","v":""},"",{"$f":"IN!F2559*60","v":0},0,"-",{"$f":"SUBSTITUTE(IN!F2559,\",\",\".\")","v":""}]
[0,{"$error":"#VALUE!"},{"$error":"#VALUE!"},{"$f":"SUBSTITUTE(IN!G2560,\"-\",\"\")","v":""},"",{"$f":"IN!F2560*60","v":0},0,"-",{"$f":"SUBSTITUTE(IN!F2560,\",\",\".\")","v":""}]
[0,{"$error":"#VALUE!"},{"$error":"#VALUE!"},{"$f":"SUBSTITUTE(IN!G2561,\"-\",\"\")","v":""},"",{"$f":"IN!F2561*60","v":0},0,"-",{"$f":"SUBSTITUTE(IN!F2561,\",\",\".\")","v":""}]
[0,{"$error":"#VALUE!"},{"$error":"#VALUE!"},{"$f":"SUBSTITUTE(IN!G2562,\"-\",\"\")","v":""},"",{"$f":"IN!F2562*60","v":0},0,"-",{"$f":"SUBSTITUTE(IN!F2562,\",\",\".\")","v":""}]
[0,{"$error":"#VALUE!"},{"$error":"#VALUE!"},{"$f":"SUBSTITUTE(IN!G2563,\"-\",\"\")","v":""},"",{"$f":"IN!F2563*60","v":0},0,"-",{"$f":"SUBSTITUTE(IN!F2563,\",\",\".\")","v":""}]
[0,{"$error":"#VALUE!"},{"$error":"#VALUE!"},{"$f":"SUBSTITUTE(IN!G2564,\"-\",\"\")","v":""},"",{"$f":"IN!F2564*60","v":0},0,"-",{"$f":"SUBSTITUTE(IN!F2564,\",\",\".\")","v":""}]
[{"$f":"LEN(D2565)","v":0},{"$f":"VALUE(LEFT(D2565,1))","v":{"$error":"#VALUE!"}},{"$f":"IF(B2565<2,20,19)","v":{"$error":"#VALUE!"}},{"$f":"SUBSTITUTE(IN!G2565,\"-\",\"\")","v":""},{"$f":"IF(A2565=10,CONCATENATE(C2565,D2565),D2565)","v":""},{"$f":"IN!F2565*60","v":0},{"$f":"ROUND(F2565,0)","v":0},{"$f":"CONCATENATE(MID(E2565,1,8),\"-\",MID(E2565,9,4))","v":"-"},{"$f":"SUBSTITUTE(IN!F2565,\",\",\".\")","v":""}]
[0,{"$error":"#VALUE!"},{"$error":"#VALUE!"},{"$f":"SUBSTITUTE(IN!G2566,\"-\",\"\")","v":""},"",{"$f":"IN!F2566*60","v":0},0,"-",{"$f":"SUBSTITUTE(IN!F2566,\",\",\".\")","v":""}]
[0,{"$error":"#VALUE!"},{"$error":"#VALUE!"},{"$f":"SUBSTITUTE(IN!G2567,\"-\",\"\")","v":""},"",{"$f":"IN!F2567*60","v":0},0,"-",{"$f":"SUBSTITUTE(IN!F2567,\",\",\".\")","v":""}]
[0,{"$error":"#VALUE!"},{"$error":"#VALUE!"},{"$f":"SUBSTITUTE(IN!G2568,\"-\",\"\")","v":""},"",{"$f":"IN!F2568*60","v":0},0,"-",{"$f":"SUBSTITUTE(IN!F2568,\",\",\".\")","v":""}]
[0,{"$error":"#VALUE!"},{"$error":"#VALUE!"},{"$f":"SUBSTITUTE(IN!G2569,\"-\",\"\")","v":""},"",{"$f":"IN!F2569*60","v":0},0,"-",{"$f":"SUBSTITUTE(IN!F2569,\",\",\".\")","v":""}]
[0,{"$error":"#VALUE!"},{"$error":"#VALUE!"},{"$f":"SUBSTITUTE(IN!G2570,\"-\",\"\")","v":""},"",{"$f":"IN!F2570*60","v":0},0,"-",{"$f":"SUBSTITUTE(IN!F2570,\",\",\".\")","v":""}]
[0,{"$error":"#VALUE!"},{"$error":"#VALUE!"},{"$f":"SUBSTITUTE(IN!G2571,\"-\",\"\")","v":""},"",{"$f":"IN!F2571*60","v":0},0,"-",{"$f":"SUBSTITUTE(IN!F2571,\",\",\".\")","v":""}]
[0,{"$error":"#VALUE!"},{"$error":"#VALUE!"},{"$f":"SUBSTITUTE(IN!G2572,\"-\",\"\")","v":""},"",{"$f":"IN!F2572*60","v":0},0,"-",{"$f":"SUBSTITUTE(IN!F2572,\",\",\".\")","v":""}]
[0,{"$error":"#VALUE!"},{"$error":"#VALUE!"},{"$f":"SUBSTITUTE(IN!G2573,\"-\",\"\")","v":""},"",{"$f":"IN!F2573*60","v":0},0,"-",{"$f":"SUBSTITUTE(IN!F2573,\",\",\".\")","v":""}]
[0,{"$error":"#VALUE!"},{"$error":"#VALUE!"},{"$f":"SUBSTITUTE(IN!G2574,\"-\",\"\")","v":""},"",{"$f":"IN!F2574*60","v":0},0,"-",{"$f":"SUBSTITUTE(IN!F2574,\",\",\".\")","v":""}]
[0,{"$error":"#VALUE!"},{"$error":"#VALUE!"},{"$f":"SUBSTITUTE(IN!G2575,\"-\",\"\")","v":""},"",{"$f":"IN!F2575*60","v":0},0,"-",{"$f":"SUBSTITUTE(IN!F2575,\",\",\".\")","v":""}]
[0,{"$error":"#VALUE!"},{"$error":"#VALUE!"},{"$f":"SUBSTITUTE(IN!G2576,\"-\",\"\")","v":""},"",{"$f":"IN!F2576*60","v":0},0,"-",{"$f":"SUBSTITUTE(IN!F2576,\",\",\".\")","v":""}]
[0,{"$error":"#VALUE!"},{"$error":"#VALUE!"},{"$f":"SUBSTITUTE(IN!G2577,\"-\",\"\")","v":""},"",{"$f":"IN!F2577*60","v":0},0,"-",{"$f":"SUBSTITUTE(IN!F2577,\",\",\".\")","v":""}]
[0,{"$error":"#VALUE!"},{"$error":"#VALUE!"},{"$f":"SUBSTITUTE(IN!G2578,\"-\",\"\")","v":""},"",{"$f":"IN!F2578*60","v":0},0,"-",{"$f":"SUBSTITUTE(IN!F2578,\",\",\".\")","v":""}]
[0,{"$error":"#VALUE!"},{"$error":"#VALUE!"},{"$f":"SUBSTITUTE(IN!G2579,\"-\",\"\")","v":""},"",{"$f":"IN!F2579*60","v":0},0,"-",{"$f":"SUBSTITUTE(IN!F2579,\",\",\".\")","v":""}]
[0,{"$error":"#VALUE!"},{"$error":"#VALUE!"},{"$f":"SUBSTITUTE(IN!G2580,\"-\",\"\")","v":""},"",{"$f":"IN!F2580*60","v":0},0,"-",{"$f":"SUBSTITUTE(IN!F2580,\",\",\".\")","v":""}]
[0,{"$error":"#VALUE!"},{"$error":"#VALUE!"},{"$f":"SUBSTITUTE(IN!G2581,\"-\",\"\")","v":""},"",{"$f":"IN!F2581*60","v":0},0,"-",{"$f":"SUBSTITUTE(IN!F2581,\",\",\".\")","v":""}]
[0,{"$error":"#VALUE!"},{"$error":"#VALUE!"},{"$f":"SUBSTITUTE(IN!G2582,\"-\",\"\")","v":""},"",{"$f":"IN!F2582*60","v":0},0,"-",{"$f":"SUBSTITUTE(IN!F2582,\",\",\".\")","v":""}]
[0,{"$error":"#VALUE!"},{"$error":"#VALUE!"},{"$f":"SUBSTITUTE(IN!G2583,\"-\",\"\")","v":""},"",{"$f":"IN!F2583*60","v":0},0,"-",{"$f":"SUBSTITUTE(IN!F2583,\",\",\".\")","v":""}]
[0,{"$error":"#VALUE!"},{"$error":"#VALUE!"},{"$f":"SUBSTITUTE(IN!G2584,\"-\",\"\")","v":""},"",{"$f":"IN!F2584*60","v":0},0,"-",{"$f":"SUBSTITUTE(IN!F2584,\",\",\".\")","v":""}]
[0,{"$error":"#VALUE!"},{"$error":"#VALUE!"},{"$f":"SUBSTITUTE(IN!G2585,\"-\",\"\")","v":""},"",{"$f":"IN!F2585*60","v":0},0,"-",{"$f":"SUBSTITUTE(IN!F2585,\",\",\".\")","v":""}]
[0,{"$error":"#VALUE!"},{"$error":"#VALUE!"},{"$f":"SUBSTITUTE(IN!G2586,\"-\",\"\")","v":""},"",{"$f":"IN!F2586*60","v":0},0,"-",{"$f":"SUBSTITUTE(IN!F2586,\",\",\".\")","v":""}]
[0,{"$error":"#VALUE!"},{"$error":"#VALUE!"},{"$f":"SUBSTITUTE(IN!G2587,\"-\",\"\")","v":""},"",{"$f":"IN!F2587*60","v":0},0,"-",{"$f":"SUBSTITUTE(IN!F2587,\",\",\".\")","v":""}]
[0,{"$error":"#VALUE!"},{"$error":"#VALUE!"},{"$f":"SUBSTITUTE(IN!G2588,\"-\",\"\")","v":""},"",{"$f":"IN!F2588*60","v":0},0,"-",{"$f":"SUBSTITUTE(IN!F2588,\",\",\".\")","v":""}]
[0,{"$error":"#VALUE!"},{"$error":"#VALUE!"},{"$f":"SUBSTITUTE(IN!G2589,\"-\",\"\")","v":""},"",{"$f":"IN!F2589*60","v":0},0,"-",{"$f":"SUBSTITUTE(IN!F2589,\",\",\".\")","v":""}]
[0,{"$error":"#VALUE!"},{"$error":"#VALUE!"},{"$f":"SUBSTITUTE(IN!G2590,\"-\",\"\")","v":""},"",{"$f":"IN!F2590*60","v":0},0,"-",{"$f":"SUBSTITUTE(IN!F2590,\",\",\".\")","v":""}]
[0,{"$error":"#VALUE!"},{"$error":"#VALUE!"},{"$f":"SUBSTITUTE(IN!G2591,\"-\",\"\")","v":""},"",{"$f":"IN!F2591*60","v":0},0,"-",{"$f":"SUBSTITUTE(IN!F2591,\",\",\".\")","v":""}]
[0,{"$error":"#VALUE!"},{"$error":"#VALUE!"},{"$f":"SUBSTITUTE(IN!G2592,\"-\",\"\")","v":""},"",{"$f":"IN!F2592*60","v":0},0,"-",{"$f":"SUBSTITUTE(IN!F2592,\",\",\".\")","v":""}]
[0,{"$error":"#VALUE!"},{"$error":"#VALUE!"},{"$f":"SUBSTITUTE(IN!G2593,\"-\",\"\")","v":""},"",{"$f":"IN!F2593*60","v":0},0,"-",{"$f":"SUBSTITUTE(IN!F2593,\",\",\".\")","v":""}]
[0,{"$error":"#VALUE!"},{"$error":"#VALUE!"},{"$f":"SUBSTITUTE(IN!G2594,\"-\",\"\")","v":""},"",{"$f":"IN!F2594*60","v":0},0,"-",{"$f":"SUBSTITUTE(IN!F2594,\",\",\".\")","v":""}]
[0,{"$error":"#VALUE!"},{"$error":"#VALUE!"},{"$f":"SUBSTITUTE(IN!G2595,\"-\",\"\")","v":""},"",{"$f":"IN!F2595*60","v":0},0,"-",{"$f":"SUBSTITUTE(IN!F2595,\",\",\".\")","v":""}]
[0,{"$error":"#VALUE!"},{"$error":"#VALUE!"},{"$f":"SUBSTITUTE(IN!G2596,\"-\",\"\")","v":""},"",{"$f":"IN!F2596*60","v":0},0,"-",{"$f":"SUBSTITUTE(IN!F2596,\",\",\".\")","v":""}]
[0,{"$error":"#VALUE!"},{"$error":"#VALUE!"},{"$f":"SUBSTITUTE(IN!G2597,\"-\",\"\")","v":""},"",{"$f":"IN!F2597*60","v":0},0,"-",{"$f":"SUBSTITUTE(IN!F2597,\",\",\".\")","v":""}]
[0,{"$error":"#VALUE!"},{"$error":"#VALUE!"},{"$f":"SUBSTITUTE(IN!G2598,\"-\",\"\")","v":""},"",{"$f":"IN!F2598*60","v":0},0,"-",{"$f":"SUBSTITUTE(IN!F2598,\",\",\".\")","v":""}]
[0,{"$error":"#VALUE!"},{"$error":"#VALUE!"},{"$f":"SUBSTITUTE(IN!G2599,\"-\",\"\")","v":""},"",{"$f":"IN!F2599*60","v":0},0,"-",{"$f":"SUBSTITUTE(IN!F2599,\",\",\".\")","v":""}]
[0,{"$error":"#VALUE!"},{"$error":"#VALUE!"},{"$f":"SUBSTITUTE(IN!G2600,\"-\",\"\")","v":""},"",{"$f":"IN!F2600*60","v":0},0,"-",{"$f":"SUBSTITUTE(IN!F2600,\",\",\".\")","v":""}]
[0,{"$error":"#VALUE!"},{"$error":"#VALUE!"},{"$f":"SUBSTITUTE(IN!G2601,\"-\",\"\")","v":""},"",{"$f":"IN!F2601*60","v":0},0,"-",{"$f":"SUBSTITUTE(IN!F2601,\",\",\".\")","v":""}]
[0,{"$error":"#VALUE!"},{"$error":"#VALUE!"},{"$f":"SUBSTITUTE(IN!G2602,\"-\",\"\")","v":""},"",{"$f":"IN!F2602*60","v":0},0,"-",{"$f":"SUBSTITUTE(IN!F2602,\",\",\".\")","v":""}]
[0,{"$error":"#VALUE!"},{"$error":"#VALUE!"},{"$f":"SUBSTITUTE(IN!G2603,\"-\",\"\")","v":""},"",{"$f":"IN!F2603*60","v":0},0,"-",{"$f":"SUBSTITUTE(IN!F2603,\",\",\".\")","v":""}]
[0,{"$error":"#VALUE!"},{"$error":"#VALUE!"},{"$f":"SUBSTITUTE(IN!G2604,\"-\",\"\")","v":""},"",{"$f":"IN!F2604*60","v":0},0,"-",{"$f":"SUBSTITUTE(IN!F2604,\",\",\".\")","v":""}]
[0,{"$error":"#VALUE!"},{"$error":"#VALUE!"},{"$f":"SUBSTITUTE(IN!G2605,\"-\",\"\")","v":""},"",{"$f":"IN!F2605*60","v":0},0,"-",{"$f":"SUBSTITUTE(IN!F2605,\",\",\".\")","v":""}]
[0,{"$error":"#VALUE!"},{"$error":"#VALUE!"},{"$f":"SUBSTITUTE(IN!G2606,\"-\",\"\")","v":""},"",{"$f":"IN!F2606*60","v":0},0,"-",{"$f":"SUBSTITUTE(IN!F2606,\",\",\".\")","v":""}]
[0,{"$error":"#VALUE!"},{"$error":"#VALUE!"},{"$f":"SUBSTITUTE(IN!G2607,\"-\",\"\")","v":""},"",{"$f":"IN!F2607*60","v":0},0,"-",{"$f":"SUBSTITUTE(IN!F2607,\",\",\".\")","v":""}]
[0,{"$error":"#VALUE!"},{"$error":"#VALUE!"},{"$f":"SUBSTITUTE(IN!G2608,\"-\",\"\")","v":""},"",{"$f":"IN!F2608*60","v":0},0,"-",{"$f":"SUBSTITUTE(IN!F2608,\",\",\".\")","v":""}]
[0,{"$error":"#VALUE!"},{"$error":"#VALUE!"},{"$f":"SUBSTITUTE(IN!G2609,\"-\",\"\")","v":""},"",{"$f":"IN!F2609*60","v":0},0,"-",{"$f":"SUBSTITUTE(IN!F2609,\",\",\".\")","v":""}]
[0,{"$error":"#VALUE!"},{"$error":"#VALUE!"},{"$f":"SUBSTITUTE(IN!G2610,\"-\",\"\")","v":""},"",{"$f":"IN!F2610*60","v":0},0,"-",{"$f":"SUBSTITUTE(IN!F2610,\",\",\".\")","v":""}]
[0,{"$error":"#VALUE!"},{"$error":"#VALUE!"},{"$f":"SUBSTITUTE(IN!G2611,\"-\",\"\")","v":""},"",{"$f":"IN!F2611*60","v":0},0,"-",{"$f":"SUBSTITUTE(IN!F2611,\",\",\".\")","v":""}]
[0,{"$error":"#VALUE!"},{"$error":"#VALUE!"},{"$f":"SUBSTITUTE(IN!G2612,\"-\",\"\")","v":""},"",{"$f":"IN!F2612*60","v":0},0,"-",{"$f":"SUBSTITUTE(IN!F2612,\",\",\".\")","v":""}]
[0,{"$error":"#VALUE!"},{"$error":"#VALUE!"},{"$f":"SUBSTITUTE(IN!G2613,\"-\",\"\")","v":""},"",{"$f":"IN!F2613*60","v":0},0,"-",{"$f":"SUBSTITUTE(IN!F2613,\",\",\".\")","v":""}]
[0,{"$error":"#VALUE!"},{"$error":"#VALUE!"},{"$f":"SUBSTITUTE(IN!G2614,\"-\",\"\")","v":""},"",{"$f":"IN!F2614*60","v":0},0,"-",{"$f":"SUBSTITUTE(IN!F2614,\",\",\".\")","v":""}]
[0,{"$error":"#VALUE!"},{"$error":"#VALUE!"},{"$f":"SUBSTITUTE(IN!G2615,\"-\",\"\")","v":""},"",{"$f":"IN!F2615*60","v":0},0,"-",{"$f":"SUBSTITUTE(IN!F2615,\",\",\".\")","v":""}]
[0,{"$error":"#VALUE!"},{"$error":"#VALUE!"},{"$f":"SUBSTITUTE(IN!G2616,\"-\",\"\")","v":""},"",{"$f":"IN!F2616*60","v":0},0,"-",{"$f":"SUBSTITUTE(IN!F2616,\",\",\".\")","v":""}]
[0,{"$error":"#VALUE!"},{"$error":"#VALUE!"},{"$f":"SUBSTITUTE(IN!G2617,\"-\",\"\")","v":""},"",{"$f":"IN!F2617*60","v":0},0,"-",{"$f":"SUBSTITUTE(IN!F2617,\",\",\".\")","v":""}]
[0,{"$error":"#VALUE!"},{"$error":"#VALUE!"},{"$f":"SUBSTITUTE(IN!G2618,\"-\",\"\")","v":""},"",{"$f":"IN!F2618*60","v":0},0,"-",{"$f":"SUBSTITUTE(IN!F2618,\",\",\".\")","v":""}]
[0,{"$error":"#VALUE!"},{"$error":"#VALUE!"},{"$f":"SUBSTITUTE(IN!G2619,\"-\",\"\")","v":""},"",{"$f":"IN!F2619*60","v":0},0,"-",{"$f":"SUBSTITUTE(IN!F2619,\",\",\".\")","v":""}]
[0,{"$error":"#VALUE!"},{"$error":"#VALUE!"},{"$f":"SUBSTITUTE(IN!G2620,\"-\",\"\")","v":""},"",{"$f":"IN!F2620*60","v":0},0,"-",{"$f":"SUBSTITUTE(IN!F2620,\",\",\".\")","v":""}]
[0,{"$error":"#VALUE!"},{"$error":"#VALUE!"},{"$f":"SUBSTITUTE(IN!G2621,\"-\",\"\")","v":""},"",{"$f":"IN!F2621*60","v":0},0,"-",{"$f":"SUBSTITUTE(IN!F2621,\",\",\".\")","v":""}]
[0,{"$error":"#VALUE!"},{"$error":"#VALUE!"},{"$f":"SUBSTITUTE(IN!G2622,\"-\",\"\")","v":""},"",{"$f":"IN!F2622*60","v":0},0,"-",{"$f":"SUBSTITUTE(IN!F2622,\",\",\".\")","v":""}]
[0,{"$error":"#VALUE!"},{"$error":"#VALUE!"},{"$f":"SUBSTITUTE(IN!G2623,\"-\",\"\")","v":""},"",{"$f":"IN!F2623*60","v":0},0,"-",{"$f":"SUBSTITUTE(IN!F2623,\",\",\".\")","v":""}]
[0,{"$error":"#VALUE!"},{"$error":"#VALUE!"},{"$f":"SUBSTITUTE(IN!G2624,\"-\",\"\")","v":""},"",{"$f":"IN!F2624*60","v":0},0,"-",{"$f":"SUBSTITUTE(IN!F2624,\",\",\".\")","v":""}]
[0,{"$error":"#VALUE!"},{"$error":"#VALUE!"},{"$f":"SUBSTITUTE(IN!G2625,\"-\",\"\")","v":""},"",{"$f":"IN!F2625*60","v":0},0,"-",{"$f":"SUBSTITUTE(IN!F2625,\",\",\".\")","v":""}]
[0,{"$error":"#VALUE!"},{"$error":"#VALUE!"},{"$f":"SUBSTITUTE(IN!G2626,\"-\",\"\")","v":""},"",{"$f":"IN!F2626*60","v":0},0,"-",{"$f":"SUBSTITUTE(IN!F2626,\",\",\".\")","v":""}]
[0,{"$error":"#VALUE!"},{"$error":"#VALUE!"},{"$f":"SUBSTITUTE(IN!G2627,\"-\",\"\")","v":""},"",{"$f":"IN!F2627*60","v":0},0,"-",{"$f":"SUBSTITUTE(IN!F2627,\",\",\".\")","v":""}]
[0,{"$error":"#VALUE!"},{"$error":"#VALUE!"},{"$f":"SUBSTITUTE(IN!G2628,\"-\",\"\")","v":""},"",{"$f":"IN!F2628*60","v":0},0,"-",{"$f":"SUBSTITUTE(IN!F2628,\",\",\".\")","v":""}]
[{"$f":"LEN(D2629)","v":0},{"$f":"VALUE(LEFT(D2629,1))","v":{"$error":"#VALUE!"}},{"$f":"IF(B2629<2,20,19)","v":{"$error":"#VALUE!"}},{"$f":"SUBSTITUTE(IN!G2629,\"-\",\"\")","v":""},{"$f":"IF(A2629=10,CONCATENATE(C2629,D2629),D2629)","v":""},{"$f":"IN!F2629*60","v":0},{"$f":"ROUND(F2629,0)","v":0},{"$f":"CONCATENATE(MID(E2629,1,8),\"-\",MID(E2629,9,4))","v":"-"},{"$f":"SUBSTITUTE(IN!F2629,\",\",\".\")","v":""}]
[0,{"$error":"#VALUE!"},{"$error":"#VALUE!"},{"$f":"SUBSTITUTE(IN!G2630,\"-\",\"\")","v":""},"",{"$f":"IN!F2630*60","v":0},0,"-",{"$f":"SUBSTITUTE(IN!F2630,\",\",\".\")","v":""}]
[0,{"$error":"#VALUE!"},{"$error":"#VALUE!"},{"$f":"SUBSTITUTE(IN!G2631,\"-\",\"\")","v":""},"",{"$f":"IN!F2631*60","v":0},0,"-",{"$f":"SUBSTITUTE(IN!F2631,\",\",\".\")","v":""}]
[0,{"$error":"#VALUE!"},{"$error":"#VALUE!"},{"$f":"SUBSTITUTE(IN!G2632,\"-\",\"\")","v":""},"",{"$f":"IN!F2632*60","v":0},0,"-",{"$f":"SUBSTITUTE(IN!F2632,\",\",\".\")","v":""}]
[0,{"$error":"#VALUE!"},{"$error":"#VALUE!"},{"$f":"SUBSTITUTE(IN!G2633,\"-\",\"\")","v":""},"",{"$f":"IN!F2633*60","v":0},0,"-",{"$f":"SUBSTITUTE(IN!F2633,\",\",\".\")","v":""}]
[0,{"$error":"#VALUE!"},{"$error":"#VALUE!"},{"$f":"SUBSTITUTE(IN!G2634,\"-\",\"\")","v":""},"",{"$f":"IN!F2634*60","v":0},0,"-",{"$f":"SUBSTITUTE(IN!F2634,\",\",\".\")","v":""}]
[0,{"$error":"#VALUE!"},{"$error":"#VALUE!"},{"$f":"SUBSTITUTE(IN!G2635,\"-\",\"\")","v":""},"",{"$f":"IN!F2635*60","v":0},0,"-",{"$f":"SUBSTITUTE(IN!F2635,\",\",\".\")","v":""}]
[0,{"$error":"#VALUE!"},{"$error":"#VALUE!"},{"$f":"SUBSTITUTE(IN!G2636,\"-\",\"\")","v":""},"",{"$f":"IN!F2636*60","v":0},0,"-",{"$f":"SUBSTITUTE(IN!F2636,\",\",\".\")","v":""}]
[0,{"$error":"#VALUE!"},{"$error":"#VALUE!"},{"$f":"SUBSTITUTE(IN!G2637,\"-\",\"\")","v":""},"",{"$f":"IN!F2637*60","v":0},0,"-",{"$f":"SUBSTITUTE(IN!F2637,\",\",\".\")","v":""}]
[0,{"$error":"#VALUE!"},{"$error":"#VALUE!"},{"$f":"SUBSTITUTE(IN!G2638,\"-\",\"\")","v":""},"",{"$f":"IN!F2638*60","v":0},0,"-",{"$f":"SUBSTITUTE(IN!F2638,\",\",\".\")","v":""}]
[0,{"$error":"#VALUE!"},{"$error":"#VALUE!"},{"$f":"SUBSTITUTE(IN!G2639,\"-\",\"\")","v":""},"",{"$f":"IN!F2639*60","v":0},0,"-",{"$f":"SUBSTITUTE(IN!F2639,\",\",\".\")","v":""}]
[0,{"$error":"#VALUE!"},{"$error":"#VALUE!"},{"$f":"SUBSTITUTE(IN!G2640,\"-\",\"\")","v":""},"",{"$f":"IN!F2640*60","v":0},0,"-",{"$f":"SUBSTITUTE(IN!F2640,\",\",\".\")","v":""}]
[0,{"$error":"#VALUE!"},{"$error":"#VALUE!"},{"$f":"SUBSTITUTE(IN!G2641,\"-\",\"\")","v":""},"",{"$f":"IN!F2641*60","v":0},0,"-",{"$f":"SUBSTITUTE(IN!F2641,\",\",\".\")","v":""}]
[0,{"$error":"#VALUE!"},{"$error":"#VALUE!"},{"$f":"SUBSTITUTE(IN!G2642,\"-\",\"\")","v":""},"",{"$f":"IN!F2642*60","v":0},0,"-",{"$f":"SUBSTITUTE(IN!F2642,\",\",\".\")","v":""}]
[0,{"$error":"#VALUE!"},{"$error":"#VALUE!"},{"$f":"SUBSTITUTE(IN!G2643,\"-\",\"\")","v":""},"",{"$f":"IN!F2643*60","v":0},0,"-",{"$f":"SUBSTITUTE(IN!F2643,\",\",\".\")","v":""}]
[0,{"$error":"#VALUE!"},{"$error":"#VALUE!"},{"$f":"SUBSTITUTE(IN!G2644,\"-\",\"\")","v":""},"",{"$f":"IN!F2644*60","v":0},0,"-",{"$f":"SUBSTITUTE(IN!F2644,\",\",\".\")","v":""}]
[0,{"$error":"#VALUE!"},{"$error":"#VALUE!"},{"$f":"SUBSTITUTE(IN!G2645,\"-\",\"\")","v":""},"",{"$f":"IN!F2645*60","v":0},0,"-",{"$f":"SUBSTITUTE(IN!F2645,\",\",\".\")","v":""}]
[0,{"$error":"#VALUE!"},{"$error":"#VALUE!"},{"$f":"SUBSTITUTE(IN!G2646,\"-\",\"\")","v":""},"",{"$f":"IN!F2646*60","v":0},0,"-",{"$f":"SUBSTITUTE(IN!F2646,\",\",\".\")","v":""}]
[0,{"$error":"#VALUE!"},{"$error":"#VALUE!"},{"$f":"SUBSTITUTE(IN!G2647,\"-\",\"\")","v":""},"",{"$f":"IN!F2647*60","v":0},0,"-",{"$f":"SUBSTITUTE(IN!F2647,\",\",\".\")","v":""}]
[0,{"$error":"#VALUE!"},{"$error":"#VALUE!"},{"$f":"SUBSTITUTE(IN!G2648,\"-\",\"\")","v":""},"",{"$f":"IN!F2648*60","v":0},0,"-",{"$f":"SUBSTITUTE(IN!F2648,\",\",\".\")","v":""}]
[0,{"$error":"#VALUE!"},{"$error":"#VALUE!"},{"$f":"SUBSTITUTE(IN!G2649,\"-\",\"\")","v":""},"",{"$f":"IN!F2649*60","v":0},0,"-",{"$f":"SUBSTITUTE(IN!F2649,\",\",\".\")","v":""}]
[0,{"$error":"#VALUE!"},{"$error":"#VALUE!"},{"$f":"SUBSTITUTE(IN!G2650,\"-\",\"\")","v":""},"",{"$f":"IN!F2650*60","v":0},0,"-",{"$f":"SUBSTITUTE(IN!F2650,\",\",\".\")","v":""}]
[0,{"$error":"#VALUE!"},{"$error":"#VALUE!"},{"$f":"SUBSTITUTE(IN!G2651,\"-\",\"\")","v":""},"",{"$f":"IN!F2651*60","v":0},0,"-",{"$f":"SUBSTITUTE(IN!F2651,\",\",\".\")","v":""}]
[0,{"$error":"#VALUE!"},{"$error":"#VALUE!"},{"$f":"SUBSTITUTE(IN!G2652,\"-\",\"\")","v":""},"",{"$f":"IN!F2652*60","v":0},0,"-",{"$f":"SUBSTITUTE(IN!F2652,\",\",\".\")","v":""}]
[0,{"$error":"#VALUE!"},{"$error":"#VALUE!"},{"$f":"SUBSTITUTE(IN!G2653,\"-\",\"\")","v":""},"",{"$f":"IN!F2653*60","v":0},0,"-",{"$f":"SUBSTITUTE(IN!F2653,\",\",\".\")","v":""}]
[0,{"$error":"#VALUE!"},{"$error":"#VALUE!"},{"$f":"SUBSTITUTE(IN!G2654,\"-\",\"\")","v":""},"",{"$f":"IN!F2654*60","v":0},0,"-",{"$f":"SUBSTITUTE(IN!F2654,\",\",\".\")","v":""}]
[0,{"$error":"#VALUE!"},{"$error":"#VALUE!"},{"$f":"SUBSTITUTE(IN!G2655,\"-\",\"\")","v":""},"",{"$f":"IN!F2655*60","v":0},0,"-",{"$f":"SUBSTITUTE(IN!F2655,\",\",\".\")","v":""}]
[0,{"$error":"#VALUE!"},{"$error":"#VALUE!"},{"$f":"SUBSTITUTE(IN!G2656,\"-\",\"\")","v":""},"",{"$f":"IN!F2656*60","v":0},0,"-",{"$f":"SUBSTITUTE(IN!F2656,\",\",\".\")","v":""}]
[0,{"$error":"#VALUE!"},{"$error":"#VALUE!"},{"$f":"SUBSTITUTE(IN!G2657,\"-\",\"\")","v":""},"",{"$f":"IN!F2657*60","v":0},0,"-",{"$f":"SUBSTITUTE(IN!F2657,\",\",\".\")","v":""}]
[0,{"$error":"#VALUE!"},{"$error":"#VALUE!"},{"$f":"SUBSTITUTE(IN!G2658,\"-\",\"\")","v":""},"",{"$f":"IN!F2658*60","v":0},0,"-",{"$f":"SUBSTITUTE(IN!F2658,\",\",\".\")","v":""}]
[0,{"$error":"#VALUE!"},{"$error":"#VALUE!"},{"$f":"SUBSTITUTE(IN!G2659,\"-\",\"\")","v":""},"",{"$f":"IN!F2659*60","v":0},0,"-",{"$f":"SUBSTITUTE(IN!F2659,\",\",\".\")","v":""}]
[0,{"$error":"#VALUE!"},{"$error":"#VALUE!"},{"$f":"SUBSTITUTE(IN!G2660,\"-\",\"\")","v":""},"",{"$f":"IN!F2660*60","v":0},0,"-",{"$f":"SUBSTITUTE(IN!F2660,\",\",\".\")","v":""}]
[0,{"$error":"#VALUE!"},{"$error":"#VALUE!"},{"$f":"SUBSTITUTE(IN!G2661,\"-\",\"\")","v":""},"",{"$f":"IN!F2661*60","v":0},0,"-",{"$f":"SUBSTITUTE(IN!F2661,\",\",\".\")","v":""}]
[0,{"$error":"#VALUE!"},{"$error":"#VALUE!"},{"$f":"SUBSTITUTE(IN!G2662,\"-\",\"\")","v":""},"",{"$f":"IN!F2662*60","v":0},0,"-",{"$f":"SUBSTITUTE(IN!F2662,\",\",\".\")","v":""}]
[0,{"$error":"#VALUE!"},{"$error":"#VALUE!"},{"$f":"SUBSTITUTE(IN!G2663,\"-\",\"\")","v":""},"",{"$f":"IN!F2663*60","v":0},0,"-",{"$f":"SUBSTITUTE(IN!F2663,\",\",\".\")","v":""}]
[0,{"$error":"#VALUE!"},{"$error":"#VALUE!"},{"$f":"SUBSTITUTE(IN!G2664,\"-\",\"\")","v":""},"",{"$f":"IN!F2664*60","v":0},0,"-",{"$f":"SUBSTITUTE(IN!F2664,\",\",\".\")","v":""}]
[0,{"$error":"#VALUE!"},{"$error":"#VALUE!"},{"$f":"SUBSTITUTE(IN!G2665,\"-\",\"\")","v":""},"",{"$f":"IN!F2665*60","v":0},0,"-",{"$f":"SUBSTITUTE(IN!F2665,\",\",\".\")","v":""}]
[0,{"$error":"#VALUE!"},{"$error":"#VALUE!"},{"$f":"SUBSTITUTE(IN!G2666,\"-\",\"\")","v":""},"",{"$f":"IN!F2666*60","v":0},0,"-",{"$f":"SUBSTITUTE(IN!F2666,\",\",\".\")","v":""}]
[0,{"$error":"#VALUE!"},{"$error":"#VALUE!"},{"$f":"SUBSTITUTE(IN!G2667,\"-\",\"\")","v":""},"",{"$f":"IN!F2667*60","v":0},0,"-",{"$f":"SUBSTITUTE(IN!F2667,\",\",\".\")","v":""}]
[0,{"$error":"#VALUE!"},{"$error":"#VALUE!"},{"$f":"SUBSTITUTE(IN!G2668,\"-\",\"\")","v":""},"",{"$f":"IN!F2668*60","v":0},0,"-",{"$f":"SUBSTITUTE(IN!F2668,\",\",\".\")","v":""}]
[0,{"$error":"#VALUE!"},{"$error":"#VALUE!"},{"$f":"SUBSTITUTE(IN!G2669,\"-\",\"\")","v":""},"",{"$f":"IN!F2669*60","v":0},0,"-",{"$f":"SUBSTITUTE(IN!F2669,\",\",\".\")","v":""}]
[0,{"$error":"#VALUE!"},{"$error":"#VALUE!"},{"$f":"SUBSTITUTE(IN!G2670,\"-\",\"\")","v":""},"",{"$f":"IN!F2670*60","v":0},0,"-",{"$f":"SUBSTITUTE(IN!F2670,\",\",\".\")","v":""}]
[0,{"$error":"#VALUE!"},{"$error":"#VALUE!"},{"$f":"SUBSTITUTE(IN!G2671,\"-\",\"\")","v":""},"",{"$f":"IN!F2671*60","v":0},0,"-",{"$f":"SUBSTITUTE(IN!F2671,\",\",\".\")","v":""}]
[0,{"$error":"#VALUE!"},{"$error":"#VALUE!"},{"$f":"SUBSTITUTE(IN!G2672,\"-\",\"\")","v":""},"",{"$f":"IN!F2672*60","v":0},0,"-",{"$f":"SUBSTITUTE(IN!F2672,\",\",\".\")","v":""}]
[0,{"$error":"#VALUE!"},{"$error":"#VALUE!"},{"$f":"SUBSTITUTE(IN!G2673,\"-\",\"\")","v":""},"",{"$f":"IN!F2673*60","v":0},0,"-",{"$f":"SUBSTITUTE(IN!F2673,\",\",\".\")","v":""}]
[0,{"$error":"#VALUE!"},{"$error":"#VALUE!"},{"$f":"SUBSTITUTE(IN!G2674,\"-\",\"\")","v":""},"",{"$f":"IN!F2674*60","v":0},0,"-",{"$f":"SUBSTITUTE(IN!F2674,\",\",\".\")","v":""}]
[0,{"$error":"#VALUE!"},{"$error":"#VALUE!"},{"$f":"SUBSTITUTE(IN!G2675,\"-\",\"\")","v":""},"",{"$f":"IN!F2675*60","v":0},0,"-",{"$f":"SUBSTITUTE(IN!F2675,\",\",\".\")","v":""}]
[0,{"$error":"#VALUE!"},{"$error":"#VALUE!"},{"$f":"SUBSTITUTE(IN!G2676,\"-\",\"\")","v":""},"",{"$f":"IN!F2676*60","v":0},0,"-",{"$f":"SUBSTITUTE(IN!F2676,\",\",\".\")","v":""}]
[0,{"$error":"#VALUE!"},{"$error":"#VALUE!"},{"$f":"SUBSTITUTE(IN!G2677,\"-\",\"\")","v":""},"",{"$f":"IN!F2677*60","v":0},0,"-",{"$f":"SUBSTITUTE(IN!F2677,\",\",\".\")","v":""}]
[0,{"$error":"#VALUE!"},{"$error":"#VALUE!"},{"$f":"SUBSTITUTE(IN!G2678,\"-\",\"\")","v":""},"",{"$f":"IN!F2678*60","v":0},0,"-",{"$f":"SUBSTITUTE(IN!F2678,\",\",\".\")","v":""}]
[0,{"$error":"#VALUE!"},{"$error":"#VALUE!"},{"$f":"SUBSTITUTE(IN!G2679,\"-\",\"\")","v":""},"",{"$f":"IN!F2679*60","v":0},0,"-",{"$f":"SUBSTITUTE(IN!F2679,\",\",\".\")","v":""}]
[0,{"$error":"#VALUE!"},{"$error":"#VALUE!"},{"$f":"SUBSTITUTE(IN!G2680,\"-\",\"\")","v":""},"",{"$f":"IN!F2680*60","v":0},0,"-",{"$f":"SUBSTITUTE(IN!F2680,\",\",\".\")","v":""}]
[0,{"$error":"#VALUE!"},{"$error":"#VALUE!"},{"$f":"SUBSTITUTE(IN!G2681,\"-\",\"\")","v":""},"",{"$f":"IN!F2681*60","v":0},0,"-",{"$f":"SUBSTITUTE(IN!F2681,\",\",\".\")","v":""}]
[0,{"$error":"#VALUE!"},{"$error":"#VALUE!"},{"$f":"SUBSTITUTE(IN!G2682,\"-\",\"\")","v":""},"",{"$f":"IN!F2682*60","v":0},0,"-",{"$f":"SUBSTITUTE(IN!F2682,\",\",\".\")","v":""}]
[0,{"$error":"#VALUE!"},{"$error":"#VALUE!"},{"$f":"SUBSTITUTE(IN!G2683,\"-\",\"\")","v":""},"",{"$f":"IN!F2683*60","v":0},0,"-",{"$f":"SUBSTITUTE(IN!F2683,\",\",\".\")","v":""}]
[0,{"$error":"#VALUE!"},{"$error":"#VALUE!"},{"$f":"SUBSTITUTE(IN!G2684,\"-\",\"\")","v":""},"",{"$f":"IN!F2684*60","v":0},0,"-",{"$f":"SUBSTITUTE(IN!F2684,\",\",\".\")","v":""}]
[0,{"$error":"#VALUE!"},{"$error":"#VALUE!"},{"$f":"SUBSTITUTE(IN!G2685,\"-\",\"\")","v":""},"",{"$f":"IN!F2685*60","v":0},0,"-",{"$f":"SUBSTITUTE(IN!F2685,\",\",\".\")","v":""}]
[0,{"$error":"#VALUE!"},{"$error":"#VALUE!"},{"$f":"SUBSTITUTE(IN!G2686,\"-\",\"\")","v":""},"",{"$f":"IN!F2686*60","v":0},0,"-",{"$f":"SUBSTITUTE(IN!F2686,\",\",\".\")","v":""}]
[0,{"$error":"#VALUE!"},{"$error":"#VALUE!"},{"$f":"SUBSTITUTE(IN!G2687,\"-\",\"\")","v":""},"",{"$f":"IN!F2687*60","v":0},0,"-",{"$f":"SUBSTITUTE(IN!F2687,\",\",\".\")","v":""}]
[0,{"$error":"#VALUE!"},{"$error":"#VALUE!"},{"$f":"SUBSTITUTE(IN!G2688,\"-\",\"\")","v":""},"",{"$f":"IN!F2688*60","v":0},0,"-",{"$f":"SUBSTITUTE(IN!F2688,\",\",\".\")","v":""}]
[0,{"$error":"#VALUE!"},{"$error":"#VALUE!"},{"$f":"SUBSTITUTE(IN!G2689,\"-\",\"\")","v":""},"",{"$f":"IN!F2689*60","v":0},0,"-",{"$f":"SUBSTITUTE(IN!F2689,\",\",\".\")","v":""}]
[0,{"$error":"#VALUE!"},{"$error":"#VALUE!"},{"$f":"SUBSTITUTE(IN!G2690,\"-\",\"\")","v":""},"",{"$f":"IN!F2690*60","v":0},0,"-",{"$f":"SUBSTITUTE(IN!F2690,\",\",\".\")","v":""}]
[0,{"$error":"#VALUE!"},{"$error":"#VALUE!"},{"$f":"SUBSTITUTE(IN!G2691,\"-\",\"\")","v":""},"",{"$f":"IN!F2691*60","v":0},0,"-",{"$f":"SUBSTITUTE(IN!F2691,\",\",\".\")","v":""}]
[0,{"$error":"#VALUE!"},{"$error":"#VALUE!"},{"$f":"SUBSTITUTE(IN!G2692,\"-\",\"\")","v":""},"",{"$f":"IN!F2692*60","v":0},0,"-",{"$f":"SUBSTITUTE(IN!F2692,\",\",\".\")","v":""}]
[{"$f":"LEN(D2693)","v":0},{"$f":"VALUE(LEFT(D2693,1))","v":{"$error":"#VALUE!"}},{"$f":"IF(B2693<2,20,19)","v":{"$error":"#VALUE!"}},{"$f":"SUBSTITUTE(IN!G2693,\"-\",\"\")","v":""},{"$f":"IF(A2693=10,CONCATENATE(C2693,D2693),D2693)","v":""},{"$f":"IN!F2693*60","v":0},{"$f":"ROUND(F2693,0)","v":0},{"$f":"CONCATENATE(MID(E2693,1,8),\"-\",MID(E2693,9,4))","v":"-"},{"$f":"SUBSTITUTE(IN!F2693,\",\",\".\")","v":""}]
[0,{"$error":"#VALUE!"},{"$error":"#VALUE!"},{"$f":"SUBSTITUTE(IN!G2694,\"-\",\"\")","v":""},"",{"$f":"IN!F2694*60","v":0},0,"-",{"$f":"SUBSTITUTE(IN!F2694,\",\",\".\")","v":""}]
[0,{"$error":"#VALUE!"},{"$error":"#VALUE!"},{"$f":"SUBSTITUTE(IN!G2695,\"-\",\"\")","v":""},"",{"$f":"IN!F2695*60","v":0},0,"-",{"$f":"SUBSTITUTE(IN!F2695,\",\",\".\")","v":""}]
[0,{"$error":"#VALUE!"},{"$error":"#VALUE!"},{"$f":"SUBSTITUTE(IN!G2696,\"-\",\"\")","v":""},"",{"$f":"IN!F2696*60","v":0},0,"-",{"$f":"SUBSTITUTE(IN!F2696,\",\",\".\")","v":""}]
[0,{"$error":"#VALUE!"},{"$error":"#VALUE!"},{"$f":"SUBSTITUTE(IN!G2697,\"-\",\"\")","v":""},"",{"$f":"IN!F2697*60","v":0},0,"-",{"$f":"SUBSTITUTE(IN!F2697,\",\",\".\")","v":""}]
[0,{"$error":"#VALUE!"},{"$error":"#VALUE!"},{"$f":"SUBSTITUTE(IN!G2698,\"-\",\"\")","v":""},"",{"$f":"IN!F2698*60","v":0},0,"-",{"$f":"SUBSTITUTE(IN!F2698,\",\",\".\")","v":""}]
[0,{"$error":"#VALUE!"},{"$error":"#VALUE!"},{"$f":"SUBSTITUTE(IN!G2699,\"-\",\"\")","v":""},"",{"$f":"IN!F2699*60","v":0},0,"-",{"$f":"SUBSTITUTE(IN!F2699,\",\",\".\")","v":""}]
[0,{"$error":"#VALUE!"},{"$error":"#VALUE!"},{"$f":"SUBSTITUTE(IN!G2700,\"-\",\"\")","v":""},"",{"$f":"IN!F2700*60","v":0},0,"-",{"$f":"SUBSTITUTE(IN!F2700,\",\",\".\")","v":""}]
[0,{"$error":"#VALUE!"},{"$error":"#VALUE!"},{"$f":"SUBSTITUTE(IN!G2701,\"-\",\"\")","v":""},"",{"$f":"IN!F2701*60","v":0},0,"-",{"$f":"SUBSTITUTE(IN!F2701,\",\",\".\")","v":""}]
[0,{"$error":"#VALUE!"},{"$error":"#VALUE!"},{"$f":"SUBSTITUTE(IN!G2702,\"-\",\"\")","v":""},"",{"$f":"IN!F2702*60","v":0},0,"-",{"$f":"SUBSTITUTE(IN!F2702,\",\",\".\")","v":""}]
[0,{"$error":"#VALUE!"},{"$error":"#VALUE!"},{"$f":"SUBSTITUTE(IN!G2703,\"-\",\"\")","v":""},"",{"$f":"IN!F2703*60","v":0},0,"-",{"$f":"SUBSTITUTE(IN!F2703,\",\",\".\")","v":""}]
[0,{"$error":"#VALUE!"},{"$error":"#VALUE!"},{"$f":"SUBSTITUTE(IN!G2704,\"-\",\"\")","v":""},"",{"$f":"IN!F2704*60","v":0},0,"-",{"$f":"SUBSTITUTE(IN!F2704,\",\",\".\")","v":""}]
[0,{"$error":"#VALUE!"},{"$error":"#VALUE!"},{"$f":"SUBSTITUTE(IN!G2705,\"-\",\"\")","v":""},"",{"$f":"IN!F2705*60","v":0},0,"-",{"$f":"SUBSTITUTE(IN!F2705,\",\",\".\")","v":""}]
[0,{"$error":"#VALUE!"},{"$error":"#VALUE!"},{"$f":"SUBSTITUTE(IN!G2706,\"-\",\"\")","v":""},"",{"$f":"IN!F2706*60","v":0},0,"-",{"$f":"SUBSTITUTE(IN!F2706,\",\",\".\")","v":""}]
[0,{"$error":"#VALUE!"},{"$error":"#VALUE!"},{"$f":"SUBSTITUTE(IN!G2707,\"-\",\"\")","v":""},"",{"$f":"IN!F2707*60","v":0},0,"-",{"$f":"SUBSTITUTE(IN!F2707,\",\",\".\")","v":""}]
[0,{"$error":"#VALUE!"},{"$error":"#VALUE!"},{"$f":"SUBSTITUTE(IN!G2708,\"-\",\"\")","v":""},"",{"$f":"IN!F2708*60","v":0},0,"-",{"$f":"SUBSTITUTE(IN!F2708,\",\",\".\")","v":""}]
[0,{"$error":"#VALUE!"},{"$error":"#VALUE!"},{"$f":"SUBSTITUTE(IN!G2709,\"-\",\"\")","v":""},"",{"$f":"IN!F2709*60","v":0},0,"-",{"$f":"SUBSTITUTE(IN!F2709,\",\",\".\")","v":""}]
[0,{"$error":"#VALUE!"},{"$error":"#VALUE!"},{"$f":"SUBSTITUTE(IN!G2710,\"-\",\"\")","v":""},"",{"$f":"IN!F2710*60","v":0},0,"-",{"$f":"SUBSTITUTE(IN!F2710,\",\",\".\")","v":""}]
[0,{"$error":"#VALUE!"},{"$error":"#VALUE!"},{"$f":"SUBSTITUTE(IN!G2711,\"-\",\"\")","v":""},"",{"$f":"IN!F2711*60","v":0},0,"-",{"$f":"SUBSTITUTE(IN!F2711,\",\",\".\")","v":""}]
[0,{"$error":"#VALUE!"},{"$error":"#VALUE!"},{"$f":"SUBSTITUTE(IN!G2712,\"-\",\"\")","v":""},"",{"$f":"IN!F2712*60","v":0},0,"-",{"$f":"SUBSTITUTE(IN!F2712,\",\",\".\")","v":""}]
[0,{"$error":"#VALUE!"},{"$error":"#VALUE!"},{"$f":"SUBSTITUTE(IN!G2713,\"-\",\"\")","v":""},"",{"$f":"IN!F2713*60","v":0},0,"-",{"$f":"SUBSTITUTE(IN!F2713,\",\",\".\")","v":""}]
[0,{"$error":"#VALUE!"},{"$error":"#VALUE!"},{"$f":"SUBSTITUTE(IN!G2714,\"-\",\"\")","v":""},"",{"$f":"IN!F2714*60","v":0},0,"-",{"$f":"SUBSTITUTE(IN!F2714,\",\",\".\")","v":""}]
[0,{"$error":"#VALUE!"},{"$error":"#VALUE!"},{"$f":"SUBSTITUTE(IN!G2715,\"-\",\"\")","v":""},"",{"$f":"IN!F2715*60","v":0},0,"-",{"$f":"SUBSTITUTE(IN!F2715,\",\",\".\")","v":""}]
[0,{"$error":"#VALUE!"},{"$error":"#VALUE!"},{"$f":"SUBSTITUTE(IN!G2716,\"-\",\"\")","v":""},"",{"$f":"IN!F2716*60","v":0},0,"-",{"$f":"SUBSTITUTE(IN!F2716,\",\",\".\")","v":""}]
[0,{"$error":"#VALUE!"},{"$error":"#VALUE!"},{"$f":"SUBSTITUTE(IN!G2717,\"-\",\"\")","v":""},"",{"$f":"IN!F2717*60","v":0},0,"-",{"$f":"SUBSTITUTE(IN!F2717,\",\",\".\")","v":""}]
[0,{"$error":"#VALUE!"},{"$error":"#VALUE!"},{"$f":"SUBSTITUTE(IN!G2718,\"-\",\"\")","v":""},"",{"$f":"IN!F2718*60","v":0},0,"-",{"$f":"SUBSTITUTE(IN!F2718,\",\",\".\")","v":""}]
[0,{"$error":"#VALUE!"},{"$error":"#VALUE!"},{"$f":"SUBSTITUTE(IN!G2719,\"-\",\"\")","v":""},"",{"$f":"IN!F2719*60","v":0},0,"-",{"$f":"SUBSTITUTE(IN!F2719,\",\",\".\")","v":""}]
[0,{"$error":"#VALUE!"},{"$error":"#VALUE!"},{"$f":"SUBSTITUTE(IN!G2720,\"-\",\"\")","v":""},"",{"$f":"IN!F2720*60","v":0},0,"-",{"$f":"SUBSTITUTE(IN!F2720,\",\",\".\")","v":""}]
[0,{"$error":"#VALUE!"},{"$error":"#VALUE!"},{"$f":"SUBSTITUTE(IN!G2721,\"-\",\"\")","v":""},"",{"$f":"IN!F2721*60","v":0},0,"-",{"$f":"SUBSTITUTE(IN!F2721,\",\",\".\")","v":""}]
[0,{"$error":"#VALUE!"},{"$error":"#VALUE!"},{"$f":"SUBSTITUTE(IN!G2722,\"-\",\"\")","v":""},"",{"$f":"IN!F2722*60","v":0},0,"-",{"$f":"SUBSTITUTE(IN!F2722,\",\",\".\")","v":""}]
[0,{"$error":"#VALUE!"},{"$error":"#VALUE!"},{"$f":"SUBSTITUTE(IN!G2723,\"-\",\"\")","v":""},"",{"$f":"IN!F2723*60","v":0},0,"-",{"$f":"SUBSTITUTE(IN!F2723,\",\",\".\")","v":""}]
[0,{"$error":"#VALUE!"},{"$error":"#VALUE!"},{"$f":"SUBSTITUTE(IN!G2724,\"-\",\"\")","v":""},"",{"$f":"IN!F2724*60","v":0},0,"-",{"$f":"SUBSTITUTE(IN!F2724,\",\",\".\")","v":""}]
[0,{"$error":"#VALUE!"},{"$error":"#VALUE!"},{"$f":"SUBSTITUTE(IN!G2725,\"-\",\"\")","v":""},"",{"$f":"IN!F2725*60","v":0},0,"-",{"$f":"SUBSTITUTE(IN!F2725,\",\",\".\")","v":""}]
[0,{"$error":"#VALUE!"},{"$error":"#VALUE!"},{"$f":"SUBSTITUTE(IN!G2726,\"-\",\"\")","v":""},"",{"$f":"IN!F2726*60","v":0},0,"-",{"$f":"SUBSTITUTE(IN!F2726,\",\",\".\")","v":""}]
[0,{"$error":"#VALUE!"},{"$error":"#VALUE!"},{"$f":"SUBSTITUTE(IN!G2727,\"-\",\"\")","v":""},"",{"$f":"IN!F2727*60","v":0},0,"-",{"$f":"SUBSTITUTE(IN!F2727,\",\",\".\")","v":""}]
[0,{"$error":"#VALUE!"},{"$error":"#VALUE!"},{"$f":"SUBSTITUTE(IN!G2728,\"-\",\"\")","v":""},"",{"$f":"IN!F2728*60","v":0},0,"-",{"$f":"SUBSTITUTE(IN!F2728,\",\",\".\")","v":""}]
[0,{"$error":"#VALUE!"},{"$error":"#VALUE!"},{"$f":"SUBSTITUTE(IN!G2729,\"-\",\"\")","v":""},"",{"$f":"IN!F2729*60","v":0},0,"-",{"$f":"SUBSTITUTE(IN!F2729,\",\",\".\")","v":""}]
[0,{"$error":"#VALUE!"},{"$error":"#VALUE!"},{"$f":"SUBSTITUTE(IN!G2730,\"-\",\"\")","v":""},"",{"$f":"IN!F2730*60","v":0},0,"-",{"$f":"SUBSTITUTE(IN!F2730,\",\",\".\")","v":""}]
[0,{"$error":"#VALUE!"},{"$error":"#VALUE!"},{"$f":"SUBSTITUTE(IN!G2731,\"-\",\"\")","v":""},"",{"$f":"IN!F2731*60","v":0},0,"-",{"$f":"SUBSTITUTE(IN!F2731,\",\",\".\")","v":""}]
[0,{"$error":"#VALUE!"},{"$error":"#VALUE!"},{"$f":"SUBSTITUTE(IN!G2732,\"-\",\"\")","v":""},"",{"$f":"IN!F2732*60","v":0},0,"-",{"$f":"SUBSTITUTE(IN!F2732,\",\",\".\")","v":""}]
[0,{"$error":"#VALUE!"},{"$error":"#VALUE!"},{"$f":"SUBSTITUTE(IN!G2733,\"-\",\"\")","v":""},"",{"$f":"IN!F2733*60","v":0},0,"-",{"$f":"SUBSTITUTE(IN!F2733,\",\",\".\")","v":""}]
[0,{"$error":"#VALUE!"},{"$error":"#VALUE!"},{"$f":"SUBSTITUTE(IN!G2734,\"-\",\"\")","v":""},"",{"$f":"IN!F2734*60","v":0},0,"-",{"$f":"SUBSTITUTE(IN!F2734,\",\",\".\")","v":""}]
[0,{"$error":"#VALUE!"},{"$error":"#VALUE!"},{"$f":"SUBSTITUTE(IN!G2735,\"-\",\"\")","v":""},"",{"$f":"IN!F2735*60","v":0},0,"-",{"$f":"SUBSTITUTE(IN!F2735,\",\",\".\")","v":""}]
[0,{"$error":"#VALUE!"},{"$error":"#VALUE!"},{"$f":"SUBSTITUTE(IN!G2736,\"-\",\"\")","v":""},"",{"$f":"IN!F2736*60","v":0},0,"-",{"$f":"SUBSTITUTE(IN!F2736,\",\",\".\")","v":""}]
[0,{"$error":"#VALUE!"},{"$error":"#VALUE!"},{"$f":"SUBSTITUTE(IN!G2737,\"-\",\"\")","v":""},"",{"$f":"IN!F2737*60","v":0},0,"-",{"$f":"SUBSTITUTE(IN!F2737,\",\",\".\")","v":""}]
[0,{"$error":"#VALUE!"},{"$error":"#VALUE!"},{"$f":"SUBSTITUTE(IN!G2738,\"-\",\"\")","v":""},"",{"$f":"IN!F2738*60","v":0},0,"-",{"$f":"SUBSTITUTE(IN!F2738,\",\",\".\")","v":""}]
[0,{"$error":"#VALUE!"},{"$error":"#VALUE!"},{"$f":"SUBSTITUTE(IN!G2739,\"-\",\"\")","v":""},"",{"$f":"IN!F2739*60","v":0},0,"-",{"$f":"SUBSTITUTE(IN!F2739,\",\",\".\")","v":""}]
[0,{"$error":"#VALUE!"},{"$error":"#VALUE!"},{"$f":"SUBSTITUTE(IN!G2740,\"-\",\"\")","v":""},"",{"$f":"IN!F2740*60","v":0},0,"-",{"$f":"SUBSTITUTE(IN!F2740,\",\",\".\")","v":""}]
[0,{"$error":"#VALUE!"},{"$error":"#VALUE!"},{"$f":"SUBSTITUTE(IN!G2741,\"-\",\"\")","v":""},"",{"$f":"IN!F2741*60","v":0},0,"-",{"$f":"SUBSTITUTE(IN!F2741,\",\",\".\")","v":""}]
[0,{"$error":"#VALUE!"},{"$error":"#VALUE!"},{"$f":"SUBSTITUTE(IN!G2742,\"-\",\"\")","v":""},"",{"$f":"IN!F2742*60","v":0},0,"-",{"$f":"SUBSTITUTE(IN!F2742,\",\",\".\")","v":""}]
[0,{"$error":"#VALUE!"},{"$error":"#VALUE!"},{"$f":"SUBSTITUTE(IN!G2743,\"-\",\"\")","v":""},"",{"$f":"IN!F2743*60","v":0},0,"-",{"$f":"SUBSTITUTE(IN!F2743,\",\",\".\")","v":""}]
[0,{"$error":"#VALUE!"},{"$error":"#VALUE!"},{"$f":"SUBSTITUTE(IN!G2744,\"-\",\"\")","v":""},"",{"$f":"IN!F2744*60","v":0},0,"-",{"$f":"SUBSTITUTE(IN!F2744,\",\",\".\")","v":""}]
[0,{"$error":"#VALUE!"},{"$error":"#VALUE!"},{"$f":"SUBSTITUTE(IN!G2745,\"-\",\"\")","v":""},"",{"$f":"IN!F2745*60","v":0},0,"-",{"$f":"SUBSTITUTE(IN!F2745,\",\",\".\")","v":""}]
[0,{"$error":"#VALUE!"},{"$error":"#VALUE!"},{"$f":"SUBSTITUTE(IN!G2746,\"-\",\"\")","v":""},"",{"$f":"IN!F2746*60","v":0},0,"-",{"$f":"SUBSTITUTE(IN!F2746,\",\",\".\")","v":""}]
[0,{"$error":"#VALUE!"},{"$error":"#VALUE!"},{"$f":"SUBSTITUTE(IN!G2747,\"-\",\"\")","v":""},"",{"$f":"IN!F2747*60","v":0},0,"-",{"$f":"SUBSTITUTE(IN!F2747,\",\",\".\")","v":""}]
[0,{"$error":"#VALUE!"},{"$error":"#VALUE!"},{"$f":"SUBSTITUTE(IN!G2748,\"-\",\"\")","v":""},"",{"$f":"IN!F2748*60","v":0},0,"-",{"$f":"SUBSTITUTE(IN!F2748,\",\",\".\")","v":""}]
[0,{"$error":"#VALUE!"},{"$error":"#VALUE!"},{"$f":"SUBSTITUTE(IN!G2749,\"-\",\"\")","v":""},"",{"$f":"IN!F2749*60","v":0},0,"-",{"$f":"SUBSTITUTE(IN!F2749,\",\",\".\")","v":""}]
[0,{"$error":"#VALUE!"},{"$error":"#VALUE!"},{"$f":"SUBSTITUTE(IN!G2750,\"-\",\"\")","v":""},"",{"$f":"IN!F2750*60","v":0},0,"-",{"$f":"SUBSTITUTE(IN!F2750,\",\",\".\")","v":""}]
[0,{"$error":"#VALUE!"},{"$error":"#VALUE!"},{"$f":"SUBSTITUTE(IN!G2751,\"-\",\"\")","v":""},"",{"$f":"IN!F2751*60","v":0},0,"-",{"$f":"SUBSTITUTE(IN!F2751,\",\",\".\")","v":""}]
[0,{"$error":"#VALUE!"},{"$error":"#VALUE!"},{"$f":"SUBSTITUTE(IN!G2752,\"-\",\"\")","v":""},"",{"$f":"IN!F2752*60","v":0},0,"-",{"$f":"SUBSTITUTE(IN!F2752,\",\",\".\")","v":""}]
[0,{"$error":"#VALUE!"},{"$error":"#VALUE!"},{"$f":"SUBSTITUTE(IN!G2753,\"-\",\"\")","v":""},"",{"$f":"IN!F2753*60","v":0},0,"-",{"$f":"SUBSTITUTE(IN!F2753,\",\",\".\")","v":""}]
[0,{"$error":"#VALUE!"},{"$error":"#VALUE!"},{"$f":"SUBSTITUTE(IN!G2754,\"-\",\"\")","v":""},"",{"$f":"IN!F2754*60","v":0},0,"-",{"$f":"SUBSTITUTE(IN!F2754,\",\",\".\")","v":""}]
[0,{"$error":"#VALUE!"},{"$error":"#VALUE!"},{"$f":"SUBSTITUTE(IN!G2755,\"-\",\"\")","v":""},"",{"$f":"IN!F2755*60","v":0},0,"-",{"$f":"SUBSTITUTE(IN!F2755,\",\",\".\")","v":""}]
[0,{"$error":"#VALUE!"},{"$error":"#VALUE!"},{"$f":"SUBSTITUTE(IN!G2756,\"-\",\"\")","v":""},"",{"$f":"IN!F2756*60","v":0},0,"-",{"$f":"SUBSTITUTE(IN!F2756,\",\",\".\")","v":""}]
[{"$f":"LEN(D2757)","v":0},{"$f":"VALUE(LEFT(D2757,1))","v":{"$error":"#VALUE!"}},{"$f":"IF(B2757<2,20,19)","v":{"$error":"#VALUE!"}},{"$f":"SUBSTITUTE(IN!G2757,\"-\",\"\")","v":""},{"$f":"IF(A2757=10,CONCATENATE(C2757,D2757),D2757)","v":""},{"$f":"IN!F2757*60","v":0},{"$f":"ROUND(F2757,0)","v":0},{"$f":"CONCATENATE(MID(E2757,1,8),\"-\",MID(E2757,9,4))","v":"-"},{"$f":"SUBSTITUTE(IN!F2757,\",\",\".\")","v":""}]
[0,{"$error":"#VALUE!"},{"$error":"#VALUE!"},{"$f":"SUBSTITUTE(IN!G2758,\"-\",\"\")","v":""},"",{"$f":"IN!F2758*60","v":0},0,"-",{"$f":"SUBSTITUTE(IN!F2758,\",\",\".\")","v":""}]
[0,{"$error":"#VALUE!"},{"$error":"#VALUE!"},{"$f":"SUBSTITUTE(IN!G2759,\"-\",\"\")","v":""},"",{"$f":"IN!F2759*60","v":0},0,"-",{"$f":"SUBSTITUTE(IN!F2759,\",\",\".\")","v":""}]
[0,{"$error":"#VALUE!"},{"$error":"#VALUE!"},{"$f":"SUBSTITUTE(IN!G2760,\"-\",\"\")","v":""},"",{"$f":"IN!F2760*60","v":0},0,"-",{"$f":"SUBSTITUTE(IN!F2760,\",\",\".\")","v":""}]
[0,{"$error":"#VALUE!"},{"$error":"#VALUE!"},{"$f":"SUBSTITUTE(IN!G2761,\"-\",\"\")","v":""},"",{"$f":"IN!F2761*60","v":0},0,"-",{"$f":"SUBSTITUTE(IN!F2761,\",\",\".\")","v":""}]
[0,{"$error":"#VALUE!"},{"$error":"#VALUE!"},{"$f":"SUBSTITUTE(IN!G2762,\"-\",\"\")","v":""},"",{"$f":"IN!F2762*60","v":0},0,"-",{"$f":"SUBSTITUTE(IN!F2762,\",\",\".\")","v":""}]
[0,{"$error":"#VALUE!"},{"$error":"#VALUE!"},{"$f":"SUBSTITUTE(IN!G2763,\"-\",\"\")","v":""},"",{"$f":"IN!F2763*60","v":0},0,"-",{"$f":"SUBSTITUTE(IN!F2763,\",\",\".\")","v":""}]
[0,{"$error":"#VALUE!"},{"$error":"#VALUE!"},{"$f":"SUBSTITUTE(IN!G2764,\"-\",\"\")","v":""},"",{"$f":"IN!F2764*60","v":0},0,"-",{"$f":"SUBSTITUTE(IN!F2764,\",\",\".\")","v":""}]
[0,{"$error":"#VALUE!"},{"$error":"#VALUE!"},{"$f":"SUBSTITUTE(IN!G2765,\"-\",\"\")","v":""},"",{"$f":"IN!F2765*60","v":0},0,"-",{"$f":"SUBSTITUTE(IN!F2765,\",\",\".\")","v":""}]
[0,{"$error":"#VALUE!"},{"$error":"#VALUE!"},{"$f":"SUBSTITUTE(IN!G2766,\"-\",\"\")","v":""},"",{"$f":"IN!F2766*60","v":0},0,"-",{"$f":"SUBSTITUTE(IN!F2766,\",\",\".\")","v":""}]
[0,{"$error":"#VALUE!"},{"$error":"#VALUE!"},{"$f":"SUBSTITUTE(IN!G2767,\"-\",\"\")","v":""},"",{"$f":"IN!F2767*60","v":0},0,"-",{"$f":"SUBSTITUTE(IN!F2767,\",\",\".\")","v":""}]
[0,{"$error":"#VALUE!"},{"$error":"#VALUE!"},{"$f":"SUBSTITUTE(IN!G2768,\"-\",\"\")","v":""},"",{"$f":"IN!F2768*60","v":0},0,"-",{"$f":"SUBSTITUTE(IN!F2768,\",\",\".\")","v":""}]
[0,{"$error":"#VALUE!"},{"$error":"#VALUE!"},{"$f":"SUBSTITUTE(IN!G2769,\"-\",\"\")","v":""},"",{"$f":"IN!F2769*60","v":0},0,"-",{"$f":"SUBSTITUTE(IN!F2769,\",\",\".\")","v":""}]
[0,{"$error":"#VALUE!"},{"$error":"#VALUE!"},{"$f":"SUBSTITUTE(IN!G2770,\"-\",\"\")","v":""},"",{"$f":"IN!F2770*60","v":0},0,"-",{"$f":"SUBSTITUTE(IN!F2770,\",\",\".\")","v":""}]
[0,{"$error":"#VALUE!"},{"$error":"#VALUE!"},{"$f":"SUBSTITUTE(IN!G2771,\"-\",\"\")","v":""},"",{"$f":"IN!F2771*60","v":0},0,"-",{"$f":"SUBSTITUTE(IN!F2771,\",\",\".\")","v":""}]
[0,{"$error":"#VALUE!"},{"$error":"#VALUE!"},{"$f":"SUBSTITUTE(IN!G2772,\"-\",\"\")","v":""},"",{"$f":"IN!F2772*60","v":0},0,"-",{"$f":"SUBSTITUTE(IN!F2772,\",\",\".\")","v":""}]
[0,{"$error":"#VALUE!"},{"$error":"#VALUE!"},{"$f":"SUBSTITUTE(IN!G2773,\"-\",\"\")","v":""},"",{"$f":"IN!F2773*60","v":0},0,"-",{"$f":"SUBSTITUTE(IN!F2773,\",\",\".\")","v":""}]
[0,{"$error":"#VALUE!"},{"$error":"#VALUE!"},{"$f":"SUBSTITUTE(IN!G2774,\"-\",\"\")","v":""},"",{"$f":"IN!F2774*60","v":0},0,"-",{"$f":"SUBSTITUTE(IN!F2774,\",\",\".\")","v":""}]
[0,{"$error":"#VALUE!"},{"$error":"#VALUE!"},{"$f":"SUBSTITUTE(IN!G2775,\"-\",\"\")","v":""},"",{"$f":"IN!F2775*60","v":0},0,"-",{"$f":"SUBSTITUTE(IN!F2775,\",\",\".\")","v":""}]
[0,{"$error":"#VALUE!"},{"$error":"#VALUE!"},{"$f":"SUBSTITUTE(IN!G2776,\"-\",\"\")","v":""},"",{"$f":"IN!F2776*60","v":0},0,"-",{"$f":"SUBSTITUTE(IN!F2776,\",\",\".\")","v":""}]
[0,{"$error":"#VALUE!"},{"$error":"#VALUE!"},{"$f":"SUBSTITUTE(IN!G2777,\"-\",\"\")","v":""},"",{"$f":"IN!F2777*60","v":0},0,"-",{"$f":"SUBSTITUTE(IN!F2777,\",\",\".\")","v":""}]
[0,{"$error":"#VALUE!"},{"$error":"#VALUE!"},{"$f":"SUBSTITUTE(IN!G2778,\"-\",\"\")","v":""},"",{"$f":"IN!F2778*60","v":0},0,"-",{"$f":"SUBSTITUTE(IN!F2778,\",\",\".\")","v":""}]
[0,{"$error":"#VALUE!"},{"$error":"#VALUE!"},{"$f":"SUBSTITUTE(IN!G2779,\"-\",\"\")","v":""},"",{"$f":"IN!F2779*60","v":0},0,"-",{"$f":"SUBSTITUTE(IN!F2779,\",\",\".\")","v":""}]
[0,{"$error":"#VALUE!"},{"$error":"#VALUE!"},{"$f":"SUBSTITUTE(IN!G2780,\"-\",\"\")","v":""},"",{"$f":"IN!F2780*60","v":0},0,"-",{"$f":"SUBSTITUTE(IN!F2780,\",\",\".\")","v":""}]
[0,{"$error":"#VALUE!"},{"$error":"#VALUE!"},{"$f":"SUBSTITUTE(IN!G2781,\"-\",\"\")","v":""},"",{"$f":"IN!F2781*60","v":0},0,"-",{"$f":"SUBSTITUTE(IN!F2781,\",\",\".\")","v":""}]
[0,{"$error":"#VALUE!"},{"$error":"#VALUE!"},{"$f":"SUBSTITUTE(IN!G2782,\"-\",\"\")","v":""},"",{"$f":"IN!F2782*60","v":0},0,"-",{"$f":"SUBSTITUTE(IN!F2782,\",\",\".\")","v":""}]
[0,{"$error":"#VALUE!"},{"$error":"#VALUE!"},{"$f":"SUBSTITUTE(IN!G2783,\"-\",\"\")","v":""},"",{"$f":"IN!F2783*60","v":0},0,"-",{"$f":"SUBSTITUTE(IN!F2783,\",\",\".\")","v":""}]
[0,{"$error":"#VALUE!"},{"$error":"#VALUE!"},{"$f":"SUBSTITUTE(IN!G2784,\"-\",\"\")","v":""},"",{"$f":"IN!F2784*60","v":0},0,"-",{"$f":"SUBSTITUTE(IN!F2784,\",\",\".\")","v":""}]
[0,{"$error":"#VALUE!"},{"$error":"#VALUE!"},{"$f":"SUBSTITUTE(IN!G2785,\"-\",\"\")","v":""},"",{"$f":"IN!F2785*60","v":0},0,"-",{"$f":"SUBSTITUTE(IN!F2785,\",\",\".\")","v":""}]
[0,{"$error":"#VALUE!"},{"$error":"#VALUE!"},{"$f":"SUBSTITUTE(IN!G2786,\"-\",\"\")","v":""},"",{"$f":"IN!F2786*60","v":0},0,"-",{"$f":"SUBSTITUTE(IN!F2786,\",\",\".\")","v":""}]
[0,{"$error":"#VALUE!"},{"$error":"#VALUE!"},{"$f":"SUBSTITUTE(IN!G2787,\"-\",\"\")","v":""},"",{"$f":"IN!F2787*60","v":0},0,"-",{"$f":"SUBSTITUTE(IN!F2787,\",\",\".\")","v":""}]
[0,{"$error":"#VALUE!"},{"$error":"#VALUE!"},{"$f":"SUBSTITUTE(IN!G2788,\"-\",\"\")","v":""},"",{"$f":"IN!F2788*60","v":0},0,"-",{"$f":"SUBSTITUTE(IN!F2788,\",\",\".\")","v":""}]
[0,{"$error":"#VALUE!"},{"$error":"#VALUE!"},{"$f":"SUBSTITUTE(IN!G2789,\"-\",\"\")","v":""},"",{"$f":"IN!F2789*60","v":0},0,"-",{"$f":"SUBSTITUTE(IN!F2789,\",\",\".\")","v":""}]
[0,{"$error":"#VALUE!"},{"$error":"#VALUE!"},{"$f":"SUBSTITUTE(IN!G2790,\"-\",\"\")","v":""},"",{"$f":"IN!F2790*60","v":0},0,"-",{"$f":"SUBSTITUTE(IN!F2790,\",\",\".\")","v":""}]
[0,{"$error":"#VALUE!"},{"$error":"#VALUE!"},{"$f":"SUBSTITUTE(IN!G2791,\"-\",\"\")","v":""},"",{"$f":"IN!F2791*60","v":0},0,"-",{"$f":"SUBSTITUTE(IN!F2791,\",\",\".\")","v":""}]
[0,{"$error":"#VALUE!"},{"$error":"#VALUE!"},{"$f":"SUBSTITUTE(IN!G2792,\"-\",\"\")","v":""},"",{"$f":"IN!F2792*60","v":0},0,"-",{"$f":"SUBSTITUTE(IN!F2792,\",\",\".\")","v":""}]
[0,{"$error":"#VALUE!"},{"$error":"#VALUE!"},{"$f":"SUBSTITUTE(IN!G2793,\"-\",\"\")","v":""},"",{"$f":"IN!F2793*60","v":0},0,"-",{"$f":"SUBSTITUTE(IN!F2793,\",\",\".\")","v":""}]
[0,{"$error":"#VALUE!"},{"$error":"#VALUE!"},{"$f":"SUBSTITUTE(IN!G2794,\"-\",\"\")","v":""},"",{"$f":"IN!F2794*60","v":0},0,"-",{"$f":"SUBSTITUTE(IN!F2794,\",\",\".\")","v":""}]
[0,{"$error":"#VALUE!"},{"$error":"#VALUE!"},{"$f":"SUBSTITUTE(IN!G2795,\"-\",\"\")","v":""},"",{"$f":"IN!F2795*60","v":0},0,"-",{"$f":"SUBSTITUTE(IN!F2795,\",\",\".\")","v":""}]
[0,{"$error":"#VALUE!"},{"$error":"#VALUE!"},{"$f":"SUBSTITUTE(IN!G2796,\"-\",\"\")","v":""},"",{"$f":"IN!F2796*60","v":0},0,"-",{"$f":"SUBSTITUTE(IN!F2796,\",\",\".\")","v":""}]
[0,{"$error":"#VALUE!"},{"$error":"#VALUE!"},{"$f":"SUBSTITUTE(IN!G2797,\"-\",\"\")","v":""},"",{"$f":"IN!F2797*60","v":0},0,"-",{"$f":"SUBSTITUTE(IN!F2797,\",\",\".\")","v":""}]
[0,{"$error":"#VALUE!"},{"$error":"#VALUE!"},{"$f":"SUBSTITUTE(IN!G2798,\"-\",\"\")","v":""},"",{"$f":"IN!F2798*60","v":0},0,"-",{"$f":"SUBSTITUTE(IN!F2798,\",\",\".\")","v":""}]
[0,{"$error":"#VALUE!"},{"$error":"#VALUE!"},{"$f":"SUBSTITUTE(IN!G2799,\"-\",\"\")","v":""},"",{"$f":"IN!F2799*60","v":0},0,"-",{"$f":"SUBSTITUTE(IN!F2799,\",\",\".\")","v":""}]
[0,{"$error":"#VALUE!"},{"$error":"#VALUE!"},{"$f":"SUBSTITUTE(IN!G2800,\"-\",\"\")","v":""},"",{"$f":"IN!F2800*60","v":0},0,"-",{"$f":"SUBSTITUTE(IN!F2800,\",\",\".\")","v":""}]
[0,{"$error":"#VALUE!"},{"$error":"#VALUE!"},{"$f":"SUBSTITUTE(IN!G2801,\"-\",\"\")","v":""},"",{"$f":"IN!F2801*60","v":0},0,"-",{"$f":"SUBSTITUTE(IN!F2801,\",\",\".\")","v":""}]
[0,{"$error":"#VALUE!"},{"$error":"#VALUE!"},{"$f":"SUBSTITUTE(IN!G2802,\"-\",\"\")","v":""},"",{"$f":"IN!F2802*60","v":0},0,"-",{"$f":"SUBSTITUTE(IN!F2802,\",\",\".\")","v":""}]
[0,{"$error":"#VALUE!"},{"$error":"#VALUE!"},{"$f":"SUBSTITUTE(IN!G2803,\"-\",\"\")","v":""},"",{"$f":"IN!F2803*60","v":0},0,"-",{"$f":"SUBSTITUTE(IN!F2803,\",\",\".\")","v":""}]
[0,{"$error":"#VALUE!"},{"$error":"#VALUE!"},{"$f":"SUBSTITUTE(IN!G2804,\"-\",\"\")","v":""},"",{"$f":"IN!F2804*60","v":0},0,"-",{"$f":"SUBSTITUTE(IN!F2804,\",\",\".\")","v":""}]
[0,{"$error":"#VALUE!"},{"$error":"#VALUE!"},{"$f":"SUBSTITUTE(IN!G2805,\"-\",\"\")","v":""},"",{"$f":"IN!F2805*60","v":0},0,"-",{"$f":"SUBSTITUTE(IN!F2805,\",\",\".\")","v":""}]
[0,{"$error":"#VALUE!"},{"$error":"#VALUE!"},{"$f":"SUBSTITUTE(IN!G2806,\"-\",\"\")","v":""},"",{"$f":"IN!F2806*60","v":0},0,"-",{"$f":"SUBSTITUTE(IN!F2806,\",\",\".\")","v":""}]
[0,{"$error":"#VALUE!"},{"$error":"#VALUE!"},{"$f":"SUBSTITUTE(IN!G2807,\"-\",\"\")","v":""},"",{"$f":"IN!F2807*60","v":0},0,"-",{"$f":"SUBSTITUTE(IN!F2807,\",\",\".\")","v":""}]
[0,{"$error":"#VALUE!"},{"$error":"#VALUE!"},{"$f":"SUBSTITUTE(IN!G2808,\"-\",\"\")","v":""},"",{"$f":"IN!F2808*60","v":0},0,"-",{"$f":"SUBSTITUTE(IN!F2808,\",\",\".\")","v":""}]
[0,{"$error":"#VALUE!"},{"$error":"#VALUE!"},{"$f":"SUBSTITUTE(IN!G2809,\"-\",\"\")","v":""},"",{"$f":"IN!F2809*60","v":0},0,"-",{"$f":"SUBSTITUTE(IN!F2809,\",\",\".\")","v":""}]
[0,{"$error":"#VALUE!"},{"$error":"#VALUE!"},{"$f":"SUBSTITUTE(IN!G2810,\"-\",\"\")","v":""},"",{"$f":"IN!F2810*60","v":0},0,"-",{"$f":"SUBSTITUTE(IN!F2810,\",\",\".\")","v":""}]
[0,{"$error":"#VALUE!"},{"$error":"#VALUE!"},{"$f":"SUBSTITUTE(IN!G2811,\"-\",\"\")","v":""},"",{"$f":"IN!F2811*60","v":0},0,"-",{"$f":"SUBSTITUTE(IN!F2811,\",\",\".\")","v":""}]
[0,{"$error":"#VALUE!"},{"$error":"#VALUE!"},{"$f":"SUBSTITUTE(IN!G2812,\"-\",\"\")","v":""},"",{"$f":"IN!F2812*60","v":0},0,"-",{"$f":"SUBSTITUTE(IN!F2812,\",\",\".\")","v":""}]
[0,{"$error":"#VALUE!"},{"$error":"#VALUE!"},{"$f":"SUBSTITUTE(IN!G2813,\"-\",\"\")","v":""},"",{"$f":"IN!F2813*60","v":0},0,"-",{"$f":"SUBSTITUTE(IN!F2813,\",\",\".\")","v":""}]
[0,{"$error":"#VALUE!"},{"$error":"#VALUE!"},{"$f":"SUBSTITUTE(IN!G2814,\"-\",\"\")","v":""},"",{"$f":"IN!F2814*60","v":0},0,"-",{"$f":"SUBSTITUTE(IN!F2814,\",\",\".\")","v":""}]
[0,{"$error":"#VALUE!"},{"$error":"#VALUE!"},{"$f":"SUBSTITUTE(IN!G2815,\"-\",\"\")","v":""},"",{"$f":"IN!F2815*60","v":0},0,"-",{"$f":"SUBSTITUTE(IN!F2815,\",\",\".\")","v":""}]
[0,{"$error":"#VALUE!"},{"$error":"#VALUE!"},{"$f":"SUBSTITUTE(IN!G2816,\"-\",\"\")","v":""},"",{"$f":"IN!F2816*60","v":0},0,"-",{"$f":"SUBSTITUTE(IN!F2816,\",\",\".\")","v":""}]
[0,{"$error":"#VALUE!"},{"$error":"#VALUE!"},{"$f":"SUBSTITUTE(IN!G2817,\"-\",\"\")","v":""},"",{"$f":"IN!F2817*60","v":0},0,"-",{"$f":"SUBSTITUTE(IN!F2817,\",\",\".\")","v":""}]
[0,{"$error":"#VALUE!"},{"$error":"#VALUE!"},{"$f":"SUBSTITUTE(IN!G2818,\"-\",\"\")","v":""},"",{"$f":"IN!F2818*60","v":0},0,"-",{"$f":"SUBSTITUTE(IN!F2818,\",\",\".\")","v":""}]
[0,{"$error":"#VALUE!"},{"$error":"#VALUE!"},{"$f":"SUBSTITUTE(IN!G2819,\"-\",\"\")","v":""},"",{"$f":"IN!F2819*60","v":0},0,"-",{"$f":"SUBSTITUTE(IN!F2819,\",\",\".\")","v":""}]
[0,{"$error":"#VALUE!"},{"$error":"#VALUE!"},{"$f":"SUBSTITUTE(IN!G2820,\"-\",\"\")","v":""},"",{"$f":"IN!F2820*60","v":0},0,"-",{"$f":"SUBSTITUTE(IN!F2820,\",\",\".\")","v":""}]
[{"$f":"LEN(D2821)","v":0},{"$f":"VALUE(LEFT(D2821,1))","v":{"$error":"#VALUE!"}},{"$f":"IF(B2821<2,20,19)","v":{"$error":"#VALUE!"}},{"$f":"SUBSTITUTE(IN!G2821,\"-\",\"\")","v":""},{"$f":"IF(A2821=10,CONCATENATE(C2821,D2821),D2821)","v":""},{"$f":"IN!F2821*60","v":0},{"$f":"ROUND(F2821,0)","v":0},{"$f":"CONCATENATE(MID(E2821,1,8),\"-\",MID(E2821,9,4))","v":"-"},{"$f":"SUBSTITUTE(IN!F2821,\",\",\".\")","v":""}]
[0,{"$error":"#VALUE!"},{"$error":"#VALUE!"},{"$f":"SUBSTITUTE(IN!G2822,\"-\",\"\")","v":""},"",{"$f":"IN!F2822*60","v":0},0,"-",{"$f":"SUBSTITUTE(IN!F2822,\",\",\".\")","v":""}]
[0,{"$error":"#VALUE!"},{"$error":"#VALUE!"},{"$f":"SUBSTITUTE(IN!G2823,\"-\",\"\")","v":""},"",{"$f":"IN!F2823*60","v":0},0,"-",{"$f":"SUBSTITUTE(IN!F2823,\",\",\".\")","v":""}]
[0,{"$error":"#VALUE!"},{"$error":"#VALUE!"},{"$f":"SUBSTITUTE(IN!G2824,\"-\",\"\")","v":""},"",{"$f":"IN!F2824*60","v":0},0,"-",{"$f":"SUBSTITUTE(IN!F2824,\",\",\".\")","v":""}]
[0,{"$error":"#VALUE!"},{"$error":"#VALUE!"},{"$f":"SUBSTITUTE(IN!G2825,\"-\",\"\")","v":""},"",{"$f":"IN!F2825*60","v":0},0,"-",{"$f":"SUBSTITUTE(IN!F2825,\",\",\".\")","v":""}]
[0,{"$error":"#VALUE!"},{"$error":"#VALUE!"},{"$f":"SUBSTITUTE(IN!G2826,\"-\",\"\")","v":""},"",{"$f":"IN!F2826*60","v":0},0,"-",{"$f":"SUBSTITUTE(IN!F2826,\",\",\".\")","v":""}]
[0,{"$error":"#VALUE!"},{"$error":"#VALUE!"},{"$f":"SUBSTITUTE(IN!G2827,\"-\",\"\")","v":""},"",{"$f":"IN!F2827*60","v":0},0,"-",{"$f":"SUBSTITUTE(IN!F2827,\",\",\".\")","v":""}]
[0,{"$error":"#VALUE!"},{"$error":"#VALUE!"},{"$f":"SUBSTITUTE(IN!G2828,\"-\",\"\")","v":""},"",{"$f":"IN!F2828*60","v":0},0,"-",{"$f":"SUBSTITUTE(IN!F2828,\",\",\".\")","v":""}]
[0,{"$error":"#VALUE!"},{"$error":"#VALUE!"},{"$f":"SUBSTITUTE(IN!G2829,\"-\",\"\")","v":""},"",{"$f":"IN!F2829*60","v":0},0,"-",{"$f":"SUBSTITUTE(IN!F2829,\",\",\".\")","v":""}]
[0,{"$error":"#VALUE!"},{"$error":"#VALUE!"},{"$f":"SUBSTITUTE(IN!G2830,\"-\",\"\")","v":""},"",{"$f":"IN!F2830*60","v":0},0,"-",{"$f":"SUBSTITUTE(IN!F2830,\",\",\".\")","v":""}]
[0,{"$error":"#VALUE!"},{"$error":"#VALUE!"},{"$f":"SUBSTITUTE(IN!G2831,\"-\",\"\")","v":""},"",{"$f":"IN!F2831*60","v":0},0,"-",{"$f":"SUBSTITUTE(IN!F2831,\",\",\".\")","v":""}]
[0,{"$error":"#VALUE!"},{"$error":"#VALUE!"},{"$f":"SUBSTITUTE(IN!G2832,\"-\",\"\")","v":""},"",{"$f":"IN!F2832*60","v":0},0,"-",{"$f":"SUBSTITUTE(IN!F2832,\",\",\".\")","v":""}]
[0,{"$error":"#VALUE!"},{"$error":"#VALUE!"},{"$f":"SUBSTITUTE(IN!G2833,\"-\",\"\")","v":""},"",{"$f":"IN!F2833*60","v":0},0,"-",{"$f":"SUBSTITUTE(IN!F2833,\",\",\".\")","v":""}]
[0,{"$error":"#VALUE!"},{"$error":"#VALUE!"},{"$f":"SUBSTITUTE(IN!G2834,\"-\",\"\")","v":""},"",{"$f":"IN!F2834*60","v":0},0,"-",{"$f":"SUBSTITUTE(IN!F2834,\",\",\".\")","v":""}]
[0,{"$error":"#VALUE!"},{"$error":"#VALUE!"},{"$f":"SUBSTITUTE(IN!G2835,\"-\",\"\")","v":""},"",{"$f":"IN!F2835*60","v":0},0,"-",{"$f":"SUBSTITUTE(IN!F2835,\",\",\".\")","v":""}]
[0,{"$error":"#VALUE!"},{"$error":"#VALUE!"},{"$f":"SUBSTITUTE(IN!G2836,\"-\",\"\")","v":""},"",{"$f":"IN!F2836*60","v":0},0,"-",{"$f":"SUBSTITUTE(IN!F2836,\",\",\".\")","v":""}]
[0,{"$error":"#VALUE!"},{"$error":"#VALUE!"},{"$f":"SUBSTITUTE(IN!G2837,\"-\",\"\")","v":""},"",{"$f":"IN!F2837*60","v":0},0,"-",{"$f":"SUBSTITUTE(IN!F2837,\",\",\".\")","v":""}]
[0,{"$error":"#VALUE!"},{"$error":"#VALUE!"},{"$f":"SUBSTITUTE(IN!G2838,\"-\",\"\")","v":""},"",{"$f":"IN!F2838*60","v":0},0,"-",{"$f":"SUBSTITUTE(IN!F2838,\",\",\".\")","v":""}]
[0,{"$error":"#VALUE!"},{"$error":"#VALUE!"},{"$f":"SUBSTITUTE(IN!G2839,\"-\",\"\")","v":""},"",{"$f":"IN!F2839*60","v":0},0,"-",{"$f":"SUBSTITUTE(IN!F2839,\",\",\".\")","v":""}]
[0,{"$error":"#VALUE!"},{"$error":"#VALUE!"},{"$f":"SUBSTITUTE(IN!G2840,\"-\",\"\")","v":""},"",{"$f":"IN!F2840*60","v":0},0,"-",{"$f":"SUBSTITUTE(IN!F2840,\",\",\".\")","v":""}]
[0,{"$error":"#VALUE!"},{"$error":"#VALUE!"},{"$f":"SUBSTITUTE(IN!G2841,\"-\",\"\")","v":""},"",{"$f":"IN!F2841*60","v":0},0,"-",{"$f":"SUBSTITUTE(IN!F2841,\",\",\".\")","v":""}]
[0,{"$error":"#VALUE!"},{"$error":"#VALUE!"},{"$f":"SUBSTITUTE(IN!G2842,\"-\",\"\")","v":""},"",{"$f":"IN!F2842*60","v":0},0,"-",{"$f":"SUBSTITUTE(IN!F2842,\",\",\".\")","v":""}]
[0,{"$error":"#VALUE!"},{"$error":"#VALUE!"},{"$f":"SUBSTITUTE(IN!G2843,\"-\",\"\")","v":""},"",{"$f":"IN!F2843*60","v":0},0,"-",{"$f":"SUBSTITUTE(IN!F2843,\",\",\".\")","v":""}]
[0,{"$error":"#VALUE!"},{"$error":"#VALUE!"},{"$f":"SUBSTITUTE(IN!G2844,\"-\",\"\")","v":""},"",{"$f":"IN!F2844*60","v":0},0,"-",{"$f":"SUBSTITUTE(IN!F2844,\",\",\".\")","v":""}]
[0,{"$error":"#VALUE!"},{"$error":"#VALUE!"},{"$f":"SUBSTITUTE(IN!G2845,\"-\",\"\")","v":""},"",{"$f":"IN!F2845*60","v":0},0,"-",{"$f":"SUBSTITUTE(IN!F2845,\",\",\".\")","v":""}]
[0,{"$error":"#VALUE!"},{"$error":"#VALUE!"},{"$f":"SUBSTITUTE(IN!G2846,\"-\",\"\")","v":""},"",{"$f":"IN!F2846*60","v":0},0,"-",{"$f":"SUBSTITUTE(IN!F2846,\",\",\".\")","v":""}]
[0,{"$error":"#VALUE!"},{"$error":"#VALUE!"},{"$f":"SUBSTITUTE(IN!G2847,\"-\",\"\")","v":""},"",{"$f":"IN!F2847*60","v":0},0,"-",{"$f":"SUBSTITUTE(IN!F2847,\",\",\".\")","v":""}]
[0,{"$error":"#VALUE!"},{"$error":"#VALUE!"},{"$f":"SUBSTITUTE(IN!G2848,\"-\",\"\")","v":""},"",{"$f":"IN!F2848*60","v":0},0,"-",{"$f":"SUBSTITUTE(IN!F2848,\",\",\".\")","v":""}]
[0,{"$error":"#VALUE!"},{"$error":"#VALUE!"},{"$f":"SUBSTITUTE(IN!G2849,\"-\",\"\")","v":""},"",{"$f":"IN!F2849*60","v":0},0,"-",{"$f":"SUBSTITUTE(IN!F2849,\",\",\".\")","v":""}]
[0,{"$error":"#VALUE!"},{"$error":"#VALUE!"},{"$f":"SUBSTITUTE(IN!G2850,\"-\",\"\")","v":""},"",{"$f":"IN!F2850*60","v":0},0,"-",{"$f":"SUBSTITUTE(IN!F2850,\",\",\".\")","v":""}]
[0,{"$error":"#VALUE!"},{"$error":"#VALUE!"},{"$f":"SUBSTITUTE(IN!G2851,\"-\",\"\")","v":""},"",{"$f":"IN!F2851*60","v":0},0,"-",{"$f":"SUBSTITUTE(IN!F2851,\",\",\".\")","v":""}]
[0,{"$error":"#VALUE!"},{"$error":"#VALUE!"},{"$f":"SUBSTITUTE(IN!G2852,\"-\",\"\")","v":""},"",{"$f":"IN!F2852*60","v":0},0,"-",{"$f":"SUBSTITUTE(IN!F2852,\",\",\".\")","v":""}]
[0,{"$error":"#VALUE!"},{"$error":"#VALUE!"},{"$f":"SUBSTITUTE(IN!G2853,\"-\",\"\")","v":""},"",{"$f":"IN!F2853*60","v":0},0,"-",{"$f":"SUBSTITUTE(IN!F2853,\",\",\".\")","v":""}]
[0,{"$error":"#VALUE!"},{"$error":"#VALUE!"},{"$f":"SUBSTITUTE(IN!G2854,\"-\",\"\")","v":""},"",{"$f":"IN!F2854*60","v":0},0,"-",{"$f":"SUBSTITUTE(IN!F2854,\",\",\".\")","v":""}]
[0,{"$error":"#VALUE!"},{"$error":"#VALUE!"},{"$f":"SUBSTITUTE(IN!G2855,\"-\",\"\")","v":""},"",{"$f":"IN!F2855*60","v":0},0,"-",{"$f":"SUBSTITUTE(IN!F2855,\",\",\".\")","v":""}]
[0,{"$error":"#VALUE!"},{"$error":"#VALUE!"},{"$f":"SUBSTITUTE(IN!G2856,\"-\",\"\")","v":""},"",{"$f":"IN!F2856*60","v":0},0,"-",{"$f":"SUBSTITUTE(IN!F2856,\",\",\".\")","v":""}]
[0,{"$error":"#VALUE!"},{"$error":"#VALUE!"},{"$f":"SUBSTITUTE(IN!G2857,\"-\",\"\")","v":""},"",{"$f":"IN!F2857*60","v":0},0,"-",{"$f":"SUBSTITUTE(IN!F2857,\",\",\".\")","v":""}]
[0,{"$error":"#VALUE!"},{"$error":"#VALUE!"},{"$f":"SUBSTITUTE(IN!G2858,\"-\",\"\")","v":""},"",{"$f":"IN!F2858*60","v":0},0,"-",{"$f":"SUBSTITUTE(IN!F2858,\",\",\".\")","v":""}]
[0,{"$error":"#VALUE!"},{"$error":"#VALUE!"},{"$f":"SUBSTITUTE(IN!G2859,\"-\",\"\")","v":""},"",{"$f":"IN!F2859*60","v":0},0,"-",{"$f":"SUBSTITUTE(IN!F2859,\",\",\".\")","v":""}]
[0,{"$error":"#VALUE!"},{"$error":"#VALUE!"},{"$f":"SUBSTITUTE(IN!G2860,\"-\",\"\")","v":""},"",{"$f":"IN!F2860*60","v":0},0,"-",{"$f":"SUBSTITUTE(IN!F2860,\",\",\".\")","v":""}]
[0,{"$error":"#VALUE!"},{"$error":"#VALUE!"},{"$f":"SUBSTITUTE(IN!G2861,\"-\",\"\")","v":""},"",{"$f":"IN!F2861*60","v":0},0,"-",{"$f":"SUBSTITUTE(IN!F2861,\",\",\".\")","v":""}]
[0,{"$error":"#VALUE!"},{"$error":"#VALUE!"},{"$f":"SUBSTITUTE(IN!G2862,\"-\",\"\")","v":""},"",{"$f":"IN!F2862*60","v":0},0,"-",{"$f":"SUBSTITUTE(IN!F2862,\",\",\".\")","v":""}]
[0,{"$error":"#VALUE!"},{"$error":"#VALUE!"},{"$f":"SUBSTITUTE(IN!G2863,\"-\",\"\")","v":""},"",{"$f":"IN!F2863*60","v":0},0,"-",{"$f":"SUBSTITUTE(IN!F2863,\",\",\".\")","v":""}]
[0,{"$error":"#VALUE!"},{"$error":"#VALUE!"},{"$f":"SUBSTITUTE(IN!G2864,\"-\",\"\")","v":""},"",{"$f":"IN!F2864*60","v":0},0,"-",{"$f":"SUBSTITUTE(IN!F2864,\",\",\".\")","v":""}]
[0,{"$error":"#VALUE!"},{"$error":"#VALUE!"},{"$f":"SUBSTITUTE(IN!G2865,\"-\",\"\")","v":""},"",{"$f":"IN!F2865*60","v":0},0,"-",{"$f":"SUBSTITUTE(IN!F2865,\",\",\".\")","v":""}]
[0,{"$error":"#VALUE!"},{"$error":"#VALUE!"},{"$f":"SUBSTITUTE(IN!G2866,\"-\",\"\")","v":""},"",{"$f":"IN!F2866*60","v":0},0,"-",{"$f":"SUBSTITUTE(IN!F2866,\",\",\".\")","v":""}]
[0,{"$error":"#VALUE!"},{"$error":"#VALUE!"},{"$f":"SUBSTITUTE(IN!G2867,\"-\",\"\")","v":""},"",{"$f":"IN!F2867*60","v":0},0,"-",{"$f":"SUBSTITUTE(IN!F2867,\",\",\".\")","v":""}]
[0,{"$error":"#VALUE!"},{"$error":"#VALUE!"},{"$f":"SUBSTITUTE(IN!G2868,\"-\",\"\")","v":""},"",{"$f":"IN!F2868*60","v":0},0,"-",{"$f":"SUBSTITUTE(IN!F2868,\",\",\".\")","v":""}]
[0,{"$error":"#VALUE!"},{"$error":"#VALUE!"},{"$f":"SUBSTITUTE(IN!G2869,\"-\",\"\")","v":""},"",{"$f":"IN!F2869*60","v":0},0,"-",{"$f":"SUBSTITUTE(IN!F2869,\",\",\".\")","v":""}]
[0,{"$error":"#VALUE!"},{"$error":"#VALUE!"},{"$f":"SUBSTITUTE(IN!G2870,\"-\",\"\")","v":""},"",{"$f":"IN!F2870*60","v":0},0,"-",{"$f":"SUBSTITUTE(IN!F2870,\",\",\".\")","v":""}]
[0,{"$error":"#VALUE!"},{"$error":"#VALUE!"},{"$f":"SUBSTITUTE(IN!G2871,\"-\",\"\")","v":""},"",{"$f":"IN!F2871*60","v":0},0,"-",{"$f":"SUBSTITUTE(IN!F2871,\",\",\".\")","v":""}]
[0,{"$error":"#VALUE!"},{"$error":"#VALUE!"},{"$f":"SUBSTITUTE(IN!G2872,\"-\",\"\")","v":""},"",{"$f":"IN!F2872*60","v":0},0,"-",{"$f":"SUBSTITUTE(IN!F2872,\",\",\".\")","v":""}]
[0,{"$error":"#VALUE!"},{"$error":"#VALUE!"},{"$f":"SUBSTITUTE(IN!G2873,\"-\",\"\")","v":""},"",{"$f":"IN!F2873*60","v":0},0,"-",{"$f":"SUBSTITUTE(IN!F2873,\",\",\".\")","v":""}]
[0,{"$error":"#VALUE!"},{"$error":"#VALUE!"},{"$f":"SUBSTITUTE(IN!G2874,\"-\",\"\")","v":""},"",{"$f":"IN!F2874*60","v":0},0,"-",{"$f":"SUBSTITUTE(IN!F2874,\",\",\".\")","v":""}]
[0,{"$error":"#VALUE!"},{"$error":"#VALUE!"},{"$f":"SUBSTITUTE(IN!G2875,\"-\",\"\")","v":""},"",{"$f":"IN!F2875*60","v":0},0,"-",{"$f":"SUBSTITUTE(IN!F2875,\",\",\".\")","v":""}]
[0,{"$error":"#VALUE!"},{"$error":"#VALUE!"},{"$f":"SUBSTITUTE(IN!G2876,\"-\",\"\")","v":""},"",{"$f":"IN!F2876*60","v":0},0,"-",{"$f":"SUBSTITUTE(IN!F2876,\",\",\".\")","v":""}]
[0,{"$error":"#VALUE!"},{"$error":"#VALUE!"},{"$f":"SUBSTITUTE(IN!G2877,\"-\",\"\")","v":""},"",{"$f":"IN!F2877*60","v":0},0,"-",{"$f":"SUBSTITUTE(IN!F2877,\",\",\".\")","v":""}]
[0,{"$error":"#VALUE!"},{"$error":"#VALUE!"},{"$f":"SUBSTITUTE(IN!G2878,\"-\",\"\")","v":""},"",{"$f":"IN!F2878*60","v":0},0,"-",{"$f":"SUBSTITUTE(IN!F2878,\",\",\".\")","v":""}]
[0,{"$error":"#VALUE!"},{"$error":"#VALUE!"},{"$f":"SUBSTITUTE(IN!G2879,\"-\",\"\")","v":""},"",{"$f":"IN!F2879*60","v":0},0,"-",{"$f":"SUBSTITUTE(IN!F2879,\",\",\".\")","v":""}]
[0,{"$error":"#VALUE!"},{"$error":"#VALUE!"},{"$f":"SUBSTITUTE(IN!G2880,\"-\",\"\")","v":""},"",{"$f":"IN!F2880*60","v":0},0,"-",{"$f":"SUBSTITUTE(IN!F2880,\",\",\".\")","v":""}]
[0,{"$error":"#VALUE!"},{"$error":"#VALUE!"},{"$f":"SUBSTITUTE(IN!G2881,\"-\",\"\")","v":""},"",{"$f":"IN!F2881*60","v":0},0,"-",{"$f":"SUBSTITUTE(IN!F2881,\",\",\".\")","v":""}]
[0,{"$error":"#VALUE!"},{"$error":"#VALUE!"},{"$f":"SUBSTITUTE(IN!G2882,\"-\",\"\")","v":""},"",{"$f":"IN!F2882*60","v":0},0,"-",{"$f":"SUBSTITUTE(IN!F2882,\",\",\".\")","v":""}]
[0,{"$error":"#VALUE!"},{"$error":"#VALUE!"},{"$f":"SUBSTITUTE(IN!G2883,\"-\",\"\")","v":""},"",{"$f":"IN!F2883*60","v":0},0,"-",{"$f":"SUBSTITUTE(IN!F2883,\",\",\".\")","v":""}]
[0,{"$error":"#VALUE!"},{"$error":"#VALUE!"},{"$f":"SUBSTITUTE(IN!G2884,\"-\",\"\")","v":""},"",{"$f":"IN!F2884*60","v":0},0,"-",{"$f":"SUBSTITUTE(IN!F2884,\",\",\".\")","v":""}]
[{"$f":"LEN(D2885)","v":0},{"$f":"VALUE(LEFT(D2885,1))","v":{"$error":"#VALUE!"}},{"$f":"IF(B2885<2,20,19)","v":{"$error":"#VALUE!"}},{"$f":"SUBSTITUTE(IN!G2885,\"-\",\"\")","v":""},{"$f":"IF(A2885=10,CONCATENATE(C2885,D2885),D2885)","v":""},{"$f":"IN!F2885*60","v":0},{"$f":"ROUND(F2885,0)","v":0},{"$f":"CONCATENATE(MID(E2885,1,8),\"-\",MID(E2885,9,4))","v":"-"},{"$f":"SUBSTITUTE(IN!F2885,\",\",\".\")","v":""}]
[0,{"$error":"#VALUE!"},{"$error":"#VALUE!"},{"$f":"SUBSTITUTE(IN!G2886,\"-\",\"\")","v":""},"",{"$f":"IN!F2886*60","v":0},0,"-",{"$f":"SUBSTITUTE(IN!F2886,\",\",\".\")","v":""}]
[0,{"$error":"#VALUE!"},{"$error":"#VALUE!"},{"$f":"SUBSTITUTE(IN!G2887,\"-\",\"\")","v":""},"",{"$f":"IN!F2887*60","v":0},0,"-",{"$f":"SUBSTITUTE(IN!F2887,\",\",\".\")","v":""}]
[0,{"$error":"#VALUE!"},{"$error":"#VALUE!"},{"$f":"SUBSTITUTE(IN!G2888,\"-\",\"\")","v":""},"",{"$f":"IN!F2888*60","v":0},0,"-",{"$f":"SUBSTITUTE(IN!F2888,\",\",\".\")","v":""}]
[0,{"$error":"#VALUE!"},{"$error":"#VALUE!"},{"$f":"SUBSTITUTE(IN!G2889,\"-\",\"\")","v":""},"",{"$f":"IN!F2889*60","v":0},0,"-",{"$f":"SUBSTITUTE(IN!F2889,\",\",\".\")","v":""}]
[0,{"$error":"#VALUE!"},{"$error":"#VALUE!"},{"$f":"SUBSTITUTE(IN!G2890,\"-\",\"\")","v":""},"",{"$f":"IN!F2890*60","v":0},0,"-",{"$f":"SUBSTITUTE(IN!F2890,\",\",\".\")","v":""}]
[0,{"$error":"#VALUE!"},{"$error":"#VALUE!"},{"$f":"SUBSTITUTE(IN!G2891,\"-\",\"\")","v":""},"",{"$f":"IN!F2891*60","v":0},0,"-",{"$f":"SUBSTITUTE(IN!F2891,\",\",\".\")","v":""}]
[0,{"$error":"#VALUE!"},{"$error":"#VALUE!"},{"$f":"SUBSTITUTE(IN!G2892,\"-\",\"\")","v":""},"",{"$f":"IN!F2892*60","v":0},0,"-",{"$f":"SUBSTITUTE(IN!F2892,\",\",\".\")","v":""}]
[0,{"$error":"#VALUE!"},{"$error":"#VALUE!"},{"$f":"SUBSTITUTE(IN!G2893,\"-\",\"\")","v":""},"",{"$f":"IN!F2893*60","v":0},0,"-",{"$f":"SUBSTITUTE(IN!F2893,\",\",\".\")","v":""}]
[0,{"$error":"#VALUE!"},{"$error":"#VALUE!"},{"$f":"SUBSTITUTE(IN!G2894,\"-\",\"\")","v":""},"",{"$f":"IN!F2894*60","v":0},0,"-",{"$f":"SUBSTITUTE(IN!F2894,\",\",\".\")","v":""}]
[0,{"$error":"#VALUE!"},{"$error":"#VALUE!"},{"$f":"SUBSTITUTE(IN!G2895,\"-\",\"\")","v":""},"",{"$f":"IN!F2895*60","v":0},0,"-",{"$f":"SUBSTITUTE(IN!F2895,\",\",\".\")","v":""}]
[0,{"$error":"#VALUE!"},{"$error":"#VALUE!"},{"$f":"SUBSTITUTE(IN!G2896,\"-\",\"\")","v":""},"",{"$f":"IN!F2896*60","v":0},0,"-",{"$f":"SUBSTITUTE(IN!F2896,\",\",\".\")","v":""}]
[0,{"$error":"#VALUE!"},{"$error":"#VALUE!"},{"$f":"SUBSTITUTE(IN!G2897,\"-\",\"\")","v":""},"",{"$f":"IN!F2897*60","v":0},0,"-",{"$f":"SUBSTITUTE(IN!F2897,\",\",\".\")","v":""}]
[0,{"$error":"#VALUE!"},{"$error":"#VALUE!"},{"$f":"SUBSTITUTE(IN!G2898,\"-\",\"\")","v":""},"",{"$f":"IN!F2898*60","v":0},0,"-",{"$f":"SUBSTITUTE(IN!F2898,\",\",\".\")","v":""}]
[0,{"$error":"#VALUE!"},{"$error":"#VALUE!"},{"$f":"SUBSTITUTE(IN!G2899,\"-\",\"\")","v":""},"",{"$f":"IN!F2899*60","v":0},0,"-",{"$f":"SUBSTITUTE(IN!F2899,\",\",\".\")","v":""}]
[0,{"$error":"#VALUE!"},{"$error":"#VALUE!"},{"$f":"SUBSTITUTE(IN!G2900,\"-\",\"\")","v":""},"",{"$f":"IN!F2900*60","v":0},0,"-",{"$f":"SUBSTITUTE(IN!F2900,\",\",\".\")","v":""}]
[0,{"$error":"#VALUE!"},{"$error":"#VALUE!"},{"$f":"SUBSTITUTE(IN!G2901,\"-\",\"\")","v":""},"",{"$f":"IN!F2901*60","v":0},0,"-",{"$f":"SUBSTITUTE(IN!F2901,\",\",\".\")","v":""}]
[0,{"$error":"#VALUE!"},{"$error":"#VALUE!"},{"$f":"SUBSTITUTE(IN!G2902,\"-\",\"\")","v":""},"",{"$f":"IN!F2902*60","v":0},0,"-",{"$f":"SUBSTITUTE(IN!F2902,\",\",\".\")","v":""}]
[0,{"$error":"#VALUE!"},{"$error":"#VALUE!"},{"$f":"SUBSTITUTE(IN!G2903,\"-\",\"\")","v":""},"",{"$f":"IN!F2903*60","v":0},0,"-",{"$f":"SUBSTITUTE(IN!F2903,\",\",\".\")","v":""}]
[0,{"$error":"#VALUE!"},{"$error":"#VALUE!"},{"$f":"SUBSTITUTE(IN!G2904,\"-\",\"\")","v":""},"",{"$f":"IN!F2904*60","v":0},0,"-",{"$f":"SUBSTITUTE(IN!F2904,\",\",\".\")","v":""}]
[0,{"$error":"#VALUE!"},{"$error":"#VALUE!"},{"$f":"SUBSTITUTE(IN!G2905,\"-\",\"\")","v":""},"",{"$f":"IN!F2905*60","v":0},0,"-",{"$f":"SUBSTITUTE(IN!F2905,\",\",\".\")","v":""}]
[0,{"$error":"#VALUE!"},{"$error":"#VALUE!"},{"$f":"SUBSTITUTE(IN!G2906,\"-\",\"\")","v":""},"",{"$f":"IN!F2906*60","v":0},0,"-",{"$f":"SUBSTITUTE(IN!F2906,\",\",\".\")","v":""}]
[0,{"$error":"#VALUE!"},{"$error":"#VALUE!"},{"$f":"SUBSTITUTE(IN!G2907,\"-\",\"\")","v":""},"",{"$f":"IN!F2907*60","v":0},0,"-",{"$f":"SUBSTITUTE(IN!F2907,\",\",\".\")","v":""}]
[0,{"$error":"#VALUE!"},{"$error":"#VALUE!"},{"$f":"SUBSTITUTE(IN!G2908,\"-\",\"\")","v":""},"",{"$f":"IN!F2908*60","v":0},0,"-",{"$f":"SUBSTITUTE(IN!F2908,\",\",\".\")","v":""}]
[0,{"$error":"#VALUE!"},{"$error":"#VALUE!"},{"$f":"SUBSTITUTE(IN!G2909,\"-\",\"\")","v":""},"",{"$f":"IN!F2909*60","v":0},0,"-",{"$f":"SUBSTITUTE(IN!F2909,\",\",\".\")","v":""}]
[0,{"$error":"#VALUE!"},{"$error":"#VALUE!"},{"$f":"SUBSTITUTE(IN!G2910,\"-\",\"\")","v":""},"",{"$f":"IN!F2910*60","v":0},0,"-",{"$f":"SUBSTITUTE(IN!F2910,\",\",\".\")","v":""}]
[0,{"$error":"#VALUE!"},{"$error":"#VALUE!"},{"$f":"SUBSTITUTE(IN!G2911,\"-\",\"\")","v":""},"",{"$f":"IN!F2911*60","v":0},0,"-",{"$f":"SUBSTITUTE(IN!F2911,\",\",\".\")","v":""}]
[0,{"$error":"#VALUE!"},{"$error":"#VALUE!"},{"$f":"SUBSTITUTE(IN!G2912,\"-\",\"\")","v":""},"",{"$f":"IN!F2912*60","v":0},0,"-",{"$f":"SUBSTITUTE(IN!F2912,\",\",\".\")","v":""}]
[0,{"$error":"#VALUE!"},{"$error":"#VALUE!"},{"$f":"SUBSTITUTE(IN!G2913,\"-\",\"\")","v":""},"",{"$f":"IN!F2913*60","v":0},0,"-",{"$f":"SUBSTITUTE(IN!F2913,\",\",\".\")","v":""}]
[0,{"$error":"#VALUE!"},{"$error":"#VALUE!"},{"$f":"SUBSTITUTE(IN!G2914,\"-\",\"\")","v":""},"",{"$f":"IN!F2914*60","v":0},0,"-",{"$f":"SUBSTITUTE(IN!F2914,\",\",\".\")","v":""}]
[0,{"$error":"#VALUE!"},{"$error":"#VALUE!"},{"$f":"SUBSTITUTE(IN!G2915,\"-\",\"\")","v":""},"",{"$f":"IN!F2915*60","v":0},0,"-",{"$f":"SUBSTITUTE(IN!F2915,\",\",\".\")","v":""}]
[0,{"$error":"#VALUE!"},{"$error":"#VALUE!"},{"$f":"SUBSTITUTE(IN!G2916,\"-\",\"\")","v":""},"",{"$f":"IN!F2916*60","v":0},0,"-",{"$f":"SUBSTITUTE(IN!F2916,\",\",\".\")","v":""}]
[0,{"$error":"#VALUE!"},{"$error":"#VALUE!"},{"$f":"SUBSTITUTE(IN!G2917,\"-\",\"\")","v":""},"",{"$f":"IN!F2917*60","v":0},0,"-",{"$f":"SUBSTITUTE(IN!F2917,\",\",\".\")","v":""}]
[0,{"$error":"#VALUE!"},{"$error":"#VALUE!"},{"$f":"SUBSTITUTE(IN!G2918,\"-\",\"\")","v":""},"",{"$f":"IN!F2918*60","v":0},0,"-",{"$f":"SUBSTITUTE(IN!F2918,\",\",\".\")","v":""}]
[0,{"$error":"#VALUE!"},{"$error":"#VALUE!"},{"$f":"SUBSTITUTE(IN!G2919,\"-\",\"\")","v":""},"",{"$f":"IN!F2919*60","v":0},0,"-",{"$f":"SUBSTITUTE(IN!F2919,\",\",\".\")","v":""}]
[0,{"$error":"#VALUE!"},{"$error":"#VALUE!"},{"$f":"SUBSTITUTE(IN!G2920,\"-\",\"\")","v":""},"",{"$f":"IN!F2920*60","v":0},0,"-",{"$f":"SUBSTITUTE(IN!F2920,\",\",\".\")","v":""}]
[0,{"$error":"#VALUE!"},{"$error":"#VALUE!"},{"$f":"SUBSTITUTE(IN!G2921,\"-\",\"\")","v":""},"",{"$f":"IN!F2921*60","v":0},0,"-",{"$f":"SUBSTITUTE(IN!F2921,\",\",\".\")","v":""}]
[0,{"$error":"#VALUE!"},{"$error":"#VALUE!"},{"$f":"SUBSTITUTE(IN!G2922,\"-\",\"\")","v":""},"",{"$f":"IN!F2922*60","v":0},0,"-",{"$f":"SUBSTITUTE(IN!F2922,\",\",\".\")","v":""}]
[0,{"$error":"#VALUE!"},{"$error":"#VALUE!"},{"$f":"SUBSTITUTE(IN!G2923,\"-\",\"\")","v":""},"",{"$f":"IN!F2923*60","v":0},0,"-",{"$f":"SUBSTITUTE(IN!F2923,\",\",\".\")","v":""}]
[0,{"$error":"#VALUE!"},{"$error":"#VALUE!"},{"$f":"SUBSTITUTE(IN!G2924,\"-\",\"\")","v":""},"",{"$f":"IN!F2924*60","v":0},0,"-",{"$f":"SUBSTITUTE(IN!F2924,\",\",\".\")","v":""}]
[0,{"$error":"#VALUE!"},{"$error":"#VALUE!"},{"$f":"SUBSTITUTE(IN!G2925,\"-\",\"\")","v":""},"",{"$f":"IN!F2925*60","v":0},0,"-",{"$f":"SUBSTITUTE(IN!F2925,\",\",\".\")","v":""}]
[0,{"$error":"#VALUE!"},{"$error":"#VALUE!"},{"$f":"SUBSTITUTE(IN!G2926,\"-\",\"\")","v":""},"",{"$f":"IN!F2926*60","v":0},0,"-",{"$f":"SUBSTITUTE(IN!F2926,\",\",\".\")","v":""}]
[0,{"$error":"#VALUE!"},{"$error":"#VALUE!"},{"$f":"SUBSTITUTE(IN!G2927,\"-\",\"\")","v":""},"",{"$f":"IN!F2927*60","v":0},0,"-",{"$f":"SUBSTITUTE(IN!F2927,\",\",\".\")","v":""}]
[0,{"$error":"#VALUE!"},{"$error":"#VALUE!"},{"$f":"SUBSTITUTE(IN!G2928,\"-\",\"\")","v":""},"",{"$f":"IN!F2928*60","v":0},0,"-",{"$f":"SUBSTITUTE(IN!F2928,\",\",\".\")","v":""}]
[0,{"$error":"#VALUE!"},{"$error":"#VALUE!"},{"$f":"SUBSTITUTE(IN!G2929,\"-\",\"\")","v":""},"",{"$f":"IN!F2929*60","v":0},0,"-",{"$f":"SUBSTITUTE(IN!F2929,\",\",\".\")","v":""}]
[0,{"$error":"#VALUE!"},{"$error":"#VALUE!"},{"$f":"SUBSTITUTE(IN!G2930,\"-\",\"\")","v":""},"",{"$f":"IN!F2930*60","v":0},0,"-",{"$f":"SUBSTITUTE(IN!F2930,\",\",\".\")","v":""}]
[0,{"$error":"#VALUE!"},{"$error":"#VALUE!"},{"$f":"SUBSTITUTE(IN!G2931,\"-\",\"\")","v":""},"",{"$f":"IN!F2931*60","v":0},0,"-",{"$f":"SUBSTITUTE(IN!F2931,\",\",\".\")","v":""}]
[0,{"$error":"#VALUE!"},{"$error":"#VALUE!"},{"$f":"SUBSTITUTE(IN!G2932,\"-\",\"\")","v":""},"",{"$f":"IN!F2932*60","v":0},0,"-",{"$f":"SUBSTITUTE(IN!F2932,\",\",\".\")","v":""}]
[0,{"$error":"#VALUE!"},{"$error":"#VALUE!"},{"$f":"SUBSTITUTE(IN!G2933,\"-\",\"\")","v":""},"",{"$f":"IN!F2933*60","v":0},0,"-",{"$f":"SUBSTITUTE(IN!F2933,\",\",\".\")","v":""}]
[0,{"$error":"#VALUE!"},{"$error":"#VALUE!"},{"$f":"SUBSTITUTE(IN!G2934,\"-\",\"\")","v":""},"",{"$f":"IN!F2934*60","v":0},0,"-",{"$f":"SUBSTITUTE(IN!F2934,\",\",\".\")","v":""}]
[0,{"$error":"#VALUE!"},{"$error":"#VALUE!"},{"$f":"SUBSTITUTE(IN!G2935,\"-\",\"\")","v":""},"",{"$f":"IN!F2935*60","v":0},0,"-",{"$f":"SUBSTITUTE(IN!F2935,\",\",\".\")","v":""}]
[0,{"$error":"#VALUE!"},{"$error":"#VALUE!"},{"$f":"SUBSTITUTE(IN!G2936,\"-\",\"\")","v":""},"",{"$f":"IN!F2936*60","v":0},0,"-",{"$f":"SUBSTITUTE(IN!F2936,\",\",\".\")","v":""}]
[0,{"$error":"#VALUE!"},{"$error":"#VALUE!"},{"$f":"SUBSTITUTE(IN!G2937,\"-\",\"\")","v":""},"",{"$f":"IN!F2937*60","v":0},0,"-",{"$f":"SUBSTITUTE(IN!F2937,\",\",\".\")","v":""}]
[0,{"$error":"#VALUE!"},{"$error":"#VALUE!"},{"$f":"SUBSTITUTE(IN!G2938,\"-\",\"\")","v":""},"",{"$f":"IN!F2938*60","v":0},0,"-",{"$f":"SUBSTITUTE(IN!F2938,\",\",\".\")","v":""}]
[0,{"$error":"#VALUE!"},{"$error":"#VALUE!"},{"$f":"SUBSTITUTE(IN!G2939,\"-\",\"\")","v":""},"",{"$f":"IN!F2939*60","v":0},0,"-",{"$f":"SUBSTITUTE(IN!F2939,\",\",\".\")","v":""}]
[0,{"$error":"#VALUE!"},{"$error":"#VALUE!"},{"$f":"SUBSTITUTE(IN!G2940,\"-\",\"\")","v":""},"",{"$f":"IN!F2940*60","v":0},0,"-",{"$f":"SUBSTITUTE(IN!F2940,\",\",\".\")","v":""}]
[0,{"$error":"#VALUE!"},{"$error":"#VALUE!"},{"$f":"SUBSTITUTE(IN!G2941,\"-\",\"\")","v":""},"",{"$f":"IN!F2941*60","v":0},0,"-",{"$f":"SUBSTITUTE(IN!F2941,\",\",\".\")","v":""}]
[0,{"$error":"#VALUE!"},{"$error":"#VALUE!"},{"$f":"SUBSTITUTE(IN!G2942,\"-\",\"\")","v":""},"",{"$f":"IN!F2942*60","v":0},0,"-",{"$f":"SUBSTITUTE(IN!F2942,\",\",\".\")","v":""}]
[0,{"$error":"#VALUE!"},{"$error":"#VALUE!"},{"$f":"SUBSTITUTE(IN!G2943,\"-\",\"\")","v":""},"",{"$f":"IN!F2943*60","v":0},0,"-",{"$f":"SUBSTITUTE(IN!F2943,\",\",\".\")","v":""}]
[0,{"$error":"#VALUE!"},{"$error":"#VALUE!"},{"$f":"SUBSTITUTE(IN!G2944,\"-\",\"\")","v":""},"",{"$f":"IN!F2944*60","v":0},0,"-",{"$f":"SUBSTITUTE(IN!F2944,\",\",\".\")","v":""}]
[0,{"$error":"#VALUE!"},{"$error":"#VALUE!"},{"$f":"SUBSTITUTE(IN!G2945,\"-\",\"\")","v":""},"",{"$f":"IN!F2945*60","v":0},0,"-",{"$f":"SUBSTITUTE(IN!F2945,\",\",\".\")","v":""}]
[0,{"$error":"#VALUE!"},{"$error":"#VALUE!"},{"$f":"SUBSTITUTE(IN!G2946,\"-\",\"\")","v":""},"",{"$f":"IN!F2946*60","v":0},0,"-",{"$f":"SUBSTITUTE(IN!F2946,\",\",\".\")","v":""}]
[0,{"$error":"#VALUE!"},{"$error":"#VALUE!"},{"$f":"SUBSTITUTE(IN!G2947,\"-\",\"\")","v":""},"",{"$f":"IN!F2947*60","v":0},0,"-",{"$f":"SUBSTITUTE(IN!F2947,\",\",\".\")","v":""}]
[0,{"$error":"#VALUE!"},{"$error":"#VALUE!"},{"$f":"SUBSTITUTE(IN!G2948,\"-\",\"\")","v":""},"",{"$f":"IN!F2948*60","v":0},0,"-",{"$f":"SUBSTITUTE(IN!F2948,\",\",\".\")","v":""}]
[{"$f":"LEN(D2949)","v":0},{"$f":"VALUE(LEFT(D2949,1))","v":{"$error":"#VALUE!"}},{"$f":"IF(B2949<2,20,19)","v":{"$error":"#VALUE!"}},{"$f":"SUBSTITUTE(IN!G2949,\"-\",\"\")","v":""},{"$f":"IF(A2949=10,CONCATENATE(C2949,D2949),D2949)","v":""},{"$f":"IN!F2949*60","v":0},{"$f":"ROUND(F2949,0)","v":0},{"$f":"CONCATENATE(MID(E2949,1,8),\"-\",MID(E2949,9,4))","v":"-"},{"$f":"SUBSTITUTE(IN!F2949,\",\",\".\")","v":""}]
[0,{"$error":"#VALUE!"},{"$error":"#VALUE!"},{"$f":"SUBSTITUTE(IN!G2950,\"-\",\"\")","v":""},"",{"$f":"IN!F2950*60","v":0},0,"-",{"$f":"SUBSTITUTE(IN!F2950,\",\",\".\")","v":""}]
[0,{"$error":"#VALUE!"},{"$error":"#VALUE!"},{"$f":"SUBSTITUTE(IN!G2951,\"-\",\"\")","v":""},"",{"$f":"IN!F2951*60","v":0},0,"-",{"$f":"SUBSTITUTE(IN!F2951,\",\",\".\")","v":""}]
[0,{"$error":"#VALUE!"},{"$error":"#VALUE!"},{"$f":"SUBSTITUTE(IN!G2952,\"-\",\"\")","v":""},"",{"$f":"IN!F2952*60","v":0},0,"-",{"$f":"SUBSTITUTE(IN!F2952,\",\",\".\")","v":""}]
[0,{"$error":"#VALUE!"},{"$error":"#VALUE!"},{"$f":"SUBSTITUTE(IN!G2953,\"-\",\"\")","v":""},"",{"$f":"IN!F2953*60","v":0},0,"-",{"$f":"SUBSTITUTE(IN!F2953,\",\",\".\")","v":""}]
[0,{"$error":"#VALUE!"},{"$error":"#VALUE!"},{"$f":"SUBSTITUTE(IN!G2954,\"-\",\"\")","v":""},"",{"$f":"IN!F2954*60","v":0},0,"-",{"$f":"SUBSTITUTE(IN!F2954,\",\",\".\")","v":""}]
[0,{"$error":"#VALUE!"},{"$error":"#VALUE!"},{"$f":"SUBSTITUTE(IN!G2955,\"-\",\"\")","v":""},"",{"$f":"IN!F2955*60","v":0},0,"-",{"$f":"SUBSTITUTE(IN!F2955,\",\",\".\")","v":""}]
[0,{"$error":"#VALUE!"},{"$error":"#VALUE!"},{"$f":"SUBSTITUTE(IN!G2956,\"-\",\"\")","v":""},"",{"$f":"IN!F2956*60","v":0},0,"-",{"$f":"SUBSTITUTE(IN!F2956,\",\",\".\")","v":""}]
[0,{"$error":"#VALUE!"},{"$error":"#VALUE!"},{"$f":"SUBSTITUTE(IN!G2957,\"-\",\"\")","v":""},"",{"$f":"IN!F2957*60","v":0},0,"-",{"$f":"SUBSTITUTE(IN!F2957,\",\",\".\")","v":""}]
[0,{"$error":"#VALUE!"},{"$error":"#VALUE!"},{"$f":"SUBSTITUTE(IN!G2958,\"-\",\"\")","v":""},"",{"$f":"IN!F2958*60","v":0},0,"-",{"$f":"SUBSTITUTE(IN!F2958,\",\",\".\")","v":""}]
[0,{"$error":"#VALUE!"},{"$error":"#VALUE!"},{"$f":"SUBSTITUTE(IN!G2959,\"-\",\"\")","v":""},"",{"$f":"IN!F2959*60","v":0},0,"-",{"$f":"SUBSTITUTE(IN!F2959,\",\",\".\")","v":""}]
[0,{"$error":"#VALUE!"},{"$error":"#VALUE!"},{"$f":"SUBSTITUTE(IN!G2960,\"-\",\"\")","v":""},"",{"$f":"IN!F2960*60","v":0},0,"-",{"$f":"SUBSTITUTE(IN!F2960,\",\",\".\")","v":""}]
[0,{"$error":"#VALUE!"},{"$error":"#VALUE!"},{"$f":"SUBSTITUTE(IN!G2961,\"-\",\"\")","v":""},"",{"$f":"IN!F2961*60","v":0},0,"-",{"$f":"SUBSTITUTE(IN!F2961,\",\",\".\")","v":""}]
[0,{"$error":"#VALUE!"},{"$error":"#VALUE!"},{"$f":"SUBSTITUTE(IN!G2962,\"-\",\"\")","v":""},"",{"$f":"IN!F2962*60","v":0},0,"-",{"$f":"SUBSTITUTE(IN!F2962,\",\",\".\")","v":""}]
[0,{"$error":"#VALUE!"},{"$error":"#VALUE!"},{"$f":"SUBSTITUTE(IN!G2963,\"-\",\"\")","v":""},"",{"$f":"IN!F2963*60","v":0},0,"-",{"$f":"SUBSTITUTE(IN!F2963,\",\",\".\")","v":""}]
[0,{"$error":"#VALUE!"},{"$error":"#VALUE!"},{"$f":"SUBSTITUTE(IN!G2964,\"-\",\"\")","v":""},"",{"$f":"IN!F2964*60","v":0},0,"-",{"$f":"SUBSTITUTE(IN!F2964,\",\",\".\")","v":""}]
[0,{"$error":"#VALUE!"},{"$error":"#VALUE!"},{"$f":"SUBSTITUTE(IN!G2965,\"-\",\"\")","v":""},"",{"$f":"IN!F2965*60","v":0},0,"-",{"$f":"SUBSTITUTE(IN!F2965,\",\",\".\")","v":""}]
[0,{"$error":"#VALUE!"},{"$error":"#VALUE!"},{"$f":"SUBSTITUTE(IN!G2966,\"-\",\"\")","v":""},"",{"$f":"IN!F2966*60","v":0},0,"-",{"$f":"SUBSTITUTE(IN!F2966,\",\",\".\")","v":""}]
[0,{"$error":"#VALUE!"},{"$error":"#VALUE!"},{"$f":"SUBSTITUTE(IN!G2967,\"-\",\"\")","v":""},"",{"$f":"IN!F2967*60","v":0},0,"-",{"$f":"SUBSTITUTE(IN!F2967,\",\",\".\")","v":""}]
[0,{"$error":"#VALUE!"},{"$error":"#VALUE!"},{"$f":"SUBSTITUTE(IN!G2968,\"-\",\"\")","v":""},"",{"$f":"IN!F2968*60","v":0},0,"-",{"$f":"SUBSTITUTE(IN!F2968,\",\",\".\")","v":""}]
[0,{"$error":"#VALUE!"},{"$error":"#VALUE!"},{"$f":"SUBSTITUTE(IN!G2969,\"-\",\"\")","v":""},"",{"$f":"IN!F2969*60","v":0},0,"-",{"$f":"SUBSTITUTE(IN!F2969,\",\",\".\")","v":""}]
[0,{"$error":"#VALUE!"},{"$error":"#VALUE!"},{"$f":"SUBSTITUTE(IN!G2970,\"-\",\"\")","v":""},"",{"$f":"IN!F2970*60","v":0},0,"-",{"$f":"SUBSTITUTE(IN!F2970,\",\",\".\")","v":""}]
[0,{"$error":"#VALUE!"},{"$error":"#VALUE!"},{"$f":"SUBSTITUTE(IN!G2971,\"-\",\"\")","v":""},"",{"$f":"IN!F2971*60","v":0},0,"-",{"$f":"SUBSTITUTE(IN!F2971,\",\",\".\")","v":""}]
[0,{"$error":"#VALUE!"},{"$error":"#VALUE!"},{"$f":"SUBSTITUTE(IN!G2972,\"-\",\"\")","v":""},"",{"$f":"IN!F2972*60","v":0},0,"-",{"$f":"SUBSTITUTE(IN!F2972,\",\",\".\")","v":""}]
[0,{"$error":"#VALUE!"},{"$error":"#VALUE!"},{"$f":"SUBSTITUTE(IN!G2973,\"-\",\"\")","v":""},"",{"$f":"IN!F2973*60","v":0},0,"-",{"$f":"SUBSTITUTE(IN!F2973,\",\",\".\")","v":""}]
[0,{"$error":"#VALUE!"},{"$error":"#VALUE!"},{"$f":"SUBSTITUTE(IN!G2974,\"-\",\"\")","v":""},"",{"$f":"IN!F2974*60","v":0},0,"-",{"$f":"SUBSTITUTE(IN!F2974,\",\",\".\")","v":""}]
[0,{"$error":"#VALUE!"},{"$error":"#VALUE!"},{"$f":"SUBSTITUTE(IN!G2975,\"-\",\"\")","v":""},"",{"$f":"IN!F2975*60","v":0},0,"-",{"$f":"SUBSTITUTE(IN!F2975,\",\",\".\")","v":""}]
[0,{"$error":"#VALUE!"},{"$error":"#VALUE!"},{"$f":"SUBSTITUTE(IN!G2976,\"-\",\"\")","v":""},"",{"$f":"IN!F2976*60","v":0},0,"-",{"$f":"SUBSTITUTE(IN!F2976,\",\",\".\")","v":""}]
[0,{"$error":"#VALUE!"},{"$error":"#VALUE!"},{"$f":"SUBSTITUTE(IN!G2977,\"-\",\"\")","v":""},"",{"$f":"IN!F2977*60","v":0},0,"-",{"$f":"SUBSTITUTE(IN!F2977,\",\",\".\")","v":""}]
[0,{"$error":"#VALUE!"},{"$error":"#VALUE!"},{"$f":"SUBSTITUTE(IN!G2978,\"-\",\"\")","v":""},"",{"$f":"IN!F2978*60","v":0},0,"-",{"$f":"SUBSTITUTE(IN!F2978,\",\",\".\")","v":""}]
[0,{"$error":"#VALUE!"},{"$error":"#VALUE!"},{"$f":"SUBSTITUTE(IN!G2979,\"-\",\"\")","v":""},"",{"$f":"IN!F2979*60","v":0},0,"-",{"$f":"SUBSTITUTE(IN!F2979,\",\",\".\")","v":""}]
[0,{"$error":"#VALUE!"},{"$error":"#VALUE!"},{"$f":"SUBSTITUTE(IN!G2980,\"-\",\"\")","v":""},"",{"$f":"IN!F2980*60","v":0},0,"-",{"$f":"SUBSTITUTE(IN!F2980,\",\",\".\")","v":""}]
[0,{"$error":"#VALUE!"},{"$error":"#VALUE!"},{"$f":"SUBSTITUTE(IN!G2981,\"-\",\"\")","v":""},"",{"$f":"IN!F2981*60","v":0},0,"-",{"$f":"SUBSTITUTE(IN!F2981,\",\",\".\")","v":""}]
[0,{"$error":"#VALUE!"},{"$error":"#VALUE!"},{"$f":"SUBSTITUTE(IN!G2982,\"-\",\"\")","v":""},"",{"$f":"IN!F2982*60","v":0},0,"-",{"$f":"SUBSTITUTE(IN!F2982,\",\",\".\")","v":""}]
[0,{"$error":"#VALUE!"},{"$error":"#VALUE!"},{"$f":"SUBSTITUTE(IN!G2983,\"-\",\"\")","v":""},"",{"$f":"IN!F2983*60","v":0},0,"-",{"$f":"SUBSTITUTE(IN!F2983,\",\",\".\")","v":""}]
[0,{"$error":"#VALUE!"},{"$error":"#VALUE!"},{"$f":"SUBSTITUTE(IN!G2984,\"-\",\"\")","v":""},"",{"$f":"IN!F2984*60","v":0},0,"-",{"$f":"SUBSTITUTE(IN!F2984,\",\",\".\")","v":""}]
[0,{"$error":"#VALUE!"},{"$error":"#VALUE!"},{"$f":"SUBSTITUTE(IN!G2985,\"-\",\"\")","v":""},"",{"$f":"IN!F2985*60","v":0},0,"-",{"$f":"SUBSTITUTE(IN!F2985,\",\",\".\")","v":""}]
[0,{"$error":"#VALUE!"},{"$error":"#VALUE!"},{"$f":"SUBSTITUTE(IN!G2986,\"-\",\"\")","v":""},"",{"$f":"IN!F2986*60","v":0},0,"-",{"$f":"SUBSTITUTE(IN!F2986,\",\",\".\")","v":""}]
[0,{"$error":"#VALUE!"},{"$error":"#VALUE!"},{"$f":"SUBSTITUTE(IN!G2987,\"-\",\"\")","v":""},"",{"$f":"IN!F2987*60","v":0},0,"-",{"$f":"SUBSTITUTE(IN!F2987,\",\",\".\")","v":""}]
[0,{"$error":"#VALUE!"},{"$error":"#VALUE!"},{"$f":"SUBSTITUTE(IN!G2988,\"-\",\"\")","v":""},"",{"$f":"IN!F2988*60","v":0},0,"-",{"$f":"SUBSTITUTE(IN!F2988,\",\",\".\")","v":""}]
[0,{"$error":"#VALUE!"},{"$error":"#VALUE!"},{"$f":"SUBSTITUTE(IN!G2989,\"-\",\"\")","v":""},"",{"$f":"IN!F2989*60","v":0},0,"-",{"$f":"SUBSTITUTE(IN!F2989,\",\",\".\")","v":""}]
[0,{"$error":"#VALUE!"},{"$error":"#VALUE!"},{"$f":"SUBSTITUTE(IN!G2990,\"-\",\"\")","v":""},"",{"$f":"IN!F2990*60","v":0},0,"-",{"$f":"SUBSTITUTE(IN!F2990,\",\",\".\")","v":""}]
[0,{"$error":"#VALUE!"},{"$error":"#VALUE!"},{"$f":"SUBSTITUTE(IN!G2991,\"-\",\"\")","v":""},"",{"$f":"IN!F2991*60","v":0},0,"-",{"$f":"SUBSTITUTE(IN!F2991,\",\",\".\")","v":""}]
[0,{"$error":"#VALUE!"},{"$error":"#VALUE!"},{"$f":"SUBSTITUTE(IN!G2992,\"-\",\"\")","v":""},"",{"$f":"IN!F2992*60","v":0},0,"-",{"$f":"SUBSTITUTE(IN!F2992,\",\",\".\")","v":""}]
[0,{"$error":"#VALUE!"},{"$error":"#VALUE!"},{"$f":"SUBSTITUTE(IN!G2993,\"-\",\"\")","v":""},"",{"$f":"IN!F2993*60","v":0},0,"-",{"$f":"SUBSTITUTE(IN!F2993,\",\",\".\")","v":""}]
[0,{"$error":"#VALUE!"},{"$error":"#VALUE!"},{"$f":"SUBSTITUTE(IN!G2994,\"-\",\"\")","v":""},"",{"$f":"IN!F2994*60","v":0},0,"-",{"$f":"SUBSTITUTE(IN!F2994,\",\",\".\")","v":""}]
[0,{"$error":"#VALUE!"},{"$error":"#VALUE!"},{"$f":"SUBSTITUTE(IN!G2995,\"-\",\"\")","v":""},"",{"$f":"IN!F2995*60","v":0},0,"-",{"$f":"SUBSTITUTE(IN!F2995,\",\",\".\")","v":""}]
[0,{"$error":"#VALUE!"},{"$error":"#VALUE!"},{"$f":"SUBSTITUTE(IN!G2996,\"-\",\"\")","v":""},"",{"$f":"IN!F2996*60","v":0},0,"-",{"$f":"SUBSTITUTE(IN!F2996,\",\",\".\")","v":""}]
[0,{"$error":"#VALUE!"},{"$error":"#VALUE!"},{"$f":"SUBSTITUTE(IN!G2997,\"-\",\"\")","v":""},"",{"$f":"IN!F2997*60","v":0},0,"-",{"$f":"SUBSTITUTE(IN!F2997,\",\",\".\")","v":""}]
[0,{"$error":"#VALUE!"},{"$error":"#VALUE!"},{"$f":"SUBSTITUTE(IN!G2998,\"-\",\"\")","v":""},"",{"$f":"IN!F2998*60","v":0},0,"-",{"$f":"SUBSTITUTE(IN!F2998,\",\",\".\")","v":""}]
[0,{"$error":"#VALUE!"},{"$error":"#VALUE!"},{"$f":"SUBSTITUTE(IN!G2999,\"-\",\"\")","v":""},"",{"$f":"IN!F2999*60","v":0},0,"-",{"$f":"SUBSTITUTE(IN!F2999,\",\",\".\")","v":""}]
[0,{"$error":"#VALUE!"},{"$error":"#VALUE!"},{"$f":"SUBSTITUTE(IN!G3000,\"-\",\"\")","v":""},"",{"$f":"IN!F3000*60","v":0},0,"-",{"$f":"SUBSTITUTE(IN!F3000,\",\",\".\")","v":""}]
[0,{"$error":"#VALUE!"},{"$error":"#VALUE!"},{"$f":"SUBSTITUTE(IN!G3001,\"-\",\"\")","v":""},"",{"$f":"IN!F3001*60","v":0},0,"-",{"$f":"SUBSTITUTE(IN!F3001,\",\",\".\")","v":""}]
[0,{"$error":"#VALUE!"},{"$error":"#VALUE!"},{"$f":"SUBSTITUTE(IN!G3002,\"-\",\"\")","v":""},"",{"$f":"IN!F3002*60","v":0},0,"-",{"$f":"SUBSTITUTE(IN!F3002,\",\",\".\")","v":""}]
[0,{"$error":"#VALUE!"},{"$error":"#VALUE!"},{"$f":"SUBSTITUTE(IN!G3003,\"-\",\"\")","v":""},"",{"$f":"IN!F3003*60","v":0},0,"-",{"$f":"SUBSTITUTE(IN!F3003,\",\",\".\")","v":""}]

{"sheet":"UT","index":4,"n_rows":3000,"n_cols":1,"rows_kept":3000,"cut":false,"hidden":false,"merged":[]}
[{"$f":"IF(AND(Blad1!C4<>0,Blad1!D4>0),CONCATENATE(Enhet!$B$1,\";\",Blad3!H4,\";\",Blad3!I4),\"\")","v":""}]
[{"$f":"IF(AND(Blad1!C5<>0,Blad1!D5>0),CONCATENATE(Enhet!$B$1,\";\",Blad3!H5,\";\",Blad3!I5),\"\")","v":""}]
[{"$f":"IF(AND(Blad1!C6<>0,Blad1!D6>0),CONCATENATE(Enhet!$B$1,\";\",Blad3!H6,\";\",Blad3!I6),\"\")","v":""}]
[{"$f":"IF(AND(Blad1!C7<>0,Blad1!D7>0),CONCATENATE(Enhet!$B$1,\";\",Blad3!H7,\";\",Blad3!I7),\"\")","v":""}]
[{"$f":"IF(AND(Blad1!C8<>0,Blad1!D8>0),CONCATENATE(Enhet!$B$1,\";\",Blad3!H8,\";\",Blad3!I8),\"\")","v":""}]
[{"$f":"IF(AND(Blad1!C9<>0,Blad1!D9>0),CONCATENATE(Enhet!$B$1,\";\",Blad3!H9,\";\",Blad3!I9),\"\")","v":""}]
[{"$f":"IF(AND(Blad1!C10<>0,Blad1!D10>0),CONCATENATE(Enhet!$B$1,\";\",Blad3!H10,\";\",Blad3!I10),\"\")","v":""}]
[{"$f":"IF(AND(Blad1!C11<>0,Blad1!D11>0),CONCATENATE(Enhet!$B$1,\";\",Blad3!H11,\";\",Blad3!I11),\"\")","v":""}]
[{"$f":"IF(AND(Blad1!C12<>0,Blad1!D12>0),CONCATENATE(Enhet!$B$1,\";\",Blad3!H12,\";\",Blad3!I12),\"\")","v":""}]
[{"$f":"IF(AND(Blad1!C13<>0,Blad1!D13>0),CONCATENATE(Enhet!$B$1,\";\",Blad3!H13,\";\",Blad3!I13),\"\")","v":""}]
[{"$f":"IF(AND(Blad1!C14<>0,Blad1!D14>0),CONCATENATE(Enhet!$B$1,\";\",Blad3!H14,\";\",Blad3!I14),\"\")","v":""}]
[{"$f":"IF(AND(Blad1!C15<>0,Blad1!D15>0),CONCATENATE(Enhet!$B$1,\";\",Blad3!H15,\";\",Blad3!I15),\"\")","v":""}]
[{"$f":"IF(AND(Blad1!C16<>0,Blad1!D16>0),CONCATENATE(Enhet!$B$1,\";\",Blad3!H16,\";\",Blad3!I16),\"\")","v":""}]
[{"$f":"IF(AND(Blad1!C17<>0,Blad1!D17>0),CONCATENATE(Enhet!$B$1,\";\",Blad3!H17,\";\",Blad3!I17),\"\")","v":""}]
[{"$f":"IF(AND(Blad1!C18<>0,Blad1!D18>0),CONCATENATE(Enhet!$B$1,\";\",Blad3!H18,\";\",Blad3!I18),\"\")","v":""}]
[{"$f":"IF(AND(Blad1!C19<>0,Blad1!D19>0),CONCATENATE(Enhet!$B$1,\";\",Blad3!H19,\";\",Blad3!I19),\"\")","v":""}]
[{"$f":"IF(AND(Blad1!C20<>0,Blad1!D20>0),CONCATENATE(Enhet!$B$1,\";\",Blad3!H20,\";\",Blad3!I20),\"\")","v":""}]
[{"$f":"IF(AND(Blad1!C21<>0,Blad1!D21>0),CONCATENATE(Enhet!$B$1,\";\",Blad3!H21,\";\",Blad3!I21),\"\")","v":""}]
[{"$f":"IF(AND(Blad1!C22<>0,Blad1!D22>0),CONCATENATE(Enhet!$B$1,\";\",Blad3!H22,\";\",Blad3!I22),\"\")","v":""}]
[{"$f":"IF(AND(Blad1!C23<>0,Blad1!D23>0),CONCATENATE(Enhet!$B$1,\";\",Blad3!H23,\";\",Blad3!I23),\"\")","v":""}]
[{"$f":"IF(AND(Blad1!C24<>0,Blad1!D24>0),CONCATENATE(Enhet!$B$1,\";\",Blad3!H24,\";\",Blad3!I24),\"\")","v":""}]
[{"$f":"IF(AND(Blad1!C25<>0,Blad1!D25>0),CONCATENATE(Enhet!$B$1,\";\",Blad3!H25,\";\",Blad3!I25),\"\")","v":""}]
[{"$f":"IF(AND(Blad1!C26<>0,Blad1!D26>0),CONCATENATE(Enhet!$B$1,\";\",Blad3!H26,\";\",Blad3!I26),\"\")","v":""}]
[{"$f":"IF(AND(Blad1!C27<>0,Blad1!D27>0),CONCATENATE(Enhet!$B$1,\";\",Blad3!H27,\";\",Blad3!I27),\"\")","v":""}]
[{"$f":"IF(AND(Blad1!C28<>0,Blad1!D28>0),CONCATENATE(Enhet!$B$1,\";\",Blad3!H28,\";\",Blad3!I28),\"\")","v":""}]
[{"$f":"IF(AND(Blad1!C29<>0,Blad1!D29>0),CONCATENATE(Enhet!$B$1,\";\",Blad3!H29,\";\",Blad3!I29),\"\")","v":""}]
[{"$f":"IF(AND(Blad1!C30<>0,Blad1!D30>0),CONCATENATE(Enhet!$B$1,\";\",Blad3!H30,\";\",Blad3!I30),\"\")","v":""}]
[{"$f":"IF(AND(Blad1!C31<>0,Blad1!D31>0),CONCATENATE(Enhet!$B$1,\";\",Blad3!H31,\";\",Blad3!I31),\"\")","v":""}]
[{"$f":"IF(AND(Blad1!C32<>0,Blad1!D32>0),CONCATENATE(Enhet!$B$1,\";\",Blad3!H32,\";\",Blad3!I32),\"\")","v":""}]
[{"$f":"IF(AND(Blad1!C33<>0,Blad1!D33>0),CONCATENATE(Enhet!$B$1,\";\",Blad3!H33,\";\",Blad3!I33),\"\")","v":""}]
[{"$f":"IF(AND(Blad1!C34<>0,Blad1!D34>0),CONCATENATE(Enhet!$B$1,\";\",Blad3!H34,\";\",Blad3!I34),\"\")","v":""}]
[{"$f":"IF(AND(Blad1!C35<>0,Blad1!D35>0),CONCATENATE(Enhet!$B$1,\";\",Blad3!H35,\";\",Blad3!I35),\"\")","v":""}]
[{"$f":"IF(AND(Blad1!C36<>0,Blad1!D36>0),CONCATENATE(Enhet!$B$1,\";\",Blad3!H36,\";\",Blad3!I36),\"\")","v":""}]
[{"$f":"IF(AND(Blad1!C37<>0,Blad1!D37>0),CONCATENATE(Enhet!$B$1,\";\",Blad3!H37,\";\",Blad3!I37),\"\")","v":""}]
[{"$f":"IF(AND(Blad1!C38<>0,Blad1!D38>0),CONCATENATE(Enhet!$B$1,\";\",Blad3!H38,\";\",Blad3!I38),\"\")","v":""}]
[{"$f":"IF(AND(Blad1!C39<>0,Blad1!D39>0),CONCATENATE(Enhet!$B$1,\";\",Blad3!H39,\";\",Blad3!I39),\"\")","v":""}]
[{"$f":"IF(AND(Blad1!C40<>0,Blad1!D40>0),CONCATENATE(Enhet!$B$1,\";\",Blad3!H40,\";\",Blad3!I40),\"\")","v":""}]
[{"$f":"IF(AND(Blad1!C41<>0,Blad1!D41>0),CONCATENATE(Enhet!$B$1,\";\",Blad3!H41,\";\",Blad3!I41),\"\")","v":""}]
[{"$f":"IF(AND(Blad1!C42<>0,Blad1!D42>0),CONCATENATE(Enhet!$B$1,\";\",Blad3!H42,\";\",Blad3!I42),\"\")","v":""}]
[{"$f":"IF(AND(Blad1!C43<>0,Blad1!D43>0),CONCATENATE(Enhet!$B$1,\";\",Blad3!H43,\";\",Blad3!I43),\"\")","v":""}]
[{"$f":"IF(AND(Blad1!C44<>0,Blad1!D44>0),CONCATENATE(Enhet!$B$1,\";\",Blad3!H44,\";\",Blad3!I44),\"\")","v":""}]
[{"$f":"IF(AND(Blad1!C45<>0,Blad1!D45>0),CONCATENATE(Enhet!$B$1,\";\",Blad3!H45,\";\",Blad3!I45),\"\")","v":""}]
[{"$f":"IF(AND(Blad1!C46<>0,Blad1!D46>0),CONCATENATE(Enhet!$B$1,\";\",Blad3!H46,\";\",Blad3!I46),\"\")","v":""}]
[{"$f":"IF(AND(Blad1!C47<>0,Blad1!D47>0),CONCATENATE(Enhet!$B$1,\";\",Blad3!H47,\";\",Blad3!I47),\"\")","v":""}]
[{"$f":"IF(AND(Blad1!C48<>0,Blad1!D48>0),CONCATENATE(Enhet!$B$1,\";\",Blad3!H48,\";\",Blad3!I48),\"\")","v":""}]
[{"$f":"IF(AND(Blad1!C49<>0,Blad1!D49>0),CONCATENATE(Enhet!$B$1,\";\",Blad3!H49,\";\",Blad3!I49),\"\")","v":""}]
[{"$f":"IF(AND(Blad1!C50<>0,Blad1!D50>0),CONCATENATE(Enhet!$B$1,\";\",Blad3!H50,\";\",Blad3!I50),\"\")","v":""}]
[{"$f":"IF(AND(Blad1!C51<>0,Blad1!D51>0),CONCATENATE(Enhet!$B$1,\";\",Blad3!H51,\";\",Blad3!I51),\"\")","v":""}]
[{"$f":"IF(AND(Blad1!C52<>0,Blad1!D52>0),CONCATENATE(Enhet!$B$1,\";\",Blad3!H52,\";\",Blad3!I52),\"\")","v":""}]
[{"$f":"IF(AND(Blad1!C53<>0,Blad1!D53>0),CONCATENATE(Enhet!$B$1,\";\",Blad3!H53,\";\",Blad3!I53),\"\")","v":""}]
[{"$f":"IF(AND(Blad1!C54<>0,Blad1!D54>0),CONCATENATE(Enhet!$B$1,\";\",Blad3!H54,\";\",Blad3!I54),\"\")","v":""}]
[{"$f":"IF(AND(Blad1!C55<>0,Blad1!D55>0),CONCATENATE(Enhet!$B$1,\";\",Blad3!H55,\";\",Blad3!I55),\"\")","v":""}]
[{"$f":"IF(AND(Blad1!C56<>0,Blad1!D56>0),CONCATENATE(Enhet!$B$1,\";\",Blad3!H56,\";\",Blad3!I56),\"\")","v":""}]
[{"$f":"IF(AND(Blad1!C57<>0,Blad1!D57>0),CONCATENATE(Enhet!$B$1,\";\",Blad3!H57,\";\",Blad3!I57),\"\")","v":""}]
[{"$f":"IF(AND(Blad1!C58<>0,Blad1!D58>0),CONCATENATE(Enhet!$B$1,\";\",Blad3!H58,\";\",Blad3!I58),\"\")","v":""}]
[{"$f":"IF(AND(Blad1!C59<>0,Blad1!D59>0),CONCATENATE(Enhet!$B$1,\";\",Blad3!H59,\";\",Blad3!I59),\"\")","v":""}]
[{"$f":"IF(AND(Blad1!C60<>0,Blad1!D60>0),CONCATENATE(Enhet!$B$1,\";\",Blad3!H60,\";\",Blad3!I60),\"\")","v":""}]
[{"$f":"IF(AND(Blad1!C61<>0,Blad1!D61>0),CONCATENATE(Enhet!$B$1,\";\",Blad3!H61,\";\",Blad3!I61),\"\")","v":""}]
[{"$f":"IF(AND(Blad1!C62<>0,Blad1!D62>0),CONCATENATE(Enhet!$B$1,\";\",Blad3!H62,\";\",Blad3!I62),\"\")","v":""}]
[{"$f":"IF(AND(Blad1!C63<>0,Blad1!D63>0),CONCATENATE(Enhet!$B$1,\";\",Blad3!H63,\";\",Blad3!I63),\"\")","v":""}]
[{"$f":"IF(AND(Blad1!C64<>0,Blad1!D64>0),CONCATENATE(Enhet!$B$1,\";\",Blad3!H64,\";\",Blad3!I64),\"\")","v":""}]
[{"$f":"IF(AND(Blad1!C65<>0,Blad1!D65>0),CONCATENATE(Enhet!$B$1,\";\",Blad3!H65,\";\",Blad3!I65),\"\")","v":""}]
[{"$f":"IF(AND(Blad1!C66<>0,Blad1!D66>0),CONCATENATE(Enhet!$B$1,\";\",Blad3!H66,\";\",Blad3!I66),\"\")","v":""}]
[{"$f":"IF(AND(Blad1!C67<>0,Blad1!D67>0),CONCATENATE(Enhet!$B$1,\";\",Blad3!H67,\";\",Blad3!I67),\"\")","v":""}]
[{"$f":"IF(AND(Blad1!C68<>0,Blad1!D68>0),CONCATENATE(Enhet!$B$1,\";\",Blad3!H68,\";\",Blad3!I68),\"\")","v":""}]
[{"$f":"IF(AND(Blad1!C69<>0,Blad1!D69>0),CONCATENATE(Enhet!$B$1,\";\",Blad3!H69,\";\",Blad3!I69),\"\")","v":""}]
[{"$f":"IF(AND(Blad1!C70<>0,Blad1!D70>0),CONCATENATE(Enhet!$B$1,\";\",Blad3!H70,\";\",Blad3!I70),\"\")","v":""}]
[{"$f":"IF(AND(Blad1!C71<>0,Blad1!D71>0),CONCATENATE(Enhet!$B$1,\";\",Blad3!H71,\";\",Blad3!I71),\"\")","v":""}]
[{"$f":"IF(AND(Blad1!C72<>0,Blad1!D72>0),CONCATENATE(Enhet!$B$1,\";\",Blad3!H72,\";\",Blad3!I72),\"\")","v":""}]
[{"$f":"IF(AND(Blad1!C73<>0,Blad1!D73>0),CONCATENATE(Enhet!$B$1,\";\",Blad3!H73,\";\",Blad3!I73),\"\")","v":""}]
[{"$f":"IF(AND(Blad1!C74<>0,Blad1!D74>0),CONCATENATE(Enhet!$B$1,\";\",Blad3!H74,\";\",Blad3!I74),\"\")","v":""}]
[{"$f":"IF(AND(Blad1!C75<>0,Blad1!D75>0),CONCATENATE(Enhet!$B$1,\";\",Blad3!H75,\";\",Blad3!I75),\"\")","v":""}]
[{"$f":"IF(AND(Blad1!C76<>0,Blad1!D76>0),CONCATENATE(Enhet!$B$1,\";\",Blad3!H76,\";\",Blad3!I76),\"\")","v":""}]
[{"$f":"IF(AND(Blad1!C77<>0,Blad1!D77>0),CONCATENATE(Enhet!$B$1,\";\",Blad3!H77,\";\",Blad3!I77),\"\")","v":""}]
[{"$f":"IF(AND(Blad1!C78<>0,Blad1!D78>0),CONCATENATE(Enhet!$B$1,\";\",Blad3!H78,\";\",Blad3!I78),\"\")","v":""}]
[{"$f":"IF(AND(Blad1!C79<>0,Blad1!D79>0),CONCATENATE(Enhet!$B$1,\";\",Blad3!H79,\";\",Blad3!I79),\"\")","v":""}]
[{"$f":"IF(AND(Blad1!C80<>0,Blad1!D80>0),CONCATENATE(Enhet!$B$1,\";\",Blad3!H80,\";\",Blad3!I80),\"\")","v":""}]
[{"$f":"IF(AND(Blad1!C81<>0,Blad1!D81>0),CONCATENATE(Enhet!$B$1,\";\",Blad3!H81,\";\",Blad3!I81),\"\")","v":""}]
[{"$f":"IF(AND(Blad1!C82<>0,Blad1!D82>0),CONCATENATE(Enhet!$B$1,\";\",Blad3!H82,\";\",Blad3!I82),\"\")","v":""}]
[{"$f":"IF(AND(Blad1!C83<>0,Blad1!D83>0),CONCATENATE(Enhet!$B$1,\";\",Blad3!H83,\";\",Blad3!I83),\"\")","v":""}]
[{"$f":"IF(AND(Blad1!C84<>0,Blad1!D84>0),CONCATENATE(Enhet!$B$1,\";\",Blad3!H84,\";\",Blad3!I84),\"\")","v":""}]
[{"$f":"IF(AND(Blad1!C85<>0,Blad1!D85>0),CONCATENATE(Enhet!$B$1,\";\",Blad3!H85,\";\",Blad3!I85),\"\")","v":""}]
[{"$f":"IF(AND(Blad1!C86<>0,Blad1!D86>0),CONCATENATE(Enhet!$B$1,\";\",Blad3!H86,\";\",Blad3!I86),\"\")","v":""}]
[{"$f":"IF(AND(Blad1!C87<>0,Blad1!D87>0),CONCATENATE(Enhet!$B$1,\";\",Blad3!H87,\";\",Blad3!I87),\"\")","v":""}]
[{"$f":"IF(AND(Blad1!C88<>0,Blad1!D88>0),CONCATENATE(Enhet!$B$1,\";\",Blad3!H88,\";\",Blad3!I88),\"\")","v":""}]
[{"$f":"IF(AND(Blad1!C89<>0,Blad1!D89>0),CONCATENATE(Enhet!$B$1,\";\",Blad3!H89,\";\",Blad3!I89),\"\")","v":""}]
[{"$f":"IF(AND(Blad1!C90<>0,Blad1!D90>0),CONCATENATE(Enhet!$B$1,\";\",Blad3!H90,\";\",Blad3!I90),\"\")","v":""}]
[{"$f":"IF(AND(Blad1!C91<>0,Blad1!D91>0),CONCATENATE(Enhet!$B$1,\";\",Blad3!H91,\";\",Blad3!I91),\"\")","v":""}]
[{"$f":"IF(AND(Blad1!C92<>0,Blad1!D92>0),CONCATENATE(Enhet!$B$1,\";\",Blad3!H92,\";\",Blad3!I92),\"\")","v":""}]
[{"$f":"IF(AND(Blad1!C93<>0,Blad1!D93>0),CONCATENATE(Enhet!$B$1,\";\",Blad3!H93,\";\",Blad3!I93),\"\")","v":""}]
[{"$f":"IF(AND(Blad1!C94<>0,Blad1!D94>0),CONCATENATE(Enhet!$B$1,\";\",Blad3!H94,\";\",Blad3!I94),\"\")","v":""}]
[{"$f":"IF(AND(Blad1!C95<>0,Blad1!D95>0),CONCATENATE(Enhet!$B$1,\";\",Blad3!H95,\";\",Blad3!I95),\"\")","v":""}]
[{"$f":"IF(AND(Blad1!C96<>0,Blad1!D96>0),CONCATENATE(Enhet!$B$1,\";\",Blad3!H96,\";\",Blad3!I96),\"\")","v":""}]
[{"$f":"IF(AND(Blad1!C97<>0,Blad1!D97>0),CONCATENATE(Enhet!$B$1,\";\",Blad3!H97,\";\",Blad3!I97),\"\")","v":""}]
[{"$f":"IF(AND(Blad1!C98<>0,Blad1!D98>0),CONCATENATE(Enhet!$B$1,\";\",Blad3!H98,\";\",Blad3!I98),\"\")","v":""}]
[{"$f":"IF(AND(Blad1!C99<>0,Blad1!D99>0),CONCATENATE(Enhet!$B$1,\";\",Blad3!H99,\";\",Blad3!I99),\"\")","v":""}]
[{"$f":"IF(AND(Blad1!C100<>0,Blad1!D100>0),CONCATENATE(Enhet!$B$1,\";\",Blad3!H100,\";\",Blad3!I100),\"\")","v":""}]
[{"$f":"IF(AND(Blad1!C101<>0,Blad1!D101>0),CONCATENATE(Enhet!$B$1,\";\",Blad3!H101,\";\",Blad3!I101),\"\")","v":""}]
[{"$f":"IF(AND(Blad1!C102<>0,Blad1!D102>0),CONCATENATE(Enhet!$B$1,\";\",Blad3!H102,\";\",Blad3!I102),\"\")","v":""}]
[{"$f":"IF(AND(Blad1!C103<>0,Blad1!D103>0),CONCATENATE(Enhet!$B$1,\";\",Blad3!H103,\";\",Blad3!I103),\"\")","v":""}]
[{"$f":"IF(AND(Blad1!C104<>0,Blad1!D104>0),CONCATENATE(Enhet!$B$1,\";\",Blad3!H104,\";\",Blad3!I104),\"\")","v":""}]
[{"$f":"IF(AND(Blad1!C105<>0,Blad1!D105>0),CONCATENATE(Enhet!$B$1,\";\",Blad3!H105,\";\",Blad3!I105),\"\")","v":""}]
[{"$f":"IF(AND(Blad1!C106<>0,Blad1!D106>0),CONCATENATE(Enhet!$B$1,\";\",Blad3!H106,\";\",Blad3!I106),\"\")","v":""}]
[{"$f":"IF(AND(Blad1!C107<>0,Blad1!D107>0),CONCATENATE(Enhet!$B$1,\";\",Blad3!H107,\";\",Blad3!I107),\"\")","v":""}]
[{"$f":"IF(AND(Blad1!C108<>0,Blad1!D108>0),CONCATENATE(Enhet!$B$1,\";\",Blad3!H108,\";\",Blad3!I108),\"\")","v":""}]
[{"$f":"IF(AND(Blad1!C109<>0,Blad1!D109>0),CONCATENATE(Enhet!$B$1,\";\",Blad3!H109,\";\",Blad3!I109),\"\")","v":""}]
[{"$f":"IF(AND(Blad1!C110<>0,Blad1!D110>0),CONCATENATE(Enhet!$B$1,\";\",Blad3!H110,\";\",Blad3!I110),\"\")","v":""}]
[{"$f":"IF(AND(Blad1!C111<>0,Blad1!D111>0),CONCATENATE(Enhet!$B$1,\";\",Blad3!H111,\";\",Blad3!I111),\"\")","v":""}]
[{"$f":"IF(AND(Blad1!C112<>0,Blad1!D112>0),CONCATENATE(Enhet!$B$1,\";\",Blad3!H112,\";\",Blad3!I112),\"\")","v":""}]
[{"$f":"IF(AND(Blad1!C113<>0,Blad1!D113>0),CONCATENATE(Enhet!$B$1,\";\",Blad3!H113,\";\",Blad3!I113),\"\")","v":""}]
[{"$f":"IF(AND(Blad1!C114<>0,Blad1!D114>0),CONCATENATE(Enhet!$B$1,\";\",Blad3!H114,\";\",Blad3!I114),\"\")","v":""}]
[{"$f":"IF(AND(Blad1!C115<>0,Blad1!D115>0),CONCATENATE(Enhet!$B$1,\";\",Blad3!H115,\";\",Blad3!I115),\"\")","v":""}]
[{"$f":"IF(AND(Blad1!C116<>0,Blad1!D116>0),CONCATENATE(Enhet!$B$1,\";\",Blad3!H116,\";\",Blad3!I116),\"\")","v":""}]
[{"$f":"IF(AND(Blad1!C117<>0,Blad1!D117>0),CONCATENATE(Enhet!$B$1,\";\",Blad3!H117,\";\",Blad3!I117),\"\")","v":""}]
[{"$f":"IF(AND(Blad1!C118<>0,Blad1!D118>0),CONCATENATE(Enhet!$B$1,\";\",Blad3!H118,\";\",Blad3!I118),\"\")","v":""}]
[{"$f":"IF(AND(Blad1!C119<>0,Blad1!D119>0),CONCATENATE(Enhet!$B$1,\";\",Blad3!H119,\";\",Blad3!I119),\"\")","v":""}]
[{"$f":"IF(AND(Blad1!C120<>0,Blad1!D120>0),CONCATENATE(Enhet!$B$1,\";\",Blad3!H120,\";\",Blad3!I120),\"\")","v":""}]
[{"$f":"IF(AND(Blad1!C121<>0,Blad1!D121>0),CONCATENATE(Enhet!$B$1,\";\",Blad3!H121,\";\",Blad3!I121),\"\")","v":""}]
[{"$f":"IF(AND(Blad1!C122<>0,Blad1!D122>0),CONCATENATE(Enhet!$B$1,\";\",Blad3!H122,\";\",Blad3!I122),\"\")","v":""}]
[{"$f":"IF(AND(Blad1!C123<>0,Blad1!D123>0),CONCATENATE(Enhet!$B$1,\";\",Blad3!H123,\";\",Blad3!I123),\"\")","v":""}]
[{"$f":"IF(AND(Blad1!C124<>0,Blad1!D124>0),CONCATENATE(Enhet!$B$1,\";\",Blad3!H124,\";\",Blad3!I124),\"\")","v":""}]
[{"$f":"IF(AND(Blad1!C125<>0,Blad1!D125>0),CONCATENATE(Enhet!$B$1,\";\",Blad3!H125,\";\",Blad3!I125),\"\")","v":""}]
[{"$f":"IF(AND(Blad1!C126<>0,Blad1!D126>0),CONCATENATE(Enhet!$B$1,\";\",Blad3!H126,\";\",Blad3!I126),\"\")","v":""}]
[{"$f":"IF(AND(Blad1!C127<>0,Blad1!D127>0),CONCATENATE(Enhet!$B$1,\";\",Blad3!H127,\";\",Blad3!I127),\"\")","v":""}]
[{"$f":"IF(AND(Blad1!C128<>0,Blad1!D128>0),CONCATENATE(Enhet!$B$1,\";\",Blad3!H128,\";\",Blad3!I128),\"\")","v":""}]
[{"$f":"IF(AND(Blad1!C129<>0,Blad1!D129>0),CONCATENATE(Enhet!$B$1,\";\",Blad3!H129,\";\",Blad3!I129),\"\")","v":""}]
[{"$f":"IF(AND(Blad1!C130<>0,Blad1!D130>0),CONCATENATE(Enhet!$B$1,\";\",Blad3!H130,\";\",Blad3!I130),\"\")","v":""}]
[{"$f":"IF(AND(Blad1!C131<>0,Blad1!D131>0),CONCATENATE(Enhet!$B$1,\";\",Blad3!H131,\";\",Blad3!I131),\"\")","v":""}]
[{"$f":"IF(AND(Blad1!C132<>0,Blad1!D132>0),CONCATENATE(Enhet!$B$1,\";\",Blad3!H132,\";\",Blad3!I132),\"\")","v":""}]
[{"$f":"IF(AND(Blad1!C133<>0,Blad1!D133>0),CONCATENATE(Enhet!$B$1,\";\",Blad3!H133,\";\",Blad3!I133),\"\")","v":""}]
[{"$f":"IF(AND(Blad1!C134<>0,Blad1!D134>0),CONCATENATE(Enhet!$B$1,\";\",Blad3!H134,\";\",Blad3!I134),\"\")","v":""}]
[{"$f":"IF(AND(Blad1!C135<>0,Blad1!D135>0),CONCATENATE(Enhet!$B$1,\";\",Blad3!H135,\";\",Blad3!I135),\"\")","v":""}]
[{"$f":"IF(AND(Blad1!C136<>0,Blad1!D136>0),CONCATENATE(Enhet!$B$1,\";\",Blad3!H136,\";\",Blad3!I136),\"\")","v":""}]
[{"$f":"IF(AND(Blad1!C137<>0,Blad1!D137>0),CONCATENATE(Enhet!$B$1,\";\",Blad3!H137,\";\",Blad3!I137),\"\")","v":""}]
[{"$f":"IF(AND(Blad1!C138<>0,Blad1!D138>0),CONCATENATE(Enhet!$B$1,\";\",Blad3!H138,\";\",Blad3!I138),\"\")","v":""}]
[{"$f":"IF(AND(Blad1!C139<>0,Blad1!D139>0),CONCATENATE(Enhet!$B$1,\";\",Blad3!H139,\";\",Blad3!I139),\"\")","v":""}]
[{"$f":"IF(AND(Blad1!C140<>0,Blad1!D140>0),CONCATENATE(Enhet!$B$1,\";\",Blad3!H140,\";\",Blad3!I140),\"\")","v":""}]
[{"$f":"IF(AND(Blad1!C141<>0,Blad1!D141>0),CONCATENATE(Enhet!$B$1,\";\",Blad3!H141,\";\",Blad3!I141),\"\")","v":""}]
[{"$f":"IF(AND(Blad1!C142<>0,Blad1!D142>0),CONCATENATE(Enhet!$B$1,\";\",Blad3!H142,\";\",Blad3!I142),\"\")","v":""}]
[{"$f":"IF(AND(Blad1!C143<>0,Blad1!D143>0),CONCATENATE(Enhet!$B$1,\";\",Blad3!H143,\";\",Blad3!I143),\"\")","v":""}]
[{"$f":"IF(AND(Blad1!C144<>0,Blad1!D144>0),CONCATENATE(Enhet!$B$1,\";\",Blad3!H144,\";\",Blad3!I144),\"\")","v":""}]
[{"$f":"IF(AND(Blad1!C145<>0,Blad1!D145>0),CONCATENATE(Enhet!$B$1,\";\",Blad3!H145,\";\",Blad3!I145),\"\")","v":""}]
[{"$f":"IF(AND(Blad1!C146<>0,Blad1!D146>0),CONCATENATE(Enhet!$B$1,\";\",Blad3!H146,\";\",Blad3!I146),\"\")","v":""}]
[{"$f":"IF(AND(Blad1!C147<>0,Blad1!D147>0),CONCATENATE(Enhet!$B$1,\";\",Blad3!H147,\";\",Blad3!I147),\"\")","v":""}]
[{"$f":"IF(AND(Blad1!C148<>0,Blad1!D148>0),CONCATENATE(Enhet!$B$1,\";\",Blad3!H148,\";\",Blad3!I148),\"\")","v":""}]
[{"$f":"IF(AND(Blad1!C149<>0,Blad1!D149>0),CONCATENATE(Enhet!$B$1,\";\",Blad3!H149,\";\",Blad3!I149),\"\")","v":""}]
[{"$f":"IF(AND(Blad1!C150<>0,Blad1!D150>0),CONCATENATE(Enhet!$B$1,\";\",Blad3!H150,\";\",Blad3!I150),\"\")","v":""}]
[{"$f":"IF(AND(Blad1!C151<>0,Blad1!D151>0),CONCATENATE(Enhet!$B$1,\";\",Blad3!H151,\";\",Blad3!I151),\"\")","v":""}]
[{"$f":"IF(AND(Blad1!C152<>0,Blad1!D152>0),CONCATENATE(Enhet!$B$1,\";\",Blad3!H152,\";\",Blad3!I152),\"\")","v":""}]
[{"$f":"IF(AND(Blad1!C153<>0,Blad1!D153>0),CONCATENATE(Enhet!$B$1,\";\",Blad3!H153,\";\",Blad3!I153),\"\")","v":""}]
[{"$f":"IF(AND(Blad1!C154<>0,Blad1!D154>0),CONCATENATE(Enhet!$B$1,\";\",Blad3!H154,\";\",Blad3!I154),\"\")","v":""}]
[{"$f":"IF(AND(Blad1!C155<>0,Blad1!D155>0),CONCATENATE(Enhet!$B$1,\";\",Blad3!H155,\";\",Blad3!I155),\"\")","v":""}]
[{"$f":"IF(AND(Blad1!C156<>0,Blad1!D156>0),CONCATENATE(Enhet!$B$1,\";\",Blad3!H156,\";\",Blad3!I156),\"\")","v":""}]
[{"$f":"IF(AND(Blad1!C157<>0,Blad1!D157>0),CONCATENATE(Enhet!$B$1,\";\",Blad3!H157,\";\",Blad3!I157),\"\")","v":""}]
[{"$f":"IF(AND(Blad1!C158<>0,Blad1!D158>0),CONCATENATE(Enhet!$B$1,\";\",Blad3!H158,\";\",Blad3!I158),\"\")","v":""}]
[{"$f":"IF(AND(Blad1!C159<>0,Blad1!D159>0),CONCATENATE(Enhet!$B$1,\";\",Blad3!H159,\";\",Blad3!I159),\"\")","v":""}]
[{"$f":"IF(AND(Blad1!C160<>0,Blad1!D160>0),CONCATENATE(Enhet!$B$1,\";\",Blad3!H160,\";\",Blad3!I160),\"\")","v":""}]
[{"$f":"IF(AND(Blad1!C161<>0,Blad1!D161>0),CONCATENATE(Enhet!$B$1,\";\",Blad3!H161,\";\",Blad3!I161),\"\")","v":""}]
[{"$f":"IF(AND(Blad1!C162<>0,Blad1!D162>0),CONCATENATE(Enhet!$B$1,\";\",Blad3!H162,\";\",Blad3!I162),\"\")","v":""}]
[{"$f":"IF(AND(Blad1!C163<>0,Blad1!D163>0),CONCATENATE(Enhet!$B$1,\";\",Blad3!H163,\";\",Blad3!I163),\"\")","v":""}]
[{"$f":"IF(AND(Blad1!C164<>0,Blad1!D164>0),CONCATENATE(Enhet!$B$1,\";\",Blad3!H164,\";\",Blad3!I164),\"\")","v":""}]
[{"$f":"IF(AND(Blad1!C165<>0,Blad1!D165>0),CONCATENATE(Enhet!$B$1,\";\",Blad3!H165,\";\",Blad3!I165),\"\")","v":""}]
[{"$f":"IF(AND(Blad1!C166<>0,Blad1!D166>0),CONCATENATE(Enhet!$B$1,\";\",Blad3!H166,\";\",Blad3!I166),\"\")","v":""}]
[{"$f":"IF(AND(Blad1!C167<>0,Blad1!D167>0),CONCATENATE(Enhet!$B$1,\";\",Blad3!H167,\";\",Blad3!I167),\"\")","v":""}]
[{"$f":"IF(AND(Blad1!C168<>0,Blad1!D168>0),CONCATENATE(Enhet!$B$1,\";\",Blad3!H168,\";\",Blad3!I168),\"\")","v":""}]
[{"$f":"IF(AND(Blad1!C169<>0,Blad1!D169>0),CONCATENATE(Enhet!$B$1,\";\",Blad3!H169,\";\",Blad3!I169),\"\")","v":""}]
[{"$f":"IF(AND(Blad1!C170<>0,Blad1!D170>0),CONCATENATE(Enhet!$B$1,\";\",Blad3!H170,\";\",Blad3!I170),\"\")","v":""}]
[{"$f":"IF(AND(Blad1!C171<>0,Blad1!D171>0),CONCATENATE(Enhet!$B$1,\";\",Blad3!H171,\";\",Blad3!I171),\"\")","v":""}]
[{"$f":"IF(AND(Blad1!C172<>0,Blad1!D172>0),CONCATENATE(Enhet!$B$1,\";\",Blad3!H172,\";\",Blad3!I172),\"\")","v":""}]
[{"$f":"IF(AND(Blad1!C173<>0,Blad1!D173>0),CONCATENATE(Enhet!$B$1,\";\",Blad3!H173,\";\",Blad3!I173),\"\")","v":""}]
[{"$f":"IF(AND(Blad1!C174<>0,Blad1!D174>0),CONCATENATE(Enhet!$B$1,\";\",Blad3!H174,\";\",Blad3!I174),\"\")","v":""}]
[{"$f":"IF(AND(Blad1!C175<>0,Blad1!D175>0),CONCATENATE(Enhet!$B$1,\";\",Blad3!H175,\";\",Blad3!I175),\"\")","v":""}]
[{"$f":"IF(AND(Blad1!C176<>0,Blad1!D176>0),CONCATENATE(Enhet!$B$1,\";\",Blad3!H176,\";\",Blad3!I176),\"\")","v":""}]
[{"$f":"IF(AND(Blad1!C177<>0,Blad1!D177>0),CONCATENATE(Enhet!$B$1,\";\",Blad3!H177,\";\",Blad3!I177),\"\")","v":""}]
[{"$f":"IF(AND(Blad1!C178<>0,Blad1!D178>0),CONCATENATE(Enhet!$B$1,\";\",Blad3!H178,\";\",Blad3!I178),\"\")","v":""}]
[{"$f":"IF(AND(Blad1!C179<>0,Blad1!D179>0),CONCATENATE(Enhet!$B$1,\";\",Blad3!H179,\";\",Blad3!I179),\"\")","v":""}]
[{"$f":"IF(AND(Blad1!C180<>0,Blad1!D180>0),CONCATENATE(Enhet!$B$1,\";\",Blad3!H180,\";\",Blad3!I180),\"\")","v":""}]
[{"$f":"IF(AND(Blad1!C181<>0,Blad1!D181>0),CONCATENATE(Enhet!$B$1,\";\",Blad3!H181,\";\",Blad3!I181),\"\")","v":""}]
[{"$f":"IF(AND(Blad1!C182<>0,Blad1!D182>0),CONCATENATE(Enhet!$B$1,\";\",Blad3!H182,\";\",Blad3!I182),\"\")","v":""}]
[{"$f":"IF(AND(Blad1!C183<>0,Blad1!D183>0),CONCATENATE(Enhet!$B$1,\";\",Blad3!H183,\";\",Blad3!I183),\"\")","v":""}]
[{"$f":"IF(AND(Blad1!C184<>0,Blad1!D184>0),CONCATENATE(Enhet!$B$1,\";\",Blad3!H184,\";\",Blad3!I184),\"\")","v":""}]
[{"$f":"IF(AND(Blad1!C185<>0,Blad1!D185>0),CONCATENATE(Enhet!$B$1,\";\",Blad3!H185,\";\",Blad3!I185),\"\")","v":""}]
[{"$f":"IF(AND(Blad1!C186<>0,Blad1!D186>0),CONCATENATE(Enhet!$B$1,\";\",Blad3!H186,\";\",Blad3!I186),\"\")","v":""}]
[{"$f":"IF(AND(Blad1!C187<>0,Blad1!D187>0),CONCATENATE(Enhet!$B$1,\";\",Blad3!H187,\";\",Blad3!I187),\"\")","v":""}]
[{"$f":"IF(AND(Blad1!C188<>0,Blad1!D188>0),CONCATENATE(Enhet!$B$1,\";\",Blad3!H188,\";\",Blad3!I188),\"\")","v":""}]
[{"$f":"IF(AND(Blad1!C189<>0,Blad1!D189>0),CONCATENATE(Enhet!$B$1,\";\",Blad3!H189,\";\",Blad3!I189),\"\")","v":""}]
[{"$f":"IF(AND(Blad1!C190<>0,Blad1!D190>0),CONCATENATE(Enhet!$B$1,\";\",Blad3!H190,\";\",Blad3!I190),\"\")","v":""}]
[{"$f":"IF(AND(Blad1!C191<>0,Blad1!D191>0),CONCATENATE(Enhet!$B$1,\";\",Blad3!H191,\";\",Blad3!I191),\"\")","v":""}]
[{"$f":"IF(AND(Blad1!C192<>0,Blad1!D192>0),CONCATENATE(Enhet!$B$1,\";\",Blad3!H192,\";\",Blad3!I192),\"\")","v":""}]
[{"$f":"IF(AND(Blad1!C193<>0,Blad1!D193>0),CONCATENATE(Enhet!$B$1,\";\",Blad3!H193,\";\",Blad3!I193),\"\")","v":""}]
[{"$f":"IF(AND(Blad1!C194<>0,Blad1!D194>0),CONCATENATE(Enhet!$B$1,\";\",Blad3!H194,\";\",Blad3!I194),\"\")","v":""}]
[{"$f":"IF(AND(Blad1!C195<>0,Blad1!D195>0),CONCATENATE(Enhet!$B$1,\";\",Blad3!H195,\";\",Blad3!I195),\"\")","v":""}]
[{"$f":"IF(AND(Blad1!C196<>0,Blad1!D196>0),CONCATENATE(Enhet!$B$1,\";\",Blad3!H196,\";\",Blad3!I196),\"\")","v":""}]
[{"$f":"IF(AND(Blad1!C197<>0,Blad1!D197>0),CONCATENATE(Enhet!$B$1,\";\",Blad3!H197,\";\",Blad3!I197),\"\")","v":""}]
[{"$f":"IF(AND(Blad1!C198<>0,Blad1!D198>0),CONCATENATE(Enhet!$B$1,\";\",Blad3!H198,\";\",Blad3!I198),\"\")","v":""}]
[{"$f":"IF(AND(Blad1!C199<>0,Blad1!D199>0),CONCATENATE(Enhet!$B$1,\";\",Blad3!H199,\";\",Blad3!I199),\"\")","v":""}]
[{"$f":"IF(AND(Blad1!C200<>0,Blad1!D200>0),CONCATENATE(Enhet!$B$1,\";\",Blad3!H200,\";\",Blad3!I200),\"\")","v":""}]
[{"$f":"IF(AND(Blad1!C201<>0,Blad1!D201>0),CONCATENATE(Enhet!$B$1,\";\",Blad3!H201,\";\",Blad3!I201),\"\")","v":""}]
[{"$f":"IF(AND(Blad1!C202<>0,Blad1!D202>0),CONCATENATE(Enhet!$B$1,\";\",Blad3!H202,\";\",Blad3!I202),\"\")","v":""}]
[{"$f":"IF(AND(Blad1!C203<>0,Blad1!D203>0),CONCATENATE(Enhet!$B$1,\";\",Blad3!H203,\";\",Blad3!I203),\"\")","v":""}]
[{"$f":"IF(AND(Blad1!C204<>0,Blad1!D204>0),CONCATENATE(Enhet!$B$1,\";\",Blad3!H204,\";\",Blad3!I204),\"\")","v":""}]
[{"$f":"IF(AND(Blad1!C205<>0,Blad1!D205>0),CONCATENATE(Enhet!$B$1,\";\",Blad3!H205,\";\",Blad3!I205),\"\")","v":""}]
[{"$f":"IF(AND(Blad1!C206<>0,Blad1!D206>0),CONCATENATE(Enhet!$B$1,\";\",Blad3!H206,\";\",Blad3!I206),\"\")","v":""}]
[{"$f":"IF(AND(Blad1!C207<>0,Blad1!D207>0),CONCATENATE(Enhet!$B$1,\";\",Blad3!H207,\";\",Blad3!I207),\"\")","v":""}]
[{"$f":"IF(AND(Blad1!C208<>0,Blad1!D208>0),CONCATENATE(Enhet!$B$1,\";\",Blad3!H208,\";\",Blad3!I208),\"\")","v":""}]
[{"$f":"IF(AND(Blad1!C209<>0,Blad1!D209>0),CONCATENATE(Enhet!$B$1,\";\",Blad3!H209,\";\",Blad3!I209),\"\")","v":""}]
[{"$f":"IF(AND(Blad1!C210<>0,Blad1!D210>0),CONCATENATE(Enhet!$B$1,\";\",Blad3!H210,\";\",Blad3!I210),\"\")","v":""}]
[{"$f":"IF(AND(Blad1!C211<>0,Blad1!D211>0),CONCATENATE(Enhet!$B$1,\";\",Blad3!H211,\";\",Blad3!I211),\"\")","v":""}]
[{"$f":"IF(AND(Blad1!C212<>0,Blad1!D212>0),CONCATENATE(Enhet!$B$1,\";\",Blad3!H212,\";\",Blad3!I212),\"\")","v":""}]
[{"$f":"IF(AND(Blad1!C213<>0,Blad1!D213>0),CONCATENATE(Enhet!$B$1,\";\",Blad3!H213,\";\",Blad3!I213),\"\")","v":""}]
[{"$f":"IF(AND(Blad1!C214<>0,Blad1!D214>0),CONCATENATE(Enhet!$B$1,\";\",Blad3!H214,\";\",Blad3!I214),\"\")","v":""}]
[{"$f":"IF(AND(Blad1!C215<>0,Blad1!D215>0),CONCATENATE(Enhet!$B$1,\";\",Blad3!H215,\";\",Blad3!I215),\"\")","v":""}]
[{"$f":"IF(AND(Blad1!C216<>0,Blad1!D216>0),CONCATENATE(Enhet!$B$1,\";\",Blad3!H216,\";\",Blad3!I216),\"\")","v":""}]
[{"$f":"IF(AND(Blad1!C217<>0,Blad1!D217>0),CONCATENATE(Enhet!$B$1,\";\",Blad3!H217,\";\",Blad3!I217),\"\")","v":""}]
[{"$f":"IF(AND(Blad1!C218<>0,Blad1!D218>0),CONCATENATE(Enhet!$B$1,\";\",Blad3!H218,\";\",Blad3!I218),\"\")","v":""}]
[{"$f":"IF(AND(Blad1!C219<>0,Blad1!D219>0),CONCATENATE(Enhet!$B$1,\";\",Blad3!H219,\";\",Blad3!I219),\"\")","v":""}]
[{"$f":"IF(AND(Blad1!C220<>0,Blad1!D220>0),CONCATENATE(Enhet!$B$1,\";\",Blad3!H220,\";\",Blad3!I220),\"\")","v":""}]
[{"$f":"IF(AND(Blad1!C221<>0,Blad1!D221>0),CONCATENATE(Enhet!$B$1,\";\",Blad3!H221,\";\",Blad3!I221),\"\")","v":""}]
[{"$f":"IF(AND(Blad1!C222<>0,Blad1!D222>0),CONCATENATE(Enhet!$B$1,\";\",Blad3!H222,\";\",Blad3!I222),\"\")","v":""}]
[{"$f":"IF(AND(Blad1!C223<>0,Blad1!D223>0),CONCATENATE(Enhet!$B$1,\";\",Blad3!H223,\";\",Blad3!I223),\"\")","v":""}]
[{"$f":"IF(AND(Blad1!C224<>0,Blad1!D224>0),CONCATENATE(Enhet!$B$1,\";\",Blad3!H224,\";\",Blad3!I224),\"\")","v":""}]
[{"$f":"IF(AND(Blad1!C225<>0,Blad1!D225>0),CONCATENATE(Enhet!$B$1,\";\",Blad3!H225,\";\",Blad3!I225),\"\")","v":""}]
[{"$f":"IF(AND(Blad1!C226<>0,Blad1!D226>0),CONCATENATE(Enhet!$B$1,\";\",Blad3!H226,\";\",Blad3!I226),\"\")","v":""}]
[{"$f":"IF(AND(Blad1!C227<>0,Blad1!D227>0),CONCATENATE(Enhet!$B$1,\";\",Blad3!H227,\";\",Blad3!I227),\"\")","v":""}]
[{"$f":"IF(AND(Blad1!C228<>0,Blad1!D228>0),CONCATENATE(Enhet!$B$1,\";\",Blad3!H228,\";\",Blad3!I228),\"\")","v":""}]
[{"$f":"IF(AND(Blad1!C229<>0,Blad1!D229>0),CONCATENATE(Enhet!$B$1,\";\",Blad3!H229,\";\",Blad3!I229),\"\")","v":""}]
[{"$f":"IF(AND(Blad1!C230<>0,Blad1!D230>0),CONCATENATE(Enhet!$B$1,\";\",Blad3!H230,\";\",Blad3!I230),\"\")","v":""}]
[{"$f":"IF(AND(Blad1!C231<>0,Blad1!D231>0),CONCATENATE(Enhet!$B$1,\";\",Blad3!H231,\";\",Blad3!I231),\"\")","v":""}]
[{"$f":"IF(AND(Blad1!C232<>0,Blad1!D232>0),CONCATENATE(Enhet!$B$1,\";\",Blad3!H232,\";\",Blad3!I232),\"\")","v":""}]
[{"$f":"IF(AND(Blad1!C233<>0,Blad1!D233>0),CONCATENATE(Enhet!$B$1,\";\",Blad3!H233,\";\",Blad3!I233),\"\")","v":""}]
[{"$f":"IF(AND(Blad1!C234<>0,Blad1!D234>0),CONCATENATE(Enhet!$B$1,\";\",Blad3!H234,\";\",Blad3!I234),\"\")","v":""}]
[{"$f":"IF(AND(Blad1!C235<>0,Blad1!D235>0),CONCATENATE(Enhet!$B$1,\";\",Blad3!H235,\";\",Blad3!I235),\"\")","v":""}]
[{"$f":"IF(AND(Blad1!C236<>0,Blad1!D236>0),CONCATENATE(Enhet!$B$1,\";\",Blad3!H236,\";\",Blad3!I236),\"\")","v":""}]
[{"$f":"IF(AND(Blad1!C237<>0,Blad1!D237>0),CONCATENATE(Enhet!$B$1,\";\",Blad3!H237,\";\",Blad3!I237),\"\")","v":""}]
[{"$f":"IF(AND(Blad1!C238<>0,Blad1!D238>0),CONCATENATE(Enhet!$B$1,\";\",Blad3!H238,\";\",Blad3!I238),\"\")","v":""}]
[{"$f":"IF(AND(Blad1!C239<>0,Blad1!D239>0),CONCATENATE(Enhet!$B$1,\";\",Blad3!H239,\";\",Blad3!I239),\"\")","v":""}]
[{"$f":"IF(AND(Blad1!C240<>0,Blad1!D240>0),CONCATENATE(Enhet!$B$1,\";\",Blad3!H240,\";\",Blad3!I240),\"\")","v":""}]
[{"$f":"IF(AND(Blad1!C241<>0,Blad1!D241>0),CONCATENATE(Enhet!$B$1,\";\",Blad3!H241,\";\",Blad3!I241),\"\")","v":""}]
[{"$f":"IF(AND(Blad1!C242<>0,Blad1!D242>0),CONCATENATE(Enhet!$B$1,\";\",Blad3!H242,\";\",Blad3!I242),\"\")","v":""}]
[{"$f":"IF(AND(Blad1!C243<>0,Blad1!D243>0),CONCATENATE(Enhet!$B$1,\";\",Blad3!H243,\";\",Blad3!I243),\"\")","v":""}]
[{"$f":"IF(AND(Blad1!C244<>0,Blad1!D244>0),CONCATENATE(Enhet!$B$1,\";\",Blad3!H244,\";\",Blad3!I244),\"\")","v":""}]
[{"$f":"IF(AND(Blad1!C245<>0,Blad1!D245>0),CONCATENATE(Enhet!$B$1,\";\",Blad3!H245,\";\",Blad3!I245),\"\")","v":""}]
[{"$f":"IF(AND(Blad1!C246<>0,Blad1!D246>0),CONCATENATE(Enhet!$B$1,\";\",Blad3!H246,\";\",Blad3!I246),\"\")","v":""}]
[{"$f":"IF(AND(Blad1!C247<>0,Blad1!D247>0),CONCATENATE(Enhet!$B$1,\";\",Blad3!H247,\";\",Blad3!I247),\"\")","v":""}]
[{"$f":"IF(AND(Blad1!C248<>0,Blad1!D248>0),CONCATENATE(Enhet!$B$1,\";\",Blad3!H248,\";\",Blad3!I248),\"\")","v":""}]
[{"$f":"IF(AND(Blad1!C249<>0,Blad1!D249>0),CONCATENATE(Enhet!$B$1,\";\",Blad3!H249,\";\",Blad3!I249),\"\")","v":""}]
[{"$f":"IF(AND(Blad1!C250<>0,Blad1!D250>0),CONCATENATE(Enhet!$B$1,\";\",Blad3!H250,\";\",Blad3!I250),\"\")","v":""}]
[{"$f":"IF(AND(Blad1!C251<>0,Blad1!D251>0),CONCATENATE(Enhet!$B$1,\";\",Blad3!H251,\";\",Blad3!I251),\"\")","v":""}]
[{"$f":"IF(AND(Blad1!C252<>0,Blad1!D252>0),CONCATENATE(Enhet!$B$1,\";\",Blad3!H252,\";\",Blad3!I252),\"\")","v":""}]
[{"$f":"IF(AND(Blad1!C253<>0,Blad1!D253>0),CONCATENATE(Enhet!$B$1,\";\",Blad3!H253,\";\",Blad3!I253),\"\")","v":""}]
[{"$f":"IF(AND(Blad1!C254<>0,Blad1!D254>0),CONCATENATE(Enhet!$B$1,\";\",Blad3!H254,\";\",Blad3!I254),\"\")","v":""}]
[{"$f":"IF(AND(Blad1!C255<>0,Blad1!D255>0),CONCATENATE(Enhet!$B$1,\";\",Blad3!H255,\";\",Blad3!I255),\"\")","v":""}]
[{"$f":"IF(AND(Blad1!C256<>0,Blad1!D256>0),CONCATENATE(Enhet!$B$1,\";\",Blad3!H256,\";\",Blad3!I256),\"\")","v":""}]
[{"$f":"IF(AND(Blad1!C257<>0,Blad1!D257>0),CONCATENATE(Enhet!$B$1,\";\",Blad3!H257,\";\",Blad3!I257),\"\")","v":""}]
[{"$f":"IF(AND(Blad1!C258<>0,Blad1!D258>0),CONCATENATE(Enhet!$B$1,\";\",Blad3!H258,\";\",Blad3!I258),\"\")","v":""}]
[{"$f":"IF(AND(Blad1!C259<>0,Blad1!D259>0),CONCATENATE(Enhet!$B$1,\";\",Blad3!H259,\";\",Blad3!I259),\"\")","v":""}]
[{"$f":"IF(AND(Blad1!C260<>0,Blad1!D260>0),CONCATENATE(Enhet!$B$1,\";\",Blad3!H260,\";\",Blad3!I260),\"\")","v":""}]
[{"$f":"IF(AND(Blad1!C261<>0,Blad1!D261>0),CONCATENATE(Enhet!$B$1,\";\",Blad3!H261,\";\",Blad3!I261),\"\")","v":""}]
[{"$f":"IF(AND(Blad1!C262<>0,Blad1!D262>0),CONCATENATE(Enhet!$B$1,\";\",Blad3!H262,\";\",Blad3!I262),\"\")","v":""}]
[{"$f":"IF(AND(Blad1!C263<>0,Blad1!D263>0),CONCATENATE(Enhet!$B$1,\";\",Blad3!H263,\";\",Blad3!I263),\"\")","v":""}]
[{"$f":"IF(AND(Blad1!C264<>0,Blad1!D264>0),CONCATENATE(Enhet!$B$1,\";\",Blad3!H264,\";\",Blad3!I264),\"\")","v":""}]
[{"$f":"IF(AND(Blad1!C265<>0,Blad1!D265>0),CONCATENATE(Enhet!$B$1,\";\",Blad3!H265,\";\",Blad3!I265),\"\")","v":""}]
[{"$f":"IF(AND(Blad1!C266<>0,Blad1!D266>0),CONCATENATE(Enhet!$B$1,\";\",Blad3!H266,\";\",Blad3!I266),\"\")","v":""}]
[{"$f":"IF(AND(Blad1!C267<>0,Blad1!D267>0),CONCATENATE(Enhet!$B$1,\";\",Blad3!H267,\";\",Blad3!I267),\"\")","v":""}]
[{"$f":"IF(AND(Blad1!C268<>0,Blad1!D268>0),CONCATENATE(Enhet!$B$1,\";\",Blad3!H268,\";\",Blad3!I268),\"\")","v":""}]
[{"$f":"IF(AND(Blad1!C269<>0,Blad1!D269>0),CONCATENATE(Enhet!$B$1,\";\",Blad3!H269,\";\",Blad3!I269),\"\")","v":""}]
[{"$f":"IF(AND(Blad1!C270<>0,Blad1!D270>0),CONCATENATE(Enhet!$B$1,\";\",Blad3!H270,\";\",Blad3!I270),\"\")","v":""}]
[{"$f":"IF(AND(Blad1!C271<>0,Blad1!D271>0),CONCATENATE(Enhet!$B$1,\";\",Blad3!H271,\";\",Blad3!I271),\"\")","v":""}]
[{"$f":"IF(AND(Blad1!C272<>0,Blad1!D272>0),CONCATENATE(Enhet!$B$1,\";\",Blad3!H272,\";\",Blad3!I272),\"\")","v":""}]
[{"$f":"IF(AND(Blad1!C273<>0,Blad1!D273>0),CONCATENATE(Enhet!$B$1,\";\",Blad3!H273,\";\",Blad3!I273),\"\")","v":""}]
[{"$f":"IF(AND(Blad1!C274<>0,Blad1!D274>0),CONCATENATE(Enhet!$B$1,\";\",Blad3!H274,\";\",Blad3!I274),\"\")","v":""}]
[{"$f":"IF(AND(Blad1!C275<>0,Blad1!D275>0),CONCATENATE(Enhet!$B$1,\";\",Blad3!H275,\";\",Blad3!I275),\"\")","v":""}]
[{"$f":"IF(AND(Blad1!C276<>0,Blad1!D276>0),CONCATENATE(Enhet!$B$1,\";\",Blad3!H276,\";\",Blad3!I276),\"\")","v":""}]
[{"$f":"IF(AND(Blad1!C277<>0,Blad1!D277>0),CONCATENATE(Enhet!$B$1,\";\",Blad3!H277,\";\",Blad3!I277),\"\")","v":""}]
[{"$f":"IF(AND(Blad1!C278<>0,Blad1!D278>0),CONCATENATE(Enhet!$B$1,\";\",Blad3!H278,\";\",Blad3!I278),\"\")","v":""}]
[{"$f":"IF(AND(Blad1!C279<>0,Blad1!D279>0),CONCATENATE(Enhet!$B$1,\";\",Blad3!H279,\";\",Blad3!I279),\"\")","v":""}]
[{"$f":"IF(AND(Blad1!C280<>0,Blad1!D280>0),CONCATENATE(Enhet!$B$1,\";\",Blad3!H280,\";\",Blad3!I280),\"\")","v":""}]
[{"$f":"IF(AND(Blad1!C281<>0,Blad1!D281>0),CONCATENATE(Enhet!$B$1,\";\",Blad3!H281,\";\",Blad3!I281),\"\")","v":""}]
[{"$f":"IF(AND(Blad1!C282<>0,Blad1!D282>0),CONCATENATE(Enhet!$B$1,\";\",Blad3!H282,\";\",Blad3!I282),\"\")","v":""}]
[{"$f":"IF(AND(Blad1!C283<>0,Blad1!D283>0),CONCATENATE(Enhet!$B$1,\";\",Blad3!H283,\";\",Blad3!I283),\"\")","v":""}]
[{"$f":"IF(AND(Blad1!C284<>0,Blad1!D284>0),CONCATENATE(Enhet!$B$1,\";\",Blad3!H284,\";\",Blad3!I284),\"\")","v":""}]
[{"$f":"IF(AND(Blad1!C285<>0,Blad1!D285>0),CONCATENATE(Enhet!$B$1,\";\",Blad3!H285,\";\",Blad3!I285),\"\")","v":""}]
[{"$f":"IF(AND(Blad1!C286<>0,Blad1!D286>0),CONCATENATE(Enhet!$B$1,\";\",Blad3!H286,\";\",Blad3!I286),\"\")","v":""}]
[{"$f":"IF(AND(Blad1!C287<>0,Blad1!D287>0),CONCATENATE(Enhet!$B$1,\";\",Blad3!H287,\";\",Blad3!I287),\"\")","v":""}]
[{"$f":"IF(AND(Blad1!C288<>0,Blad1!D288>0),CONCATENATE(Enhet!$B$1,\";\",Blad3!H288,\";\",Blad3!I288),\"\")","v":""}]
[{"$f":"IF(AND(Blad1!C289<>0,Blad1!D289>0),CONCATENATE(Enhet!$B$1,\";\",Blad3!H289,\";\",Blad3!I289),\"\")","v":""}]
[{"$f":"IF(AND(Blad1!C290<>0,Blad1!D290>0),CONCATENATE(Enhet!$B$1,\";\",Blad3!H290,\";\",Blad3!I290),\"\")","v":""}]
[{"$f":"IF(AND(Blad1!C291<>0,Blad1!D291>0),CONCATENATE(Enhet!$B$1,\";\",Blad3!H291,\";\",Blad3!I291),\"\")","v":""}]
[{"$f":"IF(AND(Blad1!C292<>0,Blad1!D292>0),CONCATENATE(Enhet!$B$1,\";\",Blad3!H292,\";\",Blad3!I292),\"\")","v":""}]
[{"$f":"IF(AND(Blad1!C293<>0,Blad1!D293>0),CONCATENATE(Enhet!$B$1,\";\",Blad3!H293,\";\",Blad3!I293),\"\")","v":""}]
[{"$f":"IF(AND(Blad1!C294<>0,Blad1!D294>0),CONCATENATE(Enhet!$B$1,\";\",Blad3!H294,\";\",Blad3!I294),\"\")","v":""}]
[{"$f":"IF(AND(Blad1!C295<>0,Blad1!D295>0),CONCATENATE(Enhet!$B$1,\";\",Blad3!H295,\";\",Blad3!I295),\"\")","v":""}]
[{"$f":"IF(AND(Blad1!C296<>0,Blad1!D296>0),CONCATENATE(Enhet!$B$1,\";\",Blad3!H296,\";\",Blad3!I296),\"\")","v":""}]
[{"$f":"IF(AND(Blad1!C297<>0,Blad1!D297>0),CONCATENATE(Enhet!$B$1,\";\",Blad3!H297,\";\",Blad3!I297),\"\")","v":""}]
[{"$f":"IF(AND(Blad1!C298<>0,Blad1!D298>0),CONCATENATE(Enhet!$B$1,\";\",Blad3!H298,\";\",Blad3!I298),\"\")","v":""}]
[{"$f":"IF(AND(Blad1!C299<>0,Blad1!D299>0),CONCATENATE(Enhet!$B$1,\";\",Blad3!H299,\";\",Blad3!I299),\"\")","v":""}]
[{"$f":"IF(AND(Blad1!C300<>0,Blad1!D300>0),CONCATENATE(Enhet!$B$1,\";\",Blad3!H300,\";\",Blad3!I300),\"\")","v":""}]
[{"$f":"IF(AND(Blad1!C301<>0,Blad1!D301>0),CONCATENATE(Enhet!$B$1,\";\",Blad3!H301,\";\",Blad3!I301),\"\")","v":""}]
[{"$f":"IF(AND(Blad1!C302<>0,Blad1!D302>0),CONCATENATE(Enhet!$B$1,\";\",Blad3!H302,\";\",Blad3!I302),\"\")","v":""}]
[{"$f":"IF(AND(Blad1!C303<>0,Blad1!D303>0),CONCATENATE(Enhet!$B$1,\";\",Blad3!H303,\";\",Blad3!I303),\"\")","v":""}]
[{"$f":"IF(AND(Blad1!C304<>0,Blad1!D304>0),CONCATENATE(Enhet!$B$1,\";\",Blad3!H304,\";\",Blad3!I304),\"\")","v":""}]
[{"$f":"IF(AND(Blad1!C305<>0,Blad1!D305>0),CONCATENATE(Enhet!$B$1,\";\",Blad3!H305,\";\",Blad3!I305),\"\")","v":""}]
[{"$f":"IF(AND(Blad1!C306<>0,Blad1!D306>0),CONCATENATE(Enhet!$B$1,\";\",Blad3!H306,\";\",Blad3!I306),\"\")","v":""}]
[{"$f":"IF(AND(Blad1!C307<>0,Blad1!D307>0),CONCATENATE(Enhet!$B$1,\";\",Blad3!H307,\";\",Blad3!I307),\"\")","v":""}]
[{"$f":"IF(AND(Blad1!C308<>0,Blad1!D308>0),CONCATENATE(Enhet!$B$1,\";\",Blad3!H308,\";\",Blad3!I308),\"\")","v":""}]
[{"$f":"IF(AND(Blad1!C309<>0,Blad1!D309>0),CONCATENATE(Enhet!$B$1,\";\",Blad3!H309,\";\",Blad3!I309),\"\")","v":""}]
[{"$f":"IF(AND(Blad1!C310<>0,Blad1!D310>0),CONCATENATE(Enhet!$B$1,\";\",Blad3!H310,\";\",Blad3!I310),\"\")","v":""}]
[{"$f":"IF(AND(Blad1!C311<>0,Blad1!D311>0),CONCATENATE(Enhet!$B$1,\";\",Blad3!H311,\";\",Blad3!I311),\"\")","v":""}]
[{"$f":"IF(AND(Blad1!C312<>0,Blad1!D312>0),CONCATENATE(Enhet!$B$1,\";\",Blad3!H312,\";\",Blad3!I312),\"\")","v":""}]
[{"$f":"IF(AND(Blad1!C313<>0,Blad1!D313>0),CONCATENATE(Enhet!$B$1,\";\",Blad3!H313,\";\",Blad3!I313),\"\")","v":""}]
[{"$f":"IF(AND(Blad1!C314<>0,Blad1!D314>0),CONCATENATE(Enhet!$B$1,\";\",Blad3!H314,\";\",Blad3!I314),\"\")","v":""}]
[{"$f":"IF(AND(Blad1!C315<>0,Blad1!D315>0),CONCATENATE(Enhet!$B$1,\";\",Blad3!H315,\";\",Blad3!I315),\"\")","v":""}]
[{"$f":"IF(AND(Blad1!C316<>0,Blad1!D316>0),CONCATENATE(Enhet!$B$1,\";\",Blad3!H316,\";\",Blad3!I316),\"\")","v":""}]
[{"$f":"IF(AND(Blad1!C317<>0,Blad1!D317>0),CONCATENATE(Enhet!$B$1,\";\",Blad3!H317,\";\",Blad3!I317),\"\")","v":""}]
[{"$f":"IF(AND(Blad1!C318<>0,Blad1!D318>0),CONCATENATE(Enhet!$B$1,\";\",Blad3!H318,\";\",Blad3!I318),\"\")","v":""}]
[{"$f":"IF(AND(Blad1!C319<>0,Blad1!D319>0),CONCATENATE(Enhet!$B$1,\";\",Blad3!H319,\";\",Blad3!I319),\"\")","v":""}]
[{"$f":"IF(AND(Blad1!C320<>0,Blad1!D320>0),CONCATENATE(Enhet!$B$1,\";\",Blad3!H320,\";\",Blad3!I320),\"\")","v":""}]
[{"$f":"IF(AND(Blad1!C321<>0,Blad1!D321>0),CONCATENATE(Enhet!$B$1,\";\",Blad3!H321,\";\",Blad3!I321),\"\")","v":""}]
[{"$f":"IF(AND(Blad1!C322<>0,Blad1!D322>0),CONCATENATE(Enhet!$B$1,\";\",Blad3!H322,\";\",Blad3!I322),\"\")","v":""}]
[{"$f":"IF(AND(Blad1!C323<>0,Blad1!D323>0),CONCATENATE(Enhet!$B$1,\";\",Blad3!H323,\";\",Blad3!I323),\"\")","v":""}]
[{"$f":"IF(AND(Blad1!C324<>0,Blad1!D324>0),CONCATENATE(Enhet!$B$1,\";\",Blad3!H324,\";\",Blad3!I324),\"\")","v":""}]
[{"$f":"IF(AND(Blad1!C325<>0,Blad1!D325>0),CONCATENATE(Enhet!$B$1,\";\",Blad3!H325,\";\",Blad3!I325),\"\")","v":""}]
[{"$f":"IF(AND(Blad1!C326<>0,Blad1!D326>0),CONCATENATE(Enhet!$B$1,\";\",Blad3!H326,\";\",Blad3!I326),\"\")","v":""}]
[{"$f":"IF(AND(Blad1!C327<>0,Blad1!D327>0),CONCATENATE(Enhet!$B$1,\";\",Blad3!H327,\";\",Blad3!I327),\"\")","v":""}]
[{"$f":"IF(AND(Blad1!C328<>0,Blad1!D328>0),CONCATENATE(Enhet!$B$1,\";\",Blad3!H328,\";\",Blad3!I328),\"\")","v":""}]
[{"$f":"IF(AND(Blad1!C329<>0,Blad1!D329>0),CONCATENATE(Enhet!$B$1,\";\",Blad3!H329,\";\",Blad3!I329),\"\")","v":""}]
[{"$f":"IF(AND(Blad1!C330<>0,Blad1!D330>0),CONCATENATE(Enhet!$B$1,\";\",Blad3!H330,\";\",Blad3!I330),\"\")","v":""}]
[{"$f":"IF(AND(Blad1!C331<>0,Blad1!D331>0),CONCATENATE(Enhet!$B$1,\";\",Blad3!H331,\";\",Blad3!I331),\"\")","v":""}]
[{"$f":"IF(AND(Blad1!C332<>0,Blad1!D332>0),CONCATENATE(Enhet!$B$1,\";\",Blad3!H332,\";\",Blad3!I332),\"\")","v":""}]
[{"$f":"IF(AND(Blad1!C333<>0,Blad1!D333>0),CONCATENATE(Enhet!$B$1,\";\",Blad3!H333,\";\",Blad3!I333),\"\")","v":""}]
[{"$f":"IF(AND(Blad1!C334<>0,Blad1!D334>0),CONCATENATE(Enhet!$B$1,\";\",Blad3!H334,\";\",Blad3!I334),\"\")","v":""}]
[{"$f":"IF(AND(Blad1!C335<>0,Blad1!D335>0),CONCATENATE(Enhet!$B$1,\";\",Blad3!H335,\";\",Blad3!I335),\"\")","v":""}]
[{"$f":"IF(AND(Blad1!C336<>0,Blad1!D336>0),CONCATENATE(Enhet!$B$1,\";\",Blad3!H336,\";\",Blad3!I336),\"\")","v":""}]
[{"$f":"IF(AND(Blad1!C337<>0,Blad1!D337>0),CONCATENATE(Enhet!$B$1,\";\",Blad3!H337,\";\",Blad3!I337),\"\")","v":""}]
[{"$f":"IF(AND(Blad1!C338<>0,Blad1!D338>0),CONCATENATE(Enhet!$B$1,\";\",Blad3!H338,\";\",Blad3!I338),\"\")","v":""}]
[{"$f":"IF(AND(Blad1!C339<>0,Blad1!D339>0),CONCATENATE(Enhet!$B$1,\";\",Blad3!H339,\";\",Blad3!I339),\"\")","v":""}]
[{"$f":"IF(AND(Blad1!C340<>0,Blad1!D340>0),CONCATENATE(Enhet!$B$1,\";\",Blad3!H340,\";\",Blad3!I340),\"\")","v":""}]
[{"$f":"IF(AND(Blad1!C341<>0,Blad1!D341>0),CONCATENATE(Enhet!$B$1,\";\",Blad3!H341,\";\",Blad3!I341),\"\")","v":""}]
[{"$f":"IF(AND(Blad1!C342<>0,Blad1!D342>0),CONCATENATE(Enhet!$B$1,\";\",Blad3!H342,\";\",Blad3!I342),\"\")","v":""}]
[{"$f":"IF(AND(Blad1!C343<>0,Blad1!D343>0),CONCATENATE(Enhet!$B$1,\";\",Blad3!H343,\";\",Blad3!I343),\"\")","v":""}]
[{"$f":"IF(AND(Blad1!C344<>0,Blad1!D344>0),CONCATENATE(Enhet!$B$1,\";\",Blad3!H344,\";\",Blad3!I344),\"\")","v":""}]
[{"$f":"IF(AND(Blad1!C345<>0,Blad1!D345>0),CONCATENATE(Enhet!$B$1,\";\",Blad3!H345,\";\",Blad3!I345),\"\")","v":""}]
[{"$f":"IF(AND(Blad1!C346<>0,Blad1!D346>0),CONCATENATE(Enhet!$B$1,\";\",Blad3!H346,\";\",Blad3!I346),\"\")","v":""}]
[{"$f":"IF(AND(Blad1!C347<>0,Blad1!D347>0),CONCATENATE(Enhet!$B$1,\";\",Blad3!H347,\";\",Blad3!I347),\"\")","v":""}]
[{"$f":"IF(AND(Blad1!C348<>0,Blad1!D348>0),CONCATENATE(Enhet!$B$1,\";\",Blad3!H348,\";\",Blad3!I348),\"\")","v":""}]
[{"$f":"IF(AND(Blad1!C349<>0,Blad1!D349>0),CONCATENATE(Enhet!$B$1,\";\",Blad3!H349,\";\",Blad3!I349),\"\")","v":""}]
[{"$f":"IF(AND(Blad1!C350<>0,Blad1!D350>0),CONCATENATE(Enhet!$B$1,\";\",Blad3!H350,\";\",Blad3!I350),\"\")","v":""}]
[{"$f":"IF(AND(Blad1!C351<>0,Blad1!D351>0),CONCATENATE(Enhet!$B$1,\";\",Blad3!H351,\";\",Blad3!I351),\"\")","v":""}]
[{"$f":"IF(AND(Blad1!C352<>0,Blad1!D352>0),CONCATENATE(Enhet!$B$1,\";\",Blad3!H352,\";\",Blad3!I352),\"\")","v":""}]
[{"$f":"IF(AND(Blad1!C353<>0,Blad1!D353>0),CONCATENATE(Enhet!$B$1,\";\",Blad3!H353,\";\",Blad3!I353),\"\")","v":""}]
[{"$f":"IF(AND(Blad1!C354<>0,Blad1!D354>0),CONCATENATE(Enhet!$B$1,\";\",Blad3!H354,\";\",Blad3!I354),\"\")","v":""}]
[{"$f":"IF(AND(Blad1!C355<>0,Blad1!D355>0),CONCATENATE(Enhet!$B$1,\";\",Blad3!H355,\";\",Blad3!I355),\"\")","v":""}]
[{"$f":"IF(AND(Blad1!C356<>0,Blad1!D356>0),CONCATENATE(Enhet!$B$1,\";\",Blad3!H356,\";\",Blad3!I356),\"\")","v":""}]
[{"$f":"IF(AND(Blad1!C357<>0,Blad1!D357>0),CONCATENATE(Enhet!$B$1,\";\",Blad3!H357,\";\",Blad3!I357),\"\")","v":""}]
[{"$f":"IF(AND(Blad1!C358<>0,Blad1!D358>0),CONCATENATE(Enhet!$B$1,\";\",Blad3!H358,\";\",Blad3!I358),\"\")","v":""}]
[{"$f":"IF(AND(Blad1!C359<>0,Blad1!D359>0),CONCATENATE(Enhet!$B$1,\";\",Blad3!H359,\";\",Blad3!I359),\"\")","v":""}]
[{"$f":"IF(AND(Blad1!C360<>0,Blad1!D360>0),CONCATENATE(Enhet!$B$1,\";\",Blad3!H360,\";\",Blad3!I360),\"\")","v":""}]
[{"$f":"IF(AND(Blad1!C361<>0,Blad1!D361>0),CONCATENATE(Enhet!$B$1,\";\",Blad3!H361,\";\",Blad3!I361),\"\")","v":""}]
[{"$f":"IF(AND(Blad1!C362<>0,Blad1!D362>0),CONCATENATE(Enhet!$B$1,\";\",Blad3!H362,\";\",Blad3!I362),\"\")","v":""}]
[{"$f":"IF(AND(Blad1!C363<>0,Blad1!D363>0),CONCATENATE(Enhet!$B$1,\";\",Blad3!H363,\";\",Blad3!I363),\"\")","v":""}]
[{"$f":"IF(AND(Blad1!C364<>0,Blad1!D364>0),CONCATENATE(Enhet!$B$1,\";\",Blad3!H364,\";\",Blad3!I364),\"\")","v":""}]
[{"$f":"IF(AND(Blad1!C365<>0,Blad1!D365>0),CONCATENATE(Enhet!$B$1,\";\",Blad3!H365,\";\",Blad3!I365),\"\")","v":""}]
[{"$f":"IF(AND(Blad1!C366<>0,Blad1!D366>0),CONCATENATE(Enhet!$B$1,\";\",Blad3!H366,\";\",Blad3!I366),\"\")","v":""}]
[{"$f":"IF(AND(Blad1!C367<>0,Blad1!D367>0),CONCATENATE(Enhet!$B$1,\";\",Blad3!H367,\";\",Blad3!I367),\"\")","v":""}]
[{"$f":"IF(AND(Blad1!C368<>0,Blad1!D368>0),CONCATENATE(Enhet!$B$1,\";\",Blad3!H368,\";\",Blad3!I368),\"\")","v":""}]
[{"$f":"IF(AND(Blad1!C369<>0,Blad1!D369>0),CONCATENATE(Enhet!$B$1,\";\",Blad3!H369,\";\",Blad3!I369),\"\")","v":""}]
[{"$f":"IF(AND(Blad1!C370<>0,Blad1!D370>0),CONCATENATE(Enhet!$B$1,\";\",Blad3!H370,\";\",Blad3!I370),\"\")","v":""}]
[{"$f":"IF(AND(Blad1!C371<>0,Blad1!D371>0),CONCATENATE(Enhet!$B$1,\";\",Blad3!H371,\";\",Blad3!I371),\"\")","v":""}]
[{"$f":"IF(AND(Blad1!C372<>0,Blad1!D372>0),CONCATENATE(Enhet!$B$1,\";\",Blad3!H372,\";\",Blad3!I372),\"\")","v":""}]
[{"$f":"IF(AND(Blad1!C373<>0,Blad1!D373>0),CONCATENATE(Enhet!$B$1,\";\",Blad3!H373,\";\",Blad3!I373),\"\")","v":""}]
[{"$f":"IF(AND(Blad1!C374<>0,Blad1!D374>0),CONCATENATE(Enhet!$B$1,\";\",Blad3!H374,\";\",Blad3!I374),\"\")","v":""}]
[{"$f":"IF(AND(Blad1!C375<>0,Blad1!D375>0),CONCATENATE(Enhet!$B$1,\";\",Blad3!H375,\";\",Blad3!I375),\"\")","v":""}]
[{"$f":"IF(AND(Blad1!C376<>0,Blad1!D376>0),CONCATENATE(Enhet!$B$1,\";\",Blad3!H376,\";\",Blad3!I376),\"\")","v":""}]
[{"$f":"IF(AND(Blad1!C377<>0,Blad1!D377>0),CONCATENATE(Enhet!$B$1,\";\",Blad3!H377,\";\",Blad3!I377),\"\")","v":""}]
[{"$f":"IF(AND(Blad1!C378<>0,Blad1!D378>0),CONCATENATE(Enhet!$B$1,\";\",Blad3!H378,\";\",Blad3!I378),\"\")","v":""}]
[{"$f":"IF(AND(Blad1!C379<>0,Blad1!D379>0),CONCATENATE(Enhet!$B$1,\";\",Blad3!H379,\";\",Blad3!I379),\"\")","v":""}]
[{"$f":"IF(AND(Blad1!C380<>0,Blad1!D380>0),CONCATENATE(Enhet!$B$1,\";\",Blad3!H380,\";\",Blad3!I380),\"\")","v":""}]
[{"$f":"IF(AND(Blad1!C381<>0,Blad1!D381>0),CONCATENATE(Enhet!$B$1,\";\",Blad3!H381,\";\",Blad3!I381),\"\")","v":""}]
[{"$f":"IF(AND(Blad1!C382<>0,Blad1!D382>0),CONCATENATE(Enhet!$B$1,\";\",Blad3!H382,\";\",Blad3!I382),\"\")","v":""}]
[{"$f":"IF(AND(Blad1!C383<>0,Blad1!D383>0),CONCATENATE(Enhet!$B$1,\";\",Blad3!H383,\";\",Blad3!I383),\"\")","v":""}]
[{"$f":"IF(AND(Blad1!C384<>0,Blad1!D384>0),CONCATENATE(Enhet!$B$1,\";\",Blad3!H384,\";\",Blad3!I384),\"\")","v":""}]
[{"$f":"IF(AND(Blad1!C385<>0,Blad1!D385>0),CONCATENATE(Enhet!$B$1,\";\",Blad3!H385,\";\",Blad3!I385),\"\")","v":""}]
[{"$f":"IF(AND(Blad1!C386<>0,Blad1!D386>0),CONCATENATE(Enhet!$B$1,\";\",Blad3!H386,\";\",Blad3!I386),\"\")","v":""}]
[{"$f":"IF(AND(Blad1!C387<>0,Blad1!D387>0),CONCATENATE(Enhet!$B$1,\";\",Blad3!H387,\";\",Blad3!I387),\"\")","v":""}]
[{"$f":"IF(AND(Blad1!C388<>0,Blad1!D388>0),CONCATENATE(Enhet!$B$1,\";\",Blad3!H388,\";\",Blad3!I388),\"\")","v":""}]
[{"$f":"IF(AND(Blad1!C389<>0,Blad1!D389>0),CONCATENATE(Enhet!$B$1,\";\",Blad3!H389,\";\",Blad3!I389),\"\")","v":""}]
[{"$f":"IF(AND(Blad1!C390<>0,Blad1!D390>0),CONCATENATE(Enhet!$B$1,\";\",Blad3!H390,\";\",Blad3!I390),\"\")","v":""}]
[{"$f":"IF(AND(Blad1!C391<>0,Blad1!D391>0),CONCATENATE(Enhet!$B$1,\";\",Blad3!H391,\";\",Blad3!I391),\"\")","v":""}]
[{"$f":"IF(AND(Blad1!C392<>0,Blad1!D392>0),CONCATENATE(Enhet!$B$1,\";\",Blad3!H392,\";\",Blad3!I392),\"\")","v":""}]
[{"$f":"IF(AND(Blad1!C393<>0,Blad1!D393>0),CONCATENATE(Enhet!$B$1,\";\",Blad3!H393,\";\",Blad3!I393),\"\")","v":""}]
[{"$f":"IF(AND(Blad1!C394<>0,Blad1!D394>0),CONCATENATE(Enhet!$B$1,\";\",Blad3!H394,\";\",Blad3!I394),\"\")","v":""}]
[{"$f":"IF(AND(Blad1!C395<>0,Blad1!D395>0),CONCATENATE(Enhet!$B$1,\";\",Blad3!H395,\";\",Blad3!I395),\"\")","v":""}]
[{"$f":"IF(AND(Blad1!C396<>0,Blad1!D396>0),CONCATENATE(Enhet!$B$1,\";\",Blad3!H396,\";\",Blad3!I396),\"\")","v":""}]
[{"$f":"IF(AND(Blad1!C397<>0,Blad1!D397>0),CONCATENATE(Enhet!$B$1,\";\",Blad3!H397,\";\",Blad3!I397),\"\")","v":""}]
[{"$f":"IF(AND(Blad1!C398<>0,Blad1!D398>0),CONCATENATE(Enhet!$B$1,\";\",Blad3!H398,\";\",Blad3!I398),\"\")","v":""}]
[{"$f":"IF(AND(Blad1!C399<>0,Blad1!D399>0),CONCATENATE(Enhet!$B$1,\";\",Blad3!H399,\";\",Blad3!I399),\"\")","v":""}]
[{"$f":"IF(AND(Blad1!C400<>0,Blad1!D400>0),CONCATENATE(Enhet!$B$1,\";\",Blad3!H400,\";\",Blad3!I400),\"\")","v":""}]
[{"$f":"IF(AND(Blad1!C401<>0,Blad1!D401>0),CONCATENATE(Enhet!$B$1,\";\",Blad3!H401,\";\",Blad3!I401),\"\")","v":""}]
[{"$f":"IF(AND(Blad1!C402<>0,Blad1!D402>0),CONCATENATE(Enhet!$B$1,\";\",Blad3!H402,\";\",Blad3!I402),\"\")","v":""}]
[{"$f":"IF(AND(Blad1!C403<>0,Blad1!D403>0),CONCATENATE(Enhet!$B$1,\";\",Blad3!H403,\";\",Blad3!I403),\"\")","v":""}]
[{"$f":"IF(AND(Blad1!C404<>0,Blad1!D404>0),CONCATENATE(Enhet!$B$1,\";\",Blad3!H404,\";\",Blad3!I404),\"\")","v":""}]
[{"$f":"IF(AND(Blad1!C405<>0,Blad1!D405>0),CONCATENATE(Enhet!$B$1,\";\",Blad3!H405,\";\",Blad3!I405),\"\")","v":""}]
[{"$f":"IF(AND(Blad1!C406<>0,Blad1!D406>0),CONCATENATE(Enhet!$B$1,\";\",Blad3!H406,\";\",Blad3!I406),\"\")","v":""}]
[{"$f":"IF(AND(Blad1!C407<>0,Blad1!D407>0),CONCATENATE(Enhet!$B$1,\";\",Blad3!H407,\";\",Blad3!I407),\"\")","v":""}]
[{"$f":"IF(AND(Blad1!C408<>0,Blad1!D408>0),CONCATENATE(Enhet!$B$1,\";\",Blad3!H408,\";\",Blad3!I408),\"\")","v":""}]
[{"$f":"IF(AND(Blad1!C409<>0,Blad1!D409>0),CONCATENATE(Enhet!$B$1,\";\",Blad3!H409,\";\",Blad3!I409),\"\")","v":""}]
[{"$f":"IF(AND(Blad1!C410<>0,Blad1!D410>0),CONCATENATE(Enhet!$B$1,\";\",Blad3!H410,\";\",Blad3!I410),\"\")","v":""}]
[{"$f":"IF(AND(Blad1!C411<>0,Blad1!D411>0),CONCATENATE(Enhet!$B$1,\";\",Blad3!H411,\";\",Blad3!I411),\"\")","v":""}]
[{"$f":"IF(AND(Blad1!C412<>0,Blad1!D412>0),CONCATENATE(Enhet!$B$1,\";\",Blad3!H412,\";\",Blad3!I412),\"\")","v":""}]
[{"$f":"IF(AND(Blad1!C413<>0,Blad1!D413>0),CONCATENATE(Enhet!$B$1,\";\",Blad3!H413,\";\",Blad3!I413),\"\")","v":""}]
[{"$f":"IF(AND(Blad1!C414<>0,Blad1!D414>0),CONCATENATE(Enhet!$B$1,\";\",Blad3!H414,\";\",Blad3!I414),\"\")","v":""}]
[{"$f":"IF(AND(Blad1!C415<>0,Blad1!D415>0),CONCATENATE(Enhet!$B$1,\";\",Blad3!H415,\";\",Blad3!I415),\"\")","v":""}]
[{"$f":"IF(AND(Blad1!C416<>0,Blad1!D416>0),CONCATENATE(Enhet!$B$1,\";\",Blad3!H416,\";\",Blad3!I416),\"\")","v":""}]
[{"$f":"IF(AND(Blad1!C417<>0,Blad1!D417>0),CONCATENATE(Enhet!$B$1,\";\",Blad3!H417,\";\",Blad3!I417),\"\")","v":""}]
[{"$f":"IF(AND(Blad1!C418<>0,Blad1!D418>0),CONCATENATE(Enhet!$B$1,\";\",Blad3!H418,\";\",Blad3!I418),\"\")","v":""}]
[{"$f":"IF(AND(Blad1!C419<>0,Blad1!D419>0),CONCATENATE(Enhet!$B$1,\";\",Blad3!H419,\";\",Blad3!I419),\"\")","v":""}]
[{"$f":"IF(AND(Blad1!C420<>0,Blad1!D420>0),CONCATENATE(Enhet!$B$1,\";\",Blad3!H420,\";\",Blad3!I420),\"\")","v":""}]
[{"$f":"IF(AND(Blad1!C421<>0,Blad1!D421>0),CONCATENATE(Enhet!$B$1,\";\",Blad3!H421,\";\",Blad3!I421),\"\")","v":""}]
[{"$f":"IF(AND(Blad1!C422<>0,Blad1!D422>0),CONCATENATE(Enhet!$B$1,\";\",Blad3!H422,\";\",Blad3!I422),\"\")","v":""}]
[{"$f":"IF(AND(Blad1!C423<>0,Blad1!D423>0),CONCATENATE(Enhet!$B$1,\";\",Blad3!H423,\";\",Blad3!I423),\"\")","v":""}]
[{"$f":"IF(AND(Blad1!C424<>0,Blad1!D424>0),CONCATENATE(Enhet!$B$1,\";\",Blad3!H424,\";\",Blad3!I424),\"\")","v":""}]
[{"$f":"IF(AND(Blad1!C425<>0,Blad1!D425>0),CONCATENATE(Enhet!$B$1,\";\",Blad3!H425,\";\",Blad3!I425),\"\")","v":""}]
[{"$f":"IF(AND(Blad1!C426<>0,Blad1!D426>0),CONCATENATE(Enhet!$B$1,\";\",Blad3!H426,\";\",Blad3!I426),\"\")","v":""}]
[{"$f":"IF(AND(Blad1!C427<>0,Blad1!D427>0),CONCATENATE(Enhet!$B$1,\";\",Blad3!H427,\";\",Blad3!I427),\"\")","v":""}]
[{"$f":"IF(AND(Blad1!C428<>0,Blad1!D428>0),CONCATENATE(Enhet!$B$1,\";\",Blad3!H428,\";\",Blad3!I428),\"\")","v":""}]
[{"$f":"IF(AND(Blad1!C429<>0,Blad1!D429>0),CONCATENATE(Enhet!$B$1,\";\",Blad3!H429,\";\",Blad3!I429),\"\")","v":""}]
[{"$f":"IF(AND(Blad1!C430<>0,Blad1!D430>0),CONCATENATE(Enhet!$B$1,\";\",Blad3!H430,\";\",Blad3!I430),\"\")","v":""}]
[{"$f":"IF(AND(Blad1!C431<>0,Blad1!D431>0),CONCATENATE(Enhet!$B$1,\";\",Blad3!H431,\";\",Blad3!I431),\"\")","v":""}]
[{"$f":"IF(AND(Blad1!C432<>0,Blad1!D432>0),CONCATENATE(Enhet!$B$1,\";\",Blad3!H432,\";\",Blad3!I432),\"\")","v":""}]
[{"$f":"IF(AND(Blad1!C433<>0,Blad1!D433>0),CONCATENATE(Enhet!$B$1,\";\",Blad3!H433,\";\",Blad3!I433),\"\")","v":""}]
[{"$f":"IF(AND(Blad1!C434<>0,Blad1!D434>0),CONCATENATE(Enhet!$B$1,\";\",Blad3!H434,\";\",Blad3!I434),\"\")","v":""}]
[{"$f":"IF(AND(Blad1!C435<>0,Blad1!D435>0),CONCATENATE(Enhet!$B$1,\";\",Blad3!H435,\";\",Blad3!I435),\"\")","v":""}]
[{"$f":"IF(AND(Blad1!C436<>0,Blad1!D436>0),CONCATENATE(Enhet!$B$1,\";\",Blad3!H436,\";\",Blad3!I436),\"\")","v":""}]
[{"$f":"IF(AND(Blad1!C437<>0,Blad1!D437>0),CONCATENATE(Enhet!$B$1,\";\",Blad3!H437,\";\",Blad3!I437),\"\")","v":""}]
[{"$f":"IF(AND(Blad1!C438<>0,Blad1!D438>0),CONCATENATE(Enhet!$B$1,\";\",Blad3!H438,\";\",Blad3!I438),\"\")","v":""}]
[{"$f":"IF(AND(Blad1!C439<>0,Blad1!D439>0),CONCATENATE(Enhet!$B$1,\";\",Blad3!H439,\";\",Blad3!I439),\"\")","v":""}]
[{"$f":"IF(AND(Blad1!C440<>0,Blad1!D440>0),CONCATENATE(Enhet!$B$1,\";\",Blad3!H440,\";\",Blad3!I440),\"\")","v":""}]
[{"$f":"IF(AND(Blad1!C441<>0,Blad1!D441>0),CONCATENATE(Enhet!$B$1,\";\",Blad3!H441,\";\",Blad3!I441),\"\")","v":""}]
[{"$f":"IF(AND(Blad1!C442<>0,Blad1!D442>0),CONCATENATE(Enhet!$B$1,\";\",Blad3!H442,\";\",Blad3!I442),\"\")","v":""}]
[{"$f":"IF(AND(Blad1!C443<>0,Blad1!D443>0),CONCATENATE(Enhet!$B$1,\";\",Blad3!H443,\";\",Blad3!I443),\"\")","v":""}]
[{"$f":"IF(AND(Blad1!C444<>0,Blad1!D444>0),CONCATENATE(Enhet!$B$1,\";\",Blad3!H444,\";\",Blad3!I444),\"\")","v":""}]
[{"$f":"IF(AND(Blad1!C445<>0,Blad1!D445>0),CONCATENATE(Enhet!$B$1,\";\",Blad3!H445,\";\",Blad3!I445),\"\")","v":""}]
[{"$f":"IF(AND(Blad1!C446<>0,Blad1!D446>0),CONCATENATE(Enhet!$B$1,\";\",Blad3!H446,\";\",Blad3!I446),\"\")","v":""}]
[{"$f":"IF(AND(Blad1!C447<>0,Blad1!D447>0),CONCATENATE(Enhet!$B$1,\";\",Blad3!H447,\";\",Blad3!I447),\"\")","v":""}]
[{"$f":"IF(AND(Blad1!C448<>0,Blad1!D448>0),CONCATENATE(Enhet!$B$1,\";\",Blad3!H448,\";\",Blad3!I448),\"\")","v":""}]
[{"$f":"IF(AND(Blad1!C449<>0,Blad1!D449>0),CONCATENATE(Enhet!$B$1,\";\",Blad3!H449,\";\",Blad3!I449),\"\")","v":""}]
[{"$f":"IF(AND(Blad1!C450<>0,Blad1!D450>0),CONCATENATE(Enhet!$B$1,\";\",Blad3!H450,\";\",Blad3!I450),\"\")","v":""}]
[{"$f":"IF(AND(Blad1!C451<>0,Blad1!D451>0),CONCATENATE(Enhet!$B$1,\";\",Blad3!H451,\";\",Blad3!I451),\"\")","v":""}]
[{"$f":"IF(AND(Blad1!C452<>0,Blad1!D452>0),CONCATENATE(Enhet!$B$1,\";\",Blad3!H452,\";\",Blad3!I452),\"\")","v":""}]
[{"$f":"IF(AND(Blad1!C453<>0,Blad1!D453>0),CONCATENATE(Enhet!$B$1,\";\",Blad3!H453,\";\",Blad3!I453),\"\")","v":""}]
[{"$f":"IF(AND(Blad1!C454<>0,Blad1!D454>0),CONCATENATE(Enhet!$B$1,\";\",Blad3!H454,\";\",Blad3!I454),\"\")","v":""}]
[{"$f":"IF(AND(Blad1!C455<>0,Blad1!D455>0),CONCATENATE(Enhet!$B$1,\";\",Blad3!H455,\";\",Blad3!I455),\"\")","v":""}]
[{"$f":"IF(AND(Blad1!C456<>0,Blad1!D456>0),CONCATENATE(Enhet!$B$1,\";\",Blad3!H456,\";\",Blad3!I456),\"\")","v":""}]
[{"$f":"IF(AND(Blad1!C457<>0,Blad1!D457>0),CONCATENATE(Enhet!$B$1,\";\",Blad3!H457,\";\",Blad3!I457),\"\")","v":""}]
[{"$f":"IF(AND(Blad1!C458<>0,Blad1!D458>0),CONCATENATE(Enhet!$B$1,\";\",Blad3!H458,\";\",Blad3!I458),\"\")","v":""}]
[{"$f":"IF(AND(Blad1!C459<>0,Blad1!D459>0),CONCATENATE(Enhet!$B$1,\";\",Blad3!H459,\";\",Blad3!I459),\"\")","v":""}]
[{"$f":"IF(AND(Blad1!C460<>0,Blad1!D460>0),CONCATENATE(Enhet!$B$1,\";\",Blad3!H460,\";\",Blad3!I460),\"\")","v":""}]
[{"$f":"IF(AND(Blad1!C461<>0,Blad1!D461>0),CONCATENATE(Enhet!$B$1,\";\",Blad3!H461,\";\",Blad3!I461),\"\")","v":""}]
[{"$f":"IF(AND(Blad1!C462<>0,Blad1!D462>0),CONCATENATE(Enhet!$B$1,\";\",Blad3!H462,\";\",Blad3!I462),\"\")","v":""}]
[{"$f":"IF(AND(Blad1!C463<>0,Blad1!D463>0),CONCATENATE(Enhet!$B$1,\";\",Blad3!H463,\";\",Blad3!I463),\"\")","v":""}]
[{"$f":"IF(AND(Blad1!C464<>0,Blad1!D464>0),CONCATENATE(Enhet!$B$1,\";\",Blad3!H464,\";\",Blad3!I464),\"\")","v":""}]
[{"$f":"IF(AND(Blad1!C465<>0,Blad1!D465>0),CONCATENATE(Enhet!$B$1,\";\",Blad3!H465,\";\",Blad3!I465),\"\")","v":""}]
[{"$f":"IF(AND(Blad1!C466<>0,Blad1!D466>0),CONCATENATE(Enhet!$B$1,\";\",Blad3!H466,\";\",Blad3!I466),\"\")","v":""}]
[{"$f":"IF(AND(Blad1!C467<>0,Blad1!D467>0),CONCATENATE(Enhet!$B$1,\";\",Blad3!H467,\";\",Blad3!I467),\"\")","v":""}]
[{"$f":"IF(AND(Blad1!C468<>0,Blad1!D468>0),CONCATENATE(Enhet!$B$1,\";\",Blad3!H468,\";\",Blad3!I468),\"\")","v":""}]
[{"$f":"IF(AND(Blad1!C469<>0,Blad1!D469>0),CONCATENATE(Enhet!$B$1,\";\",Blad3!H469,\";\",Blad3!I469),\"\")","v":""}]
[{"$f":"IF(AND(Blad1!C470<>0,Blad1!D470>0),CONCATENATE(Enhet!$B$1,\";\",Blad3!H470,\";\",Blad3!I470),\"\")","v":""}]
[{"$f":"IF(AND(Blad1!C471<>0,Blad1!D471>0),CONCATENATE(Enhet!$B$1,\";\",Blad3!H471,\";\",Blad3!I471),\"\")","v":""}]
[{"$f":"IF(AND(Blad1!C472<>0,Blad1!D472>0),CONCATENATE(Enhet!$B$1,\";\",Blad3!H472,\";\",Blad3!I472),\"\")","v":""}]
[{"$f":"IF(AND(Blad1!C473<>0,Blad1!D473>0),CONCATENATE(Enhet!$B$1,\";\",Blad3!H473,\";\",Blad3!I473),\"\")","v":""}]
[{"$f":"IF(AND(Blad1!C474<>0,Blad1!D474>0),CONCATENATE(Enhet!$B$1,\";\",Blad3!H474,\";\",Blad3!I474),\"\")","v":""}]
[{"$f":"IF(AND(Blad1!C475<>0,Blad1!D475>0),CONCATENATE(Enhet!$B$1,\";\",Blad3!H475,\";\",Blad3!I475),\"\")","v":""}]
[{"$f":"IF(AND(Blad1!C476<>0,Blad1!D476>0),CONCATENATE(Enhet!$B$1,\";\",Blad3!H476,\";\",Blad3!I476),\"\")","v":""}]
[{"$f":"IF(AND(Blad1!C477<>0,Blad1!D477>0),CONCATENATE(Enhet!$B$1,\";\",Blad3!H477,\";\",Blad3!I477),\"\")","v":""}]
[{"$f":"IF(AND(Blad1!C478<>0,Blad1!D478>0),CONCATENATE(Enhet!$B$1,\";\",Blad3!H478,\";\",Blad3!I478),\"\")","v":""}]
[{"$f":"IF(AND(Blad1!C479<>0,Blad1!D479>0),CONCATENATE(Enhet!$B$1,\";\",Blad3!H479,\";\",Blad3!I479),\"\")","v":""}]
[{"$f":"IF(AND(Blad1!C480<>0,Blad1!D480>0),CONCATENATE(Enhet!$B$1,\";\",Blad3!H480,\";\",Blad3!I480),\"\")","v":""}]
[{"$f":"IF(AND(Blad1!C481<>0,Blad1!D481>0),CONCATENATE(Enhet!$B$1,\";\",Blad3!H481,\";\",Blad3!I481),\"\")","v":""}]
[{"$f":"IF(AND(Blad1!C482<>0,Blad1!D482>0),CONCATENATE(Enhet!$B$1,\";\",Blad3!H482,\";\",Blad3!I482),\"\")","v":""}]
[{"$f":"IF(AND(Blad1!C483<>0,Blad1!D483>0),CONCATENATE(Enhet!$B$1,\";\",Blad3!H483,\";\",Blad3!I483),\"\")","v":""}]
[{"$f":"IF(AND(Blad1!C484<>0,Blad1!D484>0),CONCATENATE(Enhet!$B$1,\";\",Blad3!H484,\";\",Blad3!I484),\"\")","v":""}]
[{"$f":"IF(AND(Blad1!C485<>0,Blad1!D485>0),CONCATENATE(Enhet!$B$1,\";\",Blad3!H485,\";\",Blad3!I485),\"\")","v":""}]
[{"$f":"IF(AND(Blad1!C486<>0,Blad1!D486>0),CONCATENATE(Enhet!$B$1,\";\",Blad3!H486,\";\",Blad3!I486),\"\")","v":""}]
[{"$f":"IF(AND(Blad1!C487<>0,Blad1!D487>0),CONCATENATE(Enhet!$B$1,\";\",Blad3!H487,\";\",Blad3!I487),\"\")","v":""}]
[{"$f":"IF(AND(Blad1!C488<>0,Blad1!D488>0),CONCATENATE(Enhet!$B$1,\";\",Blad3!H488,\";\",Blad3!I488),\"\")","v":""}]
[{"$f":"IF(AND(Blad1!C489<>0,Blad1!D489>0),CONCATENATE(Enhet!$B$1,\";\",Blad3!H489,\";\",Blad3!I489),\"\")","v":""}]
[{"$f":"IF(AND(Blad1!C490<>0,Blad1!D490>0),CONCATENATE(Enhet!$B$1,\";\",Blad3!H490,\";\",Blad3!I490),\"\")","v":""}]
[{"$f":"IF(AND(Blad1!C491<>0,Blad1!D491>0),CONCATENATE(Enhet!$B$1,\";\",Blad3!H491,\";\",Blad3!I491),\"\")","v":""}]
[{"$f":"IF(AND(Blad1!C492<>0,Blad1!D492>0),CONCATENATE(Enhet!$B$1,\";\",Blad3!H492,\";\",Blad3!I492),\"\")","v":""}]
[{"$f":"IF(AND(Blad1!C493<>0,Blad1!D493>0),CONCATENATE(Enhet!$B$1,\";\",Blad3!H493,\";\",Blad3!I493),\"\")","v":""}]
[{"$f":"IF(AND(Blad1!C494<>0,Blad1!D494>0),CONCATENATE(Enhet!$B$1,\";\",Blad3!H494,\";\",Blad3!I494),\"\")","v":""}]
[{"$f":"IF(AND(Blad1!C495<>0,Blad1!D495>0),CONCATENATE(Enhet!$B$1,\";\",Blad3!H495,\";\",Blad3!I495),\"\")","v":""}]
[{"$f":"IF(AND(Blad1!C496<>0,Blad1!D496>0),CONCATENATE(Enhet!$B$1,\";\",Blad3!H496,\";\",Blad3!I496),\"\")","v":""}]
[{"$f":"IF(AND(Blad1!C497<>0,Blad1!D497>0),CONCATENATE(Enhet!$B$1,\";\",Blad3!H497,\";\",Blad3!I497),\"\")","v":""}]
[{"$f":"IF(AND(Blad1!C498<>0,Blad1!D498>0),CONCATENATE(Enhet!$B$1,\";\",Blad3!H498,\";\",Blad3!I498),\"\")","v":""}]
[{"$f":"IF(AND(Blad1!C499<>0,Blad1!D499>0),CONCATENATE(Enhet!$B$1,\";\",Blad3!H499,\";\",Blad3!I499),\"\")","v":""}]
[{"$f":"IF(AND(Blad1!C500<>0,Blad1!D500>0),CONCATENATE(Enhet!$B$1,\";\",Blad3!H500,\";\",Blad3!I500),\"\")","v":""}]
[{"$f":"IF(AND(Blad1!C501<>0,Blad1!D501>0),CONCATENATE(Enhet!$B$1,\";\",Blad3!H501,\";\",Blad3!I501),\"\")","v":""}]
[{"$f":"IF(AND(Blad1!C502<>0,Blad1!D502>0),CONCATENATE(Enhet!$B$1,\";\",Blad3!H502,\";\",Blad3!I502),\"\")","v":""}]
[{"$f":"IF(AND(Blad1!C503<>0,Blad1!D503>0),CONCATENATE(Enhet!$B$1,\";\",Blad3!H503,\";\",Blad3!I503),\"\")","v":""}]
[{"$f":"IF(AND(Blad1!C504<>0,Blad1!D504>0),CONCATENATE(Enhet!$B$1,\";\",Blad3!H504,\";\",Blad3!I504),\"\")","v":""}]
[{"$f":"IF(AND(Blad1!C505<>0,Blad1!D505>0),CONCATENATE(Enhet!$B$1,\";\",Blad3!H505,\";\",Blad3!I505),\"\")","v":""}]
[{"$f":"IF(AND(Blad1!C506<>0,Blad1!D506>0),CONCATENATE(Enhet!$B$1,\";\",Blad3!H506,\";\",Blad3!I506),\"\")","v":""}]
[{"$f":"IF(AND(Blad1!C507<>0,Blad1!D507>0),CONCATENATE(Enhet!$B$1,\";\",Blad3!H507,\";\",Blad3!I507),\"\")","v":""}]
[{"$f":"IF(AND(Blad1!C508<>0,Blad1!D508>0),CONCATENATE(Enhet!$B$1,\";\",Blad3!H508,\";\",Blad3!I508),\"\")","v":""}]
[{"$f":"IF(AND(Blad1!C509<>0,Blad1!D509>0),CONCATENATE(Enhet!$B$1,\";\",Blad3!H509,\";\",Blad3!I509),\"\")","v":""}]
[{"$f":"IF(AND(Blad1!C510<>0,Blad1!D510>0),CONCATENATE(Enhet!$B$1,\";\",Blad3!H510,\";\",Blad3!I510),\"\")","v":""}]
[{"$f":"IF(AND(Blad1!C511<>0,Blad1!D511>0),CONCATENATE(Enhet!$B$1,\";\",Blad3!H511,\";\",Blad3!I511),\"\")","v":""}]
[{"$f":"IF(AND(Blad1!C512<>0,Blad1!D512>0),CONCATENATE(Enhet!$B$1,\";\",Blad3!H512,\";\",Blad3!I512),\"\")","v":""}]
[{"$f":"IF(AND(Blad1!C513<>0,Blad1!D513>0),CONCATENATE(Enhet!$B$1,\";\",Blad3!H513,\";\",Blad3!I513),\"\")","v":""}]
[{"$f":"IF(AND(Blad1!C514<>0,Blad1!D514>0),CONCATENATE(Enhet!$B$1,\";\",Blad3!H514,\";\",Blad3!I514),\"\")","v":""}]
[{"$f":"IF(AND(Blad1!C515<>0,Blad1!D515>0),CONCATENATE(Enhet!$B$1,\";\",Blad3!H515,\";\",Blad3!I515),\"\")","v":""}]
[{"$f":"IF(AND(Blad1!C516<>0,Blad1!D516>0),CONCATENATE(Enhet!$B$1,\";\",Blad3!H516,\";\",Blad3!I516),\"\")","v":""}]
[{"$f":"IF(AND(Blad1!C517<>0,Blad1!D517>0),CONCATENATE(Enhet!$B$1,\";\",Blad3!H517,\";\",Blad3!I517),\"\")","v":""}]
[{"$f":"IF(AND(Blad1!C518<>0,Blad1!D518>0),CONCATENATE(Enhet!$B$1,\";\",Blad3!H518,\";\",Blad3!I518),\"\")","v":""}]
[{"$f":"IF(AND(Blad1!C519<>0,Blad1!D519>0),CONCATENATE(Enhet!$B$1,\";\",Blad3!H519,\";\",Blad3!I519),\"\")","v":""}]
[{"$f":"IF(AND(Blad1!C520<>0,Blad1!D520>0),CONCATENATE(Enhet!$B$1,\";\",Blad3!H520,\";\",Blad3!I520),\"\")","v":""}]
[{"$f":"IF(AND(Blad1!C521<>0,Blad1!D521>0),CONCATENATE(Enhet!$B$1,\";\",Blad3!H521,\";\",Blad3!I521),\"\")","v":""}]
[{"$f":"IF(AND(Blad1!C522<>0,Blad1!D522>0),CONCATENATE(Enhet!$B$1,\";\",Blad3!H522,\";\",Blad3!I522),\"\")","v":""}]
[{"$f":"IF(AND(Blad1!C523<>0,Blad1!D523>0),CONCATENATE(Enhet!$B$1,\";\",Blad3!H523,\";\",Blad3!I523),\"\")","v":""}]
[{"$f":"IF(AND(Blad1!C524<>0,Blad1!D524>0),CONCATENATE(Enhet!$B$1,\";\",Blad3!H524,\";\",Blad3!I524),\"\")","v":""}]
[{"$f":"IF(AND(Blad1!C525<>0,Blad1!D525>0),CONCATENATE(Enhet!$B$1,\";\",Blad3!H525,\";\",Blad3!I525),\"\")","v":""}]
[{"$f":"IF(AND(Blad1!C526<>0,Blad1!D526>0),CONCATENATE(Enhet!$B$1,\";\",Blad3!H526,\";\",Blad3!I526),\"\")","v":""}]
[{"$f":"IF(AND(Blad1!C527<>0,Blad1!D527>0),CONCATENATE(Enhet!$B$1,\";\",Blad3!H527,\";\",Blad3!I527),\"\")","v":""}]
[{"$f":"IF(AND(Blad1!C528<>0,Blad1!D528>0),CONCATENATE(Enhet!$B$1,\";\",Blad3!H528,\";\",Blad3!I528),\"\")","v":""}]
[{"$f":"IF(AND(Blad1!C529<>0,Blad1!D529>0),CONCATENATE(Enhet!$B$1,\";\",Blad3!H529,\";\",Blad3!I529),\"\")","v":""}]
[{"$f":"IF(AND(Blad1!C530<>0,Blad1!D530>0),CONCATENATE(Enhet!$B$1,\";\",Blad3!H530,\";\",Blad3!I530),\"\")","v":""}]
[{"$f":"IF(AND(Blad1!C531<>0,Blad1!D531>0),CONCATENATE(Enhet!$B$1,\";\",Blad3!H531,\";\",Blad3!I531),\"\")","v":""}]
[{"$f":"IF(AND(Blad1!C532<>0,Blad1!D532>0),CONCATENATE(Enhet!$B$1,\";\",Blad3!H532,\";\",Blad3!I532),\"\")","v":""}]
[{"$f":"IF(AND(Blad1!C533<>0,Blad1!D533>0),CONCATENATE(Enhet!$B$1,\";\",Blad3!H533,\";\",Blad3!I533),\"\")","v":""}]
[{"$f":"IF(AND(Blad1!C534<>0,Blad1!D534>0),CONCATENATE(Enhet!$B$1,\";\",Blad3!H534,\";\",Blad3!I534),\"\")","v":""}]
[{"$f":"IF(AND(Blad1!C535<>0,Blad1!D535>0),CONCATENATE(Enhet!$B$1,\";\",Blad3!H535,\";\",Blad3!I535),\"\")","v":""}]
[{"$f":"IF(AND(Blad1!C536<>0,Blad1!D536>0),CONCATENATE(Enhet!$B$1,\";\",Blad3!H536,\";\",Blad3!I536),\"\")","v":""}]
[{"$f":"IF(AND(Blad1!C537<>0,Blad1!D537>0),CONCATENATE(Enhet!$B$1,\";\",Blad3!H537,\";\",Blad3!I537),\"\")","v":""}]
[{"$f":"IF(AND(Blad1!C538<>0,Blad1!D538>0),CONCATENATE(Enhet!$B$1,\";\",Blad3!H538,\";\",Blad3!I538),\"\")","v":""}]
[{"$f":"IF(AND(Blad1!C539<>0,Blad1!D539>0),CONCATENATE(Enhet!$B$1,\";\",Blad3!H539,\";\",Blad3!I539),\"\")","v":""}]
[{"$f":"IF(AND(Blad1!C540<>0,Blad1!D540>0),CONCATENATE(Enhet!$B$1,\";\",Blad3!H540,\";\",Blad3!I540),\"\")","v":""}]
[{"$f":"IF(AND(Blad1!C541<>0,Blad1!D541>0),CONCATENATE(Enhet!$B$1,\";\",Blad3!H541,\";\",Blad3!I541),\"\")","v":""}]
[{"$f":"IF(AND(Blad1!C542<>0,Blad1!D542>0),CONCATENATE(Enhet!$B$1,\";\",Blad3!H542,\";\",Blad3!I542),\"\")","v":""}]
[{"$f":"IF(AND(Blad1!C543<>0,Blad1!D543>0),CONCATENATE(Enhet!$B$1,\";\",Blad3!H543,\";\",Blad3!I543),\"\")","v":""}]
[{"$f":"IF(AND(Blad1!C544<>0,Blad1!D544>0),CONCATENATE(Enhet!$B$1,\";\",Blad3!H544,\";\",Blad3!I544),\"\")","v":""}]
[{"$f":"IF(AND(Blad1!C545<>0,Blad1!D545>0),CONCATENATE(Enhet!$B$1,\";\",Blad3!H545,\";\",Blad3!I545),\"\")","v":""}]
[{"$f":"IF(AND(Blad1!C546<>0,Blad1!D546>0),CONCATENATE(Enhet!$B$1,\";\",Blad3!H546,\";\",Blad3!I546),\"\")","v":""}]
[{"$f":"IF(AND(Blad1!C547<>0,Blad1!D547>0),CONCATENATE(Enhet!$B$1,\";\",Blad3!H547,\";\",Blad3!I547),\"\")","v":""}]
[{"$f":"IF(AND(Blad1!C548<>0,Blad1!D548>0),CONCATENATE(Enhet!$B$1,\";\",Blad3!H548,\";\",Blad3!I548),\"\")","v":""}]
[{"$f":"IF(AND(Blad1!C549<>0,Blad1!D549>0),CONCATENATE(Enhet!$B$1,\";\",Blad3!H549,\";\",Blad3!I549),\"\")","v":""}]
[{"$f":"IF(AND(Blad1!C550<>0,Blad1!D550>0),CONCATENATE(Enhet!$B$1,\";\",Blad3!H550,\";\",Blad3!I550),\"\")","v":""}]
[{"$f":"IF(AND(Blad1!C551<>0,Blad1!D551>0),CONCATENATE(Enhet!$B$1,\";\",Blad3!H551,\";\",Blad3!I551),\"\")","v":""}]
[{"$f":"IF(AND(Blad1!C552<>0,Blad1!D552>0),CONCATENATE(Enhet!$B$1,\";\",Blad3!H552,\";\",Blad3!I552),\"\")","v":""}]
[{"$f":"IF(AND(Blad1!C553<>0,Blad1!D553>0),CONCATENATE(Enhet!$B$1,\";\",Blad3!H553,\";\",Blad3!I553),\"\")","v":""}]
[{"$f":"IF(AND(Blad1!C554<>0,Blad1!D554>0),CONCATENATE(Enhet!$B$1,\";\",Blad3!H554,\";\",Blad3!I554),\"\")","v":""}]
[{"$f":"IF(AND(Blad1!C555<>0,Blad1!D555>0),CONCATENATE(Enhet!$B$1,\";\",Blad3!H555,\";\",Blad3!I555),\"\")","v":""}]
[{"$f":"IF(AND(Blad1!C556<>0,Blad1!D556>0),CONCATENATE(Enhet!$B$1,\";\",Blad3!H556,\";\",Blad3!I556),\"\")","v":""}]
[{"$f":"IF(AND(Blad1!C557<>0,Blad1!D557>0),CONCATENATE(Enhet!$B$1,\";\",Blad3!H557,\";\",Blad3!I557),\"\")","v":""}]
[{"$f":"IF(AND(Blad1!C558<>0,Blad1!D558>0),CONCATENATE(Enhet!$B$1,\";\",Blad3!H558,\";\",Blad3!I558),\"\")","v":""}]
[{"$f":"IF(AND(Blad1!C559<>0,Blad1!D559>0),CONCATENATE(Enhet!$B$1,\";\",Blad3!H559,\";\",Blad3!I559),\"\")","v":""}]
[{"$f":"IF(AND(Blad1!C560<>0,Blad1!D560>0),CONCATENATE(Enhet!$B$1,\";\",Blad3!H560,\";\",Blad3!I560),\"\")","v":""}]
[{"$f":"IF(AND(Blad1!C561<>0,Blad1!D561>0),CONCATENATE(Enhet!$B$1,\";\",Blad3!H561,\";\",Blad3!I561),\"\")","v":""}]
[{"$f":"IF(AND(Blad1!C562<>0,Blad1!D562>0),CONCATENATE(Enhet!$B$1,\";\",Blad3!H562,\";\",Blad3!I562),\"\")","v":""}]
[{"$f":"IF(AND(Blad1!C563<>0,Blad1!D563>0),CONCATENATE(Enhet!$B$1,\";\",Blad3!H563,\";\",Blad3!I563),\"\")","v":""}]
[{"$f":"IF(AND(Blad1!C564<>0,Blad1!D564>0),CONCATENATE(Enhet!$B$1,\";\",Blad3!H564,\";\",Blad3!I564),\"\")","v":""}]
[{"$f":"IF(AND(Blad1!C565<>0,Blad1!D565>0),CONCATENATE(Enhet!$B$1,\";\",Blad3!H565,\";\",Blad3!I565),\"\")","v":""}]
[{"$f":"IF(AND(Blad1!C566<>0,Blad1!D566>0),CONCATENATE(Enhet!$B$1,\";\",Blad3!H566,\";\",Blad3!I566),\"\")","v":""}]
[{"$f":"IF(AND(Blad1!C567<>0,Blad1!D567>0),CONCATENATE(Enhet!$B$1,\";\",Blad3!H567,\";\",Blad3!I567),\"\")","v":""}]
[{"$f":"IF(AND(Blad1!C568<>0,Blad1!D568>0),CONCATENATE(Enhet!$B$1,\";\",Blad3!H568,\";\",Blad3!I568),\"\")","v":""}]
[{"$f":"IF(AND(Blad1!C569<>0,Blad1!D569>0),CONCATENATE(Enhet!$B$1,\";\",Blad3!H569,\";\",Blad3!I569),\"\")","v":""}]
[{"$f":"IF(AND(Blad1!C570<>0,Blad1!D570>0),CONCATENATE(Enhet!$B$1,\";\",Blad3!H570,\";\",Blad3!I570),\"\")","v":""}]
[{"$f":"IF(AND(Blad1!C571<>0,Blad1!D571>0),CONCATENATE(Enhet!$B$1,\";\",Blad3!H571,\";\",Blad3!I571),\"\")","v":""}]
[{"$f":"IF(AND(Blad1!C572<>0,Blad1!D572>0),CONCATENATE(Enhet!$B$1,\";\",Blad3!H572,\";\",Blad3!I572),\"\")","v":""}]
[{"$f":"IF(AND(Blad1!C573<>0,Blad1!D573>0),CONCATENATE(Enhet!$B$1,\";\",Blad3!H573,\";\",Blad3!I573),\"\")","v":""}]
[{"$f":"IF(AND(Blad1!C574<>0,Blad1!D574>0),CONCATENATE(Enhet!$B$1,\";\",Blad3!H574,\";\",Blad3!I574),\"\")","v":""}]
[{"$f":"IF(AND(Blad1!C575<>0,Blad1!D575>0),CONCATENATE(Enhet!$B$1,\";\",Blad3!H575,\";\",Blad3!I575),\"\")","v":""}]
[{"$f":"IF(AND(Blad1!C576<>0,Blad1!D576>0),CONCATENATE(Enhet!$B$1,\";\",Blad3!H576,\";\",Blad3!I576),\"\")","v":""}]
[{"$f":"IF(AND(Blad1!C577<>0,Blad1!D577>0),CONCATENATE(Enhet!$B$1,\";\",Blad3!H577,\";\",Blad3!I577),\"\")","v":""}]
[{"$f":"IF(AND(Blad1!C578<>0,Blad1!D578>0),CONCATENATE(Enhet!$B$1,\";\",Blad3!H578,\";\",Blad3!I578),\"\")","v":""}]
[{"$f":"IF(AND(Blad1!C579<>0,Blad1!D579>0),CONCATENATE(Enhet!$B$1,\";\",Blad3!H579,\";\",Blad3!I579),\"\")","v":""}]
[{"$f":"IF(AND(Blad1!C580<>0,Blad1!D580>0),CONCATENATE(Enhet!$B$1,\";\",Blad3!H580,\";\",Blad3!I580),\"\")","v":""}]
[{"$f":"IF(AND(Blad1!C581<>0,Blad1!D581>0),CONCATENATE(Enhet!$B$1,\";\",Blad3!H581,\";\",Blad3!I581),\"\")","v":""}]
[{"$f":"IF(AND(Blad1!C582<>0,Blad1!D582>0),CONCATENATE(Enhet!$B$1,\";\",Blad3!H582,\";\",Blad3!I582),\"\")","v":""}]
[{"$f":"IF(AND(Blad1!C583<>0,Blad1!D583>0),CONCATENATE(Enhet!$B$1,\";\",Blad3!H583,\";\",Blad3!I583),\"\")","v":""}]
[{"$f":"IF(AND(Blad1!C584<>0,Blad1!D584>0),CONCATENATE(Enhet!$B$1,\";\",Blad3!H584,\";\",Blad3!I584),\"\")","v":""}]
[{"$f":"IF(AND(Blad1!C585<>0,Blad1!D585>0),CONCATENATE(Enhet!$B$1,\";\",Blad3!H585,\";\",Blad3!I585),\"\")","v":""}]
[{"$f":"IF(AND(Blad1!C586<>0,Blad1!D586>0),CONCATENATE(Enhet!$B$1,\";\",Blad3!H586,\";\",Blad3!I586),\"\")","v":""}]
[{"$f":"IF(AND(Blad1!C587<>0,Blad1!D587>0),CONCATENATE(Enhet!$B$1,\";\",Blad3!H587,\";\",Blad3!I587),\"\")","v":""}]
[{"$f":"IF(AND(Blad1!C588<>0,Blad1!D588>0),CONCATENATE(Enhet!$B$1,\";\",Blad3!H588,\";\",Blad3!I588),\"\")","v":""}]
[{"$f":"IF(AND(Blad1!C589<>0,Blad1!D589>0),CONCATENATE(Enhet!$B$1,\";\",Blad3!H589,\";\",Blad3!I589),\"\")","v":""}]
[{"$f":"IF(AND(Blad1!C590<>0,Blad1!D590>0),CONCATENATE(Enhet!$B$1,\";\",Blad3!H590,\";\",Blad3!I590),\"\")","v":""}]
[{"$f":"IF(AND(Blad1!C591<>0,Blad1!D591>0),CONCATENATE(Enhet!$B$1,\";\",Blad3!H591,\";\",Blad3!I591),\"\")","v":""}]
[{"$f":"IF(AND(Blad1!C592<>0,Blad1!D592>0),CONCATENATE(Enhet!$B$1,\";\",Blad3!H592,\";\",Blad3!I592),\"\")","v":""}]
[{"$f":"IF(AND(Blad1!C593<>0,Blad1!D593>0),CONCATENATE(Enhet!$B$1,\";\",Blad3!H593,\";\",Blad3!I593),\"\")","v":""}]
[{"$f":"IF(AND(Blad1!C594<>0,Blad1!D594>0),CONCATENATE(Enhet!$B$1,\";\",Blad3!H594,\";\",Blad3!I594),\"\")","v":""}]
[{"$f":"IF(AND(Blad1!C595<>0,Blad1!D595>0),CONCATENATE(Enhet!$B$1,\";\",Blad3!H595,\";\",Blad3!I595),\"\")","v":""}]
[{"$f":"IF(AND(Blad1!C596<>0,Blad1!D596>0),CONCATENATE(Enhet!$B$1,\";\",Blad3!H596,\";\",Blad3!I596),\"\")","v":""}]
[{"$f":"IF(AND(Blad1!C597<>0,Blad1!D597>0),CONCATENATE(Enhet!$B$1,\";\",Blad3!H597,\";\",Blad3!I597),\"\")","v":""}]
[{"$f":"IF(AND(Blad1!C598<>0,Blad1!D598>0),CONCATENATE(Enhet!$B$1,\";\",Blad3!H598,\";\",Blad3!I598),\"\")","v":""}]
[{"$f":"IF(AND(Blad1!C599<>0,Blad1!D599>0),CONCATENATE(Enhet!$B$1,\";\",Blad3!H599,\";\",Blad3!I599),\"\")","v":""}]
[{"$f":"IF(AND(Blad1!C600<>0,Blad1!D600>0),CONCATENATE(Enhet!$B$1,\";\",Blad3!H600,\";\",Blad3!I600),\"\")","v":""}]
[{"$f":"IF(AND(Blad1!C601<>0,Blad1!D601>0),CONCATENATE(Enhet!$B$1,\";\",Blad3!H601,\";\",Blad3!I601),\"\")","v":""}]
[{"$f":"IF(AND(Blad1!C602<>0,Blad1!D602>0),CONCATENATE(Enhet!$B$1,\";\",Blad3!H602,\";\",Blad3!I602),\"\")","v":""}]
[{"$f":"IF(AND(Blad1!C603<>0,Blad1!D603>0),CONCATENATE(Enhet!$B$1,\";\",Blad3!H603,\";\",Blad3!I603),\"\")","v":""}]
[{"$f":"IF(AND(Blad1!C604<>0,Blad1!D604>0),CONCATENATE(Enhet!$B$1,\";\",Blad3!H604,\";\",Blad3!I604),\"\")","v":""}]
[{"$f":"IF(AND(Blad1!C605<>0,Blad1!D605>0),CONCATENATE(Enhet!$B$1,\";\",Blad3!H605,\";\",Blad3!I605),\"\")","v":""}]
[{"$f":"IF(AND(Blad1!C606<>0,Blad1!D606>0),CONCATENATE(Enhet!$B$1,\";\",Blad3!H606,\";\",Blad3!I606),\"\")","v":""}]
[{"$f":"IF(AND(Blad1!C607<>0,Blad1!D607>0),CONCATENATE(Enhet!$B$1,\";\",Blad3!H607,\";\",Blad3!I607),\"\")","v":""}]
[{"$f":"IF(AND(Blad1!C608<>0,Blad1!D608>0),CONCATENATE(Enhet!$B$1,\";\",Blad3!H608,\";\",Blad3!I608),\"\")","v":""}]
[{"$f":"IF(AND(Blad1!C609<>0,Blad1!D609>0),CONCATENATE(Enhet!$B$1,\";\",Blad3!H609,\";\",Blad3!I609),\"\")","v":""}]
[{"$f":"IF(AND(Blad1!C610<>0,Blad1!D610>0),CONCATENATE(Enhet!$B$1,\";\",Blad3!H610,\";\",Blad3!I610),\"\")","v":""}]
[{"$f":"IF(AND(Blad1!C611<>0,Blad1!D611>0),CONCATENATE(Enhet!$B$1,\";\",Blad3!H611,\";\",Blad3!I611),\"\")","v":""}]
[{"$f":"IF(AND(Blad1!C612<>0,Blad1!D612>0),CONCATENATE(Enhet!$B$1,\";\",Blad3!H612,\";\",Blad3!I612),\"\")","v":""}]
[{"$f":"IF(AND(Blad1!C613<>0,Blad1!D613>0),CONCATENATE(Enhet!$B$1,\";\",Blad3!H613,\";\",Blad3!I613),\"\")","v":""}]
[{"$f":"IF(AND(Blad1!C614<>0,Blad1!D614>0),CONCATENATE(Enhet!$B$1,\";\",Blad3!H614,\";\",Blad3!I614),\"\")","v":""}]
[{"$f":"IF(AND(Blad1!C615<>0,Blad1!D615>0),CONCATENATE(Enhet!$B$1,\";\",Blad3!H615,\";\",Blad3!I615),\"\")","v":""}]
[{"$f":"IF(AND(Blad1!C616<>0,Blad1!D616>0),CONCATENATE(Enhet!$B$1,\";\",Blad3!H616,\";\",Blad3!I616),\"\")","v":""}]
[{"$f":"IF(AND(Blad1!C617<>0,Blad1!D617>0),CONCATENATE(Enhet!$B$1,\";\",Blad3!H617,\";\",Blad3!I617),\"\")","v":""}]
[{"$f":"IF(AND(Blad1!C618<>0,Blad1!D618>0),CONCATENATE(Enhet!$B$1,\";\",Blad3!H618,\";\",Blad3!I618),\"\")","v":""}]
[{"$f":"IF(AND(Blad1!C619<>0,Blad1!D619>0),CONCATENATE(Enhet!$B$1,\";\",Blad3!H619,\";\",Blad3!I619),\"\")","v":""}]
[{"$f":"IF(AND(Blad1!C620<>0,Blad1!D620>0),CONCATENATE(Enhet!$B$1,\";\",Blad3!H620,\";\",Blad3!I620),\"\")","v":""}]
[{"$f":"IF(AND(Blad1!C621<>0,Blad1!D621>0),CONCATENATE(Enhet!$B$1,\";\",Blad3!H621,\";\",Blad3!I621),\"\")","v":""}]
[{"$f":"IF(AND(Blad1!C622<>0,Blad1!D622>0),CONCATENATE(Enhet!$B$1,\";\",Blad3!H622,\";\",Blad3!I622),\"\")","v":""}]
[{"$f":"IF(AND(Blad1!C623<>0,Blad1!D623>0),CONCATENATE(Enhet!$B$1,\";\",Blad3!H623,\";\",Blad3!I623),\"\")","v":""}]
[{"$f":"IF(AND(Blad1!C624<>0,Blad1!D624>0),CONCATENATE(Enhet!$B$1,\";\",Blad3!H624,\";\",Blad3!I624),\"\")","v":""}]
[{"$f":"IF(AND(Blad1!C625<>0,Blad1!D625>0),CONCATENATE(Enhet!$B$1,\";\",Blad3!H625,\";\",Blad3!I625),\"\")","v":""}]
[{"$f":"IF(AND(Blad1!C626<>0,Blad1!D626>0),CONCATENATE(Enhet!$B$1,\";\",Blad3!H626,\";\",Blad3!I626),\"\")","v":""}]
[{"$f":"IF(AND(Blad1!C627<>0,Blad1!D627>0),CONCATENATE(Enhet!$B$1,\";\",Blad3!H627,\";\",Blad3!I627),\"\")","v":""}]
[{"$f":"IF(AND(Blad1!C628<>0,Blad1!D628>0),CONCATENATE(Enhet!$B$1,\";\",Blad3!H628,\";\",Blad3!I628),\"\")","v":""}]
[{"$f":"IF(AND(Blad1!C629<>0,Blad1!D629>0),CONCATENATE(Enhet!$B$1,\";\",Blad3!H629,\";\",Blad3!I629),\"\")","v":""}]
[{"$f":"IF(AND(Blad1!C630<>0,Blad1!D630>0),CONCATENATE(Enhet!$B$1,\";\",Blad3!H630,\";\",Blad3!I630),\"\")","v":""}]
[{"$f":"IF(AND(Blad1!C631<>0,Blad1!D631>0),CONCATENATE(Enhet!$B$1,\";\",Blad3!H631,\";\",Blad3!I631),\"\")","v":""}]
[{"$f":"IF(AND(Blad1!C632<>0,Blad1!D632>0),CONCATENATE(Enhet!$B$1,\";\",Blad3!H632,\";\",Blad3!I632),\"\")","v":""}]
[{"$f":"IF(AND(Blad1!C633<>0,Blad1!D633>0),CONCATENATE(Enhet!$B$1,\";\",Blad3!H633,\";\",Blad3!I633),\"\")","v":""}]
[{"$f":"IF(AND(Blad1!C634<>0,Blad1!D634>0),CONCATENATE(Enhet!$B$1,\";\",Blad3!H634,\";\",Blad3!I634),\"\")","v":""}]
[{"$f":"IF(AND(Blad1!C635<>0,Blad1!D635>0),CONCATENATE(Enhet!$B$1,\";\",Blad3!H635,\";\",Blad3!I635),\"\")","v":""}]
[{"$f":"IF(AND(Blad1!C636<>0,Blad1!D636>0),CONCATENATE(Enhet!$B$1,\";\",Blad3!H636,\";\",Blad3!I636),\"\")","v":""}]
[{"$f":"IF(AND(Blad1!C637<>0,Blad1!D637>0),CONCATENATE(Enhet!$B$1,\";\",Blad3!H637,\";\",Blad3!I637),\"\")","v":""}]
[{"$f":"IF(AND(Blad1!C638<>0,Blad1!D638>0),CONCATENATE(Enhet!$B$1,\";\",Blad3!H638,\";\",Blad3!I638),\"\")","v":""}]
[{"$f":"IF(AND(Blad1!C639<>0,Blad1!D639>0),CONCATENATE(Enhet!$B$1,\";\",Blad3!H639,\";\",Blad3!I639),\"\")","v":""}]
[{"$f":"IF(AND(Blad1!C640<>0,Blad1!D640>0),CONCATENATE(Enhet!$B$1,\";\",Blad3!H640,\";\",Blad3!I640),\"\")","v":""}]
[{"$f":"IF(AND(Blad1!C641<>0,Blad1!D641>0),CONCATENATE(Enhet!$B$1,\";\",Blad3!H641,\";\",Blad3!I641),\"\")","v":""}]
[{"$f":"IF(AND(Blad1!C642<>0,Blad1!D642>0),CONCATENATE(Enhet!$B$1,\";\",Blad3!H642,\";\",Blad3!I642),\"\")","v":""}]
[{"$f":"IF(AND(Blad1!C643<>0,Blad1!D643>0),CONCATENATE(Enhet!$B$1,\";\",Blad3!H643,\";\",Blad3!I643),\"\")","v":""}]
[{"$f":"IF(AND(Blad1!C644<>0,Blad1!D644>0),CONCATENATE(Enhet!$B$1,\";\",Blad3!H644,\";\",Blad3!I644),\"\")","v":""}]
[{"$f":"IF(AND(Blad1!C645<>0,Blad1!D645>0),CONCATENATE(Enhet!$B$1,\";\",Blad3!H645,\";\",Blad3!I645),\"\")","v":""}]
[{"$f":"IF(AND(Blad1!C646<>0,Blad1!D646>0),CONCATENATE(Enhet!$B$1,\";\",Blad3!H646,\";\",Blad3!I646),\"\")","v":""}]
[{"$f":"IF(AND(Blad1!C647<>0,Blad1!D647>0),CONCATENATE(Enhet!$B$1,\";\",Blad3!H647,\";\",Blad3!I647),\"\")","v":""}]
[{"$f":"IF(AND(Blad1!C648<>0,Blad1!D648>0),CONCATENATE(Enhet!$B$1,\";\",Blad3!H648,\";\",Blad3!I648),\"\")","v":""}]
[{"$f":"IF(AND(Blad1!C649<>0,Blad1!D649>0),CONCATENATE(Enhet!$B$1,\";\",Blad3!H649,\";\",Blad3!I649),\"\")","v":""}]
[{"$f":"IF(AND(Blad1!C650<>0,Blad1!D650>0),CONCATENATE(Enhet!$B$1,\";\",Blad3!H650,\";\",Blad3!I650),\"\")","v":""}]
[{"$f":"IF(AND(Blad1!C651<>0,Blad1!D651>0),CONCATENATE(Enhet!$B$1,\";\",Blad3!H651,\";\",Blad3!I651),\"\")","v":""}]
[{"$f":"IF(AND(Blad1!C652<>0,Blad1!D652>0),CONCATENATE(Enhet!$B$1,\";\",Blad3!H652,\";\",Blad3!I652),\"\")","v":""}]
[{"$f":"IF(AND(Blad1!C653<>0,Blad1!D653>0),CONCATENATE(Enhet!$B$1,\";\",Blad3!H653,\";\",Blad3!I653),\"\")","v":""}]
[{"$f":"IF(AND(Blad1!C654<>0,Blad1!D654>0),CONCATENATE(Enhet!$B$1,\";\",Blad3!H654,\";\",Blad3!I654),\"\")","v":""}]
[{"$f":"IF(AND(Blad1!C655<>0,Blad1!D655>0),CONCATENATE(Enhet!$B$1,\";\",Blad3!H655,\";\",Blad3!I655),\"\")","v":""}]
[{"$f":"IF(AND(Blad1!C656<>0,Blad1!D656>0),CONCATENATE(Enhet!$B$1,\";\",Blad3!H656,\";\",Blad3!I656),\"\")","v":""}]
[{"$f":"IF(AND(Blad1!C657<>0,Blad1!D657>0),CONCATENATE(Enhet!$B$1,\";\",Blad3!H657,\";\",Blad3!I657),\"\")","v":""}]
[{"$f":"IF(AND(Blad1!C658<>0,Blad1!D658>0),CONCATENATE(Enhet!$B$1,\";\",Blad3!H658,\";\",Blad3!I658),\"\")","v":""}]
[{"$f":"IF(AND(Blad1!C659<>0,Blad1!D659>0),CONCATENATE(Enhet!$B$1,\";\",Blad3!H659,\";\",Blad3!I659),\"\")","v":""}]
[{"$f":"IF(AND(Blad1!C660<>0,Blad1!D660>0),CONCATENATE(Enhet!$B$1,\";\",Blad3!H660,\";\",Blad3!I660),\"\")","v":""}]
[{"$f":"IF(AND(Blad1!C661<>0,Blad1!D661>0),CONCATENATE(Enhet!$B$1,\";\",Blad3!H661,\";\",Blad3!I661),\"\")","v":""}]
[{"$f":"IF(AND(Blad1!C662<>0,Blad1!D662>0),CONCATENATE(Enhet!$B$1,\";\",Blad3!H662,\";\",Blad3!I662),\"\")","v":""}]
[{"$f":"IF(AND(Blad1!C663<>0,Blad1!D663>0),CONCATENATE(Enhet!$B$1,\";\",Blad3!H663,\";\",Blad3!I663),\"\")","v":""}]
[{"$f":"IF(AND(Blad1!C664<>0,Blad1!D664>0),CONCATENATE(Enhet!$B$1,\";\",Blad3!H664,\";\",Blad3!I664),\"\")","v":""}]
[{"$f":"IF(AND(Blad1!C665<>0,Blad1!D665>0),CONCATENATE(Enhet!$B$1,\";\",Blad3!H665,\";\",Blad3!I665),\"\")","v":""}]
[{"$f":"IF(AND(Blad1!C666<>0,Blad1!D666>0),CONCATENATE(Enhet!$B$1,\";\",Blad3!H666,\";\",Blad3!I666),\"\")","v":""}]
[{"$f":"IF(AND(Blad1!C667<>0,Blad1!D667>0),CONCATENATE(Enhet!$B$1,\";\",Blad3!H667,\";\",Blad3!I667),\"\")","v":""}]
[{"$f":"IF(AND(Blad1!C668<>0,Blad1!D668>0),CONCATENATE(Enhet!$B$1,\";\",Blad3!H668,\";\",Blad3!I668),\"\")","v":""}]
[{"$f":"IF(AND(Blad1!C669<>0,Blad1!D669>0),CONCATENATE(Enhet!$B$1,\";\",Blad3!H669,\";\",Blad3!I669),\"\")","v":""}]
[{"$f":"IF(AND(Blad1!C670<>0,Blad1!D670>0),CONCATENATE(Enhet!$B$1,\";\",Blad3!H670,\";\",Blad3!I670),\"\")","v":""}]
[{"$f":"IF(AND(Blad1!C671<>0,Blad1!D671>0),CONCATENATE(Enhet!$B$1,\";\",Blad3!H671,\";\",Blad3!I671),\"\")","v":""}]
[{"$f":"IF(AND(Blad1!C672<>0,Blad1!D672>0),CONCATENATE(Enhet!$B$1,\";\",Blad3!H672,\";\",Blad3!I672),\"\")","v":""}]
[{"$f":"IF(AND(Blad1!C673<>0,Blad1!D673>0),CONCATENATE(Enhet!$B$1,\";\",Blad3!H673,\";\",Blad3!I673),\"\")","v":""}]
[{"$f":"IF(AND(Blad1!C674<>0,Blad1!D674>0),CONCATENATE(Enhet!$B$1,\";\",Blad3!H674,\";\",Blad3!I674),\"\")","v":""}]
[{"$f":"IF(AND(Blad1!C675<>0,Blad1!D675>0),CONCATENATE(Enhet!$B$1,\";\",Blad3!H675,\";\",Blad3!I675),\"\")","v":""}]
[{"$f":"IF(AND(Blad1!C676<>0,Blad1!D676>0),CONCATENATE(Enhet!$B$1,\";\",Blad3!H676,\";\",Blad3!I676),\"\")","v":""}]
[{"$f":"IF(AND(Blad1!C677<>0,Blad1!D677>0),CONCATENATE(Enhet!$B$1,\";\",Blad3!H677,\";\",Blad3!I677),\"\")","v":""}]
[{"$f":"IF(AND(Blad1!C678<>0,Blad1!D678>0),CONCATENATE(Enhet!$B$1,\";\",Blad3!H678,\";\",Blad3!I678),\"\")","v":""}]
[{"$f":"IF(AND(Blad1!C679<>0,Blad1!D679>0),CONCATENATE(Enhet!$B$1,\";\",Blad3!H679,\";\",Blad3!I679),\"\")","v":""}]
[{"$f":"IF(AND(Blad1!C680<>0,Blad1!D680>0),CONCATENATE(Enhet!$B$1,\";\",Blad3!H680,\";\",Blad3!I680),\"\")","v":""}]
[{"$f":"IF(AND(Blad1!C681<>0,Blad1!D681>0),CONCATENATE(Enhet!$B$1,\";\",Blad3!H681,\";\",Blad3!I681),\"\")","v":""}]
[{"$f":"IF(AND(Blad1!C682<>0,Blad1!D682>0),CONCATENATE(Enhet!$B$1,\";\",Blad3!H682,\";\",Blad3!I682),\"\")","v":""}]
[{"$f":"IF(AND(Blad1!C683<>0,Blad1!D683>0),CONCATENATE(Enhet!$B$1,\";\",Blad3!H683,\";\",Blad3!I683),\"\")","v":""}]
[{"$f":"IF(AND(Blad1!C684<>0,Blad1!D684>0),CONCATENATE(Enhet!$B$1,\";\",Blad3!H684,\";\",Blad3!I684),\"\")","v":""}]
[{"$f":"IF(AND(Blad1!C685<>0,Blad1!D685>0),CONCATENATE(Enhet!$B$1,\";\",Blad3!H685,\";\",Blad3!I685),\"\")","v":""}]
[{"$f":"IF(AND(Blad1!C686<>0,Blad1!D686>0),CONCATENATE(Enhet!$B$1,\";\",Blad3!H686,\";\",Blad3!I686),\"\")","v":""}]
[{"$f":"IF(AND(Blad1!C687<>0,Blad1!D687>0),CONCATENATE(Enhet!$B$1,\";\",Blad3!H687,\";\",Blad3!I687),\"\")","v":""}]
[{"$f":"IF(AND(Blad1!C688<>0,Blad1!D688>0),CONCATENATE(Enhet!$B$1,\";\",Blad3!H688,\";\",Blad3!I688),\"\")","v":""}]
[{"$f":"IF(AND(Blad1!C689<>0,Blad1!D689>0),CONCATENATE(Enhet!$B$1,\";\",Blad3!H689,\";\",Blad3!I689),\"\")","v":""}]
[{"$f":"IF(AND(Blad1!C690<>0,Blad1!D690>0),CONCATENATE(Enhet!$B$1,\";\",Blad3!H690,\";\",Blad3!I690),\"\")","v":""}]
[{"$f":"IF(AND(Blad1!C691<>0,Blad1!D691>0),CONCATENATE(Enhet!$B$1,\";\",Blad3!H691,\";\",Blad3!I691),\"\")","v":""}]
[{"$f":"IF(AND(Blad1!C692<>0,Blad1!D692>0),CONCATENATE(Enhet!$B$1,\";\",Blad3!H692,\";\",Blad3!I692),\"\")","v":""}]
[{"$f":"IF(AND(Blad1!C693<>0,Blad1!D693>0),CONCATENATE(Enhet!$B$1,\";\",Blad3!H693,\";\",Blad3!I693),\"\")","v":""}]
[{"$f":"IF(AND(Blad1!C694<>0,Blad1!D694>0),CONCATENATE(Enhet!$B$1,\";\",Blad3!H694,\";\",Blad3!I694),\"\")","v":""}]
[{"$f":"IF(AND(Blad1!C695<>0,Blad1!D695>0),CONCATENATE(Enhet!$B$1,\";\",Blad3!H695,\";\",Blad3!I695),\"\")","v":""}]
[{"$f":"IF(AND(Blad1!C696<>0,Blad1!D696>0),CONCATENATE(Enhet!$B$1,\";\",Blad3!H696,\";\",Blad3!I696),\"\")","v":""}]
[{"$f":"IF(AND(Blad1!C697<>0,Blad1!D697>0),CONCATENATE(Enhet!$B$1,\";\",Blad3!H697,\";\",Blad3!I697),\"\")","v":""}]
[{"$f":"IF(AND(Blad1!C698<>0,Blad1!D698>0),CONCATENATE(Enhet!$B$1,\";\",Blad3!H698,\";\",Blad3!I698),\"\")","v":""}]
[{"$f":"IF(AND(Blad1!C699<>0,Blad1!D699>0),CONCATENATE(Enhet!$B$1,\";\",Blad3!H699,\";\",Blad3!I699),\"\")","v":""}]
[{"$f":"IF(AND(Blad1!C700<>0,Blad1!D700>0),CONCATENATE(Enhet!$B$1,\";\",Blad3!H700,\";\",Blad3!I700),\"\")","v":""}]
[{"$f":"IF(AND(Blad1!C701<>0,Blad1!D701>0),CONCATENATE(Enhet!$B$1,\";\",Blad3!H701,\";\",Blad3!I701),\"\")","v":""}]
[{"$f":"IF(AND(Blad1!C702<>0,Blad1!D702>0),CONCATENATE(Enhet!$B$1,\";\",Blad3!H702,\";\",Blad3!I702),\"\")","v":""}]
[{"$f":"IF(AND(Blad1!C703<>0,Blad1!D703>0),CONCATENATE(Enhet!$B$1,\";\",Blad3!H703,\";\",Blad3!I703),\"\")","v":""}]
[{"$f":"IF(AND(Blad1!C704<>0,Blad1!D704>0),CONCATENATE(Enhet!$B$1,\";\",Blad3!H704,\";\",Blad3!I704),\"\")","v":""}]
[{"$f":"IF(AND(Blad1!C705<>0,Blad1!D705>0),CONCATENATE(Enhet!$B$1,\";\",Blad3!H705,\";\",Blad3!I705),\"\")","v":""}]
[{"$f":"IF(AND(Blad1!C706<>0,Blad1!D706>0),CONCATENATE(Enhet!$B$1,\";\",Blad3!H706,\";\",Blad3!I706),\"\")","v":""}]
[{"$f":"IF(AND(Blad1!C707<>0,Blad1!D707>0),CONCATENATE(Enhet!$B$1,\";\",Blad3!H707,\";\",Blad3!I707),\"\")","v":""}]
[{"$f":"IF(AND(Blad1!C708<>0,Blad1!D708>0),CONCATENATE(Enhet!$B$1,\";\",Blad3!H708,\";\",Blad3!I708),\"\")","v":""}]
[{"$f":"IF(AND(Blad1!C709<>0,Blad1!D709>0),CONCATENATE(Enhet!$B$1,\";\",Blad3!H709,\";\",Blad3!I709),\"\")","v":""}]
[{"$f":"IF(AND(Blad1!C710<>0,Blad1!D710>0),CONCATENATE(Enhet!$B$1,\";\",Blad3!H710,\";\",Blad3!I710),\"\")","v":""}]
[{"$f":"IF(AND(Blad1!C711<>0,Blad1!D711>0),CONCATENATE(Enhet!$B$1,\";\",Blad3!H711,\";\",Blad3!I711),\"\")","v":""}]
[{"$f":"IF(AND(Blad1!C712<>0,Blad1!D712>0),CONCATENATE(Enhet!$B$1,\";\",Blad3!H712,\";\",Blad3!I712),\"\")","v":""}]
[{"$f":"IF(AND(Blad1!C713<>0,Blad1!D713>0),CONCATENATE(Enhet!$B$1,\";\",Blad3!H713,\";\",Blad3!I713),\"\")","v":""}]
[{"$f":"IF(AND(Blad1!C714<>0,Blad1!D714>0),CONCATENATE(Enhet!$B$1,\";\",Blad3!H714,\";\",Blad3!I714),\"\")","v":""}]
[{"$f":"IF(AND(Blad1!C715<>0,Blad1!D715>0),CONCATENATE(Enhet!$B$1,\";\",Blad3!H715,\";\",Blad3!I715),\"\")","v":""}]
[{"$f":"IF(AND(Blad1!C716<>0,Blad1!D716>0),CONCATENATE(Enhet!$B$1,\";\",Blad3!H716,\";\",Blad3!I716),\"\")","v":""}]
[{"$f":"IF(AND(Blad1!C717<>0,Blad1!D717>0),CONCATENATE(Enhet!$B$1,\";\",Blad3!H717,\";\",Blad3!I717),\"\")","v":""}]
[{"$f":"IF(AND(Blad1!C718<>0,Blad1!D718>0),CONCATENATE(Enhet!$B$1,\";\",Blad3!H718,\";\",Blad3!I718),\"\")","v":""}]
[{"$f":"IF(AND(Blad1!C719<>0,Blad1!D719>0),CONCATENATE(Enhet!$B$1,\";\",Blad3!H719,\";\",Blad3!I719),\"\")","v":""}]
[{"$f":"IF(AND(Blad1!C720<>0,Blad1!D720>0),CONCATENATE(Enhet!$B$1,\";\",Blad3!H720,\";\",Blad3!I720),\"\")","v":""}]
[{"$f":"IF(AND(Blad1!C721<>0,Blad1!D721>0),CONCATENATE(Enhet!$B$1,\";\",Blad3!H721,\";\",Blad3!I721),\"\")","v":""}]
[{"$f":"IF(AND(Blad1!C722<>0,Blad1!D722>0),CONCATENATE(Enhet!$B$1,\";\",Blad3!H722,\";\",Blad3!I722),\"\")","v":""}]
[{"$f":"IF(AND(Blad1!C723<>0,Blad1!D723>0),CONCATENATE(Enhet!$B$1,\";\",Blad3!H723,\";\",Blad3!I723),\"\")","v":""}]
[{"$f":"IF(AND(Blad1!C724<>0,Blad1!D724>0),CONCATENATE(Enhet!$B$1,\";\",Blad3!H724,\";\",Blad3!I724),\"\")","v":""}]
[{"$f":"IF(AND(Blad1!C725<>0,Blad1!D725>0),CONCATENATE(Enhet!$B$1,\";\",Blad3!H725,\";\",Blad3!I725),\"\")","v":""}]
[{"$f":"IF(AND(Blad1!C726<>0,Blad1!D726>0),CONCATENATE(Enhet!$B$1,\";\",Blad3!H726,\";\",Blad3!I726),\"\")","v":""}]
[{"$f":"IF(AND(Blad1!C727<>0,Blad1!D727>0),CONCATENATE(Enhet!$B$1,\";\",Blad3!H727,\";\",Blad3!I727),\"\")","v":""}]
[{"$f":"IF(AND(Blad1!C728<>0,Blad1!D728>0),CONCATENATE(Enhet!$B$1,\";\",Blad3!H728,\";\",Blad3!I728),\"\")","v":""}]
[{"$f":"IF(AND(Blad1!C729<>0,Blad1!D729>0),CONCATENATE(Enhet!$B$1,\";\",Blad3!H729,\";\",Blad3!I729),\"\")","v":""}]
[{"$f":"IF(AND(Blad1!C730<>0,Blad1!D730>0),CONCATENATE(Enhet!$B$1,\";\",Blad3!H730,\";\",Blad3!I730),\"\")","v":""}]
[{"$f":"IF(AND(Blad1!C731<>0,Blad1!D731>0),CONCATENATE(Enhet!$B$1,\";\",Blad3!H731,\";\",Blad3!I731),\"\")","v":""}]
[{"$f":"IF(AND(Blad1!C732<>0,Blad1!D732>0),CONCATENATE(Enhet!$B$1,\";\",Blad3!H732,\";\",Blad3!I732),\"\")","v":""}]
[{"$f":"IF(AND(Blad1!C733<>0,Blad1!D733>0),CONCATENATE(Enhet!$B$1,\";\",Blad3!H733,\";\",Blad3!I733),\"\")","v":""}]
[{"$f":"IF(AND(Blad1!C734<>0,Blad1!D734>0),CONCATENATE(Enhet!$B$1,\";\",Blad3!H734,\";\",Blad3!I734),\"\")","v":""}]
[{"$f":"IF(AND(Blad1!C735<>0,Blad1!D735>0),CONCATENATE(Enhet!$B$1,\";\",Blad3!H735,\";\",Blad3!I735),\"\")","v":""}]
[{"$f":"IF(AND(Blad1!C736<>0,Blad1!D736>0),CONCATENATE(Enhet!$B$1,\";\",Blad3!H736,\";\",Blad3!I736),\"\")","v":""}]
[{"$f":"IF(AND(Blad1!C737<>0,Blad1!D737>0),CONCATENATE(Enhet!$B$1,\";\",Blad3!H737,\";\",Blad3!I737),\"\")","v":""}]
[{"$f":"IF(AND(Blad1!C738<>0,Blad1!D738>0),CONCATENATE(Enhet!$B$1,\";\",Blad3!H738,\";\",Blad3!I738),\"\")","v":""}]
[{"$f":"IF(AND(Blad1!C739<>0,Blad1!D739>0),CONCATENATE(Enhet!$B$1,\";\",Blad3!H739,\";\",Blad3!I739),\"\")","v":""}]
[{"$f":"IF(AND(Blad1!C740<>0,Blad1!D740>0),CONCATENATE(Enhet!$B$1,\";\",Blad3!H740,\";\",Blad3!I740),\"\")","v":""}]
[{"$f":"IF(AND(Blad1!C741<>0,Blad1!D741>0),CONCATENATE(Enhet!$B$1,\";\",Blad3!H741,\";\",Blad3!I741),\"\")","v":""}]
[{"$f":"IF(AND(Blad1!C742<>0,Blad1!D742>0),CONCATENATE(Enhet!$B$1,\";\",Blad3!H742,\";\",Blad3!I742),\"\")","v":""}]
[{"$f":"IF(AND(Blad1!C743<>0,Blad1!D743>0),CONCATENATE(Enhet!$B$1,\";\",Blad3!H743,\";\",Blad3!I743),\"\")","v":""}]
[{"$f":"IF(AND(Blad1!C744<>0,Blad1!D744>0),CONCATENATE(Enhet!$B$1,\";\",Blad3!H744,\";\",Blad3!I744),\"\")","v":""}]
[{"$f":"IF(AND(Blad1!C745<>0,Blad1!D745>0),CONCATENATE(Enhet!$B$1,\";\",Blad3!H745,\";\",Blad3!I745),\"\")","v":""}]
[{"$f":"IF(AND(Blad1!C746<>0,Blad1!D746>0),CONCATENATE(Enhet!$B$1,\";\",Blad3!H746,\";\",Blad3!I746),\"\")","v":""}]
[{"$f":"IF(AND(Blad1!C747<>0,Blad1!D747>0),CONCATENATE(Enhet!$B$1,\";\",Blad3!H747,\";\",Blad3!I747),\"\")","v":""}]
[{"$f":"IF(AND(Blad1!C748<>0,Blad1!D748>0),CONCATENATE(Enhet!$B$1,\";\",Blad3!H748,\";\",Blad3!I748),\"\")","v":""}]
[{"$f":"IF(AND(Blad1!C749<>0,Blad1!D749>0),CONCATENATE(Enhet!$B$1,\";\",Blad3!H749,\";\",Blad3!I749),\"\")","v":""}]
[{"$f":"IF(AND(Blad1!C750<>0,Blad1!D750>0),CONCATENATE(Enhet!$B$1,\";\",Blad3!H750,\";\",Blad3!I750),\"\")","v":""}]
[{"$f":"IF(AND(Blad1!C751<>0,Blad1!D751>0),CONCATENATE(Enhet!$B$1,\";\",Blad3!H751,\";\",Blad3!I751),\"\")","v":""}]
[{"$f":"IF(AND(Blad1!C752<>0,Blad1!D752>0),CONCATENATE(Enhet!$B$1,\";\",Blad3!H752,\";\",Blad3!I752),\"\")","v":""}]
[{"$f":"IF(AND(Blad1!C753<>0,Blad1!D753>0),CONCATENATE(Enhet!$B$1,\";\",Blad3!H753,\";\",Blad3!I753),\"\")","v":""}]
[{"$f":"IF(AND(Blad1!C754<>0,Blad1!D754>0),CONCATENATE(Enhet!$B$1,\";\",Blad3!H754,\";\",Blad3!I754),\"\")","v":""}]
[{"$f":"IF(AND(Blad1!C755<>0,Blad1!D755>0),CONCATENATE(Enhet!$B$1,\";\",Blad3!H755,\";\",Blad3!I755),\"\")","v":""}]
[{"$f":"IF(AND(Blad1!C756<>0,Blad1!D756>0),CONCATENATE(Enhet!$B$1,\";\",Blad3!H756,\";\",Blad3!I756),\"\")","v":""}]
[{"$f":"IF(AND(Blad1!C757<>0,Blad1!D757>0),CONCATENATE(Enhet!$B$1,\";\",Blad3!H757,\";\",Blad3!I757),\"\")","v":""}]
[{"$f":"IF(AND(Blad1!C758<>0,Blad1!D758>0),CONCATENATE(Enhet!$B$1,\";\",Blad3!H758,\";\",Blad3!I758),\"\")","v":""}]
[{"$f":"IF(AND(Blad1!C759<>0,Blad1!D759>0),CONCATENATE(Enhet!$B$1,\";\",Blad3!H759,\";\",Blad3!I759),\"\")","v":""}]
[{"$f":"IF(AND(Blad1!C760<>0,Blad1!D760>0),CONCATENATE(Enhet!$B$1,\";\",Blad3!H760,\";\",Blad3!I760),\"\")","v":""}]
[{"$f":"IF(AND(Blad1!C761<>0,Blad1!D761>0),CONCATENATE(Enhet!$B$1,\";\",Blad3!H761,\";\",Blad3!I761),\"\")","v":""}]
[{"$f":"IF(AND(Blad1!C762<>0,Blad1!D762>0),CONCATENATE(Enhet!$B$1,\";\",Blad3!H762,\";\",Blad3!I762),\"\")","v":""}]
[{"$f":"IF(AND(Blad1!C763<>0,Blad1!D763>0),CONCATENATE(Enhet!$B$1,\";\",Blad3!H763,\";\",Blad3!I763),\"\")","v":""}]
[{"$f":"IF(AND(Blad1!C764<>0,Blad1!D764>0),CONCATENATE(Enhet!$B$1,\";\",Blad3!H764,\";\",Blad3!I764),\"\")","v":""}]
[{"$f":"IF(AND(Blad1!C765<>0,Blad1!D765>0),CONCATENATE(Enhet!$B$1,\";\",Blad3!H765,\";\",Blad3!I765),\"\")","v":""}]
[{"$f":"IF(AND(Blad1!C766<>0,Blad1!D766>0),CONCATENATE(Enhet!$B$1,\";\",Blad3!H766,\";\",Blad3!I766),\"\")","v":""}]
[{"$f":"IF(AND(Blad1!C767<>0,Blad1!D767>0),CONCATENATE(Enhet!$B$1,\";\",Blad3!H767,\";\",Blad3!I767),\"\")","v":""}]
[{"$f":"IF(AND(Blad1!C768<>0,Blad1!D768>0),CONCATENATE(Enhet!$B$1,\";\",Blad3!H768,\";\",Blad3!I768),\"\")","v":""}]
[{"$f":"IF(AND(Blad1!C769<>0,Blad1!D769>0),CONCATENATE(Enhet!$B$1,\";\",Blad3!H769,\";\",Blad3!I769),\"\")","v":""}]
[{"$f":"IF(AND(Blad1!C770<>0,Blad1!D770>0),CONCATENATE(Enhet!$B$1,\";\",Blad3!H770,\";\",Blad3!I770),\"\")","v":""}]
[{"$f":"IF(AND(Blad1!C771<>0,Blad1!D771>0),CONCATENATE(Enhet!$B$1,\";\",Blad3!H771,\";\",Blad3!I771),\"\")","v":""}]
[{"$f":"IF(AND(Blad1!C772<>0,Blad1!D772>0),CONCATENATE(Enhet!$B$1,\";\",Blad3!H772,\";\",Blad3!I772),\"\")","v":""}]
[{"$f":"IF(AND(Blad1!C773<>0,Blad1!D773>0),CONCATENATE(Enhet!$B$1,\";\",Blad3!H773,\";\",Blad3!I773),\"\")","v":""}]
[{"$f":"IF(AND(Blad1!C774<>0,Blad1!D774>0),CONCATENATE(Enhet!$B$1,\";\",Blad3!H774,\";\",Blad3!I774),\"\")","v":""}]
[{"$f":"IF(AND(Blad1!C775<>0,Blad1!D775>0),CONCATENATE(Enhet!$B$1,\";\",Blad3!H775,\";\",Blad3!I775),\"\")","v":""}]
[{"$f":"IF(AND(Blad1!C776<>0,Blad1!D776>0),CONCATENATE(Enhet!$B$1,\";\",Blad3!H776,\";\",Blad3!I776),\"\")","v":""}]
[{"$f":"IF(AND(Blad1!C777<>0,Blad1!D777>0),CONCATENATE(Enhet!$B$1,\";\",Blad3!H777,\";\",Blad3!I777),\"\")","v":""}]
[{"$f":"IF(AND(Blad1!C778<>0,Blad1!D778>0),CONCATENATE(Enhet!$B$1,\";\",Blad3!H778,\";\",Blad3!I778),\"\")","v":""}]
[{"$f":"IF(AND(Blad1!C779<>0,Blad1!D779>0),CONCATENATE(Enhet!$B$1,\";\",Blad3!H779,\";\",Blad3!I779),\"\")","v":""}]
[{"$f":"IF(AND(Blad1!C780<>0,Blad1!D780>0),CONCATENATE(Enhet!$B$1,\";\",Blad3!H780,\";\",Blad3!I780),\"\")","v":""}]
[{"$f":"IF(AND(Blad1!C781<>0,Blad1!D781>0),CONCATENATE(Enhet!$B$1,\";\",Blad3!H781,\";\",Blad3!I781),\"\")","v":""}]
[{"$f":"IF(AND(Blad1!C782<>0,Blad1!D782>0),CONCATENATE(Enhet!$B$1,\";\",Blad3!H782,\";\",Blad3!I782),\"\")","v":""}]
[{"$f":"IF(AND(Blad1!C783<>0,Blad1!D783>0),CONCATENATE(Enhet!$B$1,\";\",Blad3!H783,\";\",Blad3!I783),\"\")","v":""}]
[{"$f":"IF(AND(Blad1!C784<>0,Blad1!D784>0),CONCATENATE(Enhet!$B$1,\";\",Blad3!H784,\";\",Blad3!I784),\"\")","v":""}]
[{"$f":"IF(AND(Blad1!C785<>0,Blad1!D785>0),CONCATENATE(Enhet!$B$1,\";\",Blad3!H785,\";\",Blad3!I785),\"\")","v":""}]
[{"$f":"IF(AND(Blad1!C786<>0,Blad1!D786>0),CONCATENATE(Enhet!$B$1,\";\",Blad3!H786,\";\",Blad3!I786),\"\")","v":""}]
[{"$f":"IF(AND(Blad1!C787<>0,Blad1!D787>0),CONCATENATE(Enhet!$B$1,\";\",Blad3!H787,\";\",Blad3!I787),\"\")","v":""}]
[{"$f":"IF(AND(Blad1!C788<>0,Blad1!D788>0),CONCATENATE(Enhet!$B$1,\";\",Blad3!H788,\";\",Blad3!I788),\"\")","v":""}]
[{"$f":"IF(AND(Blad1!C789<>0,Blad1!D789>0),CONCATENATE(Enhet!$B$1,\";\",Blad3!H789,\";\",Blad3!I789),\"\")","v":""}]
[{"$f":"IF(AND(Blad1!C790<>0,Blad1!D790>0),CONCATENATE(Enhet!$B$1,\";\",Blad3!H790,\";\",Blad3!I790),\"\")","v":""}]
[{"$f":"IF(AND(Blad1!C791<>0,Blad1!D791>0),CONCATENATE(Enhet!$B$1,\";\",Blad3!H791,\";\",Blad3!I791),\"\")","v":""}]
[{"$f":"IF(AND(Blad1!C792<>0,Blad1!D792>0),CONCATENATE(Enhet!$B$1,\";\",Blad3!H792,\";\",Blad3!I792),\"\")","v":""}]
[{"$f":"IF(AND(Blad1!C793<>0,Blad1!D793>0),CONCATENATE(Enhet!$B$1,\";\",Blad3!H793,\";\",Blad3!I793),\"\")","v":""}]
[{"$f":"IF(AND(Blad1!C794<>0,Blad1!D794>0),CONCATENATE(Enhet!$B$1,\";\",Blad3!H794,\";\",Blad3!I794),\"\")","v":""}]
[{"$f":"IF(AND(Blad1!C795<>0,Blad1!D795>0),CONCATENATE(Enhet!$B$1,\";\",Blad3!H795,\";\",Blad3!I795),\"\")","v":""}]
[{"$f":"IF(AND(Blad1!C796<>0,Blad1!D796>0),CONCATENATE(Enhet!$B$1,\";\",Blad3!H796,\";\",Blad3!I796),\"\")","v":""}]
[{"$f":"IF(AND(Blad1!C797<>0,Blad1!D797>0),CONCATENATE(Enhet!$B$1,\";\",Blad3!H797,\";\",Blad3!I797),\"\")","v":""}]
[{"$f":"IF(AND(Blad1!C798<>0,Blad1!D798>0),CONCATENATE(Enhet!$B$1,\";\",Blad3!H798,\";\",Blad3!I798),\"\")","v":""}]
[{"$f":"IF(AND(Blad1!C799<>0,Blad1!D799>0),CONCATENATE(Enhet!$B$1,\";\",Blad3!H799,\";\",Blad3!I799),\"\")","v":""}]
[{"$f":"IF(AND(Blad1!C800<>0,Blad1!D800>0),CONCATENATE(Enhet!$B$1,\";\",Blad3!H800,\";\",Blad3!I800),\"\")","v":""}]
[{"$f":"IF(AND(Blad1!C801<>0,Blad1!D801>0),CONCATENATE(Enhet!$B$1,\";\",Blad3!H801,\";\",Blad3!I801),\"\")","v":""}]
[{"$f":"IF(AND(Blad1!C802<>0,Blad1!D802>0),CONCATENATE(Enhet!$B$1,\";\",Blad3!H802,\";\",Blad3!I802),\"\")","v":""}]
[{"$f":"IF(AND(Blad1!C803<>0,Blad1!D803>0),CONCATENATE(Enhet!$B$1,\";\",Blad3!H803,\";\",Blad3!I803),\"\")","v":""}]
[{"$f":"IF(AND(Blad1!C804<>0,Blad1!D804>0),CONCATENATE(Enhet!$B$1,\";\",Blad3!H804,\";\",Blad3!I804),\"\")","v":""}]
[{"$f":"IF(AND(Blad1!C805<>0,Blad1!D805>0),CONCATENATE(Enhet!$B$1,\";\",Blad3!H805,\";\",Blad3!I805),\"\")","v":""}]
[{"$f":"IF(AND(Blad1!C806<>0,Blad1!D806>0),CONCATENATE(Enhet!$B$1,\";\",Blad3!H806,\";\",Blad3!I806),\"\")","v":""}]
[{"$f":"IF(AND(Blad1!C807<>0,Blad1!D807>0),CONCATENATE(Enhet!$B$1,\";\",Blad3!H807,\";\",Blad3!I807),\"\")","v":""}]
[{"$f":"IF(AND(Blad1!C808<>0,Blad1!D808>0),CONCATENATE(Enhet!$B$1,\";\",Blad3!H808,\";\",Blad3!I808),\"\")","v":""}]
[{"$f":"IF(AND(Blad1!C809<>0,Blad1!D809>0),CONCATENATE(Enhet!$B$1,\";\",Blad3!H809,\";\",Blad3!I809),\"\")","v":""}]
[{"$f":"IF(AND(Blad1!C810<>0,Blad1!D810>0),CONCATENATE(Enhet!$B$1,\";\",Blad3!H810,\";\",Blad3!I810),\"\")","v":""}]
[{"$f":"IF(AND(Blad1!C811<>0,Blad1!D811>0),CONCATENATE(Enhet!$B$1,\";\",Blad3!H811,\";\",Blad3!I811),\"\")","v":""}]
[{"$f":"IF(AND(Blad1!C812<>0,Blad1!D812>0),CONCATENATE(Enhet!$B$1,\";\",Blad3!H812,\";\",Blad3!I812),\"\")","v":""}]
[{"$f":"IF(AND(Blad1!C813<>0,Blad1!D813>0),CONCATENATE(Enhet!$B$1,\";\",Blad3!H813,\";\",Blad3!I813),\"\")","v":""}]
[{"$f":"IF(AND(Blad1!C814<>0,Blad1!D814>0),CONCATENATE(Enhet!$B$1,\";\",Blad3!H814,\";\",Blad3!I814),\"\")","v":""}]
[{"$f":"IF(AND(Blad1!C815<>0,Blad1!D815>0),CONCATENATE(Enhet!$B$1,\";\",Blad3!H815,\";\",Blad3!I815),\"\")","v":""}]
[{"$f":"IF(AND(Blad1!C816<>0,Blad1!D816>0),CONCATENATE(Enhet!$B$1,\";\",Blad3!H816,\";\",Blad3!I816),\"\")","v":""}]
[{"$f":"IF(AND(Blad1!C817<>0,Blad1!D817>0),CONCATENATE(Enhet!$B$1,\";\",Blad3!H817,\";\",Blad3!I817),\"\")","v":""}]
[{"$f":"IF(AND(Blad1!C818<>0,Blad1!D818>0),CONCATENATE(Enhet!$B$1,\";\",Blad3!H818,\";\",Blad3!I818),\"\")","v":""}]
[{"$f":"IF(AND(Blad1!C819<>0,Blad1!D819>0),CONCATENATE(Enhet!$B$1,\";\",Blad3!H819,\";\",Blad3!I819),\"\")","v":""}]
[{"$f":"IF(AND(Blad1!C820<>0,Blad1!D820>0),CONCATENATE(Enhet!$B$1,\";\",Blad3!H820,\";\",Blad3!I820),\"\")","v":""}]
[{"$f":"IF(AND(Blad1!C821<>0,Blad1!D821>0),CONCATENATE(Enhet!$B$1,\";\",Blad3!H821,\";\",Blad3!I821),\"\")","v":""}]
[{"$f":"IF(AND(Blad1!C822<>0,Blad1!D822>0),CONCATENATE(Enhet!$B$1,\";\",Blad3!H822,\";\",Blad3!I822),\"\")","v":""}]
[{"$f":"IF(AND(Blad1!C823<>0,Blad1!D823>0),CONCATENATE(Enhet!$B$1,\";\",Blad3!H823,\";\",Blad3!I823),\"\")","v":""}]
[{"$f":"IF(AND(Blad1!C824<>0,Blad1!D824>0),CONCATENATE(Enhet!$B$1,\";\",Blad3!H824,\";\",Blad3!I824),\"\")","v":""}]
[{"$f":"IF(AND(Blad1!C825<>0,Blad1!D825>0),CONCATENATE(Enhet!$B$1,\";\",Blad3!H825,\";\",Blad3!I825),\"\")","v":""}]
[{"$f":"IF(AND(Blad1!C826<>0,Blad1!D826>0),CONCATENATE(Enhet!$B$1,\";\",Blad3!H826,\";\",Blad3!I826),\"\")","v":""}]
[{"$f":"IF(AND(Blad1!C827<>0,Blad1!D827>0),CONCATENATE(Enhet!$B$1,\";\",Blad3!H827,\";\",Blad3!I827),\"\")","v":""}]
[{"$f":"IF(AND(Blad1!C828<>0,Blad1!D828>0),CONCATENATE(Enhet!$B$1,\";\",Blad3!H828,\";\",Blad3!I828),\"\")","v":""}]
[{"$f":"IF(AND(Blad1!C829<>0,Blad1!D829>0),CONCATENATE(Enhet!$B$1,\";\",Blad3!H829,\";\",Blad3!I829),\"\")","v":""}]
[{"$f":"IF(AND(Blad1!C830<>0,Blad1!D830>0),CONCATENATE(Enhet!$B$1,\";\",Blad3!H830,\";\",Blad3!I830),\"\")","v":""}]
[{"$f":"IF(AND(Blad1!C831<>0,Blad1!D831>0),CONCATENATE(Enhet!$B$1,\";\",Blad3!H831,\";\",Blad3!I831),\"\")","v":""}]
[{"$f":"IF(AND(Blad1!C832<>0,Blad1!D832>0),CONCATENATE(Enhet!$B$1,\";\",Blad3!H832,\";\",Blad3!I832),\"\")","v":""}]
[{"$f":"IF(AND(Blad1!C833<>0,Blad1!D833>0),CONCATENATE(Enhet!$B$1,\";\",Blad3!H833,\";\",Blad3!I833),\"\")","v":""}]
[{"$f":"IF(AND(Blad1!C834<>0,Blad1!D834>0),CONCATENATE(Enhet!$B$1,\";\",Blad3!H834,\";\",Blad3!I834),\"\")","v":""}]
[{"$f":"IF(AND(Blad1!C835<>0,Blad1!D835>0),CONCATENATE(Enhet!$B$1,\";\",Blad3!H835,\";\",Blad3!I835),\"\")","v":""}]
[{"$f":"IF(AND(Blad1!C836<>0,Blad1!D836>0),CONCATENATE(Enhet!$B$1,\";\",Blad3!H836,\";\",Blad3!I836),\"\")","v":""}]
[{"$f":"IF(AND(Blad1!C837<>0,Blad1!D837>0),CONCATENATE(Enhet!$B$1,\";\",Blad3!H837,\";\",Blad3!I837),\"\")","v":""}]
[{"$f":"IF(AND(Blad1!C838<>0,Blad1!D838>0),CONCATENATE(Enhet!$B$1,\";\",Blad3!H838,\";\",Blad3!I838),\"\")","v":""}]
[{"$f":"IF(AND(Blad1!C839<>0,Blad1!D839>0),CONCATENATE(Enhet!$B$1,\";\",Blad3!H839,\";\",Blad3!I839),\"\")","v":""}]
[{"$f":"IF(AND(Blad1!C840<>0,Blad1!D840>0),CONCATENATE(Enhet!$B$1,\";\",Blad3!H840,\";\",Blad3!I840),\"\")","v":""}]
[{"$f":"IF(AND(Blad1!C841<>0,Blad1!D841>0),CONCATENATE(Enhet!$B$1,\";\",Blad3!H841,\";\",Blad3!I841),\"\")","v":""}]
[{"$f":"IF(AND(Blad1!C842<>0,Blad1!D842>0),CONCATENATE(Enhet!$B$1,\";\",Blad3!H842,\";\",Blad3!I842),\"\")","v":""}]
[{"$f":"IF(AND(Blad1!C843<>0,Blad1!D843>0),CONCATENATE(Enhet!$B$1,\";\",Blad3!H843,\";\",Blad3!I843),\"\")","v":""}]
[{"$f":"IF(AND(Blad1!C844<>0,Blad1!D844>0),CONCATENATE(Enhet!$B$1,\";\",Blad3!H844,\";\",Blad3!I844),\"\")","v":""}]
[{"$f":"IF(AND(Blad1!C845<>0,Blad1!D845>0),CONCATENATE(Enhet!$B$1,\";\",Blad3!H845,\";\",Blad3!I845),\"\")","v":""}]
[{"$f":"IF(AND(Blad1!C846<>0,Blad1!D846>0),CONCATENATE(Enhet!$B$1,\";\",Blad3!H846,\";\",Blad3!I846),\"\")","v":""}]
[{"$f":"IF(AND(Blad1!C847<>0,Blad1!D847>0),CONCATENATE(Enhet!$B$1,\";\",Blad3!H847,\";\",Blad3!I847),\"\")","v":""}]
[{"$f":"IF(AND(Blad1!C848<>0,Blad1!D848>0),CONCATENATE(Enhet!$B$1,\";\",Blad3!H848,\";\",Blad3!I848),\"\")","v":""}]
[{"$f":"IF(AND(Blad1!C849<>0,Blad1!D849>0),CONCATENATE(Enhet!$B$1,\";\",Blad3!H849,\";\",Blad3!I849),\"\")","v":""}]
[{"$f":"IF(AND(Blad1!C850<>0,Blad1!D850>0),CONCATENATE(Enhet!$B$1,\";\",Blad3!H850,\";\",Blad3!I850),\"\")","v":""}]
[{"$f":"IF(AND(Blad1!C851<>0,Blad1!D851>0),CONCATENATE(Enhet!$B$1,\";\",Blad3!H851,\";\",Blad3!I851),\"\")","v":""}]
[{"$f":"IF(AND(Blad1!C852<>0,Blad1!D852>0),CONCATENATE(Enhet!$B$1,\";\",Blad3!H852,\";\",Blad3!I852),\"\")","v":""}]
[{"$f":"IF(AND(Blad1!C853<>0,Blad1!D853>0),CONCATENATE(Enhet!$B$1,\";\",Blad3!H853,\";\",Blad3!I853),\"\")","v":""}]
[{"$f":"IF(AND(Blad1!C854<>0,Blad1!D854>0),CONCATENATE(Enhet!$B$1,\";\",Blad3!H854,\";\",Blad3!I854),\"\")","v":""}]
[{"$f":"IF(AND(Blad1!C855<>0,Blad1!D855>0),CONCATENATE(Enhet!$B$1,\";\",Blad3!H855,\";\",Blad3!I855),\"\")","v":""}]
[{"$f":"IF(AND(Blad1!C856<>0,Blad1!D856>0),CONCATENATE(Enhet!$B$1,\";\",Blad3!H856,\";\",Blad3!I856),\"\")","v":""}]
[{"$f":"IF(AND(Blad1!C857<>0,Blad1!D857>0),CONCATENATE(Enhet!$B$1,\";\",Blad3!H857,\";\",Blad3!I857),\"\")","v":""}]
[{"$f":"IF(AND(Blad1!C858<>0,Blad1!D858>0),CONCATENATE(Enhet!$B$1,\";\",Blad3!H858,\";\",Blad3!I858),\"\")","v":""}]
[{"$f":"IF(AND(Blad1!C859<>0,Blad1!D859>0),CONCATENATE(Enhet!$B$1,\";\",Blad3!H859,\";\",Blad3!I859),\"\")","v":""}]
[{"$f":"IF(AND(Blad1!C860<>0,Blad1!D860>0),CONCATENATE(Enhet!$B$1,\";\",Blad3!H860,\";\",Blad3!I860),\"\")","v":""}]
[{"$f":"IF(AND(Blad1!C861<>0,Blad1!D861>0),CONCATENATE(Enhet!$B$1,\";\",Blad3!H861,\";\",Blad3!I861),\"\")","v":""}]
[{"$f":"IF(AND(Blad1!C862<>0,Blad1!D862>0),CONCATENATE(Enhet!$B$1,\";\",Blad3!H862,\";\",Blad3!I862),\"\")","v":""}]
[{"$f":"IF(AND(Blad1!C863<>0,Blad1!D863>0),CONCATENATE(Enhet!$B$1,\";\",Blad3!H863,\";\",Blad3!I863),\"\")","v":""}]
[{"$f":"IF(AND(Blad1!C864<>0,Blad1!D864>0),CONCATENATE(Enhet!$B$1,\";\",Blad3!H864,\";\",Blad3!I864),\"\")","v":""}]
[{"$f":"IF(AND(Blad1!C865<>0,Blad1!D865>0),CONCATENATE(Enhet!$B$1,\";\",Blad3!H865,\";\",Blad3!I865),\"\")","v":""}]
[{"$f":"IF(AND(Blad1!C866<>0,Blad1!D866>0),CONCATENATE(Enhet!$B$1,\";\",Blad3!H866,\";\",Blad3!I866),\"\")","v":""}]
[{"$f":"IF(AND(Blad1!C867<>0,Blad1!D867>0),CONCATENATE(Enhet!$B$1,\";\",Blad3!H867,\";\",Blad3!I867),\"\")","v":""}]
[{"$f":"IF(AND(Blad1!C868<>0,Blad1!D868>0),CONCATENATE(Enhet!$B$1,\";\",Blad3!H868,\";\",Blad3!I868),\"\")","v":""}]
[{"$f":"IF(AND(Blad1!C869<>0,Blad1!D869>0),CONCATENATE(Enhet!$B$1,\";\",Blad3!H869,\";\",Blad3!I869),\"\")","v":""}]
[{"$f":"IF(AND(Blad1!C870<>0,Blad1!D870>0),CONCATENATE(Enhet!$B$1,\";\",Blad3!H870,\";\",Blad3!I870),\"\")","v":""}]
[{"$f":"IF(AND(Blad1!C871<>0,Blad1!D871>0),CONCATENATE(Enhet!$B$1,\";\",Blad3!H871,\";\",Blad3!I871),\"\")","v":""}]
[{"$f":"IF(AND(Blad1!C872<>0,Blad1!D872>0),CONCATENATE(Enhet!$B$1,\";\",Blad3!H872,\";\",Blad3!I872),\"\")","v":""}]
[{"$f":"IF(AND(Blad1!C873<>0,Blad1!D873>0),CONCATENATE(Enhet!$B$1,\";\",Blad3!H873,\";\",Blad3!I873),\"\")","v":""}]
[{"$f":"IF(AND(Blad1!C874<>0,Blad1!D874>0),CONCATENATE(Enhet!$B$1,\";\",Blad3!H874,\";\",Blad3!I874),\"\")","v":""}]
[{"$f":"IF(AND(Blad1!C875<>0,Blad1!D875>0),CONCATENATE(Enhet!$B$1,\";\",Blad3!H875,\";\",Blad3!I875),\"\")","v":""}]
[{"$f":"IF(AND(Blad1!C876<>0,Blad1!D876>0),CONCATENATE(Enhet!$B$1,\";\",Blad3!H876,\";\",Blad3!I876),\"\")","v":""}]
[{"$f":"IF(AND(Blad1!C877<>0,Blad1!D877>0),CONCATENATE(Enhet!$B$1,\";\",Blad3!H877,\";\",Blad3!I877),\"\")","v":""}]
[{"$f":"IF(AND(Blad1!C878<>0,Blad1!D878>0),CONCATENATE(Enhet!$B$1,\";\",Blad3!H878,\";\",Blad3!I878),\"\")","v":""}]
[{"$f":"IF(AND(Blad1!C879<>0,Blad1!D879>0),CONCATENATE(Enhet!$B$1,\";\",Blad3!H879,\";\",Blad3!I879),\"\")","v":""}]
[{"$f":"IF(AND(Blad1!C880<>0,Blad1!D880>0),CONCATENATE(Enhet!$B$1,\";\",Blad3!H880,\";\",Blad3!I880),\"\")","v":""}]
[{"$f":"IF(AND(Blad1!C881<>0,Blad1!D881>0),CONCATENATE(Enhet!$B$1,\";\",Blad3!H881,\";\",Blad3!I881),\"\")","v":""}]
[{"$f":"IF(AND(Blad1!C882<>0,Blad1!D882>0),CONCATENATE(Enhet!$B$1,\";\",Blad3!H882,\";\",Blad3!I882),\"\")","v":""}]
[{"$f":"IF(AND(Blad1!C883<>0,Blad1!D883>0),CONCATENATE(Enhet!$B$1,\";\",Blad3!H883,\";\",Blad3!I883),\"\")","v":""}]
[{"$f":"IF(AND(Blad1!C884<>0,Blad1!D884>0),CONCATENATE(Enhet!$B$1,\";\",Blad3!H884,\";\",Blad3!I884),\"\")","v":""}]
[{"$f":"IF(AND(Blad1!C885<>0,Blad1!D885>0),CONCATENATE(Enhet!$B$1,\";\",Blad3!H885,\";\",Blad3!I885),\"\")","v":""}]
[{"$f":"IF(AND(Blad1!C886<>0,Blad1!D886>0),CONCATENATE(Enhet!$B$1,\";\",Blad3!H886,\";\",Blad3!I886),\"\")","v":""}]
[{"$f":"IF(AND(Blad1!C887<>0,Blad1!D887>0),CONCATENATE(Enhet!$B$1,\";\",Blad3!H887,\";\",Blad3!I887),\"\")","v":""}]
[{"$f":"IF(AND(Blad1!C888<>0,Blad1!D888>0),CONCATENATE(Enhet!$B$1,\";\",Blad3!H888,\";\",Blad3!I888),\"\")","v":""}]
[{"$f":"IF(AND(Blad1!C889<>0,Blad1!D889>0),CONCATENATE(Enhet!$B$1,\";\",Blad3!H889,\";\",Blad3!I889),\"\")","v":""}]
[{"$f":"IF(AND(Blad1!C890<>0,Blad1!D890>0),CONCATENATE(Enhet!$B$1,\";\",Blad3!H890,\";\",Blad3!I890),\"\")","v":""}]
[{"$f":"IF(AND(Blad1!C891<>0,Blad1!D891>0),CONCATENATE(Enhet!$B$1,\";\",Blad3!H891,\";\",Blad3!I891),\"\")","v":""}]
[{"$f":"IF(AND(Blad1!C892<>0,Blad1!D892>0),CONCATENATE(Enhet!$B$1,\";\",Blad3!H892,\";\",Blad3!I892),\"\")","v":""}]
[{"$f":"IF(AND(Blad1!C893<>0,Blad1!D893>0),CONCATENATE(Enhet!$B$1,\";\",Blad3!H893,\";\",Blad3!I893),\"\")","v":""}]
[{"$f":"IF(AND(Blad1!C894<>0,Blad1!D894>0),CONCATENATE(Enhet!$B$1,\";\",Blad3!H894,\";\",Blad3!I894),\"\")","v":""}]
[{"$f":"IF(AND(Blad1!C895<>0,Blad1!D895>0),CONCATENATE(Enhet!$B$1,\";\",Blad3!H895,\";\",Blad3!I895),\"\")","v":""}]
[{"$f":"IF(AND(Blad1!C896<>0,Blad1!D896>0),CONCATENATE(Enhet!$B$1,\";\",Blad3!H896,\";\",Blad3!I896),\"\")","v":""}]
[{"$f":"IF(AND(Blad1!C897<>0,Blad1!D897>0),CONCATENATE(Enhet!$B$1,\";\",Blad3!H897,\";\",Blad3!I897),\"\")","v":""}]
[{"$f":"IF(AND(Blad1!C898<>0,Blad1!D898>0),CONCATENATE(Enhet!$B$1,\";\",Blad3!H898,\";\",Blad3!I898),\"\")","v":""}]
[{"$f":"IF(AND(Blad1!C899<>0,Blad1!D899>0),CONCATENATE(Enhet!$B$1,\";\",Blad3!H899,\";\",Blad3!I899),\"\")","v":""}]
[{"$f":"IF(AND(Blad1!C900<>0,Blad1!D900>0),CONCATENATE(Enhet!$B$1,\";\",Blad3!H900,\";\",Blad3!I900),\"\")","v":""}]
[{"$f":"IF(AND(Blad1!C901<>0,Blad1!D901>0),CONCATENATE(Enhet!$B$1,\";\",Blad3!H901,\";\",Blad3!I901),\"\")","v":""}]
[{"$f":"IF(AND(Blad1!C902<>0,Blad1!D902>0),CONCATENATE(Enhet!$B$1,\";\",Blad3!H902,\";\",Blad3!I902),\"\")","v":""}]
[{"$f":"IF(AND(Blad1!C903<>0,Blad1!D903>0),CONCATENATE(Enhet!$B$1,\";\",Blad3!H903,\";\",Blad3!I903),\"\")","v":""}]
[{"$f":"IF(AND(Blad1!C904<>0,Blad1!D904>0),CONCATENATE(Enhet!$B$1,\";\",Blad3!H904,\";\",Blad3!I904),\"\")","v":""}]
[{"$f":"IF(AND(Blad1!C905<>0,Blad1!D905>0),CONCATENATE(Enhet!$B$1,\";\",Blad3!H905,\";\",Blad3!I905),\"\")","v":""}]
[{"$f":"IF(AND(Blad1!C906<>0,Blad1!D906>0),CONCATENATE(Enhet!$B$1,\";\",Blad3!H906,\";\",Blad3!I906),\"\")","v":""}]
[{"$f":"IF(AND(Blad1!C907<>0,Blad1!D907>0),CONCATENATE(Enhet!$B$1,\";\",Blad3!H907,\";\",Blad3!I907),\"\")","v":""}]
[{"$f":"IF(AND(Blad1!C908<>0,Blad1!D908>0),CONCATENATE(Enhet!$B$1,\";\",Blad3!H908,\";\",Blad3!I908),\"\")","v":""}]
[{"$f":"IF(AND(Blad1!C909<>0,Blad1!D909>0),CONCATENATE(Enhet!$B$1,\";\",Blad3!H909,\";\",Blad3!I909),\"\")","v":""}]
[{"$f":"IF(AND(Blad1!C910<>0,Blad1!D910>0),CONCATENATE(Enhet!$B$1,\";\",Blad3!H910,\";\",Blad3!I910),\"\")","v":""}]
[{"$f":"IF(AND(Blad1!C911<>0,Blad1!D911>0),CONCATENATE(Enhet!$B$1,\";\",Blad3!H911,\";\",Blad3!I911),\"\")","v":""}]
[{"$f":"IF(AND(Blad1!C912<>0,Blad1!D912>0),CONCATENATE(Enhet!$B$1,\";\",Blad3!H912,\";\",Blad3!I912),\"\")","v":""}]
[{"$f":"IF(AND(Blad1!C913<>0,Blad1!D913>0),CONCATENATE(Enhet!$B$1,\";\",Blad3!H913,\";\",Blad3!I913),\"\")","v":""}]
[{"$f":"IF(AND(Blad1!C914<>0,Blad1!D914>0),CONCATENATE(Enhet!$B$1,\";\",Blad3!H914,\";\",Blad3!I914),\"\")","v":""}]
[{"$f":"IF(AND(Blad1!C915<>0,Blad1!D915>0),CONCATENATE(Enhet!$B$1,\";\",Blad3!H915,\";\",Blad3!I915),\"\")","v":""}]
[{"$f":"IF(AND(Blad1!C916<>0,Blad1!D916>0),CONCATENATE(Enhet!$B$1,\";\",Blad3!H916,\";\",Blad3!I916),\"\")","v":""}]
[{"$f":"IF(AND(Blad1!C917<>0,Blad1!D917>0),CONCATENATE(Enhet!$B$1,\";\",Blad3!H917,\";\",Blad3!I917),\"\")","v":""}]
[{"$f":"IF(AND(Blad1!C918<>0,Blad1!D918>0),CONCATENATE(Enhet!$B$1,\";\",Blad3!H918,\";\",Blad3!I918),\"\")","v":""}]
[{"$f":"IF(AND(Blad1!C919<>0,Blad1!D919>0),CONCATENATE(Enhet!$B$1,\";\",Blad3!H919,\";\",Blad3!I919),\"\")","v":""}]
[{"$f":"IF(AND(Blad1!C920<>0,Blad1!D920>0),CONCATENATE(Enhet!$B$1,\";\",Blad3!H920,\";\",Blad3!I920),\"\")","v":""}]
[{"$f":"IF(AND(Blad1!C921<>0,Blad1!D921>0),CONCATENATE(Enhet!$B$1,\";\",Blad3!H921,\";\",Blad3!I921),\"\")","v":""}]
[{"$f":"IF(AND(Blad1!C922<>0,Blad1!D922>0),CONCATENATE(Enhet!$B$1,\";\",Blad3!H922,\";\",Blad3!I922),\"\")","v":""}]
[{"$f":"IF(AND(Blad1!C923<>0,Blad1!D923>0),CONCATENATE(Enhet!$B$1,\";\",Blad3!H923,\";\",Blad3!I923),\"\")","v":""}]
[{"$f":"IF(AND(Blad1!C924<>0,Blad1!D924>0),CONCATENATE(Enhet!$B$1,\";\",Blad3!H924,\";\",Blad3!I924),\"\")","v":""}]
[{"$f":"IF(AND(Blad1!C925<>0,Blad1!D925>0),CONCATENATE(Enhet!$B$1,\";\",Blad3!H925,\";\",Blad3!I925),\"\")","v":""}]
[{"$f":"IF(AND(Blad1!C926<>0,Blad1!D926>0),CONCATENATE(Enhet!$B$1,\";\",Blad3!H926,\";\",Blad3!I926),\"\")","v":""}]
[{"$f":"IF(AND(Blad1!C927<>0,Blad1!D927>0),CONCATENATE(Enhet!$B$1,\";\",Blad3!H927,\";\",Blad3!I927),\"\")","v":""}]
[{"$f":"IF(AND(Blad1!C928<>0,Blad1!D928>0),CONCATENATE(Enhet!$B$1,\";\",Blad3!H928,\";\",Blad3!I928),\"\")","v":""}]
[{"$f":"IF(AND(Blad1!C929<>0,Blad1!D929>0),CONCATENATE(Enhet!$B$1,\";\",Blad3!H929,\";\",Blad3!I929),\"\")","v":""}]
[{"$f":"IF(AND(Blad1!C930<>0,Blad1!D930>0),CONCATENATE(Enhet!$B$1,\";\",Blad3!H930,\";\",Blad3!I930),\"\")","v":""}]
[{"$f":"IF(AND(Blad1!C931<>0,Blad1!D931>0),CONCATENATE(Enhet!$B$1,\";\",Blad3!H931,\";\",Blad3!I931),\"\")","v":""}]
[{"$f":"IF(AND(Blad1!C932<>0,Blad1!D932>0),CONCATENATE(Enhet!$B$1,\";\",Blad3!H932,\";\",Blad3!I932),\"\")","v":""}]
[{"$f":"IF(AND(Blad1!C933<>0,Blad1!D933>0),CONCATENATE(Enhet!$B$1,\";\",Blad3!H933,\";\",Blad3!I933),\"\")","v":""}]
[{"$f":"IF(AND(Blad1!C934<>0,Blad1!D934>0),CONCATENATE(Enhet!$B$1,\";\",Blad3!H934,\";\",Blad3!I934),\"\")","v":""}]
[{"$f":"IF(AND(Blad1!C935<>0,Blad1!D935>0),CONCATENATE(Enhet!$B$1,\";\",Blad3!H935,\";\",Blad3!I935),\"\")","v":""}]
[{"$f":"IF(AND(Blad1!C936<>0,Blad1!D936>0),CONCATENATE(Enhet!$B$1,\";\",Blad3!H936,\";\",Blad3!I936),\"\")","v":""}]
[{"$f":"IF(AND(Blad1!C937<>0,Blad1!D937>0),CONCATENATE(Enhet!$B$1,\";\",Blad3!H937,\";\",Blad3!I937),\"\")","v":""}]
[{"$f":"IF(AND(Blad1!C938<>0,Blad1!D938>0),CONCATENATE(Enhet!$B$1,\";\",Blad3!H938,\";\",Blad3!I938),\"\")","v":""}]
[{"$f":"IF(AND(Blad1!C939<>0,Blad1!D939>0),CONCATENATE(Enhet!$B$1,\";\",Blad3!H939,\";\",Blad3!I939),\"\")","v":""}]
[{"$f":"IF(AND(Blad1!C940<>0,Blad1!D940>0),CONCATENATE(Enhet!$B$1,\";\",Blad3!H940,\";\",Blad3!I940),\"\")","v":""}]
[{"$f":"IF(AND(Blad1!C941<>0,Blad1!D941>0),CONCATENATE(Enhet!$B$1,\";\",Blad3!H941,\";\",Blad3!I941),\"\")","v":""}]
[{"$f":"IF(AND(Blad1!C942<>0,Blad1!D942>0),CONCATENATE(Enhet!$B$1,\";\",Blad3!H942,\";\",Blad3!I942),\"\")","v":""}]
[{"$f":"IF(AND(Blad1!C943<>0,Blad1!D943>0),CONCATENATE(Enhet!$B$1,\";\",Blad3!H943,\";\",Blad3!I943),\"\")","v":""}]
[{"$f":"IF(AND(Blad1!C944<>0,Blad1!D944>0),CONCATENATE(Enhet!$B$1,\";\",Blad3!H944,\";\",Blad3!I944),\"\")","v":""}]
[{"$f":"IF(AND(Blad1!C945<>0,Blad1!D945>0),CONCATENATE(Enhet!$B$1,\";\",Blad3!H945,\";\",Blad3!I945),\"\")","v":""}]
[{"$f":"IF(AND(Blad1!C946<>0,Blad1!D946>0),CONCATENATE(Enhet!$B$1,\";\",Blad3!H946,\";\",Blad3!I946),\"\")","v":""}]
[{"$f":"IF(AND(Blad1!C947<>0,Blad1!D947>0),CONCATENATE(Enhet!$B$1,\";\",Blad3!H947,\";\",Blad3!I947),\"\")","v":""}]
[{"$f":"IF(AND(Blad1!C948<>0,Blad1!D948>0),CONCATENATE(Enhet!$B$1,\";\",Blad3!H948,\";\",Blad3!I948),\"\")","v":""}]
[{"$f":"IF(AND(Blad1!C949<>0,Blad1!D949>0),CONCATENATE(Enhet!$B$1,\";\",Blad3!H949,\";\",Blad3!I949),\"\")","v":""}]
[{"$f":"IF(AND(Blad1!C950<>0,Blad1!D950>0),CONCATENATE(Enhet!$B$1,\";\",Blad3!H950,\";\",Blad3!I950),\"\")","v":""}]
[{"$f":"IF(AND(Blad1!C951<>0,Blad1!D951>0),CONCATENATE(Enhet!$B$1,\";\",Blad3!H951,\";\",Blad3!I951),\"\")","v":""}]
[{"$f":"IF(AND(Blad1!C952<>0,Blad1!D952>0),CONCATENATE(Enhet!$B$1,\";\",Blad3!H952,\";\",Blad3!I952),\"\")","v":""}]
[{"$f":"IF(AND(Blad1!C953<>0,Blad1!D953>0),CONCATENATE(Enhet!$B$1,\";\",Blad3!H953,\";\",Blad3!I953),\"\")","v":""}]
[{"$f":"IF(AND(Blad1!C954<>0,Blad1!D954>0),CONCATENATE(Enhet!$B$1,\";\",Blad3!H954,\";\",Blad3!I954),\"\")","v":""}]
[{"$f":"IF(AND(Blad1!C955<>0,Blad1!D955>0),CONCATENATE(Enhet!$B$1,\";\",Blad3!H955,\";\",Blad3!I955),\"\")","v":""}]
[{"$f":"IF(AND(Blad1!C956<>0,Blad1!D956>0),CONCATENATE(Enhet!$B$1,\";\",Blad3!H956,\";\",Blad3!I956),\"\")","v":""}]
[{"$f":"IF(AND(Blad1!C957<>0,Blad1!D957>0),CONCATENATE(Enhet!$B$1,\";\",Blad3!H957,\";\",Blad3!I957),\"\")","v":""}]
[{"$f":"IF(AND(Blad1!C958<>0,Blad1!D958>0),CONCATENATE(Enhet!$B$1,\";\",Blad3!H958,\";\",Blad3!I958),\"\")","v":""}]
[{"$f":"IF(AND(Blad1!C959<>0,Blad1!D959>0),CONCATENATE(Enhet!$B$1,\";\",Blad3!H959,\";\",Blad3!I959),\"\")","v":""}]
[{"$f":"IF(AND(Blad1!C960<>0,Blad1!D960>0),CONCATENATE(Enhet!$B$1,\";\",Blad3!H960,\";\",Blad3!I960),\"\")","v":""}]
[{"$f":"IF(AND(Blad1!C961<>0,Blad1!D961>0),CONCATENATE(Enhet!$B$1,\";\",Blad3!H961,\";\",Blad3!I961),\"\")","v":""}]
[{"$f":"IF(AND(Blad1!C962<>0,Blad1!D962>0),CONCATENATE(Enhet!$B$1,\";\",Blad3!H962,\";\",Blad3!I962),\"\")","v":""}]
[{"$f":"IF(AND(Blad1!C963<>0,Blad1!D963>0),CONCATENATE(Enhet!$B$1,\";\",Blad3!H963,\";\",Blad3!I963),\"\")","v":""}]
[{"$f":"IF(AND(Blad1!C964<>0,Blad1!D964>0),CONCATENATE(Enhet!$B$1,\";\",Blad3!H964,\";\",Blad3!I964),\"\")","v":""}]
[{"$f":"IF(AND(Blad1!C965<>0,Blad1!D965>0),CONCATENATE(Enhet!$B$1,\";\",Blad3!H965,\";\",Blad3!I965),\"\")","v":""}]
[{"$f":"IF(AND(Blad1!C966<>0,Blad1!D966>0),CONCATENATE(Enhet!$B$1,\";\",Blad3!H966,\";\",Blad3!I966),\"\")","v":""}]
[{"$f":"IF(AND(Blad1!C967<>0,Blad1!D967>0),CONCATENATE(Enhet!$B$1,\";\",Blad3!H967,\";\",Blad3!I967),\"\")","v":""}]
[{"$f":"IF(AND(Blad1!C968<>0,Blad1!D968>0),CONCATENATE(Enhet!$B$1,\";\",Blad3!H968,\";\",Blad3!I968),\"\")","v":""}]
[{"$f":"IF(AND(Blad1!C969<>0,Blad1!D969>0),CONCATENATE(Enhet!$B$1,\";\",Blad3!H969,\";\",Blad3!I969),\"\")","v":""}]
[{"$f":"IF(AND(Blad1!C970<>0,Blad1!D970>0),CONCATENATE(Enhet!$B$1,\";\",Blad3!H970,\";\",Blad3!I970),\"\")","v":""}]
[{"$f":"IF(AND(Blad1!C971<>0,Blad1!D971>0),CONCATENATE(Enhet!$B$1,\";\",Blad3!H971,\";\",Blad3!I971),\"\")","v":""}]
[{"$f":"IF(AND(Blad1!C972<>0,Blad1!D972>0),CONCATENATE(Enhet!$B$1,\";\",Blad3!H972,\";\",Blad3!I972),\"\")","v":""}]
[{"$f":"IF(AND(Blad1!C973<>0,Blad1!D973>0),CONCATENATE(Enhet!$B$1,\";\",Blad3!H973,\";\",Blad3!I973),\"\")","v":""}]
[{"$f":"IF(AND(Blad1!C974<>0,Blad1!D974>0),CONCATENATE(Enhet!$B$1,\";\",Blad3!H974,\";\",Blad3!I974),\"\")","v":""}]
[{"$f":"IF(AND(Blad1!C975<>0,Blad1!D975>0),CONCATENATE(Enhet!$B$1,\";\",Blad3!H975,\";\",Blad3!I975),\"\")","v":""}]
[{"$f":"IF(AND(Blad1!C976<>0,Blad1!D976>0),CONCATENATE(Enhet!$B$1,\";\",Blad3!H976,\";\",Blad3!I976),\"\")","v":""}]
[{"$f":"IF(AND(Blad1!C977<>0,Blad1!D977>0),CONCATENATE(Enhet!$B$1,\";\",Blad3!H977,\";\",Blad3!I977),\"\")","v":""}]
[{"$f":"IF(AND(Blad1!C978<>0,Blad1!D978>0),CONCATENATE(Enhet!$B$1,\";\",Blad3!H978,\";\",Blad3!I978),\"\")","v":""}]
[{"$f":"IF(AND(Blad1!C979<>0,Blad1!D979>0),CONCATENATE(Enhet!$B$1,\";\",Blad3!H979,\";\",Blad3!I979),\"\")","v":""}]
[{"$f":"IF(AND(Blad1!C980<>0,Blad1!D980>0),CONCATENATE(Enhet!$B$1,\";\",Blad3!H980,\";\",Blad3!I980),\"\")","v":""}]
[{"$f":"IF(AND(Blad1!C981<>0,Blad1!D981>0),CONCATENATE(Enhet!$B$1,\";\",Blad3!H981,\";\",Blad3!I981),\"\")","v":""}]
[{"$f":"IF(AND(Blad1!C982<>0,Blad1!D982>0),CONCATENATE(Enhet!$B$1,\";\",Blad3!H982,\";\",Blad3!I982),\"\")","v":""}]
[{"$f":"IF(AND(Blad1!C983<>0,Blad1!D983>0),CONCATENATE(Enhet!$B$1,\";\",Blad3!H983,\";\",Blad3!I983),\"\")","v":""}]
[{"$f":"IF(AND(Blad1!C984<>0,Blad1!D984>0),CONCATENATE(Enhet!$B$1,\";\",Blad3!H984,\";\",Blad3!I984),\"\")","v":""}]
[{"$f":"IF(AND(Blad1!C985<>0,Blad1!D985>0),CONCATENATE(Enhet!$B$1,\";\",Blad3!H985,\";\",Blad3!I985),\"\")","v":""}]
[{"$f":"IF(AND(Blad1!C986<>0,Blad1!D986>0),CONCATENATE(Enhet!$B$1,\";\",Blad3!H986,\";\",Blad3!I986),\"\")","v":""}]
[{"$f":"IF(AND(Blad1!C987<>0,Blad1!D987>0),CONCATENATE(Enhet!$B$1,\";\",Blad3!H987,\";\",Blad3!I987),\"\")","v":""}]
[{"$f":"IF(AND(Blad1!C988<>0,Blad1!D988>0),CONCATENATE(Enhet!$B$1,\";\",Blad3!H988,\";\",Blad3!I988),\"\")","v":""}]
[{"$f":"IF(AND(Blad1!C989<>0,Blad1!D989>0),CONCATENATE(Enhet!$B$1,\";\",Blad3!H989,\";\",Blad3!I989),\"\")","v":""}]
[{"$f":"IF(AND(Blad1!C990<>0,Blad1!D990>0),CONCATENATE(Enhet!$B$1,\";\",Blad3!H990,\";\",Blad3!I990),\"\")","v":""}]
[{"$f":"IF(AND(Blad1!C991<>0,Blad1!D991>0),CONCATENATE(Enhet!$B$1,\";\",Blad3!H991,\";\",Blad3!I991),\"\")","v":""}]
[{"$f":"IF(AND(Blad1!C992<>0,Blad1!D992>0),CONCATENATE(Enhet!$B$1,\";\",Blad3!H992,\";\",Blad3!I992),\"\")","v":""}]
[{"$f":"IF(AND(Blad1!C993<>0,Blad1!D993>0),CONCATENATE(Enhet!$B$1,\";\",Blad3!H993,\";\",Blad3!I993),\"\")","v":""}]
[{"$f":"IF(AND(Blad1!C994<>0,Blad1!D994>0),CONCATENATE(Enhet!$B$1,\";\",Blad3!H994,\";\",Blad3!I994),\"\")","v":""}]
[{"$f":"IF(AND(Blad1!C995<>0,Blad1!D995>0),CONCATENATE(Enhet!$B$1,\";\",Blad3!H995,\";\",Blad3!I995),\"\")","v":""}]
[{"$f":"IF(AND(Blad1!C996<>0,Blad1!D996>0),CONCATENATE(Enhet!$B$1,\";\",Blad3!H996,\";\",Blad3!I996),\"\")","v":""}]
[{"$f":"IF(AND(Blad1!C997<>0,Blad1!D997>0),CONCATENATE(Enhet!$B$1,\";\",Blad3!H997,\";\",Blad3!I997),\"\")","v":""}]
[{"$f":"IF(AND(Blad1!C998<>0,Blad1!D998>0),CONCATENATE(Enhet!$B$1,\";\",Blad3!H998,\";\",Blad3!I998),\"\")","v":""}]
[{"$f":"IF(AND(Blad1!C999<>0,Blad1!D999>0),CONCATENATE(Enhet!$B$1,\";\",Blad3!H999,\";\",Blad3!I999),\"\")","v":""}]
[{"$f":"IF(AND(Blad1!C1000<>0,Blad1!D1000>0),CONCATENATE(Enhet!$B$1,\";\",Blad3!H1000,\";\",Blad3!I1000),\"\")","v":""}]
[{"$f":"IF(AND(Blad1!C1001<>0,Blad1!D1001>0),CONCATENATE(Enhet!$B$1,\";\",Blad3!H1001,\";\",Blad3!I1001),\"\")","v":""}]
[{"$f":"IF(AND(Blad1!C1002<>0,Blad1!D1002>0),CONCATENATE(Enhet!$B$1,\";\",Blad3!H1002,\";\",Blad3!I1002),\"\")","v":""}]
[{"$f":"IF(AND(Blad1!C1003<>0,Blad1!D1003>0),CONCATENATE(Enhet!$B$1,\";\",Blad3!H1003,\";\",Blad3!I1003),\"\")","v":""}]
[{"$f":"IF(AND(Blad1!C1004<>0,Blad1!D1004>0),CONCATENATE(Enhet!$B$1,\";\",Blad3!H1004,\";\",Blad3!I1004),\"\")","v":""}]
[{"$f":"IF(AND(Blad1!C1005<>0,Blad1!D1005>0),CONCATENATE(Enhet!$B$1,\";\",Blad3!H1005,\";\",Blad3!I1005),\"\")","v":""}]
[{"$f":"IF(AND(Blad1!C1006<>0,Blad1!D1006>0),CONCATENATE(Enhet!$B$1,\";\",Blad3!H1006,\";\",Blad3!I1006),\"\")","v":""}]
[{"$f":"IF(AND(Blad1!C1007<>0,Blad1!D1007>0),CONCATENATE(Enhet!$B$1,\";\",Blad3!H1007,\";\",Blad3!I1007),\"\")","v":""}]
[{"$f":"IF(AND(Blad1!C1008<>0,Blad1!D1008>0),CONCATENATE(Enhet!$B$1,\";\",Blad3!H1008,\";\",Blad3!I1008),\"\")","v":""}]
[{"$f":"IF(AND(Blad1!C1009<>0,Blad1!D1009>0),CONCATENATE(Enhet!$B$1,\";\",Blad3!H1009,\";\",Blad3!I1009),\"\")","v":""}]
[{"$f":"IF(AND(Blad1!C1010<>0,Blad1!D1010>0),CONCATENATE(Enhet!$B$1,\";\",Blad3!H1010,\";\",Blad3!I1010),\"\")","v":""}]
[{"$f":"IF(AND(Blad1!C1011<>0,Blad1!D1011>0),CONCATENATE(Enhet!$B$1,\";\",Blad3!H1011,\";\",Blad3!I1011),\"\")","v":""}]
[{"$f":"IF(AND(Blad1!C1012<>0,Blad1!D1012>0),CONCATENATE(Enhet!$B$1,\";\",Blad3!H1012,\";\",Blad3!I1012),\"\")","v":""}]
[{"$f":"IF(AND(Blad1!C1013<>0,Blad1!D1013>0),CONCATENATE(Enhet!$B$1,\";\",Blad3!H1013,\";\",Blad3!I1013),\"\")","v":""}]
[{"$f":"IF(AND(Blad1!C1014<>0,Blad1!D1014>0),CONCATENATE(Enhet!$B$1,\";\",Blad3!H1014,\";\",Blad3!I1014),\"\")","v":""}]
[{"$f":"IF(AND(Blad1!C1015<>0,Blad1!D1015>0),CONCATENATE(Enhet!$B$1,\";\",Blad3!H1015,\";\",Blad3!I1015),\"\")","v":""}]
[{"$f":"IF(AND(Blad1!C1016<>0,Blad1!D1016>0),CONCATENATE(Enhet!$B$1,\";\",Blad3!H1016,\";\",Blad3!I1016),\"\")","v":""}]
[{"$f":"IF(AND(Blad1!C1017<>0,Blad1!D1017>0),CONCATENATE(Enhet!$B$1,\";\",Blad3!H1017,\";\",Blad3!I1017),\"\")","v":""}]
[{"$f":"IF(AND(Blad1!C1018<>0,Blad1!D1018>0),CONCATENATE(Enhet!$B$1,\";\",Blad3!H1018,\";\",Blad3!I1018),\"\")","v":""}]
[{"$f":"IF(AND(Blad1!C1019<>0,Blad1!D1019>0),CONCATENATE(Enhet!$B$1,\";\",Blad3!H1019,\";\",Blad3!I1019),\"\")","v":""}]
[{"$f":"IF(AND(Blad1!C1020<>0,Blad1!D1020>0),CONCATENATE(Enhet!$B$1,\";\",Blad3!H1020,\";\",Blad3!I1020),\"\")","v":""}]
[{"$f":"IF(AND(Blad1!C1021<>0,Blad1!D1021>0),CONCATENATE(Enhet!$B$1,\";\",Blad3!H1021,\";\",Blad3!I1021),\"\")","v":""}]
[{"$f":"IF(AND(Blad1!C1022<>0,Blad1!D1022>0),CONCATENATE(Enhet!$B$1,\";\",Blad3!H1022,\";\",Blad3!I1022),\"\")","v":""}]
[{"$f":"IF(AND(Blad1!C1023<>0,Blad1!D1023>0),CONCATENATE(Enhet!$B$1,\";\",Blad3!H1023,\";\",Blad3!I1023),\"\")","v":""}]
[{"$f":"IF(AND(Blad1!C1024<>0,Blad1!D1024>0),CONCATENATE(Enhet!$B$1,\";\",Blad3!H1024,\";\",Blad3!I1024),\"\")","v":""}]
[{"$f":"IF(AND(Blad1!C1025<>0,Blad1!D1025>0),CONCATENATE(Enhet!$B$1,\";\",Blad3!H1025,\";\",Blad3!I1025),\"\")","v":""}]
[{"$f":"IF(AND(Blad1!C1026<>0,Blad1!D1026>0),CONCATENATE(Enhet!$B$1,\";\",Blad3!H1026,\";\",Blad3!I1026),\"\")","v":""}]
[{"$f":"IF(AND(Blad1!C1027<>0,Blad1!D1027>0),CONCATENATE(Enhet!$B$1,\";\",Blad3!H1027,\";\",Blad3!I1027),\"\")","v":""}]
[{"$f":"IF(AND(Blad1!C1028<>0,Blad1!D1028>0),CONCATENATE(Enhet!$B$1,\";\",Blad3!H1028,\";\",Blad3!I1028),\"\")","v":""}]
[{"$f":"IF(AND(Blad1!C1029<>0,Blad1!D1029>0),CONCATENATE(Enhet!$B$1,\";\",Blad3!H1029,\";\",Blad3!I1029),\"\")","v":""}]
[{"$f":"IF(AND(Blad1!C1030<>0,Blad1!D1030>0),CONCATENATE(Enhet!$B$1,\";\",Blad3!H1030,\";\",Blad3!I1030),\"\")","v":""}]
[{"$f":"IF(AND(Blad1!C1031<>0,Blad1!D1031>0),CONCATENATE(Enhet!$B$1,\";\",Blad3!H1031,\";\",Blad3!I1031),\"\")","v":""}]
[{"$f":"IF(AND(Blad1!C1032<>0,Blad1!D1032>0),CONCATENATE(Enhet!$B$1,\";\",Blad3!H1032,\";\",Blad3!I1032),\"\")","v":""}]
[{"$f":"IF(AND(Blad1!C1033<>0,Blad1!D1033>0),CONCATENATE(Enhet!$B$1,\";\",Blad3!H1033,\";\",Blad3!I1033),\"\")","v":""}]
[{"$f":"IF(AND(Blad1!C1034<>0,Blad1!D1034>0),CONCATENATE(Enhet!$B$1,\";\",Blad3!H1034,\";\",Blad3!I1034),\"\")","v":""}]
[{"$f":"IF(AND(Blad1!C1035<>0,Blad1!D1035>0),CONCATENATE(Enhet!$B$1,\";\",Blad3!H1035,\";\",Blad3!I1035),\"\")","v":""}]
[{"$f":"IF(AND(Blad1!C1036<>0,Blad1!D1036>0),CONCATENATE(Enhet!$B$1,\";\",Blad3!H1036,\";\",Blad3!I1036),\"\")","v":""}]
[{"$f":"IF(AND(Blad1!C1037<>0,Blad1!D1037>0),CONCATENATE(Enhet!$B$1,\";\",Blad3!H1037,\";\",Blad3!I1037),\"\")","v":""}]
[{"$f":"IF(AND(Blad1!C1038<>0,Blad1!D1038>0),CONCATENATE(Enhet!$B$1,\";\",Blad3!H1038,\";\",Blad3!I1038),\"\")","v":""}]
[{"$f":"IF(AND(Blad1!C1039<>0,Blad1!D1039>0),CONCATENATE(Enhet!$B$1,\";\",Blad3!H1039,\";\",Blad3!I1039),\"\")","v":""}]
[{"$f":"IF(AND(Blad1!C1040<>0,Blad1!D1040>0),CONCATENATE(Enhet!$B$1,\";\",Blad3!H1040,\";\",Blad3!I1040),\"\")","v":""}]
[{"$f":"IF(AND(Blad1!C1041<>0,Blad1!D1041>0),CONCATENATE(Enhet!$B$1,\";\",Blad3!H1041,\";\",Blad3!I1041),\"\")","v":""}]
[{"$f":"IF(AND(Blad1!C1042<>0,Blad1!D1042>0),CONCATENATE(Enhet!$B$1,\";\",Blad3!H1042,\";\",Blad3!I1042),\"\")","v":""}]
[{"$f":"IF(AND(Blad1!C1043<>0,Blad1!D1043>0),CONCATENATE(Enhet!$B$1,\";\",Blad3!H1043,\";\",Blad3!I1043),\"\")","v":""}]
[{"$f":"IF(AND(Blad1!C1044<>0,Blad1!D1044>0),CONCATENATE(Enhet!$B$1,\";\",Blad3!H1044,\";\",Blad3!I1044),\"\")","v":""}]
[{"$f":"IF(AND(Blad1!C1045<>0,Blad1!D1045>0),CONCATENATE(Enhet!$B$1,\";\",Blad3!H1045,\";\",Blad3!I1045),\"\")","v":""}]
[{"$f":"IF(AND(Blad1!C1046<>0,Blad1!D1046>0),CONCATENATE(Enhet!$B$1,\";\",Blad3!H1046,\";\",Blad3!I1046),\"\")","v":""}]
[{"$f":"IF(AND(Blad1!C1047<>0,Blad1!D1047>0),CONCATENATE(Enhet!$B$1,\";\",Blad3!H1047,\";\",Blad3!I1047),\"\")","v":""}]
[{"$f":"IF(AND(Blad1!C1048<>0,Blad1!D1048>0),CONCATENATE(Enhet!$B$1,\";\",Blad3!H1048,\";\",Blad3!I1048),\"\")","v":""}]
[{"$f":"IF(AND(Blad1!C1049<>0,Blad1!D1049>0),CONCATENATE(Enhet!$B$1,\";\",Blad3!H1049,\";\",Blad3!I1049),\"\")","v":""}]
[{"$f":"IF(AND(Blad1!C1050<>0,Blad1!D1050>0),CONCATENATE(Enhet!$B$1,\";\",Blad3!H1050,\";\",Blad3!I1050),\"\")","v":""}]
[{"$f":"IF(AND(Blad1!C1051<>0,Blad1!D1051>0),CONCATENATE(Enhet!$B$1,\";\",Blad3!H1051,\";\",Blad3!I1051),\"\")","v":""}]
[{"$f":"IF(AND(Blad1!C1052<>0,Blad1!D1052>0),CONCATENATE(Enhet!$B$1,\";\",Blad3!H1052,\";\",Blad3!I1052),\"\")","v":""}]
[{"$f":"IF(AND(Blad1!C1053<>0,Blad1!D1053>0),CONCATENATE(Enhet!$B$1,\";\",Blad3!H1053,\";\",Blad3!I1053),\"\")","v":""}]
[{"$f":"IF(AND(Blad1!C1054<>0,Blad1!D1054>0),CONCATENATE(Enhet!$B$1,\";\",Blad3!H1054,\";\",Blad3!I1054),\"\")","v":""}]
[{"$f":"IF(AND(Blad1!C1055<>0,Blad1!D1055>0),CONCATENATE(Enhet!$B$1,\";\",Blad3!H1055,\";\",Blad3!I1055),\"\")","v":""}]
[{"$f":"IF(AND(Blad1!C1056<>0,Blad1!D1056>0),CONCATENATE(Enhet!$B$1,\";\",Blad3!H1056,\";\",Blad3!I1056),\"\")","v":""}]
[{"$f":"IF(AND(Blad1!C1057<>0,Blad1!D1057>0),CONCATENATE(Enhet!$B$1,\";\",Blad3!H1057,\";\",Blad3!I1057),\"\")","v":""}]
[{"$f":"IF(AND(Blad1!C1058<>0,Blad1!D1058>0),CONCATENATE(Enhet!$B$1,\";\",Blad3!H1058,\";\",Blad3!I1058),\"\")","v":""}]
[{"$f":"IF(AND(Blad1!C1059<>0,Blad1!D1059>0),CONCATENATE(Enhet!$B$1,\";\",Blad3!H1059,\";\",Blad3!I1059),\"\")","v":""}]
[{"$f":"IF(AND(Blad1!C1060<>0,Blad1!D1060>0),CONCATENATE(Enhet!$B$1,\";\",Blad3!H1060,\";\",Blad3!I1060),\"\")","v":""}]
[{"$f":"IF(AND(Blad1!C1061<>0,Blad1!D1061>0),CONCATENATE(Enhet!$B$1,\";\",Blad3!H1061,\";\",Blad3!I1061),\"\")","v":""}]
[{"$f":"IF(AND(Blad1!C1062<>0,Blad1!D1062>0),CONCATENATE(Enhet!$B$1,\";\",Blad3!H1062,\";\",Blad3!I1062),\"\")","v":""}]
[{"$f":"IF(AND(Blad1!C1063<>0,Blad1!D1063>0),CONCATENATE(Enhet!$B$1,\";\",Blad3!H1063,\";\",Blad3!I1063),\"\")","v":""}]
[{"$f":"IF(AND(Blad1!C1064<>0,Blad1!D1064>0),CONCATENATE(Enhet!$B$1,\";\",Blad3!H1064,\";\",Blad3!I1064),\"\")","v":""}]
[{"$f":"IF(AND(Blad1!C1065<>0,Blad1!D1065>0),CONCATENATE(Enhet!$B$1,\";\",Blad3!H1065,\";\",Blad3!I1065),\"\")","v":""}]
[{"$f":"IF(AND(Blad1!C1066<>0,Blad1!D1066>0),CONCATENATE(Enhet!$B$1,\";\",Blad3!H1066,\";\",Blad3!I1066),\"\")","v":""}]
[{"$f":"IF(AND(Blad1!C1067<>0,Blad1!D1067>0),CONCATENATE(Enhet!$B$1,\";\",Blad3!H1067,\";\",Blad3!I1067),\"\")","v":""}]
[{"$f":"IF(AND(Blad1!C1068<>0,Blad1!D1068>0),CONCATENATE(Enhet!$B$1,\";\",Blad3!H1068,\";\",Blad3!I1068),\"\")","v":""}]
[{"$f":"IF(AND(Blad1!C1069<>0,Blad1!D1069>0),CONCATENATE(Enhet!$B$1,\";\",Blad3!H1069,\";\",Blad3!I1069),\"\")","v":""}]
[{"$f":"IF(AND(Blad1!C1070<>0,Blad1!D1070>0),CONCATENATE(Enhet!$B$1,\";\",Blad3!H1070,\";\",Blad3!I1070),\"\")","v":""}]
[{"$f":"IF(AND(Blad1!C1071<>0,Blad1!D1071>0),CONCATENATE(Enhet!$B$1,\";\",Blad3!H1071,\";\",Blad3!I1071),\"\")","v":""}]
[{"$f":"IF(AND(Blad1!C1072<>0,Blad1!D1072>0),CONCATENATE(Enhet!$B$1,\";\",Blad3!H1072,\";\",Blad3!I1072),\"\")","v":""}]
[{"$f":"IF(AND(Blad1!C1073<>0,Blad1!D1073>0),CONCATENATE(Enhet!$B$1,\";\",Blad3!H1073,\";\",Blad3!I1073),\"\")","v":""}]
[{"$f":"IF(AND(Blad1!C1074<>0,Blad1!D1074>0),CONCATENATE(Enhet!$B$1,\";\",Blad3!H1074,\";\",Blad3!I1074),\"\")","v":""}]
[{"$f":"IF(AND(Blad1!C1075<>0,Blad1!D1075>0),CONCATENATE(Enhet!$B$1,\";\",Blad3!H1075,\";\",Blad3!I1075),\"\")","v":""}]
[{"$f":"IF(AND(Blad1!C1076<>0,Blad1!D1076>0),CONCATENATE(Enhet!$B$1,\";\",Blad3!H1076,\";\",Blad3!I1076),\"\")","v":""}]
[{"$f":"IF(AND(Blad1!C1077<>0,Blad1!D1077>0),CONCATENATE(Enhet!$B$1,\";\",Blad3!H1077,\";\",Blad3!I1077),\"\")","v":""}]
[{"$f":"IF(AND(Blad1!C1078<>0,Blad1!D1078>0),CONCATENATE(Enhet!$B$1,\";\",Blad3!H1078,\";\",Blad3!I1078),\"\")","v":""}]
[{"$f":"IF(AND(Blad1!C1079<>0,Blad1!D1079>0),CONCATENATE(Enhet!$B$1,\";\",Blad3!H1079,\";\",Blad3!I1079),\"\")","v":""}]
[{"$f":"IF(AND(Blad1!C1080<>0,Blad1!D1080>0),CONCATENATE(Enhet!$B$1,\";\",Blad3!H1080,\";\",Blad3!I1080),\"\")","v":""}]
[{"$f":"IF(AND(Blad1!C1081<>0,Blad1!D1081>0),CONCATENATE(Enhet!$B$1,\";\",Blad3!H1081,\";\",Blad3!I1081),\"\")","v":""}]
[{"$f":"IF(AND(Blad1!C1082<>0,Blad1!D1082>0),CONCATENATE(Enhet!$B$1,\";\",Blad3!H1082,\";\",Blad3!I1082),\"\")","v":""}]
[{"$f":"IF(AND(Blad1!C1083<>0,Blad1!D1083>0),CONCATENATE(Enhet!$B$1,\";\",Blad3!H1083,\";\",Blad3!I1083),\"\")","v":""}]
[{"$f":"IF(AND(Blad1!C1084<>0,Blad1!D1084>0),CONCATENATE(Enhet!$B$1,\";\",Blad3!H1084,\";\",Blad3!I1084),\"\")","v":""}]
[{"$f":"IF(AND(Blad1!C1085<>0,Blad1!D1085>0),CONCATENATE(Enhet!$B$1,\";\",Blad3!H1085,\";\",Blad3!I1085),\"\")","v":""}]
[{"$f":"IF(AND(Blad1!C1086<>0,Blad1!D1086>0),CONCATENATE(Enhet!$B$1,\";\",Blad3!H1086,\";\",Blad3!I1086),\"\")","v":""}]
[{"$f":"IF(AND(Blad1!C1087<>0,Blad1!D1087>0),CONCATENATE(Enhet!$B$1,\";\",Blad3!H1087,\";\",Blad3!I1087),\"\")","v":""}]
[{"$f":"IF(AND(Blad1!C1088<>0,Blad1!D1088>0),CONCATENATE(Enhet!$B$1,\";\",Blad3!H1088,\";\",Blad3!I1088),\"\")","v":""}]
[{"$f":"IF(AND(Blad1!C1089<>0,Blad1!D1089>0),CONCATENATE(Enhet!$B$1,\";\",Blad3!H1089,\";\",Blad3!I1089),\"\")","v":""}]
[{"$f":"IF(AND(Blad1!C1090<>0,Blad1!D1090>0),CONCATENATE(Enhet!$B$1,\";\",Blad3!H1090,\";\",Blad3!I1090),\"\")","v":""}]
[{"$f":"IF(AND(Blad1!C1091<>0,Blad1!D1091>0),CONCATENATE(Enhet!$B$1,\";\",Blad3!H1091,\";\",Blad3!I1091),\"\")","v":""}]
[{"$f":"IF(AND(Blad1!C1092<>0,Blad1!D1092>0),CONCATENATE(Enhet!$B$1,\";\",Blad3!H1092,\";\",Blad3!I1092),\"\")","v":""}]
[{"$f":"IF(AND(Blad1!C1093<>0,Blad1!D1093>0),CONCATENATE(Enhet!$B$1,\";\",Blad3!H1093,\";\",Blad3!I1093),\"\")","v":""}]
[{"$f":"IF(AND(Blad1!C1094<>0,Blad1!D1094>0),CONCATENATE(Enhet!$B$1,\";\",Blad3!H1094,\";\",Blad3!I1094),\"\")","v":""}]
[{"$f":"IF(AND(Blad1!C1095<>0,Blad1!D1095>0),CONCATENATE(Enhet!$B$1,\";\",Blad3!H1095,\";\",Blad3!I1095),\"\")","v":""}]
[{"$f":"IF(AND(Blad1!C1096<>0,Blad1!D1096>0),CONCATENATE(Enhet!$B$1,\";\",Blad3!H1096,\";\",Blad3!I1096),\"\")","v":""}]
[{"$f":"IF(AND(Blad1!C1097<>0,Blad1!D1097>0),CONCATENATE(Enhet!$B$1,\";\",Blad3!H1097,\";\",Blad3!I1097),\"\")","v":""}]
[{"$f":"IF(AND(Blad1!C1098<>0,Blad1!D1098>0),CONCATENATE(Enhet!$B$1,\";\",Blad3!H1098,\";\",Blad3!I1098),\"\")","v":""}]
[{"$f":"IF(AND(Blad1!C1099<>0,Blad1!D1099>0),CONCATENATE(Enhet!$B$1,\";\",Blad3!H1099,\";\",Blad3!I1099),\"\")","v":""}]
[{"$f":"IF(AND(Blad1!C1100<>0,Blad1!D1100>0),CONCATENATE(Enhet!$B$1,\";\",Blad3!H1100,\";\",Blad3!I1100),\"\")","v":""}]
[{"$f":"IF(AND(Blad1!C1101<>0,Blad1!D1101>0),CONCATENATE(Enhet!$B$1,\";\",Blad3!H1101,\";\",Blad3!I1101),\"\")","v":""}]
[{"$f":"IF(AND(Blad1!C1102<>0,Blad1!D1102>0),CONCATENATE(Enhet!$B$1,\";\",Blad3!H1102,\";\",Blad3!I1102),\"\")","v":""}]
[{"$f":"IF(AND(Blad1!C1103<>0,Blad1!D1103>0),CONCATENATE(Enhet!$B$1,\";\",Blad3!H1103,\";\",Blad3!I1103),\"\")","v":""}]
[{"$f":"IF(AND(Blad1!C1104<>0,Blad1!D1104>0),CONCATENATE(Enhet!$B$1,\";\",Blad3!H1104,\";\",Blad3!I1104),\"\")","v":""}]
[{"$f":"IF(AND(Blad1!C1105<>0,Blad1!D1105>0),CONCATENATE(Enhet!$B$1,\";\",Blad3!H1105,\";\",Blad3!I1105),\"\")","v":""}]
[{"$f":"IF(AND(Blad1!C1106<>0,Blad1!D1106>0),CONCATENATE(Enhet!$B$1,\";\",Blad3!H1106,\";\",Blad3!I1106),\"\")","v":""}]
[{"$f":"IF(AND(Blad1!C1107<>0,Blad1!D1107>0),CONCATENATE(Enhet!$B$1,\";\",Blad3!H1107,\";\",Blad3!I1107),\"\")","v":""}]
[{"$f":"IF(AND(Blad1!C1108<>0,Blad1!D1108>0),CONCATENATE(Enhet!$B$1,\";\",Blad3!H1108,\";\",Blad3!I1108),\"\")","v":""}]
[{"$f":"IF(AND(Blad1!C1109<>0,Blad1!D1109>0),CONCATENATE(Enhet!$B$1,\";\",Blad3!H1109,\";\",Blad3!I1109),\"\")","v":""}]
[{"$f":"IF(AND(Blad1!C1110<>0,Blad1!D1110>0),CONCATENATE(Enhet!$B$1,\";\",Blad3!H1110,\";\",Blad3!I1110),\"\")","v":""}]
[{"$f":"IF(AND(Blad1!C1111<>0,Blad1!D1111>0),CONCATENATE(Enhet!$B$1,\";\",Blad3!H1111,\";\",Blad3!I1111),\"\")","v":""}]
[{"$f":"IF(AND(Blad1!C1112<>0,Blad1!D1112>0),CONCATENATE(Enhet!$B$1,\";\",Blad3!H1112,\";\",Blad3!I1112),\"\")","v":""}]
[{"$f":"IF(AND(Blad1!C1113<>0,Blad1!D1113>0),CONCATENATE(Enhet!$B$1,\";\",Blad3!H1113,\";\",Blad3!I1113),\"\")","v":""}]
[{"$f":"IF(AND(Blad1!C1114<>0,Blad1!D1114>0),CONCATENATE(Enhet!$B$1,\";\",Blad3!H1114,\";\",Blad3!I1114),\"\")","v":""}]
[{"$f":"IF(AND(Blad1!C1115<>0,Blad1!D1115>0),CONCATENATE(Enhet!$B$1,\";\",Blad3!H1115,\";\",Blad3!I1115),\"\")","v":""}]
[{"$f":"IF(AND(Blad1!C1116<>0,Blad1!D1116>0),CONCATENATE(Enhet!$B$1,\";\",Blad3!H1116,\";\",Blad3!I1116),\"\")","v":""}]
[{"$f":"IF(AND(Blad1!C1117<>0,Blad1!D1117>0),CONCATENATE(Enhet!$B$1,\";\",Blad3!H1117,\";\",Blad3!I1117),\"\")","v":""}]
[{"$f":"IF(AND(Blad1!C1118<>0,Blad1!D1118>0),CONCATENATE(Enhet!$B$1,\";\",Blad3!H1118,\";\",Blad3!I1118),\"\")","v":""}]
[{"$f":"IF(AND(Blad1!C1119<>0,Blad1!D1119>0),CONCATENATE(Enhet!$B$1,\";\",Blad3!H1119,\";\",Blad3!I1119),\"\")","v":""}]
[{"$f":"IF(AND(Blad1!C1120<>0,Blad1!D1120>0),CONCATENATE(Enhet!$B$1,\";\",Blad3!H1120,\";\",Blad3!I1120),\"\")","v":""}]
[{"$f":"IF(AND(Blad1!C1121<>0,Blad1!D1121>0),CONCATENATE(Enhet!$B$1,\";\",Blad3!H1121,\";\",Blad3!I1121),\"\")","v":""}]
[{"$f":"IF(AND(Blad1!C1122<>0,Blad1!D1122>0),CONCATENATE(Enhet!$B$1,\";\",Blad3!H1122,\";\",Blad3!I1122),\"\")","v":""}]
[{"$f":"IF(AND(Blad1!C1123<>0,Blad1!D1123>0),CONCATENATE(Enhet!$B$1,\";\",Blad3!H1123,\";\",Blad3!I1123),\"\")","v":""}]
[{"$f":"IF(AND(Blad1!C1124<>0,Blad1!D1124>0),CONCATENATE(Enhet!$B$1,\";\",Blad3!H1124,\";\",Blad3!I1124),\"\")","v":""}]
[{"$f":"IF(AND(Blad1!C1125<>0,Blad1!D1125>0),CONCATENATE(Enhet!$B$1,\";\",Blad3!H1125,\";\",Blad3!I1125),\"\")","v":""}]
[{"$f":"IF(AND(Blad1!C1126<>0,Blad1!D1126>0),CONCATENATE(Enhet!$B$1,\";\",Blad3!H1126,\";\",Blad3!I1126),\"\")","v":""}]
[{"$f":"IF(AND(Blad1!C1127<>0,Blad1!D1127>0),CONCATENATE(Enhet!$B$1,\";\",Blad3!H1127,\";\",Blad3!I1127),\"\")","v":""}]
[{"$f":"IF(AND(Blad1!C1128<>0,Blad1!D1128>0),CONCATENATE(Enhet!$B$1,\";\",Blad3!H1128,\";\",Blad3!I1128),\"\")","v":""}]
[{"$f":"IF(AND(Blad1!C1129<>0,Blad1!D1129>0),CONCATENATE(Enhet!$B$1,\";\",Blad3!H1129,\";\",Blad3!I1129),\"\")","v":""}]
[{"$f":"IF(AND(Blad1!C1130<>0,Blad1!D1130>0),CONCATENATE(Enhet!$B$1,\";\",Blad3!H1130,\";\",Blad3!I1130),\"\")","v":""}]
[{"$f":"IF(AND(Blad1!C1131<>0,Blad1!D1131>0),CONCATENATE(Enhet!$B$1,\";\",Blad3!H1131,\";\",Blad3!I1131),\"\")","v":""}]
[{"$f":"IF(AND(Blad1!C1132<>0,Blad1!D1132>0),CONCATENATE(Enhet!$B$1,\";\",Blad3!H1132,\";\",Blad3!I1132),\"\")","v":""}]
[{"$f":"IF(AND(Blad1!C1133<>0,Blad1!D1133>0),CONCATENATE(Enhet!$B$1,\";\",Blad3!H1133,\";\",Blad3!I1133),\"\")","v":""}]
[{"$f":"IF(AND(Blad1!C1134<>0,Blad1!D1134>0),CONCATENATE(Enhet!$B$1,\";\",Blad3!H1134,\";\",Blad3!I1134),\"\")","v":""}]
[{"$f":"IF(AND(Blad1!C1135<>0,Blad1!D1135>0),CONCATENATE(Enhet!$B$1,\";\",Blad3!H1135,\";\",Blad3!I1135),\"\")","v":""}]
[{"$f":"IF(AND(Blad1!C1136<>0,Blad1!D1136>0),CONCATENATE(Enhet!$B$1,\";\",Blad3!H1136,\";\",Blad3!I1136),\"\")","v":""}]
[{"$f":"IF(AND(Blad1!C1137<>0,Blad1!D1137>0),CONCATENATE(Enhet!$B$1,\";\",Blad3!H1137,\";\",Blad3!I1137),\"\")","v":""}]
[{"$f":"IF(AND(Blad1!C1138<>0,Blad1!D1138>0),CONCATENATE(Enhet!$B$1,\";\",Blad3!H1138,\";\",Blad3!I1138),\"\")","v":""}]
[{"$f":"IF(AND(Blad1!C1139<>0,Blad1!D1139>0),CONCATENATE(Enhet!$B$1,\";\",Blad3!H1139,\";\",Blad3!I1139),\"\")","v":""}]
[{"$f":"IF(AND(Blad1!C1140<>0,Blad1!D1140>0),CONCATENATE(Enhet!$B$1,\";\",Blad3!H1140,\";\",Blad3!I1140),\"\")","v":""}]
[{"$f":"IF(AND(Blad1!C1141<>0,Blad1!D1141>0),CONCATENATE(Enhet!$B$1,\";\",Blad3!H1141,\";\",Blad3!I1141),\"\")","v":""}]
[{"$f":"IF(AND(Blad1!C1142<>0,Blad1!D1142>0),CONCATENATE(Enhet!$B$1,\";\",Blad3!H1142,\";\",Blad3!I1142),\"\")","v":""}]
[{"$f":"IF(AND(Blad1!C1143<>0,Blad1!D1143>0),CONCATENATE(Enhet!$B$1,\";\",Blad3!H1143,\";\",Blad3!I1143),\"\")","v":""}]
[{"$f":"IF(AND(Blad1!C1144<>0,Blad1!D1144>0),CONCATENATE(Enhet!$B$1,\";\",Blad3!H1144,\";\",Blad3!I1144),\"\")","v":""}]
[{"$f":"IF(AND(Blad1!C1145<>0,Blad1!D1145>0),CONCATENATE(Enhet!$B$1,\";\",Blad3!H1145,\";\",Blad3!I1145),\"\")","v":""}]
[{"$f":"IF(AND(Blad1!C1146<>0,Blad1!D1146>0),CONCATENATE(Enhet!$B$1,\";\",Blad3!H1146,\";\",Blad3!I1146),\"\")","v":""}]
[{"$f":"IF(AND(Blad1!C1147<>0,Blad1!D1147>0),CONCATENATE(Enhet!$B$1,\";\",Blad3!H1147,\";\",Blad3!I1147),\"\")","v":""}]
[{"$f":"IF(AND(Blad1!C1148<>0,Blad1!D1148>0),CONCATENATE(Enhet!$B$1,\";\",Blad3!H1148,\";\",Blad3!I1148),\"\")","v":""}]
[{"$f":"IF(AND(Blad1!C1149<>0,Blad1!D1149>0),CONCATENATE(Enhet!$B$1,\";\",Blad3!H1149,\";\",Blad3!I1149),\"\")","v":""}]
[{"$f":"IF(AND(Blad1!C1150<>0,Blad1!D1150>0),CONCATENATE(Enhet!$B$1,\";\",Blad3!H1150,\";\",Blad3!I1150),\"\")","v":""}]
[{"$f":"IF(AND(Blad1!C1151<>0,Blad1!D1151>0),CONCATENATE(Enhet!$B$1,\";\",Blad3!H1151,\";\",Blad3!I1151),\"\")","v":""}]
[{"$f":"IF(AND(Blad1!C1152<>0,Blad1!D1152>0),CONCATENATE(Enhet!$B$1,\";\",Blad3!H1152,\";\",Blad3!I1152),\"\")","v":""}]
[{"$f":"IF(AND(Blad1!C1153<>0,Blad1!D1153>0),CONCATENATE(Enhet!$B$1,\";\",Blad3!H1153,\";\",Blad3!I1153),\"\")","v":""}]
[{"$f":"IF(AND(Blad1!C1154<>0,Blad1!D1154>0),CONCATENATE(Enhet!$B$1,\";\",Blad3!H1154,\";\",Blad3!I1154),\"\")","v":""}]
[{"$f":"IF(AND(Blad1!C1155<>0,Blad1!D1155>0),CONCATENATE(Enhet!$B$1,\";\",Blad3!H1155,\";\",Blad3!I1155),\"\")","v":""}]
[{"$f":"IF(AND(Blad1!C1156<>0,Blad1!D1156>0),CONCATENATE(Enhet!$B$1,\";\",Blad3!H1156,\";\",Blad3!I1156),\"\")","v":""}]
[{"$f":"IF(AND(Blad1!C1157<>0,Blad1!D1157>0),CONCATENATE(Enhet!$B$1,\";\",Blad3!H1157,\";\",Blad3!I1157),\"\")","v":""}]
[{"$f":"IF(AND(Blad1!C1158<>0,Blad1!D1158>0),CONCATENATE(Enhet!$B$1,\";\",Blad3!H1158,\";\",Blad3!I1158),\"\")","v":""}]
[{"$f":"IF(AND(Blad1!C1159<>0,Blad1!D1159>0),CONCATENATE(Enhet!$B$1,\";\",Blad3!H1159,\";\",Blad3!I1159),\"\")","v":""}]
[{"$f":"IF(AND(Blad1!C1160<>0,Blad1!D1160>0),CONCATENATE(Enhet!$B$1,\";\",Blad3!H1160,\";\",Blad3!I1160),\"\")","v":""}]
[{"$f":"IF(AND(Blad1!C1161<>0,Blad1!D1161>0),CONCATENATE(Enhet!$B$1,\";\",Blad3!H1161,\";\",Blad3!I1161),\"\")","v":""}]
[{"$f":"IF(AND(Blad1!C1162<>0,Blad1!D1162>0),CONCATENATE(Enhet!$B$1,\";\",Blad3!H1162,\";\",Blad3!I1162),\"\")","v":""}]
[{"$f":"IF(AND(Blad1!C1163<>0,Blad1!D1163>0),CONCATENATE(Enhet!$B$1,\";\",Blad3!H1163,\";\",Blad3!I1163),\"\")","v":""}]
[{"$f":"IF(AND(Blad1!C1164<>0,Blad1!D1164>0),CONCATENATE(Enhet!$B$1,\";\",Blad3!H1164,\";\",Blad3!I1164),\"\")","v":""}]
[{"$f":"IF(AND(Blad1!C1165<>0,Blad1!D1165>0),CONCATENATE(Enhet!$B$1,\";\",Blad3!H1165,\";\",Blad3!I1165),\"\")","v":""}]
[{"$f":"IF(AND(Blad1!C1166<>0,Blad1!D1166>0),CONCATENATE(Enhet!$B$1,\";\",Blad3!H1166,\";\",Blad3!I1166),\"\")","v":""}]
[{"$f":"IF(AND(Blad1!C1167<>0,Blad1!D1167>0),CONCATENATE(Enhet!$B$1,\";\",Blad3!H1167,\";\",Blad3!I1167),\"\")","v":""}]
[{"$f":"IF(AND(Blad1!C1168<>0,Blad1!D1168>0),CONCATENATE(Enhet!$B$1,\";\",Blad3!H1168,\";\",Blad3!I1168),\"\")","v":""}]
[{"$f":"IF(AND(Blad1!C1169<>0,Blad1!D1169>0),CONCATENATE(Enhet!$B$1,\";\",Blad3!H1169,\";\",Blad3!I1169),\"\")","v":""}]
[{"$f":"IF(AND(Blad1!C1170<>0,Blad1!D1170>0),CONCATENATE(Enhet!$B$1,\";\",Blad3!H1170,\";\",Blad3!I1170),\"\")","v":""}]
[{"$f":"IF(AND(Blad1!C1171<>0,Blad1!D1171>0),CONCATENATE(Enhet!$B$1,\";\",Blad3!H1171,\";\",Blad3!I1171),\"\")","v":""}]
[{"$f":"IF(AND(Blad1!C1172<>0,Blad1!D1172>0),CONCATENATE(Enhet!$B$1,\";\",Blad3!H1172,\";\",Blad3!I1172),\"\")","v":""}]
[{"$f":"IF(AND(Blad1!C1173<>0,Blad1!D1173>0),CONCATENATE(Enhet!$B$1,\";\",Blad3!H1173,\";\",Blad3!I1173),\"\")","v":""}]
[{"$f":"IF(AND(Blad1!C1174<>0,Blad1!D1174>0),CONCATENATE(Enhet!$B$1,\";\",Blad3!H1174,\";\",Blad3!I1174),\"\")","v":""}]
[{"$f":"IF(AND(Blad1!C1175<>0,Blad1!D1175>0),CONCATENATE(Enhet!$B$1,\";\",Blad3!H1175,\";\",Blad3!I1175),\"\")","v":""}]
[{"$f":"IF(AND(Blad1!C1176<>0,Blad1!D1176>0),CONCATENATE(Enhet!$B$1,\";\",Blad3!H1176,\";\",Blad3!I1176),\"\")","v":""}]
[{"$f":"IF(AND(Blad1!C1177<>0,Blad1!D1177>0),CONCATENATE(Enhet!$B$1,\";\",Blad3!H1177,\";\",Blad3!I1177),\"\")","v":""}]
[{"$f":"IF(AND(Blad1!C1178<>0,Blad1!D1178>0),CONCATENATE(Enhet!$B$1,\";\",Blad3!H1178,\";\",Blad3!I1178),\"\")","v":""}]
[{"$f":"IF(AND(Blad1!C1179<>0,Blad1!D1179>0),CONCATENATE(Enhet!$B$1,\";\",Blad3!H1179,\";\",Blad3!I1179),\"\")","v":""}]
[{"$f":"IF(AND(Blad1!C1180<>0,Blad1!D1180>0),CONCATENATE(Enhet!$B$1,\";\",Blad3!H1180,\";\",Blad3!I1180),\"\")","v":""}]
[{"$f":"IF(AND(Blad1!C1181<>0,Blad1!D1181>0),CONCATENATE(Enhet!$B$1,\";\",Blad3!H1181,\";\",Blad3!I1181),\"\")","v":""}]
[{"$f":"IF(AND(Blad1!C1182<>0,Blad1!D1182>0),CONCATENATE(Enhet!$B$1,\";\",Blad3!H1182,\";\",Blad3!I1182),\"\")","v":""}]
[{"$f":"IF(AND(Blad1!C1183<>0,Blad1!D1183>0),CONCATENATE(Enhet!$B$1,\";\",Blad3!H1183,\";\",Blad3!I1183),\"\")","v":""}]
[{"$f":"IF(AND(Blad1!C1184<>0,Blad1!D1184>0),CONCATENATE(Enhet!$B$1,\";\",Blad3!H1184,\";\",Blad3!I1184),\"\")","v":""}]
[{"$f":"IF(AND(Blad1!C1185<>0,Blad1!D1185>0),CONCATENATE(Enhet!$B$1,\";\",Blad3!H1185,\";\",Blad3!I1185),\"\")","v":""}]
[{"$f":"IF(AND(Blad1!C1186<>0,Blad1!D1186>0),CONCATENATE(Enhet!$B$1,\";\",Blad3!H1186,\";\",Blad3!I1186),\"\")","v":""}]
[{"$f":"IF(AND(Blad1!C1187<>0,Blad1!D1187>0),CONCATENATE(Enhet!$B$1,\";\",Blad3!H1187,\";\",Blad3!I1187),\"\")","v":""}]
[{"$f":"IF(AND(Blad1!C1188<>0,Blad1!D1188>0),CONCATENATE(Enhet!$B$1,\";\",Blad3!H1188,\";\",Blad3!I1188),\"\")","v":""}]
[{"$f":"IF(AND(Blad1!C1189<>0,Blad1!D1189>0),CONCATENATE(Enhet!$B$1,\";\",Blad3!H1189,\";\",Blad3!I1189),\"\")","v":""}]
[{"$f":"IF(AND(Blad1!C1190<>0,Blad1!D1190>0),CONCATENATE(Enhet!$B$1,\";\",Blad3!H1190,\";\",Blad3!I1190),\"\")","v":""}]
[{"$f":"IF(AND(Blad1!C1191<>0,Blad1!D1191>0),CONCATENATE(Enhet!$B$1,\";\",Blad3!H1191,\";\",Blad3!I1191),\"\")","v":""}]
[{"$f":"IF(AND(Blad1!C1192<>0,Blad1!D1192>0),CONCATENATE(Enhet!$B$1,\";\",Blad3!H1192,\";\",Blad3!I1192),\"\")","v":""}]
[{"$f":"IF(AND(Blad1!C1193<>0,Blad1!D1193>0),CONCATENATE(Enhet!$B$1,\";\",Blad3!H1193,\";\",Blad3!I1193),\"\")","v":""}]
[{"$f":"IF(AND(Blad1!C1194<>0,Blad1!D1194>0),CONCATENATE(Enhet!$B$1,\";\",Blad3!H1194,\";\",Blad3!I1194),\"\")","v":""}]
[{"$f":"IF(AND(Blad1!C1195<>0,Blad1!D1195>0),CONCATENATE(Enhet!$B$1,\";\",Blad3!H1195,\";\",Blad3!I1195),\"\")","v":""}]
[{"$f":"IF(AND(Blad1!C1196<>0,Blad1!D1196>0),CONCATENATE(Enhet!$B$1,\";\",Blad3!H1196,\";\",Blad3!I1196),\"\")","v":""}]
[{"$f":"IF(AND(Blad1!C1197<>0,Blad1!D1197>0),CONCATENATE(Enhet!$B$1,\";\",Blad3!H1197,\";\",Blad3!I1197),\"\")","v":""}]
[{"$f":"IF(AND(Blad1!C1198<>0,Blad1!D1198>0),CONCATENATE(Enhet!$B$1,\";\",Blad3!H1198,\";\",Blad3!I1198),\"\")","v":""}]
[{"$f":"IF(AND(Blad1!C1199<>0,Blad1!D1199>0),CONCATENATE(Enhet!$B$1,\";\",Blad3!H1199,\";\",Blad3!I1199),\"\")","v":""}]
[{"$f":"IF(AND(Blad1!C1200<>0,Blad1!D1200>0),CONCATENATE(Enhet!$B$1,\";\",Blad3!H1200,\";\",Blad3!I1200),\"\")","v":""}]
[{"$f":"IF(AND(Blad1!C1201<>0,Blad1!D1201>0),CONCATENATE(Enhet!$B$1,\";\",Blad3!H1201,\";\",Blad3!I1201),\"\")","v":""}]
[{"$f":"IF(AND(Blad1!C1202<>0,Blad1!D1202>0),CONCATENATE(Enhet!$B$1,\";\",Blad3!H1202,\";\",Blad3!I1202),\"\")","v":""}]
[{"$f":"IF(AND(Blad1!C1203<>0,Blad1!D1203>0),CONCATENATE(Enhet!$B$1,\";\",Blad3!H1203,\";\",Blad3!I1203),\"\")","v":""}]
[{"$f":"IF(AND(Blad1!C1204<>0,Blad1!D1204>0),CONCATENATE(Enhet!$B$1,\";\",Blad3!H1204,\";\",Blad3!I1204),\"\")","v":""}]
[{"$f":"IF(AND(Blad1!C1205<>0,Blad1!D1205>0),CONCATENATE(Enhet!$B$1,\";\",Blad3!H1205,\";\",Blad3!I1205),\"\")","v":""}]
[{"$f":"IF(AND(Blad1!C1206<>0,Blad1!D1206>0),CONCATENATE(Enhet!$B$1,\";\",Blad3!H1206,\";\",Blad3!I1206),\"\")","v":""}]
[{"$f":"IF(AND(Blad1!C1207<>0,Blad1!D1207>0),CONCATENATE(Enhet!$B$1,\";\",Blad3!H1207,\";\",Blad3!I1207),\"\")","v":""}]
[{"$f":"IF(AND(Blad1!C1208<>0,Blad1!D1208>0),CONCATENATE(Enhet!$B$1,\";\",Blad3!H1208,\";\",Blad3!I1208),\"\")","v":""}]
[{"$f":"IF(AND(Blad1!C1209<>0,Blad1!D1209>0),CONCATENATE(Enhet!$B$1,\";\",Blad3!H1209,\";\",Blad3!I1209),\"\")","v":""}]
[{"$f":"IF(AND(Blad1!C1210<>0,Blad1!D1210>0),CONCATENATE(Enhet!$B$1,\";\",Blad3!H1210,\";\",Blad3!I1210),\"\")","v":""}]
[{"$f":"IF(AND(Blad1!C1211<>0,Blad1!D1211>0),CONCATENATE(Enhet!$B$1,\";\",Blad3!H1211,\";\",Blad3!I1211),\"\")","v":""}]
[{"$f":"IF(AND(Blad1!C1212<>0,Blad1!D1212>0),CONCATENATE(Enhet!$B$1,\";\",Blad3!H1212,\";\",Blad3!I1212),\"\")","v":""}]
[{"$f":"IF(AND(Blad1!C1213<>0,Blad1!D1213>0),CONCATENATE(Enhet!$B$1,\";\",Blad3!H1213,\";\",Blad3!I1213),\"\")","v":""}]
[{"$f":"IF(AND(Blad1!C1214<>0,Blad1!D1214>0),CONCATENATE(Enhet!$B$1,\";\",Blad3!H1214,\";\",Blad3!I1214),\"\")","v":""}]
[{"$f":"IF(AND(Blad1!C1215<>0,Blad1!D1215>0),CONCATENATE(Enhet!$B$1,\";\",Blad3!H1215,\";\",Blad3!I1215),\"\")","v":""}]
[{"$f":"IF(AND(Blad1!C1216<>0,Blad1!D1216>0),CONCATENATE(Enhet!$B$1,\";\",Blad3!H1216,\";\",Blad3!I1216),\"\")","v":""}]
[{"$f":"IF(AND(Blad1!C1217<>0,Blad1!D1217>0),CONCATENATE(Enhet!$B$1,\";\",Blad3!H1217,\";\",Blad3!I1217),\"\")","v":""}]
[{"$f":"IF(AND(Blad1!C1218<>0,Blad1!D1218>0),CONCATENATE(Enhet!$B$1,\";\",Blad3!H1218,\";\",Blad3!I1218),\"\")","v":""}]
[{"$f":"IF(AND(Blad1!C1219<>0,Blad1!D1219>0),CONCATENATE(Enhet!$B$1,\";\",Blad3!H1219,\";\",Blad3!I1219),\"\")","v":""}]
[{"$f":"IF(AND(Blad1!C1220<>0,Blad1!D1220>0),CONCATENATE(Enhet!$B$1,\";\",Blad3!H1220,\";\",Blad3!I1220),\"\")","v":""}]
[{"$f":"IF(AND(Blad1!C1221<>0,Blad1!D1221>0),CONCATENATE(Enhet!$B$1,\";\",Blad3!H1221,\";\",Blad3!I1221),\"\")","v":""}]
[{"$f":"IF(AND(Blad1!C1222<>0,Blad1!D1222>0),CONCATENATE(Enhet!$B$1,\";\",Blad3!H1222,\";\",Blad3!I1222),\"\")","v":""}]
[{"$f":"IF(AND(Blad1!C1223<>0,Blad1!D1223>0),CONCATENATE(Enhet!$B$1,\";\",Blad3!H1223,\";\",Blad3!I1223),\"\")","v":""}]
[{"$f":"IF(AND(Blad1!C1224<>0,Blad1!D1224>0),CONCATENATE(Enhet!$B$1,\";\",Blad3!H1224,\";\",Blad3!I1224),\"\")","v":""}]
[{"$f":"IF(AND(Blad1!C1225<>0,Blad1!D1225>0),CONCATENATE(Enhet!$B$1,\";\",Blad3!H1225,\";\",Blad3!I1225),\"\")","v":""}]
[{"$f":"IF(AND(Blad1!C1226<>0,Blad1!D1226>0),CONCATENATE(Enhet!$B$1,\";\",Blad3!H1226,\";\",Blad3!I1226),\"\")","v":""}]
[{"$f":"IF(AND(Blad1!C1227<>0,Blad1!D1227>0),CONCATENATE(Enhet!$B$1,\";\",Blad3!H1227,\";\",Blad3!I1227),\"\")","v":""}]
[{"$f":"IF(AND(Blad1!C1228<>0,Blad1!D1228>0),CONCATENATE(Enhet!$B$1,\";\",Blad3!H1228,\";\",Blad3!I1228),\"\")","v":""}]
[{"$f":"IF(AND(Blad1!C1229<>0,Blad1!D1229>0),CONCATENATE(Enhet!$B$1,\";\",Blad3!H1229,\";\",Blad3!I1229),\"\")","v":""}]
[{"$f":"IF(AND(Blad1!C1230<>0,Blad1!D1230>0),CONCATENATE(Enhet!$B$1,\";\",Blad3!H1230,\";\",Blad3!I1230),\"\")","v":""}]
[{"$f":"IF(AND(Blad1!C1231<>0,Blad1!D1231>0),CONCATENATE(Enhet!$B$1,\";\",Blad3!H1231,\";\",Blad3!I1231),\"\")","v":""}]
[{"$f":"IF(AND(Blad1!C1232<>0,Blad1!D1232>0),CONCATENATE(Enhet!$B$1,\";\",Blad3!H1232,\";\",Blad3!I1232),\"\")","v":""}]
[{"$f":"IF(AND(Blad1!C1233<>0,Blad1!D1233>0),CONCATENATE(Enhet!$B$1,\";\",Blad3!H1233,\";\",Blad3!I1233),\"\")","v":""}]
[{"$f":"IF(AND(Blad1!C1234<>0,Blad1!D1234>0),CONCATENATE(Enhet!$B$1,\";\",Blad3!H1234,\";\",Blad3!I1234),\"\")","v":""}]
[{"$f":"IF(AND(Blad1!C1235<>0,Blad1!D1235>0),CONCATENATE(Enhet!$B$1,\";\",Blad3!H1235,\";\",Blad3!I1235),\"\")","v":""}]
[{"$f":"IF(AND(Blad1!C1236<>0,Blad1!D1236>0),CONCATENATE(Enhet!$B$1,\";\",Blad3!H1236,\";\",Blad3!I1236),\"\")","v":""}]
[{"$f":"IF(AND(Blad1!C1237<>0,Blad1!D1237>0),CONCATENATE(Enhet!$B$1,\";\",Blad3!H1237,\";\",Blad3!I1237),\"\")","v":""}]
[{"$f":"IF(AND(Blad1!C1238<>0,Blad1!D1238>0),CONCATENATE(Enhet!$B$1,\";\",Blad3!H1238,\";\",Blad3!I1238),\"\")","v":""}]
[{"$f":"IF(AND(Blad1!C1239<>0,Blad1!D1239>0),CONCATENATE(Enhet!$B$1,\";\",Blad3!H1239,\";\",Blad3!I1239),\"\")","v":""}]
[{"$f":"IF(AND(Blad1!C1240<>0,Blad1!D1240>0),CONCATENATE(Enhet!$B$1,\";\",Blad3!H1240,\";\",Blad3!I1240),\"\")","v":""}]
[{"$f":"IF(AND(Blad1!C1241<>0,Blad1!D1241>0),CONCATENATE(Enhet!$B$1,\";\",Blad3!H1241,\";\",Blad3!I1241),\"\")","v":""}]
[{"$f":"IF(AND(Blad1!C1242<>0,Blad1!D1242>0),CONCATENATE(Enhet!$B$1,\";\",Blad3!H1242,\";\",Blad3!I1242),\"\")","v":""}]
[{"$f":"IF(AND(Blad1!C1243<>0,Blad1!D1243>0),CONCATENATE(Enhet!$B$1,\";\",Blad3!H1243,\";\",Blad3!I1243),\"\")","v":""}]
[{"$f":"IF(AND(Blad1!C1244<>0,Blad1!D1244>0),CONCATENATE(Enhet!$B$1,\";\",Blad3!H1244,\";\",Blad3!I1244),\"\")","v":""}]
[{"$f":"IF(AND(Blad1!C1245<>0,Blad1!D1245>0),CONCATENATE(Enhet!$B$1,\";\",Blad3!H1245,\";\",Blad3!I1245),\"\")","v":""}]
[{"$f":"IF(AND(Blad1!C1246<>0,Blad1!D1246>0),CONCATENATE(Enhet!$B$1,\";\",Blad3!H1246,\";\",Blad3!I1246),\"\")","v":""}]
[{"$f":"IF(AND(Blad1!C1247<>0,Blad1!D1247>0),CONCATENATE(Enhet!$B$1,\";\",Blad3!H1247,\";\",Blad3!I1247),\"\")","v":""}]
[{"$f":"IF(AND(Blad1!C1248<>0,Blad1!D1248>0),CONCATENATE(Enhet!$B$1,\";\",Blad3!H1248,\";\",Blad3!I1248),\"\")","v":""}]
[{"$f":"IF(AND(Blad1!C1249<>0,Blad1!D1249>0),CONCATENATE(Enhet!$B$1,\";\",Blad3!H1249,\";\",Blad3!I1249),\"\")","v":""}]
[{"$f":"IF(AND(Blad1!C1250<>0,Blad1!D1250>0),CONCATENATE(Enhet!$B$1,\";\",Blad3!H1250,\";\",Blad3!I1250),\"\")","v":""}]
[{"$f":"IF(AND(Blad1!C1251<>0,Blad1!D1251>0),CONCATENATE(Enhet!$B$1,\";\",Blad3!H1251,\";\",Blad3!I1251),\"\")","v":""}]
[{"$f":"IF(AND(Blad1!C1252<>0,Blad1!D1252>0),CONCATENATE(Enhet!$B$1,\";\",Blad3!H1252,\";\",Blad3!I1252),\"\")","v":""}]
[{"$f":"IF(AND(Blad1!C1253<>0,Blad1!D1253>0),CONCATENATE(Enhet!$B$1,\";\",Blad3!H1253,\";\",Blad3!I1253),\"\")","v":""}]
[{"$f":"IF(AND(Blad1!C1254<>0,Blad1!D1254>0),CONCATENATE(Enhet!$B$1,\";\",Blad3!H1254,\";\",Blad3!I1254),\"\")","v":""}]
[{"$f":"IF(AND(Blad1!C1255<>0,Blad1!D1255>0),CONCATENATE(Enhet!$B$1,\";\",Blad3!H1255,\";\",Blad3!I1255),\"\")","v":""}]
[{"$f":"IF(AND(Blad1!C1256<>0,Blad1!D1256>0),CONCATENATE(Enhet!$B$1,\";\",Blad3!H1256,\";\",Blad3!I1256),\"\")","v":""}]
[{"$f":"IF(AND(Blad1!C1257<>0,Blad1!D1257>0),CONCATENATE(Enhet!$B$1,\";\",Blad3!H1257,\";\",Blad3!I1257),\"\")","v":""}]
[{"$f":"IF(AND(Blad1!C1258<>0,Blad1!D1258>0),CONCATENATE(Enhet!$B$1,\";\",Blad3!H1258,\";\",Blad3!I1258),\"\")","v":""}]
[{"$f":"IF(AND(Blad1!C1259<>0,Blad1!D1259>0),CONCATENATE(Enhet!$B$1,\";\",Blad3!H1259,\";\",Blad3!I1259),\"\")","v":""}]
[{"$f":"IF(AND(Blad1!C1260<>0,Blad1!D1260>0),CONCATENATE(Enhet!$B$1,\";\",Blad3!H1260,\";\",Blad3!I1260),\"\")","v":""}]
[{"$f":"IF(AND(Blad1!C1261<>0,Blad1!D1261>0),CONCATENATE(Enhet!$B$1,\";\",Blad3!H1261,\";\",Blad3!I1261),\"\")","v":""}]
[{"$f":"IF(AND(Blad1!C1262<>0,Blad1!D1262>0),CONCATENATE(Enhet!$B$1,\";\",Blad3!H1262,\";\",Blad3!I1262),\"\")","v":""}]
[{"$f":"IF(AND(Blad1!C1263<>0,Blad1!D1263>0),CONCATENATE(Enhet!$B$1,\";\",Blad3!H1263,\";\",Blad3!I1263),\"\")","v":""}]
[{"$f":"IF(AND(Blad1!C1264<>0,Blad1!D1264>0),CONCATENATE(Enhet!$B$1,\";\",Blad3!H1264,\";\",Blad3!I1264),\"\")","v":""}]
[{"$f":"IF(AND(Blad1!C1265<>0,Blad1!D1265>0),CONCATENATE(Enhet!$B$1,\";\",Blad3!H1265,\";\",Blad3!I1265),\"\")","v":""}]
[{"$f":"IF(AND(Blad1!C1266<>0,Blad1!D1266>0),CONCATENATE(Enhet!$B$1,\";\",Blad3!H1266,\";\",Blad3!I1266),\"\")","v":""}]
[{"$f":"IF(AND(Blad1!C1267<>0,Blad1!D1267>0),CONCATENATE(Enhet!$B$1,\";\",Blad3!H1267,\";\",Blad3!I1267),\"\")","v":""}]
[{"$f":"IF(AND(Blad1!C1268<>0,Blad1!D1268>0),CONCATENATE(Enhet!$B$1,\";\",Blad3!H1268,\";\",Blad3!I1268),\"\")","v":""}]
[{"$f":"IF(AND(Blad1!C1269<>0,Blad1!D1269>0),CONCATENATE(Enhet!$B$1,\";\",Blad3!H1269,\";\",Blad3!I1269),\"\")","v":""}]
[{"$f":"IF(AND(Blad1!C1270<>0,Blad1!D1270>0),CONCATENATE(Enhet!$B$1,\";\",Blad3!H1270,\";\",Blad3!I1270),\"\")","v":""}]
[{"$f":"IF(AND(Blad1!C1271<>0,Blad1!D1271>0),CONCATENATE(Enhet!$B$1,\";\",Blad3!H1271,\";\",Blad3!I1271),\"\")","v":""}]
[{"$f":"IF(AND(Blad1!C1272<>0,Blad1!D1272>0),CONCATENATE(Enhet!$B$1,\";\",Blad3!H1272,\";\",Blad3!I1272),\"\")","v":""}]
[{"$f":"IF(AND(Blad1!C1273<>0,Blad1!D1273>0),CONCATENATE(Enhet!$B$1,\";\",Blad3!H1273,\";\",Blad3!I1273),\"\")","v":""}]
[{"$f":"IF(AND(Blad1!C1274<>0,Blad1!D1274>0),CONCATENATE(Enhet!$B$1,\";\",Blad3!H1274,\";\",Blad3!I1274),\"\")","v":""}]
[{"$f":"IF(AND(Blad1!C1275<>0,Blad1!D1275>0),CONCATENATE(Enhet!$B$1,\";\",Blad3!H1275,\";\",Blad3!I1275),\"\")","v":""}]
[{"$f":"IF(AND(Blad1!C1276<>0,Blad1!D1276>0),CONCATENATE(Enhet!$B$1,\";\",Blad3!H1276,\";\",Blad3!I1276),\"\")","v":""}]
[{"$f":"IF(AND(Blad1!C1277<>0,Blad1!D1277>0),CONCATENATE(Enhet!$B$1,\";\",Blad3!H1277,\";\",Blad3!I1277),\"\")","v":""}]
[{"$f":"IF(AND(Blad1!C1278<>0,Blad1!D1278>0),CONCATENATE(Enhet!$B$1,\";\",Blad3!H1278,\";\",Blad3!I1278),\"\")","v":""}]
[{"$f":"IF(AND(Blad1!C1279<>0,Blad1!D1279>0),CONCATENATE(Enhet!$B$1,\";\",Blad3!H1279,\";\",Blad3!I1279),\"\")","v":""}]
[{"$f":"IF(AND(Blad1!C1280<>0,Blad1!D1280>0),CONCATENATE(Enhet!$B$1,\";\",Blad3!H1280,\";\",Blad3!I1280),\"\")","v":""}]
[{"$f":"IF(AND(Blad1!C1281<>0,Blad1!D1281>0),CONCATENATE(Enhet!$B$1,\";\",Blad3!H1281,\";\",Blad3!I1281),\"\")","v":""}]
[{"$f":"IF(AND(Blad1!C1282<>0,Blad1!D1282>0),CONCATENATE(Enhet!$B$1,\";\",Blad3!H1282,\";\",Blad3!I1282),\"\")","v":""}]
[{"$f":"IF(AND(Blad1!C1283<>0,Blad1!D1283>0),CONCATENATE(Enhet!$B$1,\";\",Blad3!H1283,\";\",Blad3!I1283),\"\")","v":""}]
[{"$f":"IF(AND(Blad1!C1284<>0,Blad1!D1284>0),CONCATENATE(Enhet!$B$1,\";\",Blad3!H1284,\";\",Blad3!I1284),\"\")","v":""}]
[{"$f":"IF(AND(Blad1!C1285<>0,Blad1!D1285>0),CONCATENATE(Enhet!$B$1,\";\",Blad3!H1285,\";\",Blad3!I1285),\"\")","v":""}]
[{"$f":"IF(AND(Blad1!C1286<>0,Blad1!D1286>0),CONCATENATE(Enhet!$B$1,\";\",Blad3!H1286,\";\",Blad3!I1286),\"\")","v":""}]
[{"$f":"IF(AND(Blad1!C1287<>0,Blad1!D1287>0),CONCATENATE(Enhet!$B$1,\";\",Blad3!H1287,\";\",Blad3!I1287),\"\")","v":""}]
[{"$f":"IF(AND(Blad1!C1288<>0,Blad1!D1288>0),CONCATENATE(Enhet!$B$1,\";\",Blad3!H1288,\";\",Blad3!I1288),\"\")","v":""}]
[{"$f":"IF(AND(Blad1!C1289<>0,Blad1!D1289>0),CONCATENATE(Enhet!$B$1,\";\",Blad3!H1289,\";\",Blad3!I1289),\"\")","v":""}]
[{"$f":"IF(AND(Blad1!C1290<>0,Blad1!D1290>0),CONCATENATE(Enhet!$B$1,\";\",Blad3!H1290,\";\",Blad3!I1290),\"\")","v":""}]
[{"$f":"IF(AND(Blad1!C1291<>0,Blad1!D1291>0),CONCATENATE(Enhet!$B$1,\";\",Blad3!H1291,\";\",Blad3!I1291),\"\")","v":""}]
[{"$f":"IF(AND(Blad1!C1292<>0,Blad1!D1292>0),CONCATENATE(Enhet!$B$1,\";\",Blad3!H1292,\";\",Blad3!I1292),\"\")","v":""}]
[{"$f":"IF(AND(Blad1!C1293<>0,Blad1!D1293>0),CONCATENATE(Enhet!$B$1,\";\",Blad3!H1293,\";\",Blad3!I1293),\"\")","v":""}]
[{"$f":"IF(AND(Blad1!C1294<>0,Blad1!D1294>0),CONCATENATE(Enhet!$B$1,\";\",Blad3!H1294,\";\",Blad3!I1294),\"\")","v":""}]
[{"$f":"IF(AND(Blad1!C1295<>0,Blad1!D1295>0),CONCATENATE(Enhet!$B$1,\";\",Blad3!H1295,\";\",Blad3!I1295),\"\")","v":""}]
[{"$f":"IF(AND(Blad1!C1296<>0,Blad1!D1296>0),CONCATENATE(Enhet!$B$1,\";\",Blad3!H1296,\";\",Blad3!I1296),\"\")","v":""}]
[{"$f":"IF(AND(Blad1!C1297<>0,Blad1!D1297>0),CONCATENATE(Enhet!$B$1,\";\",Blad3!H1297,\";\",Blad3!I1297),\"\")","v":""}]
[{"$f":"IF(AND(Blad1!C1298<>0,Blad1!D1298>0),CONCATENATE(Enhet!$B$1,\";\",Blad3!H1298,\";\",Blad3!I1298),\"\")","v":""}]
[{"$f":"IF(AND(Blad1!C1299<>0,Blad1!D1299>0),CONCATENATE(Enhet!$B$1,\";\",Blad3!H1299,\";\",Blad3!I1299),\"\")","v":""}]
[{"$f":"IF(AND(Blad1!C1300<>0,Blad1!D1300>0),CONCATENATE(Enhet!$B$1,\";\",Blad3!H1300,\";\",Blad3!I1300),\"\")","v":""}]
[{"$f":"IF(AND(Blad1!C1301<>0,Blad1!D1301>0),CONCATENATE(Enhet!$B$1,\";\",Blad3!H1301,\";\",Blad3!I1301),\"\")","v":""}]
[{"$f":"IF(AND(Blad1!C1302<>0,Blad1!D1302>0),CONCATENATE(Enhet!$B$1,\";\",Blad3!H1302,\";\",Blad3!I1302),\"\")","v":""}]
[{"$f":"IF(AND(Blad1!C1303<>0,Blad1!D1303>0),CONCATENATE(Enhet!$B$1,\";\",Blad3!H1303,\";\",Blad3!I1303),\"\")","v":""}]
[{"$f":"IF(AND(Blad1!C1304<>0,Blad1!D1304>0),CONCATENATE(Enhet!$B$1,\";\",Blad3!H1304,\";\",Blad3!I1304),\"\")","v":""}]
[{"$f":"IF(AND(Blad1!C1305<>0,Blad1!D1305>0),CONCATENATE(Enhet!$B$1,\";\",Blad3!H1305,\";\",Blad3!I1305),\"\")","v":""}]
[{"$f":"IF(AND(Blad1!C1306<>0,Blad1!D1306>0),CONCATENATE(Enhet!$B$1,\";\",Blad3!H1306,\";\",Blad3!I1306),\"\")","v":""}]
[{"$f":"IF(AND(Blad1!C1307<>0,Blad1!D1307>0),CONCATENATE(Enhet!$B$1,\";\",Blad3!H1307,\";\",Blad3!I1307),\"\")","v":""}]
[{"$f":"IF(AND(Blad1!C1308<>0,Blad1!D1308>0),CONCATENATE(Enhet!$B$1,\";\",Blad3!H1308,\";\",Blad3!I1308),\"\")","v":""}]
[{"$f":"IF(AND(Blad1!C1309<>0,Blad1!D1309>0),CONCATENATE(Enhet!$B$1,\";\",Blad3!H1309,\";\",Blad3!I1309),\"\")","v":""}]
[{"$f":"IF(AND(Blad1!C1310<>0,Blad1!D1310>0),CONCATENATE(Enhet!$B$1,\";\",Blad3!H1310,\";\",Blad3!I1310),\"\")","v":""}]
[{"$f":"IF(AND(Blad1!C1311<>0,Blad1!D1311>0),CONCATENATE(Enhet!$B$1,\";\",Blad3!H1311,\";\",Blad3!I1311),\"\")","v":""}]
[{"$f":"IF(AND(Blad1!C1312<>0,Blad1!D1312>0),CONCATENATE(Enhet!$B$1,\";\",Blad3!H1312,\";\",Blad3!I1312),\"\")","v":""}]
[{"$f":"IF(AND(Blad1!C1313<>0,Blad1!D1313>0),CONCATENATE(Enhet!$B$1,\";\",Blad3!H1313,\";\",Blad3!I1313),\"\")","v":""}]
[{"$f":"IF(AND(Blad1!C1314<>0,Blad1!D1314>0),CONCATENATE(Enhet!$B$1,\";\",Blad3!H1314,\";\",Blad3!I1314),\"\")","v":""}]
[{"$f":"IF(AND(Blad1!C1315<>0,Blad1!D1315>0),CONCATENATE(Enhet!$B$1,\";\",Blad3!H1315,\";\",Blad3!I1315),\"\")","v":""}]
[{"$f":"IF(AND(Blad1!C1316<>0,Blad1!D1316>0),CONCATENATE(Enhet!$B$1,\";\",Blad3!H1316,\";\",Blad3!I1316),\"\")","v":""}]
[{"$f":"IF(AND(Blad1!C1317<>0,Blad1!D1317>0),CONCATENATE(Enhet!$B$1,\";\",Blad3!H1317,\";\",Blad3!I1317),\"\")","v":""}]
[{"$f":"IF(AND(Blad1!C1318<>0,Blad1!D1318>0),CONCATENATE(Enhet!$B$1,\";\",Blad3!H1318,\";\",Blad3!I1318),\"\")","v":""}]
[{"$f":"IF(AND(Blad1!C1319<>0,Blad1!D1319>0),CONCATENATE(Enhet!$B$1,\";\",Blad3!H1319,\";\",Blad3!I1319),\"\")","v":""}]
[{"$f":"IF(AND(Blad1!C1320<>0,Blad1!D1320>0),CONCATENATE(Enhet!$B$1,\";\",Blad3!H1320,\";\",Blad3!I1320),\"\")","v":""}]
[{"$f":"IF(AND(Blad1!C1321<>0,Blad1!D1321>0),CONCATENATE(Enhet!$B$1,\";\",Blad3!H1321,\";\",Blad3!I1321),\"\")","v":""}]
[{"$f":"IF(AND(Blad1!C1322<>0,Blad1!D1322>0),CONCATENATE(Enhet!$B$1,\";\",Blad3!H1322,\";\",Blad3!I1322),\"\")","v":""}]
[{"$f":"IF(AND(Blad1!C1323<>0,Blad1!D1323>0),CONCATENATE(Enhet!$B$1,\";\",Blad3!H1323,\";\",Blad3!I1323),\"\")","v":""}]
[{"$f":"IF(AND(Blad1!C1324<>0,Blad1!D1324>0),CONCATENATE(Enhet!$B$1,\";\",Blad3!H1324,\";\",Blad3!I1324),\"\")","v":""}]
[{"$f":"IF(AND(Blad1!C1325<>0,Blad1!D1325>0),CONCATENATE(Enhet!$B$1,\";\",Blad3!H1325,\";\",Blad3!I1325),\"\")","v":""}]
[{"$f":"IF(AND(Blad1!C1326<>0,Blad1!D1326>0),CONCATENATE(Enhet!$B$1,\";\",Blad3!H1326,\";\",Blad3!I1326),\"\")","v":""}]
[{"$f":"IF(AND(Blad1!C1327<>0,Blad1!D1327>0),CONCATENATE(Enhet!$B$1,\";\",Blad3!H1327,\";\",Blad3!I1327),\"\")","v":""}]
[{"$f":"IF(AND(Blad1!C1328<>0,Blad1!D1328>0),CONCATENATE(Enhet!$B$1,\";\",Blad3!H1328,\";\",Blad3!I1328),\"\")","v":""}]
[{"$f":"IF(AND(Blad1!C1329<>0,Blad1!D1329>0),CONCATENATE(Enhet!$B$1,\";\",Blad3!H1329,\";\",Blad3!I1329),\"\")","v":""}]
[{"$f":"IF(AND(Blad1!C1330<>0,Blad1!D1330>0),CONCATENATE(Enhet!$B$1,\";\",Blad3!H1330,\";\",Blad3!I1330),\"\")","v":""}]
[{"$f":"IF(AND(Blad1!C1331<>0,Blad1!D1331>0),CONCATENATE(Enhet!$B$1,\";\",Blad3!H1331,\";\",Blad3!I1331),\"\")","v":""}]
[{"$f":"IF(AND(Blad1!C1332<>0,Blad1!D1332>0),CONCATENATE(Enhet!$B$1,\";\",Blad3!H1332,\";\",Blad3!I1332),\"\")","v":""}]
[{"$f":"IF(AND(Blad1!C1333<>0,Blad1!D1333>0),CONCATENATE(Enhet!$B$1,\";\",Blad3!H1333,\";\",Blad3!I1333),\"\")","v":""}]
[{"$f":"IF(AND(Blad1!C1334<>0,Blad1!D1334>0),CONCATENATE(Enhet!$B$1,\";\",Blad3!H1334,\";\",Blad3!I1334),\"\")","v":""}]
[{"$f":"IF(AND(Blad1!C1335<>0,Blad1!D1335>0),CONCATENATE(Enhet!$B$1,\";\",Blad3!H1335,\";\",Blad3!I1335),\"\")","v":""}]
[{"$f":"IF(AND(Blad1!C1336<>0,Blad1!D1336>0),CONCATENATE(Enhet!$B$1,\";\",Blad3!H1336,\";\",Blad3!I1336),\"\")","v":""}]
[{"$f":"IF(AND(Blad1!C1337<>0,Blad1!D1337>0),CONCATENATE(Enhet!$B$1,\";\",Blad3!H1337,\";\",Blad3!I1337),\"\")","v":""}]
[{"$f":"IF(AND(Blad1!C1338<>0,Blad1!D1338>0),CONCATENATE(Enhet!$B$1,\";\",Blad3!H1338,\";\",Blad3!I1338),\"\")","v":""}]
[{"$f":"IF(AND(Blad1!C1339<>0,Blad1!D1339>0),CONCATENATE(Enhet!$B$1,\";\",Blad3!H1339,\";\",Blad3!I1339),\"\")","v":""}]
[{"$f":"IF(AND(Blad1!C1340<>0,Blad1!D1340>0),CONCATENATE(Enhet!$B$1,\";\",Blad3!H1340,\";\",Blad3!I1340),\"\")","v":""}]
[{"$f":"IF(AND(Blad1!C1341<>0,Blad1!D1341>0),CONCATENATE(Enhet!$B$1,\";\",Blad3!H1341,\";\",Blad3!I1341),\"\")","v":""}]
[{"$f":"IF(AND(Blad1!C1342<>0,Blad1!D1342>0),CONCATENATE(Enhet!$B$1,\";\",Blad3!H1342,\";\",Blad3!I1342),\"\")","v":""}]
[{"$f":"IF(AND(Blad1!C1343<>0,Blad1!D1343>0),CONCATENATE(Enhet!$B$1,\";\",Blad3!H1343,\";\",Blad3!I1343),\"\")","v":""}]
[{"$f":"IF(AND(Blad1!C1344<>0,Blad1!D1344>0),CONCATENATE(Enhet!$B$1,\";\",Blad3!H1344,\";\",Blad3!I1344),\"\")","v":""}]
[{"$f":"IF(AND(Blad1!C1345<>0,Blad1!D1345>0),CONCATENATE(Enhet!$B$1,\";\",Blad3!H1345,\";\",Blad3!I1345),\"\")","v":""}]
[{"$f":"IF(AND(Blad1!C1346<>0,Blad1!D1346>0),CONCATENATE(Enhet!$B$1,\";\",Blad3!H1346,\";\",Blad3!I1346),\"\")","v":""}]
[{"$f":"IF(AND(Blad1!C1347<>0,Blad1!D1347>0),CONCATENATE(Enhet!$B$1,\";\",Blad3!H1347,\";\",Blad3!I1347),\"\")","v":""}]
[{"$f":"IF(AND(Blad1!C1348<>0,Blad1!D1348>0),CONCATENATE(Enhet!$B$1,\";\",Blad3!H1348,\";\",Blad3!I1348),\"\")","v":""}]
[{"$f":"IF(AND(Blad1!C1349<>0,Blad1!D1349>0),CONCATENATE(Enhet!$B$1,\";\",Blad3!H1349,\";\",Blad3!I1349),\"\")","v":""}]
[{"$f":"IF(AND(Blad1!C1350<>0,Blad1!D1350>0),CONCATENATE(Enhet!$B$1,\";\",Blad3!H1350,\";\",Blad3!I1350),\"\")","v":""}]
[{"$f":"IF(AND(Blad1!C1351<>0,Blad1!D1351>0),CONCATENATE(Enhet!$B$1,\";\",Blad3!H1351,\";\",Blad3!I1351),\"\")","v":""}]
[{"$f":"IF(AND(Blad1!C1352<>0,Blad1!D1352>0),CONCATENATE(Enhet!$B$1,\";\",Blad3!H1352,\";\",Blad3!I1352),\"\")","v":""}]
[{"$f":"IF(AND(Blad1!C1353<>0,Blad1!D1353>0),CONCATENATE(Enhet!$B$1,\";\",Blad3!H1353,\";\",Blad3!I1353),\"\")","v":""}]
[{"$f":"IF(AND(Blad1!C1354<>0,Blad1!D1354>0),CONCATENATE(Enhet!$B$1,\";\",Blad3!H1354,\";\",Blad3!I1354),\"\")","v":""}]
[{"$f":"IF(AND(Blad1!C1355<>0,Blad1!D1355>0),CONCATENATE(Enhet!$B$1,\";\",Blad3!H1355,\";\",Blad3!I1355),\"\")","v":""}]
[{"$f":"IF(AND(Blad1!C1356<>0,Blad1!D1356>0),CONCATENATE(Enhet!$B$1,\";\",Blad3!H1356,\";\",Blad3!I1356),\"\")","v":""}]
[{"$f":"IF(AND(Blad1!C1357<>0,Blad1!D1357>0),CONCATENATE(Enhet!$B$1,\";\",Blad3!H1357,\";\",Blad3!I1357),\"\")","v":""}]
[{"$f":"IF(AND(Blad1!C1358<>0,Blad1!D1358>0),CONCATENATE(Enhet!$B$1,\";\",Blad3!H1358,\";\",Blad3!I1358),\"\")","v":""}]
[{"$f":"IF(AND(Blad1!C1359<>0,Blad1!D1359>0),CONCATENATE(Enhet!$B$1,\";\",Blad3!H1359,\";\",Blad3!I1359),\"\")","v":""}]
[{"$f":"IF(AND(Blad1!C1360<>0,Blad1!D1360>0),CONCATENATE(Enhet!$B$1,\";\",Blad3!H1360,\";\",Blad3!I1360),\"\")","v":""}]
[{"$f":"IF(AND(Blad1!C1361<>0,Blad1!D1361>0),CONCATENATE(Enhet!$B$1,\";\",Blad3!H1361,\";\",Blad3!I1361),\"\")","v":""}]
[{"$f":"IF(AND(Blad1!C1362<>0,Blad1!D1362>0),CONCATENATE(Enhet!$B$1,\";\",Blad3!H1362,\";\",Blad3!I1362),\"\")","v":""}]
[{"$f":"IF(AND(Blad1!C1363<>0,Blad1!D1363>0),CONCATENATE(Enhet!$B$1,\";\",Blad3!H1363,\";\",Blad3!I1363),\"\")","v":""}]
[{"$f":"IF(AND(Blad1!C1364<>0,Blad1!D1364>0),CONCATENATE(Enhet!$B$1,\";\",Blad3!H1364,\";\",Blad3!I1364),\"\")","v":""}]
[{"$f":"IF(AND(Blad1!C1365<>0,Blad1!D1365>0),CONCATENATE(Enhet!$B$1,\";\",Blad3!H1365,\";\",Blad3!I1365),\"\")","v":""}]
[{"$f":"IF(AND(Blad1!C1366<>0,Blad1!D1366>0),CONCATENATE(Enhet!$B$1,\";\",Blad3!H1366,\";\",Blad3!I1366),\"\")","v":""}]
[{"$f":"IF(AND(Blad1!C1367<>0,Blad1!D1367>0),CONCATENATE(Enhet!$B$1,\";\",Blad3!H1367,\";\",Blad3!I1367),\"\")","v":""}]
[{"$f":"IF(AND(Blad1!C1368<>0,Blad1!D1368>0),CONCATENATE(Enhet!$B$1,\";\",Blad3!H1368,\";\",Blad3!I1368),\"\")","v":""}]
[{"$f":"IF(AND(Blad1!C1369<>0,Blad1!D1369>0),CONCATENATE(Enhet!$B$1,\";\",Blad3!H1369,\";\",Blad3!I1369),\"\")","v":""}]
[{"$f":"IF(AND(Blad1!C1370<>0,Blad1!D1370>0),CONCATENATE(Enhet!$B$1,\";\",Blad3!H1370,\";\",Blad3!I1370),\"\")","v":""}]
[{"$f":"IF(AND(Blad1!C1371<>0,Blad1!D1371>0),CONCATENATE(Enhet!$B$1,\";\",Blad3!H1371,\";\",Blad3!I1371),\"\")","v":""}]
[{"$f":"IF(AND(Blad1!C1372<>0,Blad1!D1372>0),CONCATENATE(Enhet!$B$1,\";\",Blad3!H1372,\";\",Blad3!I1372),\"\")","v":""}]
[{"$f":"IF(AND(Blad1!C1373<>0,Blad1!D1373>0),CONCATENATE(Enhet!$B$1,\";\",Blad3!H1373,\";\",Blad3!I1373),\"\")","v":""}]
[{"$f":"IF(AND(Blad1!C1374<>0,Blad1!D1374>0),CONCATENATE(Enhet!$B$1,\";\",Blad3!H1374,\";\",Blad3!I1374),\"\")","v":""}]
[{"$f":"IF(AND(Blad1!C1375<>0,Blad1!D1375>0),CONCATENATE(Enhet!$B$1,\";\",Blad3!H1375,\";\",Blad3!I1375),\"\")","v":""}]
[{"$f":"IF(AND(Blad1!C1376<>0,Blad1!D1376>0),CONCATENATE(Enhet!$B$1,\";\",Blad3!H1376,\";\",Blad3!I1376),\"\")","v":""}]
[{"$f":"IF(AND(Blad1!C1377<>0,Blad1!D1377>0),CONCATENATE(Enhet!$B$1,\";\",Blad3!H1377,\";\",Blad3!I1377),\"\")","v":""}]
[{"$f":"IF(AND(Blad1!C1378<>0,Blad1!D1378>0),CONCATENATE(Enhet!$B$1,\";\",Blad3!H1378,\";\",Blad3!I1378),\"\")","v":""}]
[{"$f":"IF(AND(Blad1!C1379<>0,Blad1!D1379>0),CONCATENATE(Enhet!$B$1,\";\",Blad3!H1379,\";\",Blad3!I1379),\"\")","v":""}]
[{"$f":"IF(AND(Blad1!C1380<>0,Blad1!D1380>0),CONCATENATE(Enhet!$B$1,\";\",Blad3!H1380,\";\",Blad3!I1380),\"\")","v":""}]
[{"$f":"IF(AND(Blad1!C1381<>0,Blad1!D1381>0),CONCATENATE(Enhet!$B$1,\";\",Blad3!H1381,\";\",Blad3!I1381),\"\")","v":""}]
[{"$f":"IF(AND(Blad1!C1382<>0,Blad1!D1382>0),CONCATENATE(Enhet!$B$1,\";\",Blad3!H1382,\";\",Blad3!I1382),\"\")","v":""}]
[{"$f":"IF(AND(Blad1!C1383<>0,Blad1!D1383>0),CONCATENATE(Enhet!$B$1,\";\",Blad3!H1383,\";\",Blad3!I1383),\"\")","v":""}]
[{"$f":"IF(AND(Blad1!C1384<>0,Blad1!D1384>0),CONCATENATE(Enhet!$B$1,\";\",Blad3!H1384,\";\",Blad3!I1384),\"\")","v":""}]
[{"$f":"IF(AND(Blad1!C1385<>0,Blad1!D1385>0),CONCATENATE(Enhet!$B$1,\";\",Blad3!H1385,\";\",Blad3!I1385),\"\")","v":""}]
[{"$f":"IF(AND(Blad1!C1386<>0,Blad1!D1386>0),CONCATENATE(Enhet!$B$1,\";\",Blad3!H1386,\";\",Blad3!I1386),\"\")","v":""}]
[{"$f":"IF(AND(Blad1!C1387<>0,Blad1!D1387>0),CONCATENATE(Enhet!$B$1,\";\",Blad3!H1387,\";\",Blad3!I1387),\"\")","v":""}]
[{"$f":"IF(AND(Blad1!C1388<>0,Blad1!D1388>0),CONCATENATE(Enhet!$B$1,\";\",Blad3!H1388,\";\",Blad3!I1388),\"\")","v":""}]
[{"$f":"IF(AND(Blad1!C1389<>0,Blad1!D1389>0),CONCATENATE(Enhet!$B$1,\";\",Blad3!H1389,\";\",Blad3!I1389),\"\")","v":""}]
[{"$f":"IF(AND(Blad1!C1390<>0,Blad1!D1390>0),CONCATENATE(Enhet!$B$1,\";\",Blad3!H1390,\";\",Blad3!I1390),\"\")","v":""}]
[{"$f":"IF(AND(Blad1!C1391<>0,Blad1!D1391>0),CONCATENATE(Enhet!$B$1,\";\",Blad3!H1391,\";\",Blad3!I1391),\"\")","v":""}]
[{"$f":"IF(AND(Blad1!C1392<>0,Blad1!D1392>0),CONCATENATE(Enhet!$B$1,\";\",Blad3!H1392,\";\",Blad3!I1392),\"\")","v":""}]
[{"$f":"IF(AND(Blad1!C1393<>0,Blad1!D1393>0),CONCATENATE(Enhet!$B$1,\";\",Blad3!H1393,\";\",Blad3!I1393),\"\")","v":""}]
[{"$f":"IF(AND(Blad1!C1394<>0,Blad1!D1394>0),CONCATENATE(Enhet!$B$1,\";\",Blad3!H1394,\";\",Blad3!I1394),\"\")","v":""}]
[{"$f":"IF(AND(Blad1!C1395<>0,Blad1!D1395>0),CONCATENATE(Enhet!$B$1,\";\",Blad3!H1395,\";\",Blad3!I1395),\"\")","v":""}]
[{"$f":"IF(AND(Blad1!C1396<>0,Blad1!D1396>0),CONCATENATE(Enhet!$B$1,\";\",Blad3!H1396,\";\",Blad3!I1396),\"\")","v":""}]
[{"$f":"IF(AND(Blad1!C1397<>0,Blad1!D1397>0),CONCATENATE(Enhet!$B$1,\";\",Blad3!H1397,\";\",Blad3!I1397),\"\")","v":""}]
[{"$f":"IF(AND(Blad1!C1398<>0,Blad1!D1398>0),CONCATENATE(Enhet!$B$1,\";\",Blad3!H1398,\";\",Blad3!I1398),\"\")","v":""}]
[{"$f":"IF(AND(Blad1!C1399<>0,Blad1!D1399>0),CONCATENATE(Enhet!$B$1,\";\",Blad3!H1399,\";\",Blad3!I1399),\"\")","v":""}]
[{"$f":"IF(AND(Blad1!C1400<>0,Blad1!D1400>0),CONCATENATE(Enhet!$B$1,\";\",Blad3!H1400,\";\",Blad3!I1400),\"\")","v":""}]
[{"$f":"IF(AND(Blad1!C1401<>0,Blad1!D1401>0),CONCATENATE(Enhet!$B$1,\";\",Blad3!H1401,\";\",Blad3!I1401),\"\")","v":""}]
[{"$f":"IF(AND(Blad1!C1402<>0,Blad1!D1402>0),CONCATENATE(Enhet!$B$1,\";\",Blad3!H1402,\";\",Blad3!I1402),\"\")","v":""}]
[{"$f":"IF(AND(Blad1!C1403<>0,Blad1!D1403>0),CONCATENATE(Enhet!$B$1,\";\",Blad3!H1403,\";\",Blad3!I1403),\"\")","v":""}]
[{"$f":"IF(AND(Blad1!C1404<>0,Blad1!D1404>0),CONCATENATE(Enhet!$B$1,\";\",Blad3!H1404,\";\",Blad3!I1404),\"\")","v":""}]
[{"$f":"IF(AND(Blad1!C1405<>0,Blad1!D1405>0),CONCATENATE(Enhet!$B$1,\";\",Blad3!H1405,\";\",Blad3!I1405),\"\")","v":""}]
[{"$f":"IF(AND(Blad1!C1406<>0,Blad1!D1406>0),CONCATENATE(Enhet!$B$1,\";\",Blad3!H1406,\";\",Blad3!I1406),\"\")","v":""}]
[{"$f":"IF(AND(Blad1!C1407<>0,Blad1!D1407>0),CONCATENATE(Enhet!$B$1,\";\",Blad3!H1407,\";\",Blad3!I1407),\"\")","v":""}]
[{"$f":"IF(AND(Blad1!C1408<>0,Blad1!D1408>0),CONCATENATE(Enhet!$B$1,\";\",Blad3!H1408,\";\",Blad3!I1408),\"\")","v":""}]
[{"$f":"IF(AND(Blad1!C1409<>0,Blad1!D1409>0),CONCATENATE(Enhet!$B$1,\";\",Blad3!H1409,\";\",Blad3!I1409),\"\")","v":""}]
[{"$f":"IF(AND(Blad1!C1410<>0,Blad1!D1410>0),CONCATENATE(Enhet!$B$1,\";\",Blad3!H1410,\";\",Blad3!I1410),\"\")","v":""}]
[{"$f":"IF(AND(Blad1!C1411<>0,Blad1!D1411>0),CONCATENATE(Enhet!$B$1,\";\",Blad3!H1411,\";\",Blad3!I1411),\"\")","v":""}]
[{"$f":"IF(AND(Blad1!C1412<>0,Blad1!D1412>0),CONCATENATE(Enhet!$B$1,\";\",Blad3!H1412,\";\",Blad3!I1412),\"\")","v":""}]
[{"$f":"IF(AND(Blad1!C1413<>0,Blad1!D1413>0),CONCATENATE(Enhet!$B$1,\";\",Blad3!H1413,\";\",Blad3!I1413),\"\")","v":""}]
[{"$f":"IF(AND(Blad1!C1414<>0,Blad1!D1414>0),CONCATENATE(Enhet!$B$1,\";\",Blad3!H1414,\";\",Blad3!I1414),\"\")","v":""}]
[{"$f":"IF(AND(Blad1!C1415<>0,Blad1!D1415>0),CONCATENATE(Enhet!$B$1,\";\",Blad3!H1415,\";\",Blad3!I1415),\"\")","v":""}]
[{"$f":"IF(AND(Blad1!C1416<>0,Blad1!D1416>0),CONCATENATE(Enhet!$B$1,\";\",Blad3!H1416,\";\",Blad3!I1416),\"\")","v":""}]
[{"$f":"IF(AND(Blad1!C1417<>0,Blad1!D1417>0),CONCATENATE(Enhet!$B$1,\";\",Blad3!H1417,\";\",Blad3!I1417),\"\")","v":""}]
[{"$f":"IF(AND(Blad1!C1418<>0,Blad1!D1418>0),CONCATENATE(Enhet!$B$1,\";\",Blad3!H1418,\";\",Blad3!I1418),\"\")","v":""}]
[{"$f":"IF(AND(Blad1!C1419<>0,Blad1!D1419>0),CONCATENATE(Enhet!$B$1,\";\",Blad3!H1419,\";\",Blad3!I1419),\"\")","v":""}]
[{"$f":"IF(AND(Blad1!C1420<>0,Blad1!D1420>0),CONCATENATE(Enhet!$B$1,\";\",Blad3!H1420,\";\",Blad3!I1420),\"\")","v":""}]
[{"$f":"IF(AND(Blad1!C1421<>0,Blad1!D1421>0),CONCATENATE(Enhet!$B$1,\";\",Blad3!H1421,\";\",Blad3!I1421),\"\")","v":""}]
[{"$f":"IF(AND(Blad1!C1422<>0,Blad1!D1422>0),CONCATENATE(Enhet!$B$1,\";\",Blad3!H1422,\";\",Blad3!I1422),\"\")","v":""}]
[{"$f":"IF(AND(Blad1!C1423<>0,Blad1!D1423>0),CONCATENATE(Enhet!$B$1,\";\",Blad3!H1423,\";\",Blad3!I1423),\"\")","v":""}]
[{"$f":"IF(AND(Blad1!C1424<>0,Blad1!D1424>0),CONCATENATE(Enhet!$B$1,\";\",Blad3!H1424,\";\",Blad3!I1424),\"\")","v":""}]
[{"$f":"IF(AND(Blad1!C1425<>0,Blad1!D1425>0),CONCATENATE(Enhet!$B$1,\";\",Blad3!H1425,\";\",Blad3!I1425),\"\")","v":""}]
[{"$f":"IF(AND(Blad1!C1426<>0,Blad1!D1426>0),CONCATENATE(Enhet!$B$1,\";\",Blad3!H1426,\";\",Blad3!I1426),\"\")","v":""}]
[{"$f":"IF(AND(Blad1!C1427<>0,Blad1!D1427>0),CONCATENATE(Enhet!$B$1,\";\",Blad3!H1427,\";\",Blad3!I1427),\"\")","v":""}]
[{"$f":"IF(AND(Blad1!C1428<>0,Blad1!D1428>0),CONCATENATE(Enhet!$B$1,\";\",Blad3!H1428,\";\",Blad3!I1428),\"\")","v":""}]
[{"$f":"IF(AND(Blad1!C1429<>0,Blad1!D1429>0),CONCATENATE(Enhet!$B$1,\";\",Blad3!H1429,\";\",Blad3!I1429),\"\")","v":""}]
[{"$f":"IF(AND(Blad1!C1430<>0,Blad1!D1430>0),CONCATENATE(Enhet!$B$1,\";\",Blad3!H1430,\";\",Blad3!I1430),\"\")","v":""}]
[{"$f":"IF(AND(Blad1!C1431<>0,Blad1!D1431>0),CONCATENATE(Enhet!$B$1,\";\",Blad3!H1431,\";\",Blad3!I1431),\"\")","v":""}]
[{"$f":"IF(AND(Blad1!C1432<>0,Blad1!D1432>0),CONCATENATE(Enhet!$B$1,\";\",Blad3!H1432,\";\",Blad3!I1432),\"\")","v":""}]
[{"$f":"IF(AND(Blad1!C1433<>0,Blad1!D1433>0),CONCATENATE(Enhet!$B$1,\";\",Blad3!H1433,\";\",Blad3!I1433),\"\")","v":""}]
[{"$f":"IF(AND(Blad1!C1434<>0,Blad1!D1434>0),CONCATENATE(Enhet!$B$1,\";\",Blad3!H1434,\";\",Blad3!I1434),\"\")","v":""}]
[{"$f":"IF(AND(Blad1!C1435<>0,Blad1!D1435>0),CONCATENATE(Enhet!$B$1,\";\",Blad3!H1435,\";\",Blad3!I1435),\"\")","v":""}]
[{"$f":"IF(AND(Blad1!C1436<>0,Blad1!D1436>0),CONCATENATE(Enhet!$B$1,\";\",Blad3!H1436,\";\",Blad3!I1436),\"\")","v":""}]
[{"$f":"IF(AND(Blad1!C1437<>0,Blad1!D1437>0),CONCATENATE(Enhet!$B$1,\";\",Blad3!H1437,\";\",Blad3!I1437),\"\")","v":""}]
[{"$f":"IF(AND(Blad1!C1438<>0,Blad1!D1438>0),CONCATENATE(Enhet!$B$1,\";\",Blad3!H1438,\";\",Blad3!I1438),\"\")","v":""}]
[{"$f":"IF(AND(Blad1!C1439<>0,Blad1!D1439>0),CONCATENATE(Enhet!$B$1,\";\",Blad3!H1439,\";\",Blad3!I1439),\"\")","v":""}]
[{"$f":"IF(AND(Blad1!C1440<>0,Blad1!D1440>0),CONCATENATE(Enhet!$B$1,\";\",Blad3!H1440,\";\",Blad3!I1440),\"\")","v":""}]
[{"$f":"IF(AND(Blad1!C1441<>0,Blad1!D1441>0),CONCATENATE(Enhet!$B$1,\";\",Blad3!H1441,\";\",Blad3!I1441),\"\")","v":""}]
[{"$f":"IF(AND(Blad1!C1442<>0,Blad1!D1442>0),CONCATENATE(Enhet!$B$1,\";\",Blad3!H1442,\";\",Blad3!I1442),\"\")","v":""}]
[{"$f":"IF(AND(Blad1!C1443<>0,Blad1!D1443>0),CONCATENATE(Enhet!$B$1,\";\",Blad3!H1443,\";\",Blad3!I1443),\"\")","v":""}]
[{"$f":"IF(AND(Blad1!C1444<>0,Blad1!D1444>0),CONCATENATE(Enhet!$B$1,\";\",Blad3!H1444,\";\",Blad3!I1444),\"\")","v":""}]
[{"$f":"IF(AND(Blad1!C1445<>0,Blad1!D1445>0),CONCATENATE(Enhet!$B$1,\";\",Blad3!H1445,\";\",Blad3!I1445),\"\")","v":""}]
[{"$f":"IF(AND(Blad1!C1446<>0,Blad1!D1446>0),CONCATENATE(Enhet!$B$1,\";\",Blad3!H1446,\";\",Blad3!I1446),\"\")","v":""}]
[{"$f":"IF(AND(Blad1!C1447<>0,Blad1!D1447>0),CONCATENATE(Enhet!$B$1,\";\",Blad3!H1447,\";\",Blad3!I1447),\"\")","v":""}]
[{"$f":"IF(AND(Blad1!C1448<>0,Blad1!D1448>0),CONCATENATE(Enhet!$B$1,\";\",Blad3!H1448,\";\",Blad3!I1448),\"\")","v":""}]
[{"$f":"IF(AND(Blad1!C1449<>0,Blad1!D1449>0),CONCATENATE(Enhet!$B$1,\";\",Blad3!H1449,\";\",Blad3!I1449),\"\")","v":""}]
[{"$f":"IF(AND(Blad1!C1450<>0,Blad1!D1450>0),CONCATENATE(Enhet!$B$1,\";\",Blad3!H1450,\";\",Blad3!I1450),\"\")","v":""}]
[{"$f":"IF(AND(Blad1!C1451<>0,Blad1!D1451>0),CONCATENATE(Enhet!$B$1,\";\",Blad3!H1451,\";\",Blad3!I1451),\"\")","v":""}]
[{"$f":"IF(AND(Blad1!C1452<>0,Blad1!D1452>0),CONCATENATE(Enhet!$B$1,\";\",Blad3!H1452,\";\",Blad3!I1452),\"\")","v":""}]
[{"$f":"IF(AND(Blad1!C1453<>0,Blad1!D1453>0),CONCATENATE(Enhet!$B$1,\";\",Blad3!H1453,\";\",Blad3!I1453),\"\")","v":""}]
[{"$f":"IF(AND(Blad1!C1454<>0,Blad1!D1454>0),CONCATENATE(Enhet!$B$1,\";\",Blad3!H1454,\";\",Blad3!I1454),\"\")","v":""}]
[{"$f":"IF(AND(Blad1!C1455<>0,Blad1!D1455>0),CONCATENATE(Enhet!$B$1,\";\",Blad3!H1455,\";\",Blad3!I1455),\"\")","v":""}]
[{"$f":"IF(AND(Blad1!C1456<>0,Blad1!D1456>0),CONCATENATE(Enhet!$B$1,\";\",Blad3!H1456,\";\",Blad3!I1456),\"\")","v":""}]
[{"$f":"IF(AND(Blad1!C1457<>0,Blad1!D1457>0),CONCATENATE(Enhet!$B$1,\";\",Blad3!H1457,\";\",Blad3!I1457),\"\")","v":""}]
[{"$f":"IF(AND(Blad1!C1458<>0,Blad1!D1458>0),CONCATENATE(Enhet!$B$1,\";\",Blad3!H1458,\";\",Blad3!I1458),\"\")","v":""}]
[{"$f":"IF(AND(Blad1!C1459<>0,Blad1!D1459>0),CONCATENATE(Enhet!$B$1,\";\",Blad3!H1459,\";\",Blad3!I1459),\"\")","v":""}]
[{"$f":"IF(AND(Blad1!C1460<>0,Blad1!D1460>0),CONCATENATE(Enhet!$B$1,\";\",Blad3!H1460,\";\",Blad3!I1460),\"\")","v":""}]
[{"$f":"IF(AND(Blad1!C1461<>0,Blad1!D1461>0),CONCATENATE(Enhet!$B$1,\";\",Blad3!H1461,\";\",Blad3!I1461),\"\")","v":""}]
[{"$f":"IF(AND(Blad1!C1462<>0,Blad1!D1462>0),CONCATENATE(Enhet!$B$1,\";\",Blad3!H1462,\";\",Blad3!I1462),\"\")","v":""}]
[{"$f":"IF(AND(Blad1!C1463<>0,Blad1!D1463>0),CONCATENATE(Enhet!$B$1,\";\",Blad3!H1463,\";\",Blad3!I1463),\"\")","v":""}]
[{"$f":"IF(AND(Blad1!C1464<>0,Blad1!D1464>0),CONCATENATE(Enhet!$B$1,\";\",Blad3!H1464,\";\",Blad3!I1464),\"\")","v":""}]
[{"$f":"IF(AND(Blad1!C1465<>0,Blad1!D1465>0),CONCATENATE(Enhet!$B$1,\";\",Blad3!H1465,\";\",Blad3!I1465),\"\")","v":""}]
[{"$f":"IF(AND(Blad1!C1466<>0,Blad1!D1466>0),CONCATENATE(Enhet!$B$1,\";\",Blad3!H1466,\";\",Blad3!I1466),\"\")","v":""}]
[{"$f":"IF(AND(Blad1!C1467<>0,Blad1!D1467>0),CONCATENATE(Enhet!$B$1,\";\",Blad3!H1467,\";\",Blad3!I1467),\"\")","v":""}]
[{"$f":"IF(AND(Blad1!C1468<>0,Blad1!D1468>0),CONCATENATE(Enhet!$B$1,\";\",Blad3!H1468,\";\",Blad3!I1468),\"\")","v":""}]
[{"$f":"IF(AND(Blad1!C1469<>0,Blad1!D1469>0),CONCATENATE(Enhet!$B$1,\";\",Blad3!H1469,\";\",Blad3!I1469),\"\")","v":""}]
[{"$f":"IF(AND(Blad1!C1470<>0,Blad1!D1470>0),CONCATENATE(Enhet!$B$1,\";\",Blad3!H1470,\";\",Blad3!I1470),\"\")","v":""}]
[{"$f":"IF(AND(Blad1!C1471<>0,Blad1!D1471>0),CONCATENATE(Enhet!$B$1,\";\",Blad3!H1471,\";\",Blad3!I1471),\"\")","v":""}]
[{"$f":"IF(AND(Blad1!C1472<>0,Blad1!D1472>0),CONCATENATE(Enhet!$B$1,\";\",Blad3!H1472,\";\",Blad3!I1472),\"\")","v":""}]
[{"$f":"IF(AND(Blad1!C1473<>0,Blad1!D1473>0),CONCATENATE(Enhet!$B$1,\";\",Blad3!H1473,\";\",Blad3!I1473),\"\")","v":""}]
[{"$f":"IF(AND(Blad1!C1474<>0,Blad1!D1474>0),CONCATENATE(Enhet!$B$1,\";\",Blad3!H1474,\";\",Blad3!I1474),\"\")","v":""}]
[{"$f":"IF(AND(Blad1!C1475<>0,Blad1!D1475>0),CONCATENATE(Enhet!$B$1,\";\",Blad3!H1475,\";\",Blad3!I1475),\"\")","v":""}]
[{"$f":"IF(AND(Blad1!C1476<>0,Blad1!D1476>0),CONCATENATE(Enhet!$B$1,\";\",Blad3!H1476,\";\",Blad3!I1476),\"\")","v":""}]
[{"$f":"IF(AND(Blad1!C1477<>0,Blad1!D1477>0),CONCATENATE(Enhet!$B$1,\";\",Blad3!H1477,\";\",Blad3!I1477),\"\")","v":""}]
[{"$f":"IF(AND(Blad1!C1478<>0,Blad1!D1478>0),CONCATENATE(Enhet!$B$1,\";\",Blad3!H1478,\";\",Blad3!I1478),\"\")","v":""}]
[{"$f":"IF(AND(Blad1!C1479<>0,Blad1!D1479>0),CONCATENATE(Enhet!$B$1,\";\",Blad3!H1479,\";\",Blad3!I1479),\"\")","v":""}]
[{"$f":"IF(AND(Blad1!C1480<>0,Blad1!D1480>0),CONCATENATE(Enhet!$B$1,\";\",Blad3!H1480,\";\",Blad3!I1480),\"\")","v":""}]
[{"$f":"IF(AND(Blad1!C1481<>0,Blad1!D1481>0),CONCATENATE(Enhet!$B$1,\";\",Blad3!H1481,\";\",Blad3!I1481),\"\")","v":""}]
[{"$f":"IF(AND(Blad1!C1482<>0,Blad1!D1482>0),CONCATENATE(Enhet!$B$1,\";\",Blad3!H1482,\";\",Blad3!I1482),\"\")","v":""}]
[{"$f":"IF(AND(Blad1!C1483<>0,Blad1!D1483>0),CONCATENATE(Enhet!$B$1,\";\",Blad3!H1483,\";\",Blad3!I1483),\"\")","v":""}]
[{"$f":"IF(AND(Blad1!C1484<>0,Blad1!D1484>0),CONCATENATE(Enhet!$B$1,\";\",Blad3!H1484,\";\",Blad3!I1484),\"\")","v":""}]
[{"$f":"IF(AND(Blad1!C1485<>0,Blad1!D1485>0),CONCATENATE(Enhet!$B$1,\";\",Blad3!H1485,\";\",Blad3!I1485),\"\")","v":""}]
[{"$f":"IF(AND(Blad1!C1486<>0,Blad1!D1486>0),CONCATENATE(Enhet!$B$1,\";\",Blad3!H1486,\";\",Blad3!I1486),\"\")","v":""}]
[{"$f":"IF(AND(Blad1!C1487<>0,Blad1!D1487>0),CONCATENATE(Enhet!$B$1,\";\",Blad3!H1487,\";\",Blad3!I1487),\"\")","v":""}]
[{"$f":"IF(AND(Blad1!C1488<>0,Blad1!D1488>0),CONCATENATE(Enhet!$B$1,\";\",Blad3!H1488,\";\",Blad3!I1488),\"\")","v":""}]
[{"$f":"IF(AND(Blad1!C1489<>0,Blad1!D1489>0),CONCATENATE(Enhet!$B$1,\";\",Blad3!H1489,\";\",Blad3!I1489),\"\")","v":""}]
[{"$f":"IF(AND(Blad1!C1490<>0,Blad1!D1490>0),CONCATENATE(Enhet!$B$1,\";\",Blad3!H1490,\";\",Blad3!I1490),\"\")","v":""}]
[{"$f":"IF(AND(Blad1!C1491<>0,Blad1!D1491>0),CONCATENATE(Enhet!$B$1,\";\",Blad3!H1491,\";\",Blad3!I1491),\"\")","v":""}]
[{"$f":"IF(AND(Blad1!C1492<>0,Blad1!D1492>0),CONCATENATE(Enhet!$B$1,\";\",Blad3!H1492,\";\",Blad3!I1492),\"\")","v":""}]
[{"$f":"IF(AND(Blad1!C1493<>0,Blad1!D1493>0),CONCATENATE(Enhet!$B$1,\";\",Blad3!H1493,\";\",Blad3!I1493),\"\")","v":""}]
[{"$f":"IF(AND(Blad1!C1494<>0,Blad1!D1494>0),CONCATENATE(Enhet!$B$1,\";\",Blad3!H1494,\";\",Blad3!I1494),\"\")","v":""}]
[{"$f":"IF(AND(Blad1!C1495<>0,Blad1!D1495>0),CONCATENATE(Enhet!$B$1,\";\",Blad3!H1495,\";\",Blad3!I1495),\"\")","v":""}]
[{"$f":"IF(AND(Blad1!C1496<>0,Blad1!D1496>0),CONCATENATE(Enhet!$B$1,\";\",Blad3!H1496,\";\",Blad3!I1496),\"\")","v":""}]
[{"$f":"IF(AND(Blad1!C1497<>0,Blad1!D1497>0),CONCATENATE(Enhet!$B$1,\";\",Blad3!H1497,\";\",Blad3!I1497),\"\")","v":""}]
[{"$f":"IF(AND(Blad1!C1498<>0,Blad1!D1498>0),CONCATENATE(Enhet!$B$1,\";\",Blad3!H1498,\";\",Blad3!I1498),\"\")","v":""}]
[{"$f":"IF(AND(Blad1!C1499<>0,Blad1!D1499>0),CONCATENATE(Enhet!$B$1,\";\",Blad3!H1499,\";\",Blad3!I1499),\"\")","v":""}]
[{"$f":"IF(AND(Blad1!C1500<>0,Blad1!D1500>0),CONCATENATE(Enhet!$B$1,\";\",Blad3!H1500,\";\",Blad3!I1500),\"\")","v":""}]
[{"$f":"IF(AND(Blad1!C1501<>0,Blad1!D1501>0),CONCATENATE(Enhet!$B$1,\";\",Blad3!H1501,\";\",Blad3!I1501),\"\")","v":""}]
[{"$f":"IF(AND(Blad1!C1502<>0,Blad1!D1502>0),CONCATENATE(Enhet!$B$1,\";\",Blad3!H1502,\";\",Blad3!I1502),\"\")","v":""}]
[{"$f":"IF(AND(Blad1!C1503<>0,Blad1!D1503>0),CONCATENATE(Enhet!$B$1,\";\",Blad3!H1503,\";\",Blad3!I1503),\"\")","v":""}]
[{"$f":"IF(AND(Blad1!C1504<>0,Blad1!D1504>0),CONCATENATE(Enhet!$B$1,\";\",Blad3!H1504,\";\",Blad3!I1504),\"\")","v":""}]
[{"$f":"IF(AND(Blad1!C1505<>0,Blad1!D1505>0),CONCATENATE(Enhet!$B$1,\";\",Blad3!H1505,\";\",Blad3!I1505),\"\")","v":""}]
[{"$f":"IF(AND(Blad1!C1506<>0,Blad1!D1506>0),CONCATENATE(Enhet!$B$1,\";\",Blad3!H1506,\";\",Blad3!I1506),\"\")","v":""}]
[{"$f":"IF(AND(Blad1!C1507<>0,Blad1!D1507>0),CONCATENATE(Enhet!$B$1,\";\",Blad3!H1507,\";\",Blad3!I1507),\"\")","v":""}]
[{"$f":"IF(AND(Blad1!C1508<>0,Blad1!D1508>0),CONCATENATE(Enhet!$B$1,\";\",Blad3!H1508,\";\",Blad3!I1508),\"\")","v":""}]
[{"$f":"IF(AND(Blad1!C1509<>0,Blad1!D1509>0),CONCATENATE(Enhet!$B$1,\";\",Blad3!H1509,\";\",Blad3!I1509),\"\")","v":""}]
[{"$f":"IF(AND(Blad1!C1510<>0,Blad1!D1510>0),CONCATENATE(Enhet!$B$1,\";\",Blad3!H1510,\";\",Blad3!I1510),\"\")","v":""}]
[{"$f":"IF(AND(Blad1!C1511<>0,Blad1!D1511>0),CONCATENATE(Enhet!$B$1,\";\",Blad3!H1511,\";\",Blad3!I1511),\"\")","v":""}]
[{"$f":"IF(AND(Blad1!C1512<>0,Blad1!D1512>0),CONCATENATE(Enhet!$B$1,\";\",Blad3!H1512,\";\",Blad3!I1512),\"\")","v":""}]
[{"$f":"IF(AND(Blad1!C1513<>0,Blad1!D1513>0),CONCATENATE(Enhet!$B$1,\";\",Blad3!H1513,\";\",Blad3!I1513),\"\")","v":""}]
[{"$f":"IF(AND(Blad1!C1514<>0,Blad1!D1514>0),CONCATENATE(Enhet!$B$1,\";\",Blad3!H1514,\";\",Blad3!I1514),\"\")","v":""}]
[{"$f":"IF(AND(Blad1!C1515<>0,Blad1!D1515>0),CONCATENATE(Enhet!$B$1,\";\",Blad3!H1515,\";\",Blad3!I1515),\"\")","v":""}]
[{"$f":"IF(AND(Blad1!C1516<>0,Blad1!D1516>0),CONCATENATE(Enhet!$B$1,\";\",Blad3!H1516,\";\",Blad3!I1516),\"\")","v":""}]
[{"$f":"IF(AND(Blad1!C1517<>0,Blad1!D1517>0),CONCATENATE(Enhet!$B$1,\";\",Blad3!H1517,\";\",Blad3!I1517),\"\")","v":""}]
[{"$f":"IF(AND(Blad1!C1518<>0,Blad1!D1518>0),CONCATENATE(Enhet!$B$1,\";\",Blad3!H1518,\";\",Blad3!I1518),\"\")","v":""}]
[{"$f":"IF(AND(Blad1!C1519<>0,Blad1!D1519>0),CONCATENATE(Enhet!$B$1,\";\",Blad3!H1519,\";\",Blad3!I1519),\"\")","v":""}]
[{"$f":"IF(AND(Blad1!C1520<>0,Blad1!D1520>0),CONCATENATE(Enhet!$B$1,\";\",Blad3!H1520,\";\",Blad3!I1520),\"\")","v":""}]
[{"$f":"IF(AND(Blad1!C1521<>0,Blad1!D1521>0),CONCATENATE(Enhet!$B$1,\";\",Blad3!H1521,\";\",Blad3!I1521),\"\")","v":""}]
[{"$f":"IF(AND(Blad1!C1522<>0,Blad1!D1522>0),CONCATENATE(Enhet!$B$1,\";\",Blad3!H1522,\";\",Blad3!I1522),\"\")","v":""}]
[{"$f":"IF(AND(Blad1!C1523<>0,Blad1!D1523>0),CONCATENATE(Enhet!$B$1,\";\",Blad3!H1523,\";\",Blad3!I1523),\"\")","v":""}]
[{"$f":"IF(AND(Blad1!C1524<>0,Blad1!D1524>0),CONCATENATE(Enhet!$B$1,\";\",Blad3!H1524,\";\",Blad3!I1524),\"\")","v":""}]
[{"$f":"IF(AND(Blad1!C1525<>0,Blad1!D1525>0),CONCATENATE(Enhet!$B$1,\";\",Blad3!H1525,\";\",Blad3!I1525),\"\")","v":""}]
[{"$f":"IF(AND(Blad1!C1526<>0,Blad1!D1526>0),CONCATENATE(Enhet!$B$1,\";\",Blad3!H1526,\";\",Blad3!I1526),\"\")","v":""}]
[{"$f":"IF(AND(Blad1!C1527<>0,Blad1!D1527>0),CONCATENATE(Enhet!$B$1,\";\",Blad3!H1527,\";\",Blad3!I1527),\"\")","v":""}]
[{"$f":"IF(AND(Blad1!C1528<>0,Blad1!D1528>0),CONCATENATE(Enhet!$B$1,\";\",Blad3!H1528,\";\",Blad3!I1528),\"\")","v":""}]
[{"$f":"IF(AND(Blad1!C1529<>0,Blad1!D1529>0),CONCATENATE(Enhet!$B$1,\";\",Blad3!H1529,\";\",Blad3!I1529),\"\")","v":""}]
[{"$f":"IF(AND(Blad1!C1530<>0,Blad1!D1530>0),CONCATENATE(Enhet!$B$1,\";\",Blad3!H1530,\";\",Blad3!I1530),\"\")","v":""}]
[{"$f":"IF(AND(Blad1!C1531<>0,Blad1!D1531>0),CONCATENATE(Enhet!$B$1,\";\",Blad3!H1531,\";\",Blad3!I1531),\"\")","v":""}]
[{"$f":"IF(AND(Blad1!C1532<>0,Blad1!D1532>0),CONCATENATE(Enhet!$B$1,\";\",Blad3!H1532,\";\",Blad3!I1532),\"\")","v":""}]
[{"$f":"IF(AND(Blad1!C1533<>0,Blad1!D1533>0),CONCATENATE(Enhet!$B$1,\";\",Blad3!H1533,\";\",Blad3!I1533),\"\")","v":""}]
[{"$f":"IF(AND(Blad1!C1534<>0,Blad1!D1534>0),CONCATENATE(Enhet!$B$1,\";\",Blad3!H1534,\";\",Blad3!I1534),\"\")","v":""}]
[{"$f":"IF(AND(Blad1!C1535<>0,Blad1!D1535>0),CONCATENATE(Enhet!$B$1,\";\",Blad3!H1535,\";\",Blad3!I1535),\"\")","v":""}]
[{"$f":"IF(AND(Blad1!C1536<>0,Blad1!D1536>0),CONCATENATE(Enhet!$B$1,\";\",Blad3!H1536,\";\",Blad3!I1536),\"\")","v":""}]
[{"$f":"IF(AND(Blad1!C1537<>0,Blad1!D1537>0),CONCATENATE(Enhet!$B$1,\";\",Blad3!H1537,\";\",Blad3!I1537),\"\")","v":""}]
[{"$f":"IF(AND(Blad1!C1538<>0,Blad1!D1538>0),CONCATENATE(Enhet!$B$1,\";\",Blad3!H1538,\";\",Blad3!I1538),\"\")","v":""}]
[{"$f":"IF(AND(Blad1!C1539<>0,Blad1!D1539>0),CONCATENATE(Enhet!$B$1,\";\",Blad3!H1539,\";\",Blad3!I1539),\"\")","v":""}]
[{"$f":"IF(AND(Blad1!C1540<>0,Blad1!D1540>0),CONCATENATE(Enhet!$B$1,\";\",Blad3!H1540,\";\",Blad3!I1540),\"\")","v":""}]
[{"$f":"IF(AND(Blad1!C1541<>0,Blad1!D1541>0),CONCATENATE(Enhet!$B$1,\";\",Blad3!H1541,\";\",Blad3!I1541),\"\")","v":""}]
[{"$f":"IF(AND(Blad1!C1542<>0,Blad1!D1542>0),CONCATENATE(Enhet!$B$1,\";\",Blad3!H1542,\";\",Blad3!I1542),\"\")","v":""}]
[{"$f":"IF(AND(Blad1!C1543<>0,Blad1!D1543>0),CONCATENATE(Enhet!$B$1,\";\",Blad3!H1543,\";\",Blad3!I1543),\"\")","v":""}]
[{"$f":"IF(AND(Blad1!C1544<>0,Blad1!D1544>0),CONCATENATE(Enhet!$B$1,\";\",Blad3!H1544,\";\",Blad3!I1544),\"\")","v":""}]
[{"$f":"IF(AND(Blad1!C1545<>0,Blad1!D1545>0),CONCATENATE(Enhet!$B$1,\";\",Blad3!H1545,\";\",Blad3!I1545),\"\")","v":""}]
[{"$f":"IF(AND(Blad1!C1546<>0,Blad1!D1546>0),CONCATENATE(Enhet!$B$1,\";\",Blad3!H1546,\";\",Blad3!I1546),\"\")","v":""}]
[{"$f":"IF(AND(Blad1!C1547<>0,Blad1!D1547>0),CONCATENATE(Enhet!$B$1,\";\",Blad3!H1547,\";\",Blad3!I1547),\"\")","v":""}]
[{"$f":"IF(AND(Blad1!C1548<>0,Blad1!D1548>0),CONCATENATE(Enhet!$B$1,\";\",Blad3!H1548,\";\",Blad3!I1548),\"\")","v":""}]
[{"$f":"IF(AND(Blad1!C1549<>0,Blad1!D1549>0),CONCATENATE(Enhet!$B$1,\";\",Blad3!H1549,\";\",Blad3!I1549),\"\")","v":""}]
[{"$f":"IF(AND(Blad1!C1550<>0,Blad1!D1550>0),CONCATENATE(Enhet!$B$1,\";\",Blad3!H1550,\";\",Blad3!I1550),\"\")","v":""}]
[{"$f":"IF(AND(Blad1!C1551<>0,Blad1!D1551>0),CONCATENATE(Enhet!$B$1,\";\",Blad3!H1551,\";\",Blad3!I1551),\"\")","v":""}]
[{"$f":"IF(AND(Blad1!C1552<>0,Blad1!D1552>0),CONCATENATE(Enhet!$B$1,\";\",Blad3!H1552,\";\",Blad3!I1552),\"\")","v":""}]
[{"$f":"IF(AND(Blad1!C1553<>0,Blad1!D1553>0),CONCATENATE(Enhet!$B$1,\";\",Blad3!H1553,\";\",Blad3!I1553),\"\")","v":""}]
[{"$f":"IF(AND(Blad1!C1554<>0,Blad1!D1554>0),CONCATENATE(Enhet!$B$1,\";\",Blad3!H1554,\";\",Blad3!I1554),\"\")","v":""}]
[{"$f":"IF(AND(Blad1!C1555<>0,Blad1!D1555>0),CONCATENATE(Enhet!$B$1,\";\",Blad3!H1555,\";\",Blad3!I1555),\"\")","v":""}]
[{"$f":"IF(AND(Blad1!C1556<>0,Blad1!D1556>0),CONCATENATE(Enhet!$B$1,\";\",Blad3!H1556,\";\",Blad3!I1556),\"\")","v":""}]
[{"$f":"IF(AND(Blad1!C1557<>0,Blad1!D1557>0),CONCATENATE(Enhet!$B$1,\";\",Blad3!H1557,\";\",Blad3!I1557),\"\")","v":""}]
[{"$f":"IF(AND(Blad1!C1558<>0,Blad1!D1558>0),CONCATENATE(Enhet!$B$1,\";\",Blad3!H1558,\";\",Blad3!I1558),\"\")","v":""}]
[{"$f":"IF(AND(Blad1!C1559<>0,Blad1!D1559>0),CONCATENATE(Enhet!$B$1,\";\",Blad3!H1559,\";\",Blad3!I1559),\"\")","v":""}]
[{"$f":"IF(AND(Blad1!C1560<>0,Blad1!D1560>0),CONCATENATE(Enhet!$B$1,\";\",Blad3!H1560,\";\",Blad3!I1560),\"\")","v":""}]
[{"$f":"IF(AND(Blad1!C1561<>0,Blad1!D1561>0),CONCATENATE(Enhet!$B$1,\";\",Blad3!H1561,\";\",Blad3!I1561),\"\")","v":""}]
[{"$f":"IF(AND(Blad1!C1562<>0,Blad1!D1562>0),CONCATENATE(Enhet!$B$1,\";\",Blad3!H1562,\";\",Blad3!I1562),\"\")","v":""}]
[{"$f":"IF(AND(Blad1!C1563<>0,Blad1!D1563>0),CONCATENATE(Enhet!$B$1,\";\",Blad3!H1563,\";\",Blad3!I1563),\"\")","v":""}]
[{"$f":"IF(AND(Blad1!C1564<>0,Blad1!D1564>0),CONCATENATE(Enhet!$B$1,\";\",Blad3!H1564,\";\",Blad3!I1564),\"\")","v":""}]
[{"$f":"IF(AND(Blad1!C1565<>0,Blad1!D1565>0),CONCATENATE(Enhet!$B$1,\";\",Blad3!H1565,\";\",Blad3!I1565),\"\")","v":""}]
[{"$f":"IF(AND(Blad1!C1566<>0,Blad1!D1566>0),CONCATENATE(Enhet!$B$1,\";\",Blad3!H1566,\";\",Blad3!I1566),\"\")","v":""}]
[{"$f":"IF(AND(Blad1!C1567<>0,Blad1!D1567>0),CONCATENATE(Enhet!$B$1,\";\",Blad3!H1567,\";\",Blad3!I1567),\"\")","v":""}]
[{"$f":"IF(AND(Blad1!C1568<>0,Blad1!D1568>0),CONCATENATE(Enhet!$B$1,\";\",Blad3!H1568,\";\",Blad3!I1568),\"\")","v":""}]
[{"$f":"IF(AND(Blad1!C1569<>0,Blad1!D1569>0),CONCATENATE(Enhet!$B$1,\";\",Blad3!H1569,\";\",Blad3!I1569),\"\")","v":""}]
[{"$f":"IF(AND(Blad1!C1570<>0,Blad1!D1570>0),CONCATENATE(Enhet!$B$1,\";\",Blad3!H1570,\";\",Blad3!I1570),\"\")","v":""}]
[{"$f":"IF(AND(Blad1!C1571<>0,Blad1!D1571>0),CONCATENATE(Enhet!$B$1,\";\",Blad3!H1571,\";\",Blad3!I1571),\"\")","v":""}]
[{"$f":"IF(AND(Blad1!C1572<>0,Blad1!D1572>0),CONCATENATE(Enhet!$B$1,\";\",Blad3!H1572,\";\",Blad3!I1572),\"\")","v":""}]
[{"$f":"IF(AND(Blad1!C1573<>0,Blad1!D1573>0),CONCATENATE(Enhet!$B$1,\";\",Blad3!H1573,\";\",Blad3!I1573),\"\")","v":""}]
[{"$f":"IF(AND(Blad1!C1574<>0,Blad1!D1574>0),CONCATENATE(Enhet!$B$1,\";\",Blad3!H1574,\";\",Blad3!I1574),\"\")","v":""}]
[{"$f":"IF(AND(Blad1!C1575<>0,Blad1!D1575>0),CONCATENATE(Enhet!$B$1,\";\",Blad3!H1575,\";\",Blad3!I1575),\"\")","v":""}]
[{"$f":"IF(AND(Blad1!C1576<>0,Blad1!D1576>0),CONCATENATE(Enhet!$B$1,\";\",Blad3!H1576,\";\",Blad3!I1576),\"\")","v":""}]
[{"$f":"IF(AND(Blad1!C1577<>0,Blad1!D1577>0),CONCATENATE(Enhet!$B$1,\";\",Blad3!H1577,\";\",Blad3!I1577),\"\")","v":""}]
[{"$f":"IF(AND(Blad1!C1578<>0,Blad1!D1578>0),CONCATENATE(Enhet!$B$1,\";\",Blad3!H1578,\";\",Blad3!I1578),\"\")","v":""}]
[{"$f":"IF(AND(Blad1!C1579<>0,Blad1!D1579>0),CONCATENATE(Enhet!$B$1,\";\",Blad3!H1579,\";\",Blad3!I1579),\"\")","v":""}]
[{"$f":"IF(AND(Blad1!C1580<>0,Blad1!D1580>0),CONCATENATE(Enhet!$B$1,\";\",Blad3!H1580,\";\",Blad3!I1580),\"\")","v":""}]
[{"$f":"IF(AND(Blad1!C1581<>0,Blad1!D1581>0),CONCATENATE(Enhet!$B$1,\";\",Blad3!H1581,\";\",Blad3!I1581),\"\")","v":""}]
[{"$f":"IF(AND(Blad1!C1582<>0,Blad1!D1582>0),CONCATENATE(Enhet!$B$1,\";\",Blad3!H1582,\";\",Blad3!I1582),\"\")","v":""}]
[{"$f":"IF(AND(Blad1!C1583<>0,Blad1!D1583>0),CONCATENATE(Enhet!$B$1,\";\",Blad3!H1583,\";\",Blad3!I1583),\"\")","v":""}]
[{"$f":"IF(AND(Blad1!C1584<>0,Blad1!D1584>0),CONCATENATE(Enhet!$B$1,\";\",Blad3!H1584,\";\",Blad3!I1584),\"\")","v":""}]
[{"$f":"IF(AND(Blad1!C1585<>0,Blad1!D1585>0),CONCATENATE(Enhet!$B$1,\";\",Blad3!H1585,\";\",Blad3!I1585),\"\")","v":""}]
[{"$f":"IF(AND(Blad1!C1586<>0,Blad1!D1586>0),CONCATENATE(Enhet!$B$1,\";\",Blad3!H1586,\";\",Blad3!I1586),\"\")","v":""}]
[{"$f":"IF(AND(Blad1!C1587<>0,Blad1!D1587>0),CONCATENATE(Enhet!$B$1,\";\",Blad3!H1587,\";\",Blad3!I1587),\"\")","v":""}]
[{"$f":"IF(AND(Blad1!C1588<>0,Blad1!D1588>0),CONCATENATE(Enhet!$B$1,\";\",Blad3!H1588,\";\",Blad3!I1588),\"\")","v":""}]
[{"$f":"IF(AND(Blad1!C1589<>0,Blad1!D1589>0),CONCATENATE(Enhet!$B$1,\";\",Blad3!H1589,\";\",Blad3!I1589),\"\")","v":""}]
[{"$f":"IF(AND(Blad1!C1590<>0,Blad1!D1590>0),CONCATENATE(Enhet!$B$1,\";\",Blad3!H1590,\";\",Blad3!I1590),\"\")","v":""}]
[{"$f":"IF(AND(Blad1!C1591<>0,Blad1!D1591>0),CONCATENATE(Enhet!$B$1,\";\",Blad3!H1591,\";\",Blad3!I1591),\"\")","v":""}]
[{"$f":"IF(AND(Blad1!C1592<>0,Blad1!D1592>0),CONCATENATE(Enhet!$B$1,\";\",Blad3!H1592,\";\",Blad3!I1592),\"\")","v":""}]
[{"$f":"IF(AND(Blad1!C1593<>0,Blad1!D1593>0),CONCATENATE(Enhet!$B$1,\";\",Blad3!H1593,\";\",Blad3!I1593),\"\")","v":""}]
[{"$f":"IF(AND(Blad1!C1594<>0,Blad1!D1594>0),CONCATENATE(Enhet!$B$1,\";\",Blad3!H1594,\";\",Blad3!I1594),\"\")","v":""}]
[{"$f":"IF(AND(Blad1!C1595<>0,Blad1!D1595>0),CONCATENATE(Enhet!$B$1,\";\",Blad3!H1595,\";\",Blad3!I1595),\"\")","v":""}]
[{"$f":"IF(AND(Blad1!C1596<>0,Blad1!D1596>0),CONCATENATE(Enhet!$B$1,\";\",Blad3!H1596,\";\",Blad3!I1596),\"\")","v":""}]
[{"$f":"IF(AND(Blad1!C1597<>0,Blad1!D1597>0),CONCATENATE(Enhet!$B$1,\";\",Blad3!H1597,\";\",Blad3!I1597),\"\")","v":""}]
[{"$f":"IF(AND(Blad1!C1598<>0,Blad1!D1598>0),CONCATENATE(Enhet!$B$1,\";\",Blad3!H1598,\";\",Blad3!I1598),\"\")","v":""}]
[{"$f":"IF(AND(Blad1!C1599<>0,Blad1!D1599>0),CONCATENATE(Enhet!$B$1,\";\",Blad3!H1599,\";\",Blad3!I1599),\"\")","v":""}]
[{"$f":"IF(AND(Blad1!C1600<>0,Blad1!D1600>0),CONCATENATE(Enhet!$B$1,\";\",Blad3!H1600,\";\",Blad3!I1600),\"\")","v":""}]
[{"$f":"IF(AND(Blad1!C1601<>0,Blad1!D1601>0),CONCATENATE(Enhet!$B$1,\";\",Blad3!H1601,\";\",Blad3!I1601),\"\")","v":""}]
[{"$f":"IF(AND(Blad1!C1602<>0,Blad1!D1602>0),CONCATENATE(Enhet!$B$1,\";\",Blad3!H1602,\";\",Blad3!I1602),\"\")","v":""}]
[{"$f":"IF(AND(Blad1!C1603<>0,Blad1!D1603>0),CONCATENATE(Enhet!$B$1,\";\",Blad3!H1603,\";\",Blad3!I1603),\"\")","v":""}]
[{"$f":"IF(AND(Blad1!C1604<>0,Blad1!D1604>0),CONCATENATE(Enhet!$B$1,\";\",Blad3!H1604,\";\",Blad3!I1604),\"\")","v":""}]
[{"$f":"IF(AND(Blad1!C1605<>0,Blad1!D1605>0),CONCATENATE(Enhet!$B$1,\";\",Blad3!H1605,\";\",Blad3!I1605),\"\")","v":""}]
[{"$f":"IF(AND(Blad1!C1606<>0,Blad1!D1606>0),CONCATENATE(Enhet!$B$1,\";\",Blad3!H1606,\";\",Blad3!I1606),\"\")","v":""}]
[{"$f":"IF(AND(Blad1!C1607<>0,Blad1!D1607>0),CONCATENATE(Enhet!$B$1,\";\",Blad3!H1607,\";\",Blad3!I1607),\"\")","v":""}]
[{"$f":"IF(AND(Blad1!C1608<>0,Blad1!D1608>0),CONCATENATE(Enhet!$B$1,\";\",Blad3!H1608,\";\",Blad3!I1608),\"\")","v":""}]
[{"$f":"IF(AND(Blad1!C1609<>0,Blad1!D1609>0),CONCATENATE(Enhet!$B$1,\";\",Blad3!H1609,\";\",Blad3!I1609),\"\")","v":""}]
[{"$f":"IF(AND(Blad1!C1610<>0,Blad1!D1610>0),CONCATENATE(Enhet!$B$1,\";\",Blad3!H1610,\";\",Blad3!I1610),\"\")","v":""}]
[{"$f":"IF(AND(Blad1!C1611<>0,Blad1!D1611>0),CONCATENATE(Enhet!$B$1,\";\",Blad3!H1611,\";\",Blad3!I1611),\"\")","v":""}]
[{"$f":"IF(AND(Blad1!C1612<>0,Blad1!D1612>0),CONCATENATE(Enhet!$B$1,\";\",Blad3!H1612,\";\",Blad3!I1612),\"\")","v":""}]
[{"$f":"IF(AND(Blad1!C1613<>0,Blad1!D1613>0),CONCATENATE(Enhet!$B$1,\";\",Blad3!H1613,\";\",Blad3!I1613),\"\")","v":""}]
[{"$f":"IF(AND(Blad1!C1614<>0,Blad1!D1614>0),CONCATENATE(Enhet!$B$1,\";\",Blad3!H1614,\";\",Blad3!I1614),\"\")","v":""}]
[{"$f":"IF(AND(Blad1!C1615<>0,Blad1!D1615>0),CONCATENATE(Enhet!$B$1,\";\",Blad3!H1615,\";\",Blad3!I1615),\"\")","v":""}]
[{"$f":"IF(AND(Blad1!C1616<>0,Blad1!D1616>0),CONCATENATE(Enhet!$B$1,\";\",Blad3!H1616,\";\",Blad3!I1616),\"\")","v":""}]
[{"$f":"IF(AND(Blad1!C1617<>0,Blad1!D1617>0),CONCATENATE(Enhet!$B$1,\";\",Blad3!H1617,\";\",Blad3!I1617),\"\")","v":""}]
[{"$f":"IF(AND(Blad1!C1618<>0,Blad1!D1618>0),CONCATENATE(Enhet!$B$1,\";\",Blad3!H1618,\";\",Blad3!I1618),\"\")","v":""}]
[{"$f":"IF(AND(Blad1!C1619<>0,Blad1!D1619>0),CONCATENATE(Enhet!$B$1,\";\",Blad3!H1619,\";\",Blad3!I1619),\"\")","v":""}]
[{"$f":"IF(AND(Blad1!C1620<>0,Blad1!D1620>0),CONCATENATE(Enhet!$B$1,\";\",Blad3!H1620,\";\",Blad3!I1620),\"\")","v":""}]
[{"$f":"IF(AND(Blad1!C1621<>0,Blad1!D1621>0),CONCATENATE(Enhet!$B$1,\";\",Blad3!H1621,\";\",Blad3!I1621),\"\")","v":""}]
[{"$f":"IF(AND(Blad1!C1622<>0,Blad1!D1622>0),CONCATENATE(Enhet!$B$1,\";\",Blad3!H1622,\";\",Blad3!I1622),\"\")","v":""}]
[{"$f":"IF(AND(Blad1!C1623<>0,Blad1!D1623>0),CONCATENATE(Enhet!$B$1,\";\",Blad3!H1623,\";\",Blad3!I1623),\"\")","v":""}]
[{"$f":"IF(AND(Blad1!C1624<>0,Blad1!D1624>0),CONCATENATE(Enhet!$B$1,\";\",Blad3!H1624,\";\",Blad3!I1624),\"\")","v":""}]
[{"$f":"IF(AND(Blad1!C1625<>0,Blad1!D1625>0),CONCATENATE(Enhet!$B$1,\";\",Blad3!H1625,\";\",Blad3!I1625),\"\")","v":""}]
[{"$f":"IF(AND(Blad1!C1626<>0,Blad1!D1626>0),CONCATENATE(Enhet!$B$1,\";\",Blad3!H1626,\";\",Blad3!I1626),\"\")","v":""}]
[{"$f":"IF(AND(Blad1!C1627<>0,Blad1!D1627>0),CONCATENATE(Enhet!$B$1,\";\",Blad3!H1627,\";\",Blad3!I1627),\"\")","v":""}]
[{"$f":"IF(AND(Blad1!C1628<>0,Blad1!D1628>0),CONCATENATE(Enhet!$B$1,\";\",Blad3!H1628,\";\",Blad3!I1628),\"\")","v":""}]
[{"$f":"IF(AND(Blad1!C1629<>0,Blad1!D1629>0),CONCATENATE(Enhet!$B$1,\";\",Blad3!H1629,\";\",Blad3!I1629),\"\")","v":""}]
[{"$f":"IF(AND(Blad1!C1630<>0,Blad1!D1630>0),CONCATENATE(Enhet!$B$1,\";\",Blad3!H1630,\";\",Blad3!I1630),\"\")","v":""}]
[{"$f":"IF(AND(Blad1!C1631<>0,Blad1!D1631>0),CONCATENATE(Enhet!$B$1,\";\",Blad3!H1631,\";\",Blad3!I1631),\"\")","v":""}]
[{"$f":"IF(AND(Blad1!C1632<>0,Blad1!D1632>0),CONCATENATE(Enhet!$B$1,\";\",Blad3!H1632,\";\",Blad3!I1632),\"\")","v":""}]
[{"$f":"IF(AND(Blad1!C1633<>0,Blad1!D1633>0),CONCATENATE(Enhet!$B$1,\";\",Blad3!H1633,\";\",Blad3!I1633),\"\")","v":""}]
[{"$f":"IF(AND(Blad1!C1634<>0,Blad1!D1634>0),CONCATENATE(Enhet!$B$1,\";\",Blad3!H1634,\";\",Blad3!I1634),\"\")","v":""}]
[{"$f":"IF(AND(Blad1!C1635<>0,Blad1!D1635>0),CONCATENATE(Enhet!$B$1,\";\",Blad3!H1635,\";\",Blad3!I1635),\"\")","v":""}]
[{"$f":"IF(AND(Blad1!C1636<>0,Blad1!D1636>0),CONCATENATE(Enhet!$B$1,\";\",Blad3!H1636,\";\",Blad3!I1636),\"\")","v":""}]
[{"$f":"IF(AND(Blad1!C1637<>0,Blad1!D1637>0),CONCATENATE(Enhet!$B$1,\";\",Blad3!H1637,\";\",Blad3!I1637),\"\")","v":""}]
[{"$f":"IF(AND(Blad1!C1638<>0,Blad1!D1638>0),CONCATENATE(Enhet!$B$1,\";\",Blad3!H1638,\";\",Blad3!I1638),\"\")","v":""}]
[{"$f":"IF(AND(Blad1!C1639<>0,Blad1!D1639>0),CONCATENATE(Enhet!$B$1,\";\",Blad3!H1639,\";\",Blad3!I1639),\"\")","v":""}]
[{"$f":"IF(AND(Blad1!C1640<>0,Blad1!D1640>0),CONCATENATE(Enhet!$B$1,\";\",Blad3!H1640,\";\",Blad3!I1640),\"\")","v":""}]
[{"$f":"IF(AND(Blad1!C1641<>0,Blad1!D1641>0),CONCATENATE(Enhet!$B$1,\";\",Blad3!H1641,\";\",Blad3!I1641),\"\")","v":""}]
[{"$f":"IF(AND(Blad1!C1642<>0,Blad1!D1642>0),CONCATENATE(Enhet!$B$1,\";\",Blad3!H1642,\";\",Blad3!I1642),\"\")","v":""}]
[{"$f":"IF(AND(Blad1!C1643<>0,Blad1!D1643>0),CONCATENATE(Enhet!$B$1,\";\",Blad3!H1643,\";\",Blad3!I1643),\"\")","v":""}]
[{"$f":"IF(AND(Blad1!C1644<>0,Blad1!D1644>0),CONCATENATE(Enhet!$B$1,\";\",Blad3!H1644,\";\",Blad3!I1644),\"\")","v":""}]
[{"$f":"IF(AND(Blad1!C1645<>0,Blad1!D1645>0),CONCATENATE(Enhet!$B$1,\";\",Blad3!H1645,\";\",Blad3!I1645),\"\")","v":""}]
[{"$f":"IF(AND(Blad1!C1646<>0,Blad1!D1646>0),CONCATENATE(Enhet!$B$1,\";\",Blad3!H1646,\";\",Blad3!I1646),\"\")","v":""}]
[{"$f":"IF(AND(Blad1!C1647<>0,Blad1!D1647>0),CONCATENATE(Enhet!$B$1,\";\",Blad3!H1647,\";\",Blad3!I1647),\"\")","v":""}]
[{"$f":"IF(AND(Blad1!C1648<>0,Blad1!D1648>0),CONCATENATE(Enhet!$B$1,\";\",Blad3!H1648,\";\",Blad3!I1648),\"\")","v":""}]
[{"$f":"IF(AND(Blad1!C1649<>0,Blad1!D1649>0),CONCATENATE(Enhet!$B$1,\";\",Blad3!H1649,\";\",Blad3!I1649),\"\")","v":""}]
[{"$f":"IF(AND(Blad1!C1650<>0,Blad1!D1650>0),CONCATENATE(Enhet!$B$1,\";\",Blad3!H1650,\";\",Blad3!I1650),\"\")","v":""}]
[{"$f":"IF(AND(Blad1!C1651<>0,Blad1!D1651>0),CONCATENATE(Enhet!$B$1,\";\",Blad3!H1651,\";\",Blad3!I1651),\"\")","v":""}]
[{"$f":"IF(AND(Blad1!C1652<>0,Blad1!D1652>0),CONCATENATE(Enhet!$B$1,\";\",Blad3!H1652,\";\",Blad3!I1652),\"\")","v":""}]
[{"$f":"IF(AND(Blad1!C1653<>0,Blad1!D1653>0),CONCATENATE(Enhet!$B$1,\";\",Blad3!H1653,\";\",Blad3!I1653),\"\")","v":""}]
[{"$f":"IF(AND(Blad1!C1654<>0,Blad1!D1654>0),CONCATENATE(Enhet!$B$1,\";\",Blad3!H1654,\";\",Blad3!I1654),\"\")","v":""}]
[{"$f":"IF(AND(Blad1!C1655<>0,Blad1!D1655>0),CONCATENATE(Enhet!$B$1,\";\",Blad3!H1655,\";\",Blad3!I1655),\"\")","v":""}]
[{"$f":"IF(AND(Blad1!C1656<>0,Blad1!D1656>0),CONCATENATE(Enhet!$B$1,\";\",Blad3!H1656,\";\",Blad3!I1656),\"\")","v":""}]
[{"$f":"IF(AND(Blad1!C1657<>0,Blad1!D1657>0),CONCATENATE(Enhet!$B$1,\";\",Blad3!H1657,\";\",Blad3!I1657),\"\")","v":""}]
[{"$f":"IF(AND(Blad1!C1658<>0,Blad1!D1658>0),CONCATENATE(Enhet!$B$1,\";\",Blad3!H1658,\";\",Blad3!I1658),\"\")","v":""}]
[{"$f":"IF(AND(Blad1!C1659<>0,Blad1!D1659>0),CONCATENATE(Enhet!$B$1,\";\",Blad3!H1659,\";\",Blad3!I1659),\"\")","v":""}]
[{"$f":"IF(AND(Blad1!C1660<>0,Blad1!D1660>0),CONCATENATE(Enhet!$B$1,\";\",Blad3!H1660,\";\",Blad3!I1660),\"\")","v":""}]
[{"$f":"IF(AND(Blad1!C1661<>0,Blad1!D1661>0),CONCATENATE(Enhet!$B$1,\";\",Blad3!H1661,\";\",Blad3!I1661),\"\")","v":""}]
[{"$f":"IF(AND(Blad1!C1662<>0,Blad1!D1662>0),CONCATENATE(Enhet!$B$1,\";\",Blad3!H1662,\";\",Blad3!I1662),\"\")","v":""}]
[{"$f":"IF(AND(Blad1!C1663<>0,Blad1!D1663>0),CONCATENATE(Enhet!$B$1,\";\",Blad3!H1663,\";\",Blad3!I1663),\"\")","v":""}]
[{"$f":"IF(AND(Blad1!C1664<>0,Blad1!D1664>0),CONCATENATE(Enhet!$B$1,\";\",Blad3!H1664,\";\",Blad3!I1664),\"\")","v":""}]
[{"$f":"IF(AND(Blad1!C1665<>0,Blad1!D1665>0),CONCATENATE(Enhet!$B$1,\";\",Blad3!H1665,\";\",Blad3!I1665),\"\")","v":""}]
[{"$f":"IF(AND(Blad1!C1666<>0,Blad1!D1666>0),CONCATENATE(Enhet!$B$1,\";\",Blad3!H1666,\";\",Blad3!I1666),\"\")","v":""}]
[{"$f":"IF(AND(Blad1!C1667<>0,Blad1!D1667>0),CONCATENATE(Enhet!$B$1,\";\",Blad3!H1667,\";\",Blad3!I1667),\"\")","v":""}]
[{"$f":"IF(AND(Blad1!C1668<>0,Blad1!D1668>0),CONCATENATE(Enhet!$B$1,\";\",Blad3!H1668,\";\",Blad3!I1668),\"\")","v":""}]
[{"$f":"IF(AND(Blad1!C1669<>0,Blad1!D1669>0),CONCATENATE(Enhet!$B$1,\";\",Blad3!H1669,\";\",Blad3!I1669),\"\")","v":""}]
[{"$f":"IF(AND(Blad1!C1670<>0,Blad1!D1670>0),CONCATENATE(Enhet!$B$1,\";\",Blad3!H1670,\";\",Blad3!I1670),\"\")","v":""}]
[{"$f":"IF(AND(Blad1!C1671<>0,Blad1!D1671>0),CONCATENATE(Enhet!$B$1,\";\",Blad3!H1671,\";\",Blad3!I1671),\"\")","v":""}]
[{"$f":"IF(AND(Blad1!C1672<>0,Blad1!D1672>0),CONCATENATE(Enhet!$B$1,\";\",Blad3!H1672,\";\",Blad3!I1672),\"\")","v":""}]
[{"$f":"IF(AND(Blad1!C1673<>0,Blad1!D1673>0),CONCATENATE(Enhet!$B$1,\";\",Blad3!H1673,\";\",Blad3!I1673),\"\")","v":""}]
[{"$f":"IF(AND(Blad1!C1674<>0,Blad1!D1674>0),CONCATENATE(Enhet!$B$1,\";\",Blad3!H1674,\";\",Blad3!I1674),\"\")","v":""}]
[{"$f":"IF(AND(Blad1!C1675<>0,Blad1!D1675>0),CONCATENATE(Enhet!$B$1,\";\",Blad3!H1675,\";\",Blad3!I1675),\"\")","v":""}]
[{"$f":"IF(AND(Blad1!C1676<>0,Blad1!D1676>0),CONCATENATE(Enhet!$B$1,\";\",Blad3!H1676,\";\",Blad3!I1676),\"\")","v":""}]
[{"$f":"IF(AND(Blad1!C1677<>0,Blad1!D1677>0),CONCATENATE(Enhet!$B$1,\";\",Blad3!H1677,\";\",Blad3!I1677),\"\")","v":""}]
[{"$f":"IF(AND(Blad1!C1678<>0,Blad1!D1678>0),CONCATENATE(Enhet!$B$1,\";\",Blad3!H1678,\";\",Blad3!I1678),\"\")","v":""}]
[{"$f":"IF(AND(Blad1!C1679<>0,Blad1!D1679>0),CONCATENATE(Enhet!$B$1,\";\",Blad3!H1679,\";\",Blad3!I1679),\"\")","v":""}]
[{"$f":"IF(AND(Blad1!C1680<>0,Blad1!D1680>0),CONCATENATE(Enhet!$B$1,\";\",Blad3!H1680,\";\",Blad3!I1680),\"\")","v":""}]
[{"$f":"IF(AND(Blad1!C1681<>0,Blad1!D1681>0),CONCATENATE(Enhet!$B$1,\";\",Blad3!H1681,\";\",Blad3!I1681),\"\")","v":""}]
[{"$f":"IF(AND(Blad1!C1682<>0,Blad1!D1682>0),CONCATENATE(Enhet!$B$1,\";\",Blad3!H1682,\";\",Blad3!I1682),\"\")","v":""}]
[{"$f":"IF(AND(Blad1!C1683<>0,Blad1!D1683>0),CONCATENATE(Enhet!$B$1,\";\",Blad3!H1683,\";\",Blad3!I1683),\"\")","v":""}]
[{"$f":"IF(AND(Blad1!C1684<>0,Blad1!D1684>0),CONCATENATE(Enhet!$B$1,\";\",Blad3!H1684,\";\",Blad3!I1684),\"\")","v":""}]
[{"$f":"IF(AND(Blad1!C1685<>0,Blad1!D1685>0),CONCATENATE(Enhet!$B$1,\";\",Blad3!H1685,\";\",Blad3!I1685),\"\")","v":""}]
[{"$f":"IF(AND(Blad1!C1686<>0,Blad1!D1686>0),CONCATENATE(Enhet!$B$1,\";\",Blad3!H1686,\";\",Blad3!I1686),\"\")","v":""}]
[{"$f":"IF(AND(Blad1!C1687<>0,Blad1!D1687>0),CONCATENATE(Enhet!$B$1,\";\",Blad3!H1687,\";\",Blad3!I1687),\"\")","v":""}]
[{"$f":"IF(AND(Blad1!C1688<>0,Blad1!D1688>0),CONCATENATE(Enhet!$B$1,\";\",Blad3!H1688,\";\",Blad3!I1688),\"\")","v":""}]
[{"$f":"IF(AND(Blad1!C1689<>0,Blad1!D1689>0),CONCATENATE(Enhet!$B$1,\";\",Blad3!H1689,\";\",Blad3!I1689),\"\")","v":""}]
[{"$f":"IF(AND(Blad1!C1690<>0,Blad1!D1690>0),CONCATENATE(Enhet!$B$1,\";\",Blad3!H1690,\";\",Blad3!I1690),\"\")","v":""}]
[{"$f":"IF(AND(Blad1!C1691<>0,Blad1!D1691>0),CONCATENATE(Enhet!$B$1,\";\",Blad3!H1691,\";\",Blad3!I1691),\"\")","v":""}]
[{"$f":"IF(AND(Blad1!C1692<>0,Blad1!D1692>0),CONCATENATE(Enhet!$B$1,\";\",Blad3!H1692,\";\",Blad3!I1692),\"\")","v":""}]
[{"$f":"IF(AND(Blad1!C1693<>0,Blad1!D1693>0),CONCATENATE(Enhet!$B$1,\";\",Blad3!H1693,\";\",Blad3!I1693),\"\")","v":""}]
[{"$f":"IF(AND(Blad1!C1694<>0,Blad1!D1694>0),CONCATENATE(Enhet!$B$1,\";\",Blad3!H1694,\";\",Blad3!I1694),\"\")","v":""}]
[{"$f":"IF(AND(Blad1!C1695<>0,Blad1!D1695>0),CONCATENATE(Enhet!$B$1,\";\",Blad3!H1695,\";\",Blad3!I1695),\"\")","v":""}]
[{"$f":"IF(AND(Blad1!C1696<>0,Blad1!D1696>0),CONCATENATE(Enhet!$B$1,\";\",Blad3!H1696,\";\",Blad3!I1696),\"\")","v":""}]
[{"$f":"IF(AND(Blad1!C1697<>0,Blad1!D1697>0),CONCATENATE(Enhet!$B$1,\";\",Blad3!H1697,\";\",Blad3!I1697),\"\")","v":""}]
[{"$f":"IF(AND(Blad1!C1698<>0,Blad1!D1698>0),CONCATENATE(Enhet!$B$1,\";\",Blad3!H1698,\";\",Blad3!I1698),\"\")","v":""}]
[{"$f":"IF(AND(Blad1!C1699<>0,Blad1!D1699>0),CONCATENATE(Enhet!$B$1,\";\",Blad3!H1699,\";\",Blad3!I1699),\"\")","v":""}]
[{"$f":"IF(AND(Blad1!C1700<>0,Blad1!D1700>0),CONCATENATE(Enhet!$B$1,\";\",Blad3!H1700,\";\",Blad3!I1700),\"\")","v":""}]
[{"$f":"IF(AND(Blad1!C1701<>0,Blad1!D1701>0),CONCATENATE(Enhet!$B$1,\";\",Blad3!H1701,\";\",Blad3!I1701),\"\")","v":""}]
[{"$f":"IF(AND(Blad1!C1702<>0,Blad1!D1702>0),CONCATENATE(Enhet!$B$1,\";\",Blad3!H1702,\";\",Blad3!I1702),\"\")","v":""}]
[{"$f":"IF(AND(Blad1!C1703<>0,Blad1!D1703>0),CONCATENATE(Enhet!$B$1,\";\",Blad3!H1703,\";\",Blad3!I1703),\"\")","v":""}]
[{"$f":"IF(AND(Blad1!C1704<>0,Blad1!D1704>0),CONCATENATE(Enhet!$B$1,\";\",Blad3!H1704,\";\",Blad3!I1704),\"\")","v":""}]
[{"$f":"IF(AND(Blad1!C1705<>0,Blad1!D1705>0),CONCATENATE(Enhet!$B$1,\";\",Blad3!H1705,\";\",Blad3!I1705),\"\")","v":""}]
[{"$f":"IF(AND(Blad1!C1706<>0,Blad1!D1706>0),CONCATENATE(Enhet!$B$1,\";\",Blad3!H1706,\";\",Blad3!I1706),\"\")","v":""}]
[{"$f":"IF(AND(Blad1!C1707<>0,Blad1!D1707>0),CONCATENATE(Enhet!$B$1,\";\",Blad3!H1707,\";\",Blad3!I1707),\"\")","v":""}]
[{"$f":"IF(AND(Blad1!C1708<>0,Blad1!D1708>0),CONCATENATE(Enhet!$B$1,\";\",Blad3!H1708,\";\",Blad3!I1708),\"\")","v":""}]
[{"$f":"IF(AND(Blad1!C1709<>0,Blad1!D1709>0),CONCATENATE(Enhet!$B$1,\";\",Blad3!H1709,\";\",Blad3!I1709),\"\")","v":""}]
[{"$f":"IF(AND(Blad1!C1710<>0,Blad1!D1710>0),CONCATENATE(Enhet!$B$1,\";\",Blad3!H1710,\";\",Blad3!I1710),\"\")","v":""}]
[{"$f":"IF(AND(Blad1!C1711<>0,Blad1!D1711>0),CONCATENATE(Enhet!$B$1,\";\",Blad3!H1711,\";\",Blad3!I1711),\"\")","v":""}]
[{"$f":"IF(AND(Blad1!C1712<>0,Blad1!D1712>0),CONCATENATE(Enhet!$B$1,\";\",Blad3!H1712,\";\",Blad3!I1712),\"\")","v":""}]
[{"$f":"IF(AND(Blad1!C1713<>0,Blad1!D1713>0),CONCATENATE(Enhet!$B$1,\";\",Blad3!H1713,\";\",Blad3!I1713),\"\")","v":""}]
[{"$f":"IF(AND(Blad1!C1714<>0,Blad1!D1714>0),CONCATENATE(Enhet!$B$1,\";\",Blad3!H1714,\";\",Blad3!I1714),\"\")","v":""}]
[{"$f":"IF(AND(Blad1!C1715<>0,Blad1!D1715>0),CONCATENATE(Enhet!$B$1,\";\",Blad3!H1715,\";\",Blad3!I1715),\"\")","v":""}]
[{"$f":"IF(AND(Blad1!C1716<>0,Blad1!D1716>0),CONCATENATE(Enhet!$B$1,\";\",Blad3!H1716,\";\",Blad3!I1716),\"\")","v":""}]
[{"$f":"IF(AND(Blad1!C1717<>0,Blad1!D1717>0),CONCATENATE(Enhet!$B$1,\";\",Blad3!H1717,\";\",Blad3!I1717),\"\")","v":""}]
[{"$f":"IF(AND(Blad1!C1718<>0,Blad1!D1718>0),CONCATENATE(Enhet!$B$1,\";\",Blad3!H1718,\";\",Blad3!I1718),\"\")","v":""}]
[{"$f":"IF(AND(Blad1!C1719<>0,Blad1!D1719>0),CONCATENATE(Enhet!$B$1,\";\",Blad3!H1719,\";\",Blad3!I1719),\"\")","v":""}]
[{"$f":"IF(AND(Blad1!C1720<>0,Blad1!D1720>0),CONCATENATE(Enhet!$B$1,\";\",Blad3!H1720,\";\",Blad3!I1720),\"\")","v":""}]
[{"$f":"IF(AND(Blad1!C1721<>0,Blad1!D1721>0),CONCATENATE(Enhet!$B$1,\";\",Blad3!H1721,\";\",Blad3!I1721),\"\")","v":""}]
[{"$f":"IF(AND(Blad1!C1722<>0,Blad1!D1722>0),CONCATENATE(Enhet!$B$1,\";\",Blad3!H1722,\";\",Blad3!I1722),\"\")","v":""}]
[{"$f":"IF(AND(Blad1!C1723<>0,Blad1!D1723>0),CONCATENATE(Enhet!$B$1,\";\",Blad3!H1723,\";\",Blad3!I1723),\"\")","v":""}]
[{"$f":"IF(AND(Blad1!C1724<>0,Blad1!D1724>0),CONCATENATE(Enhet!$B$1,\";\",Blad3!H1724,\";\",Blad3!I1724),\"\")","v":""}]
[{"$f":"IF(AND(Blad1!C1725<>0,Blad1!D1725>0),CONCATENATE(Enhet!$B$1,\";\",Blad3!H1725,\";\",Blad3!I1725),\"\")","v":""}]
[{"$f":"IF(AND(Blad1!C1726<>0,Blad1!D1726>0),CONCATENATE(Enhet!$B$1,\";\",Blad3!H1726,\";\",Blad3!I1726),\"\")","v":""}]
[{"$f":"IF(AND(Blad1!C1727<>0,Blad1!D1727>0),CONCATENATE(Enhet!$B$1,\";\",Blad3!H1727,\";\",Blad3!I1727),\"\")","v":""}]
[{"$f":"IF(AND(Blad1!C1728<>0,Blad1!D1728>0),CONCATENATE(Enhet!$B$1,\";\",Blad3!H1728,\";\",Blad3!I1728),\"\")","v":""}]
[{"$f":"IF(AND(Blad1!C1729<>0,Blad1!D1729>0),CONCATENATE(Enhet!$B$1,\";\",Blad3!H1729,\";\",Blad3!I1729),\"\")","v":""}]
[{"$f":"IF(AND(Blad1!C1730<>0,Blad1!D1730>0),CONCATENATE(Enhet!$B$1,\";\",Blad3!H1730,\";\",Blad3!I1730),\"\")","v":""}]
[{"$f":"IF(AND(Blad1!C1731<>0,Blad1!D1731>0),CONCATENATE(Enhet!$B$1,\";\",Blad3!H1731,\";\",Blad3!I1731),\"\")","v":""}]
[{"$f":"IF(AND(Blad1!C1732<>0,Blad1!D1732>0),CONCATENATE(Enhet!$B$1,\";\",Blad3!H1732,\";\",Blad3!I1732),\"\")","v":""}]
[{"$f":"IF(AND(Blad1!C1733<>0,Blad1!D1733>0),CONCATENATE(Enhet!$B$1,\";\",Blad3!H1733,\";\",Blad3!I1733),\"\")","v":""}]
[{"$f":"IF(AND(Blad1!C1734<>0,Blad1!D1734>0),CONCATENATE(Enhet!$B$1,\";\",Blad3!H1734,\";\",Blad3!I1734),\"\")","v":""}]
[{"$f":"IF(AND(Blad1!C1735<>0,Blad1!D1735>0),CONCATENATE(Enhet!$B$1,\";\",Blad3!H1735,\";\",Blad3!I1735),\"\")","v":""}]
[{"$f":"IF(AND(Blad1!C1736<>0,Blad1!D1736>0),CONCATENATE(Enhet!$B$1,\";\",Blad3!H1736,\";\",Blad3!I1736),\"\")","v":""}]
[{"$f":"IF(AND(Blad1!C1737<>0,Blad1!D1737>0),CONCATENATE(Enhet!$B$1,\";\",Blad3!H1737,\";\",Blad3!I1737),\"\")","v":""}]
[{"$f":"IF(AND(Blad1!C1738<>0,Blad1!D1738>0),CONCATENATE(Enhet!$B$1,\";\",Blad3!H1738,\";\",Blad3!I1738),\"\")","v":""}]
[{"$f":"IF(AND(Blad1!C1739<>0,Blad1!D1739>0),CONCATENATE(Enhet!$B$1,\";\",Blad3!H1739,\";\",Blad3!I1739),\"\")","v":""}]
[{"$f":"IF(AND(Blad1!C1740<>0,Blad1!D1740>0),CONCATENATE(Enhet!$B$1,\";\",Blad3!H1740,\";\",Blad3!I1740),\"\")","v":""}]
[{"$f":"IF(AND(Blad1!C1741<>0,Blad1!D1741>0),CONCATENATE(Enhet!$B$1,\";\",Blad3!H1741,\";\",Blad3!I1741),\"\")","v":""}]
[{"$f":"IF(AND(Blad1!C1742<>0,Blad1!D1742>0),CONCATENATE(Enhet!$B$1,\";\",Blad3!H1742,\";\",Blad3!I1742),\"\")","v":""}]
[{"$f":"IF(AND(Blad1!C1743<>0,Blad1!D1743>0),CONCATENATE(Enhet!$B$1,\";\",Blad3!H1743,\";\",Blad3!I1743),\"\")","v":""}]
[{"$f":"IF(AND(Blad1!C1744<>0,Blad1!D1744>0),CONCATENATE(Enhet!$B$1,\";\",Blad3!H1744,\";\",Blad3!I1744),\"\")","v":""}]
[{"$f":"IF(AND(Blad1!C1745<>0,Blad1!D1745>0),CONCATENATE(Enhet!$B$1,\";\",Blad3!H1745,\";\",Blad3!I1745),\"\")","v":""}]
[{"$f":"IF(AND(Blad1!C1746<>0,Blad1!D1746>0),CONCATENATE(Enhet!$B$1,\";\",Blad3!H1746,\";\",Blad3!I1746),\"\")","v":""}]
[{"$f":"IF(AND(Blad1!C1747<>0,Blad1!D1747>0),CONCATENATE(Enhet!$B$1,\";\",Blad3!H1747,\";\",Blad3!I1747),\"\")","v":""}]
[{"$f":"IF(AND(Blad1!C1748<>0,Blad1!D1748>0),CONCATENATE(Enhet!$B$1,\";\",Blad3!H1748,\";\",Blad3!I1748),\"\")","v":""}]
[{"$f":"IF(AND(Blad1!C1749<>0,Blad1!D1749>0),CONCATENATE(Enhet!$B$1,\";\",Blad3!H1749,\";\",Blad3!I1749),\"\")","v":""}]
[{"$f":"IF(AND(Blad1!C1750<>0,Blad1!D1750>0),CONCATENATE(Enhet!$B$1,\";\",Blad3!H1750,\";\",Blad3!I1750),\"\")","v":""}]
[{"$f":"IF(AND(Blad1!C1751<>0,Blad1!D1751>0),CONCATENATE(Enhet!$B$1,\";\",Blad3!H1751,\";\",Blad3!I1751),\"\")","v":""}]
[{"$f":"IF(AND(Blad1!C1752<>0,Blad1!D1752>0),CONCATENATE(Enhet!$B$1,\";\",Blad3!H1752,\";\",Blad3!I1752),\"\")","v":""}]
[{"$f":"IF(AND(Blad1!C1753<>0,Blad1!D1753>0),CONCATENATE(Enhet!$B$1,\";\",Blad3!H1753,\";\",Blad3!I1753),\"\")","v":""}]
[{"$f":"IF(AND(Blad1!C1754<>0,Blad1!D1754>0),CONCATENATE(Enhet!$B$1,\";\",Blad3!H1754,\";\",Blad3!I1754),\"\")","v":""}]
[{"$f":"IF(AND(Blad1!C1755<>0,Blad1!D1755>0),CONCATENATE(Enhet!$B$1,\";\",Blad3!H1755,\";\",Blad3!I1755),\"\")","v":""}]
[{"$f":"IF(AND(Blad1!C1756<>0,Blad1!D1756>0),CONCATENATE(Enhet!$B$1,\";\",Blad3!H1756,\";\",Blad3!I1756),\"\")","v":""}]
[{"$f":"IF(AND(Blad1!C1757<>0,Blad1!D1757>0),CONCATENATE(Enhet!$B$1,\";\",Blad3!H1757,\";\",Blad3!I1757),\"\")","v":""}]
[{"$f":"IF(AND(Blad1!C1758<>0,Blad1!D1758>0),CONCATENATE(Enhet!$B$1,\";\",Blad3!H1758,\";\",Blad3!I1758),\"\")","v":""}]
[{"$f":"IF(AND(Blad1!C1759<>0,Blad1!D1759>0),CONCATENATE(Enhet!$B$1,\";\",Blad3!H1759,\";\",Blad3!I1759),\"\")","v":""}]
[{"$f":"IF(AND(Blad1!C1760<>0,Blad1!D1760>0),CONCATENATE(Enhet!$B$1,\";\",Blad3!H1760,\";\",Blad3!I1760),\"\")","v":""}]
[{"$f":"IF(AND(Blad1!C1761<>0,Blad1!D1761>0),CONCATENATE(Enhet!$B$1,\";\",Blad3!H1761,\";\",Blad3!I1761),\"\")","v":""}]
[{"$f":"IF(AND(Blad1!C1762<>0,Blad1!D1762>0),CONCATENATE(Enhet!$B$1,\";\",Blad3!H1762,\";\",Blad3!I1762),\"\")","v":""}]
[{"$f":"IF(AND(Blad1!C1763<>0,Blad1!D1763>0),CONCATENATE(Enhet!$B$1,\";\",Blad3!H1763,\";\",Blad3!I1763),\"\")","v":""}]
[{"$f":"IF(AND(Blad1!C1764<>0,Blad1!D1764>0),CONCATENATE(Enhet!$B$1,\";\",Blad3!H1764,\";\",Blad3!I1764),\"\")","v":""}]
[{"$f":"IF(AND(Blad1!C1765<>0,Blad1!D1765>0),CONCATENATE(Enhet!$B$1,\";\",Blad3!H1765,\";\",Blad3!I1765),\"\")","v":""}]
[{"$f":"IF(AND(Blad1!C1766<>0,Blad1!D1766>0),CONCATENATE(Enhet!$B$1,\";\",Blad3!H1766,\";\",Blad3!I1766),\"\")","v":""}]
[{"$f":"IF(AND(Blad1!C1767<>0,Blad1!D1767>0),CONCATENATE(Enhet!$B$1,\";\",Blad3!H1767,\";\",Blad3!I1767),\"\")","v":""}]
[{"$f":"IF(AND(Blad1!C1768<>0,Blad1!D1768>0),CONCATENATE(Enhet!$B$1,\";\",Blad3!H1768,\";\",Blad3!I1768),\"\")","v":""}]
[{"$f":"IF(AND(Blad1!C1769<>0,Blad1!D1769>0),CONCATENATE(Enhet!$B$1,\";\",Blad3!H1769,\";\",Blad3!I1769),\"\")","v":""}]
[{"$f":"IF(AND(Blad1!C1770<>0,Blad1!D1770>0),CONCATENATE(Enhet!$B$1,\";\",Blad3!H1770,\";\",Blad3!I1770),\"\")","v":""}]
[{"$f":"IF(AND(Blad1!C1771<>0,Blad1!D1771>0),CONCATENATE(Enhet!$B$1,\";\",Blad3!H1771,\";\",Blad3!I1771),\"\")","v":""}]
[{"$f":"IF(AND(Blad1!C1772<>0,Blad1!D1772>0),CONCATENATE(Enhet!$B$1,\";\",Blad3!H1772,\";\",Blad3!I1772),\"\")","v":""}]
[{"$f":"IF(AND(Blad1!C1773<>0,Blad1!D1773>0),CONCATENATE(Enhet!$B$1,\";\",Blad3!H1773,\";\",Blad3!I1773),\"\")","v":""}]
[{"$f":"IF(AND(Blad1!C1774<>0,Blad1!D1774>0),CONCATENATE(Enhet!$B$1,\";\",Blad3!H1774,\";\",Blad3!I1774),\"\")","v":""}]
[{"$f":"IF(AND(Blad1!C1775<>0,Blad1!D1775>0),CONCATENATE(Enhet!$B$1,\";\",Blad3!H1775,\";\",Blad3!I1775),\"\")","v":""}]
[{"$f":"IF(AND(Blad1!C1776<>0,Blad1!D1776>0),CONCATENATE(Enhet!$B$1,\";\",Blad3!H1776,\";\",Blad3!I1776),\"\")","v":""}]
[{"$f":"IF(AND(Blad1!C1777<>0,Blad1!D1777>0),CONCATENATE(Enhet!$B$1,\";\",Blad3!H1777,\";\",Blad3!I1777),\"\")","v":""}]
[{"$f":"IF(AND(Blad1!C1778<>0,Blad1!D1778>0),CONCATENATE(Enhet!$B$1,\";\",Blad3!H1778,\";\",Blad3!I1778),\"\")","v":""}]
[{"$f":"IF(AND(Blad1!C1779<>0,Blad1!D1779>0),CONCATENATE(Enhet!$B$1,\";\",Blad3!H1779,\";\",Blad3!I1779),\"\")","v":""}]
[{"$f":"IF(AND(Blad1!C1780<>0,Blad1!D1780>0),CONCATENATE(Enhet!$B$1,\";\",Blad3!H1780,\";\",Blad3!I1780),\"\")","v":""}]
[{"$f":"IF(AND(Blad1!C1781<>0,Blad1!D1781>0),CONCATENATE(Enhet!$B$1,\";\",Blad3!H1781,\";\",Blad3!I1781),\"\")","v":""}]
[{"$f":"IF(AND(Blad1!C1782<>0,Blad1!D1782>0),CONCATENATE(Enhet!$B$1,\";\",Blad3!H1782,\";\",Blad3!I1782),\"\")","v":""}]
[{"$f":"IF(AND(Blad1!C1783<>0,Blad1!D1783>0),CONCATENATE(Enhet!$B$1,\";\",Blad3!H1783,\";\",Blad3!I1783),\"\")","v":""}]
[{"$f":"IF(AND(Blad1!C1784<>0,Blad1!D1784>0),CONCATENATE(Enhet!$B$1,\";\",Blad3!H1784,\";\",Blad3!I1784),\"\")","v":""}]
[{"$f":"IF(AND(Blad1!C1785<>0,Blad1!D1785>0),CONCATENATE(Enhet!$B$1,\";\",Blad3!H1785,\";\",Blad3!I1785),\"\")","v":""}]
[{"$f":"IF(AND(Blad1!C1786<>0,Blad1!D1786>0),CONCATENATE(Enhet!$B$1,\";\",Blad3!H1786,\";\",Blad3!I1786),\"\")","v":""}]
[{"$f":"IF(AND(Blad1!C1787<>0,Blad1!D1787>0),CONCATENATE(Enhet!$B$1,\";\",Blad3!H1787,\";\",Blad3!I1787),\"\")","v":""}]
[{"$f":"IF(AND(Blad1!C1788<>0,Blad1!D1788>0),CONCATENATE(Enhet!$B$1,\";\",Blad3!H1788,\";\",Blad3!I1788),\"\")","v":""}]
[{"$f":"IF(AND(Blad1!C1789<>0,Blad1!D1789>0),CONCATENATE(Enhet!$B$1,\";\",Blad3!H1789,\";\",Blad3!I1789),\"\")","v":""}]
[{"$f":"IF(AND(Blad1!C1790<>0,Blad1!D1790>0),CONCATENATE(Enhet!$B$1,\";\",Blad3!H1790,\";\",Blad3!I1790),\"\")","v":""}]
[{"$f":"IF(AND(Blad1!C1791<>0,Blad1!D1791>0),CONCATENATE(Enhet!$B$1,\";\",Blad3!H1791,\";\",Blad3!I1791),\"\")","v":""}]
[{"$f":"IF(AND(Blad1!C1792<>0,Blad1!D1792>0),CONCATENATE(Enhet!$B$1,\";\",Blad3!H1792,\";\",Blad3!I1792),\"\")","v":""}]
[{"$f":"IF(AND(Blad1!C1793<>0,Blad1!D1793>0),CONCATENATE(Enhet!$B$1,\";\",Blad3!H1793,\";\",Blad3!I1793),\"\")","v":""}]
[{"$f":"IF(AND(Blad1!C1794<>0,Blad1!D1794>0),CONCATENATE(Enhet!$B$1,\";\",Blad3!H1794,\";\",Blad3!I1794),\"\")","v":""}]
[{"$f":"IF(AND(Blad1!C1795<>0,Blad1!D1795>0),CONCATENATE(Enhet!$B$1,\";\",Blad3!H1795,\";\",Blad3!I1795),\"\")","v":""}]
[{"$f":"IF(AND(Blad1!C1796<>0,Blad1!D1796>0),CONCATENATE(Enhet!$B$1,\";\",Blad3!H1796,\";\",Blad3!I1796),\"\")","v":""}]
[{"$f":"IF(AND(Blad1!C1797<>0,Blad1!D1797>0),CONCATENATE(Enhet!$B$1,\";\",Blad3!H1797,\";\",Blad3!I1797),\"\")","v":""}]
[{"$f":"IF(AND(Blad1!C1798<>0,Blad1!D1798>0),CONCATENATE(Enhet!$B$1,\";\",Blad3!H1798,\";\",Blad3!I1798),\"\")","v":""}]
[{"$f":"IF(AND(Blad1!C1799<>0,Blad1!D1799>0),CONCATENATE(Enhet!$B$1,\";\",Blad3!H1799,\";\",Blad3!I1799),\"\")","v":""}]
[{"$f":"IF(AND(Blad1!C1800<>0,Blad1!D1800>0),CONCATENATE(Enhet!$B$1,\";\",Blad3!H1800,\";\",Blad3!I1800),\"\")","v":""}]
[{"$f":"IF(AND(Blad1!C1801<>0,Blad1!D1801>0),CONCATENATE(Enhet!$B$1,\";\",Blad3!H1801,\";\",Blad3!I1801),\"\")","v":""}]
[{"$f":"IF(AND(Blad1!C1802<>0,Blad1!D1802>0),CONCATENATE(Enhet!$B$1,\";\",Blad3!H1802,\";\",Blad3!I1802),\"\")","v":""}]
[{"$f":"IF(AND(Blad1!C1803<>0,Blad1!D1803>0),CONCATENATE(Enhet!$B$1,\";\",Blad3!H1803,\";\",Blad3!I1803),\"\")","v":""}]
[{"$f":"IF(AND(Blad1!C1804<>0,Blad1!D1804>0),CONCATENATE(Enhet!$B$1,\";\",Blad3!H1804,\";\",Blad3!I1804),\"\")","v":""}]
[{"$f":"IF(AND(Blad1!C1805<>0,Blad1!D1805>0),CONCATENATE(Enhet!$B$1,\";\",Blad3!H1805,\";\",Blad3!I1805),\"\")","v":""}]
[{"$f":"IF(AND(Blad1!C1806<>0,Blad1!D1806>0),CONCATENATE(Enhet!$B$1,\";\",Blad3!H1806,\";\",Blad3!I1806),\"\")","v":""}]
[{"$f":"IF(AND(Blad1!C1807<>0,Blad1!D1807>0),CONCATENATE(Enhet!$B$1,\";\",Blad3!H1807,\";\",Blad3!I1807),\"\")","v":""}]
[{"$f":"IF(AND(Blad1!C1808<>0,Blad1!D1808>0),CONCATENATE(Enhet!$B$1,\";\",Blad3!H1808,\";\",Blad3!I1808),\"\")","v":""}]
[{"$f":"IF(AND(Blad1!C1809<>0,Blad1!D1809>0),CONCATENATE(Enhet!$B$1,\";\",Blad3!H1809,\";\",Blad3!I1809),\"\")","v":""}]
[{"$f":"IF(AND(Blad1!C1810<>0,Blad1!D1810>0),CONCATENATE(Enhet!$B$1,\";\",Blad3!H1810,\";\",Blad3!I1810),\"\")","v":""}]
[{"$f":"IF(AND(Blad1!C1811<>0,Blad1!D1811>0),CONCATENATE(Enhet!$B$1,\";\",Blad3!H1811,\";\",Blad3!I1811),\"\")","v":""}]
[{"$f":"IF(AND(Blad1!C1812<>0,Blad1!D1812>0),CONCATENATE(Enhet!$B$1,\";\",Blad3!H1812,\";\",Blad3!I1812),\"\")","v":""}]
[{"$f":"IF(AND(Blad1!C1813<>0,Blad1!D1813>0),CONCATENATE(Enhet!$B$1,\";\",Blad3!H1813,\";\",Blad3!I1813),\"\")","v":""}]
[{"$f":"IF(AND(Blad1!C1814<>0,Blad1!D1814>0),CONCATENATE(Enhet!$B$1,\";\",Blad3!H1814,\";\",Blad3!I1814),\"\")","v":""}]
[{"$f":"IF(AND(Blad1!C1815<>0,Blad1!D1815>0),CONCATENATE(Enhet!$B$1,\";\",Blad3!H1815,\";\",Blad3!I1815),\"\")","v":""}]
[{"$f":"IF(AND(Blad1!C1816<>0,Blad1!D1816>0),CONCATENATE(Enhet!$B$1,\";\",Blad3!H1816,\";\",Blad3!I1816),\"\")","v":""}]
[{"$f":"IF(AND(Blad1!C1817<>0,Blad1!D1817>0),CONCATENATE(Enhet!$B$1,\";\",Blad3!H1817,\";\",Blad3!I1817),\"\")","v":""}]
[{"$f":"IF(AND(Blad1!C1818<>0,Blad1!D1818>0),CONCATENATE(Enhet!$B$1,\";\",Blad3!H1818,\";\",Blad3!I1818),\"\")","v":""}]
[{"$f":"IF(AND(Blad1!C1819<>0,Blad1!D1819>0),CONCATENATE(Enhet!$B$1,\";\",Blad3!H1819,\";\",Blad3!I1819),\"\")","v":""}]
[{"$f":"IF(AND(Blad1!C1820<>0,Blad1!D1820>0),CONCATENATE(Enhet!$B$1,\";\",Blad3!H1820,\";\",Blad3!I1820),\"\")","v":""}]
[{"$f":"IF(AND(Blad1!C1821<>0,Blad1!D1821>0),CONCATENATE(Enhet!$B$1,\";\",Blad3!H1821,\";\",Blad3!I1821),\"\")","v":""}]
[{"$f":"IF(AND(Blad1!C1822<>0,Blad1!D1822>0),CONCATENATE(Enhet!$B$1,\";\",Blad3!H1822,\";\",Blad3!I1822),\"\")","v":""}]
[{"$f":"IF(AND(Blad1!C1823<>0,Blad1!D1823>0),CONCATENATE(Enhet!$B$1,\";\",Blad3!H1823,\";\",Blad3!I1823),\"\")","v":""}]
[{"$f":"IF(AND(Blad1!C1824<>0,Blad1!D1824>0),CONCATENATE(Enhet!$B$1,\";\",Blad3!H1824,\";\",Blad3!I1824),\"\")","v":""}]
[{"$f":"IF(AND(Blad1!C1825<>0,Blad1!D1825>0),CONCATENATE(Enhet!$B$1,\";\",Blad3!H1825,\";\",Blad3!I1825),\"\")","v":""}]
[{"$f":"IF(AND(Blad1!C1826<>0,Blad1!D1826>0),CONCATENATE(Enhet!$B$1,\";\",Blad3!H1826,\";\",Blad3!I1826),\"\")","v":""}]
[{"$f":"IF(AND(Blad1!C1827<>0,Blad1!D1827>0),CONCATENATE(Enhet!$B$1,\";\",Blad3!H1827,\";\",Blad3!I1827),\"\")","v":""}]
[{"$f":"IF(AND(Blad1!C1828<>0,Blad1!D1828>0),CONCATENATE(Enhet!$B$1,\";\",Blad3!H1828,\";\",Blad3!I1828),\"\")","v":""}]
[{"$f":"IF(AND(Blad1!C1829<>0,Blad1!D1829>0),CONCATENATE(Enhet!$B$1,\";\",Blad3!H1829,\";\",Blad3!I1829),\"\")","v":""}]
[{"$f":"IF(AND(Blad1!C1830<>0,Blad1!D1830>0),CONCATENATE(Enhet!$B$1,\";\",Blad3!H1830,\";\",Blad3!I1830),\"\")","v":""}]
[{"$f":"IF(AND(Blad1!C1831<>0,Blad1!D1831>0),CONCATENATE(Enhet!$B$1,\";\",Blad3!H1831,\";\",Blad3!I1831),\"\")","v":""}]
[{"$f":"IF(AND(Blad1!C1832<>0,Blad1!D1832>0),CONCATENATE(Enhet!$B$1,\";\",Blad3!H1832,\";\",Blad3!I1832),\"\")","v":""}]
[{"$f":"IF(AND(Blad1!C1833<>0,Blad1!D1833>0),CONCATENATE(Enhet!$B$1,\";\",Blad3!H1833,\";\",Blad3!I1833),\"\")","v":""}]
[{"$f":"IF(AND(Blad1!C1834<>0,Blad1!D1834>0),CONCATENATE(Enhet!$B$1,\";\",Blad3!H1834,\";\",Blad3!I1834),\"\")","v":""}]
[{"$f":"IF(AND(Blad1!C1835<>0,Blad1!D1835>0),CONCATENATE(Enhet!$B$1,\";\",Blad3!H1835,\";\",Blad3!I1835),\"\")","v":""}]
[{"$f":"IF(AND(Blad1!C1836<>0,Blad1!D1836>0),CONCATENATE(Enhet!$B$1,\";\",Blad3!H1836,\";\",Blad3!I1836),\"\")","v":""}]
[{"$f":"IF(AND(Blad1!C1837<>0,Blad1!D1837>0),CONCATENATE(Enhet!$B$1,\";\",Blad3!H1837,\";\",Blad3!I1837),\"\")","v":""}]
[{"$f":"IF(AND(Blad1!C1838<>0,Blad1!D1838>0),CONCATENATE(Enhet!$B$1,\";\",Blad3!H1838,\";\",Blad3!I1838),\"\")","v":""}]
[{"$f":"IF(AND(Blad1!C1839<>0,Blad1!D1839>0),CONCATENATE(Enhet!$B$1,\";\",Blad3!H1839,\";\",Blad3!I1839),\"\")","v":""}]
[{"$f":"IF(AND(Blad1!C1840<>0,Blad1!D1840>0),CONCATENATE(Enhet!$B$1,\";\",Blad3!H1840,\";\",Blad3!I1840),\"\")","v":""}]
[{"$f":"IF(AND(Blad1!C1841<>0,Blad1!D1841>0),CONCATENATE(Enhet!$B$1,\";\",Blad3!H1841,\";\",Blad3!I1841),\"\")","v":""}]
[{"$f":"IF(AND(Blad1!C1842<>0,Blad1!D1842>0),CONCATENATE(Enhet!$B$1,\";\",Blad3!H1842,\";\",Blad3!I1842),\"\")","v":""}]
[{"$f":"IF(AND(Blad1!C1843<>0,Blad1!D1843>0),CONCATENATE(Enhet!$B$1,\";\",Blad3!H1843,\";\",Blad3!I1843),\"\")","v":""}]
[{"$f":"IF(AND(Blad1!C1844<>0,Blad1!D1844>0),CONCATENATE(Enhet!$B$1,\";\",Blad3!H1844,\";\",Blad3!I1844),\"\")","v":""}]
[{"$f":"IF(AND(Blad1!C1845<>0,Blad1!D1845>0),CONCATENATE(Enhet!$B$1,\";\",Blad3!H1845,\";\",Blad3!I1845),\"\")","v":""}]
[{"$f":"IF(AND(Blad1!C1846<>0,Blad1!D1846>0),CONCATENATE(Enhet!$B$1,\";\",Blad3!H1846,\";\",Blad3!I1846),\"\")","v":""}]
[{"$f":"IF(AND(Blad1!C1847<>0,Blad1!D1847>0),CONCATENATE(Enhet!$B$1,\";\",Blad3!H1847,\";\",Blad3!I1847),\"\")","v":""}]
[{"$f":"IF(AND(Blad1!C1848<>0,Blad1!D1848>0),CONCATENATE(Enhet!$B$1,\";\",Blad3!H1848,\";\",Blad3!I1848),\"\")","v":""}]
[{"$f":"IF(AND(Blad1!C1849<>0,Blad1!D1849>0),CONCATENATE(Enhet!$B$1,\";\",Blad3!H1849,\";\",Blad3!I1849),\"\")","v":""}]
[{"$f":"IF(AND(Blad1!C1850<>0,Blad1!D1850>0),CONCATENATE(Enhet!$B$1,\";\",Blad3!H1850,\";\",Blad3!I1850),\"\")","v":""}]
[{"$f":"IF(AND(Blad1!C1851<>0,Blad1!D1851>0),CONCATENATE(Enhet!$B$1,\";\",Blad3!H1851,\";\",Blad3!I1851),\"\")","v":""}]
[{"$f":"IF(AND(Blad1!C1852<>0,Blad1!D1852>0),CONCATENATE(Enhet!$B$1,\";\",Blad3!H1852,\";\",Blad3!I1852),\"\")","v":""}]
[{"$f":"IF(AND(Blad1!C1853<>0,Blad1!D1853>0),CONCATENATE(Enhet!$B$1,\";\",Blad3!H1853,\";\",Blad3!I1853),\"\")","v":""}]
[{"$f":"IF(AND(Blad1!C1854<>0,Blad1!D1854>0),CONCATENATE(Enhet!$B$1,\";\",Blad3!H1854,\";\",Blad3!I1854),\"\")","v":""}]
[{"$f":"IF(AND(Blad1!C1855<>0,Blad1!D1855>0),CONCATENATE(Enhet!$B$1,\";\",Blad3!H1855,\";\",Blad3!I1855),\"\")","v":""}]
[{"$f":"IF(AND(Blad1!C1856<>0,Blad1!D1856>0),CONCATENATE(Enhet!$B$1,\";\",Blad3!H1856,\";\",Blad3!I1856),\"\")","v":""}]
[{"$f":"IF(AND(Blad1!C1857<>0,Blad1!D1857>0),CONCATENATE(Enhet!$B$1,\";\",Blad3!H1857,\";\",Blad3!I1857),\"\")","v":""}]
[{"$f":"IF(AND(Blad1!C1858<>0,Blad1!D1858>0),CONCATENATE(Enhet!$B$1,\";\",Blad3!H1858,\";\",Blad3!I1858),\"\")","v":""}]
[{"$f":"IF(AND(Blad1!C1859<>0,Blad1!D1859>0),CONCATENATE(Enhet!$B$1,\";\",Blad3!H1859,\";\",Blad3!I1859),\"\")","v":""}]
[{"$f":"IF(AND(Blad1!C1860<>0,Blad1!D1860>0),CONCATENATE(Enhet!$B$1,\";\",Blad3!H1860,\";\",Blad3!I1860),\"\")","v":""}]
[{"$f":"IF(AND(Blad1!C1861<>0,Blad1!D1861>0),CONCATENATE(Enhet!$B$1,\";\",Blad3!H1861,\";\",Blad3!I1861),\"\")","v":""}]
[{"$f":"IF(AND(Blad1!C1862<>0,Blad1!D1862>0),CONCATENATE(Enhet!$B$1,\";\",Blad3!H1862,\";\",Blad3!I1862),\"\")","v":""}]
[{"$f":"IF(AND(Blad1!C1863<>0,Blad1!D1863>0),CONCATENATE(Enhet!$B$1,\";\",Blad3!H1863,\";\",Blad3!I1863),\"\")","v":""}]
[{"$f":"IF(AND(Blad1!C1864<>0,Blad1!D1864>0),CONCATENATE(Enhet!$B$1,\";\",Blad3!H1864,\";\",Blad3!I1864),\"\")","v":""}]
[{"$f":"IF(AND(Blad1!C1865<>0,Blad1!D1865>0),CONCATENATE(Enhet!$B$1,\";\",Blad3!H1865,\";\",Blad3!I1865),\"\")","v":""}]
[{"$f":"IF(AND(Blad1!C1866<>0,Blad1!D1866>0),CONCATENATE(Enhet!$B$1,\";\",Blad3!H1866,\";\",Blad3!I1866),\"\")","v":""}]
[{"$f":"IF(AND(Blad1!C1867<>0,Blad1!D1867>0),CONCATENATE(Enhet!$B$1,\";\",Blad3!H1867,\";\",Blad3!I1867),\"\")","v":""}]
[{"$f":"IF(AND(Blad1!C1868<>0,Blad1!D1868>0),CONCATENATE(Enhet!$B$1,\";\",Blad3!H1868,\";\",Blad3!I1868),\"\")","v":""}]
[{"$f":"IF(AND(Blad1!C1869<>0,Blad1!D1869>0),CONCATENATE(Enhet!$B$1,\";\",Blad3!H1869,\";\",Blad3!I1869),\"\")","v":""}]
[{"$f":"IF(AND(Blad1!C1870<>0,Blad1!D1870>0),CONCATENATE(Enhet!$B$1,\";\",Blad3!H1870,\";\",Blad3!I1870),\"\")","v":""}]
[{"$f":"IF(AND(Blad1!C1871<>0,Blad1!D1871>0),CONCATENATE(Enhet!$B$1,\";\",Blad3!H1871,\";\",Blad3!I1871),\"\")","v":""}]
[{"$f":"IF(AND(Blad1!C1872<>0,Blad1!D1872>0),CONCATENATE(Enhet!$B$1,\";\",Blad3!H1872,\";\",Blad3!I1872),\"\")","v":""}]
[{"$f":"IF(AND(Blad1!C1873<>0,Blad1!D1873>0),CONCATENATE(Enhet!$B$1,\";\",Blad3!H1873,\";\",Blad3!I1873),\"\")","v":""}]
[{"$f":"IF(AND(Blad1!C1874<>0,Blad1!D1874>0),CONCATENATE(Enhet!$B$1,\";\",Blad3!H1874,\";\",Blad3!I1874),\"\")","v":""}]
[{"$f":"IF(AND(Blad1!C1875<>0,Blad1!D1875>0),CONCATENATE(Enhet!$B$1,\";\",Blad3!H1875,\";\",Blad3!I1875),\"\")","v":""}]
[{"$f":"IF(AND(Blad1!C1876<>0,Blad1!D1876>0),CONCATENATE(Enhet!$B$1,\";\",Blad3!H1876,\";\",Blad3!I1876),\"\")","v":""}]
[{"$f":"IF(AND(Blad1!C1877<>0,Blad1!D1877>0),CONCATENATE(Enhet!$B$1,\";\",Blad3!H1877,\";\",Blad3!I1877),\"\")","v":""}]
[{"$f":"IF(AND(Blad1!C1878<>0,Blad1!D1878>0),CONCATENATE(Enhet!$B$1,\";\",Blad3!H1878,\";\",Blad3!I1878),\"\")","v":""}]
[{"$f":"IF(AND(Blad1!C1879<>0,Blad1!D1879>0),CONCATENATE(Enhet!$B$1,\";\",Blad3!H1879,\";\",Blad3!I1879),\"\")","v":""}]
[{"$f":"IF(AND(Blad1!C1880<>0,Blad1!D1880>0),CONCATENATE(Enhet!$B$1,\";\",Blad3!H1880,\";\",Blad3!I1880),\"\")","v":""}]
[{"$f":"IF(AND(Blad1!C1881<>0,Blad1!D1881>0),CONCATENATE(Enhet!$B$1,\";\",Blad3!H1881,\";\",Blad3!I1881),\"\")","v":""}]
[{"$f":"IF(AND(Blad1!C1882<>0,Blad1!D1882>0),CONCATENATE(Enhet!$B$1,\";\",Blad3!H1882,\";\",Blad3!I1882),\"\")","v":""}]
[{"$f":"IF(AND(Blad1!C1883<>0,Blad1!D1883>0),CONCATENATE(Enhet!$B$1,\";\",Blad3!H1883,\";\",Blad3!I1883),\"\")","v":""}]
[{"$f":"IF(AND(Blad1!C1884<>0,Blad1!D1884>0),CONCATENATE(Enhet!$B$1,\";\",Blad3!H1884,\";\",Blad3!I1884),\"\")","v":""}]
[{"$f":"IF(AND(Blad1!C1885<>0,Blad1!D1885>0),CONCATENATE(Enhet!$B$1,\";\",Blad3!H1885,\";\",Blad3!I1885),\"\")","v":""}]
[{"$f":"IF(AND(Blad1!C1886<>0,Blad1!D1886>0),CONCATENATE(Enhet!$B$1,\";\",Blad3!H1886,\";\",Blad3!I1886),\"\")","v":""}]
[{"$f":"IF(AND(Blad1!C1887<>0,Blad1!D1887>0),CONCATENATE(Enhet!$B$1,\";\",Blad3!H1887,\";\",Blad3!I1887),\"\")","v":""}]
[{"$f":"IF(AND(Blad1!C1888<>0,Blad1!D1888>0),CONCATENATE(Enhet!$B$1,\";\",Blad3!H1888,\";\",Blad3!I1888),\"\")","v":""}]
[{"$f":"IF(AND(Blad1!C1889<>0,Blad1!D1889>0),CONCATENATE(Enhet!$B$1,\";\",Blad3!H1889,\";\",Blad3!I1889),\"\")","v":""}]
[{"$f":"IF(AND(Blad1!C1890<>0,Blad1!D1890>0),CONCATENATE(Enhet!$B$1,\";\",Blad3!H1890,\";\",Blad3!I1890),\"\")","v":""}]
[{"$f":"IF(AND(Blad1!C1891<>0,Blad1!D1891>0),CONCATENATE(Enhet!$B$1,\";\",Blad3!H1891,\";\",Blad3!I1891),\"\")","v":""}]
[{"$f":"IF(AND(Blad1!C1892<>0,Blad1!D1892>0),CONCATENATE(Enhet!$B$1,\";\",Blad3!H1892,\";\",Blad3!I1892),\"\")","v":""}]
[{"$f":"IF(AND(Blad1!C1893<>0,Blad1!D1893>0),CONCATENATE(Enhet!$B$1,\";\",Blad3!H1893,\";\",Blad3!I1893),\"\")","v":""}]
[{"$f":"IF(AND(Blad1!C1894<>0,Blad1!D1894>0),CONCATENATE(Enhet!$B$1,\";\",Blad3!H1894,\";\",Blad3!I1894),\"\")","v":""}]
[{"$f":"IF(AND(Blad1!C1895<>0,Blad1!D1895>0),CONCATENATE(Enhet!$B$1,\";\",Blad3!H1895,\";\",Blad3!I1895),\"\")","v":""}]
[{"$f":"IF(AND(Blad1!C1896<>0,Blad1!D1896>0),CONCATENATE(Enhet!$B$1,\";\",Blad3!H1896,\";\",Blad3!I1896),\"\")","v":""}]
[{"$f":"IF(AND(Blad1!C1897<>0,Blad1!D1897>0),CONCATENATE(Enhet!$B$1,\";\",Blad3!H1897,\";\",Blad3!I1897),\"\")","v":""}]
[{"$f":"IF(AND(Blad1!C1898<>0,Blad1!D1898>0),CONCATENATE(Enhet!$B$1,\";\",Blad3!H1898,\";\",Blad3!I1898),\"\")","v":""}]
[{"$f":"IF(AND(Blad1!C1899<>0,Blad1!D1899>0),CONCATENATE(Enhet!$B$1,\";\",Blad3!H1899,\";\",Blad3!I1899),\"\")","v":""}]
[{"$f":"IF(AND(Blad1!C1900<>0,Blad1!D1900>0),CONCATENATE(Enhet!$B$1,\";\",Blad3!H1900,\";\",Blad3!I1900),\"\")","v":""}]
[{"$f":"IF(AND(Blad1!C1901<>0,Blad1!D1901>0),CONCATENATE(Enhet!$B$1,\";\",Blad3!H1901,\";\",Blad3!I1901),\"\")","v":""}]
[{"$f":"IF(AND(Blad1!C1902<>0,Blad1!D1902>0),CONCATENATE(Enhet!$B$1,\";\",Blad3!H1902,\";\",Blad3!I1902),\"\")","v":""}]
[{"$f":"IF(AND(Blad1!C1903<>0,Blad1!D1903>0),CONCATENATE(Enhet!$B$1,\";\",Blad3!H1903,\";\",Blad3!I1903),\"\")","v":""}]
[{"$f":"IF(AND(Blad1!C1904<>0,Blad1!D1904>0),CONCATENATE(Enhet!$B$1,\";\",Blad3!H1904,\";\",Blad3!I1904),\"\")","v":""}]
[{"$f":"IF(AND(Blad1!C1905<>0,Blad1!D1905>0),CONCATENATE(Enhet!$B$1,\";\",Blad3!H1905,\";\",Blad3!I1905),\"\")","v":""}]
[{"$f":"IF(AND(Blad1!C1906<>0,Blad1!D1906>0),CONCATENATE(Enhet!$B$1,\";\",Blad3!H1906,\";\",Blad3!I1906),\"\")","v":""}]
[{"$f":"IF(AND(Blad1!C1907<>0,Blad1!D1907>0),CONCATENATE(Enhet!$B$1,\";\",Blad3!H1907,\";\",Blad3!I1907),\"\")","v":""}]
[{"$f":"IF(AND(Blad1!C1908<>0,Blad1!D1908>0),CONCATENATE(Enhet!$B$1,\";\",Blad3!H1908,\";\",Blad3!I1908),\"\")","v":""}]
[{"$f":"IF(AND(Blad1!C1909<>0,Blad1!D1909>0),CONCATENATE(Enhet!$B$1,\";\",Blad3!H1909,\";\",Blad3!I1909),\"\")","v":""}]
[{"$f":"IF(AND(Blad1!C1910<>0,Blad1!D1910>0),CONCATENATE(Enhet!$B$1,\";\",Blad3!H1910,\";\",Blad3!I1910),\"\")","v":""}]
[{"$f":"IF(AND(Blad1!C1911<>0,Blad1!D1911>0),CONCATENATE(Enhet!$B$1,\";\",Blad3!H1911,\";\",Blad3!I1911),\"\")","v":""}]
[{"$f":"IF(AND(Blad1!C1912<>0,Blad1!D1912>0),CONCATENATE(Enhet!$B$1,\";\",Blad3!H1912,\";\",Blad3!I1912),\"\")","v":""}]
[{"$f":"IF(AND(Blad1!C1913<>0,Blad1!D1913>0),CONCATENATE(Enhet!$B$1,\";\",Blad3!H1913,\";\",Blad3!I1913),\"\")","v":""}]
[{"$f":"IF(AND(Blad1!C1914<>0,Blad1!D1914>0),CONCATENATE(Enhet!$B$1,\";\",Blad3!H1914,\";\",Blad3!I1914),\"\")","v":""}]
[{"$f":"IF(AND(Blad1!C1915<>0,Blad1!D1915>0),CONCATENATE(Enhet!$B$1,\";\",Blad3!H1915,\";\",Blad3!I1915),\"\")","v":""}]
[{"$f":"IF(AND(Blad1!C1916<>0,Blad1!D1916>0),CONCATENATE(Enhet!$B$1,\";\",Blad3!H1916,\";\",Blad3!I1916),\"\")","v":""}]
[{"$f":"IF(AND(Blad1!C1917<>0,Blad1!D1917>0),CONCATENATE(Enhet!$B$1,\";\",Blad3!H1917,\";\",Blad3!I1917),\"\")","v":""}]
[{"$f":"IF(AND(Blad1!C1918<>0,Blad1!D1918>0),CONCATENATE(Enhet!$B$1,\";\",Blad3!H1918,\";\",Blad3!I1918),\"\")","v":""}]
[{"$f":"IF(AND(Blad1!C1919<>0,Blad1!D1919>0),CONCATENATE(Enhet!$B$1,\";\",Blad3!H1919,\";\",Blad3!I1919),\"\")","v":""}]
[{"$f":"IF(AND(Blad1!C1920<>0,Blad1!D1920>0),CONCATENATE(Enhet!$B$1,\";\",Blad3!H1920,\";\",Blad3!I1920),\"\")","v":""}]
[{"$f":"IF(AND(Blad1!C1921<>0,Blad1!D1921>0),CONCATENATE(Enhet!$B$1,\";\",Blad3!H1921,\";\",Blad3!I1921),\"\")","v":""}]
[{"$f":"IF(AND(Blad1!C1922<>0,Blad1!D1922>0),CONCATENATE(Enhet!$B$1,\";\",Blad3!H1922,\";\",Blad3!I1922),\"\")","v":""}]
[{"$f":"IF(AND(Blad1!C1923<>0,Blad1!D1923>0),CONCATENATE(Enhet!$B$1,\";\",Blad3!H1923,\";\",Blad3!I1923),\"\")","v":""}]
[{"$f":"IF(AND(Blad1!C1924<>0,Blad1!D1924>0),CONCATENATE(Enhet!$B$1,\";\",Blad3!H1924,\";\",Blad3!I1924),\"\")","v":""}]
[{"$f":"IF(AND(Blad1!C1925<>0,Blad1!D1925>0),CONCATENATE(Enhet!$B$1,\";\",Blad3!H1925,\";\",Blad3!I1925),\"\")","v":""}]
[{"$f":"IF(AND(Blad1!C1926<>0,Blad1!D1926>0),CONCATENATE(Enhet!$B$1,\";\",Blad3!H1926,\";\",Blad3!I1926),\"\")","v":""}]
[{"$f":"IF(AND(Blad1!C1927<>0,Blad1!D1927>0),CONCATENATE(Enhet!$B$1,\";\",Blad3!H1927,\";\",Blad3!I1927),\"\")","v":""}]
[{"$f":"IF(AND(Blad1!C1928<>0,Blad1!D1928>0),CONCATENATE(Enhet!$B$1,\";\",Blad3!H1928,\";\",Blad3!I1928),\"\")","v":""}]
[{"$f":"IF(AND(Blad1!C1929<>0,Blad1!D1929>0),CONCATENATE(Enhet!$B$1,\";\",Blad3!H1929,\";\",Blad3!I1929),\"\")","v":""}]
[{"$f":"IF(AND(Blad1!C1930<>0,Blad1!D1930>0),CONCATENATE(Enhet!$B$1,\";\",Blad3!H1930,\";\",Blad3!I1930),\"\")","v":""}]
[{"$f":"IF(AND(Blad1!C1931<>0,Blad1!D1931>0),CONCATENATE(Enhet!$B$1,\";\",Blad3!H1931,\";\",Blad3!I1931),\"\")","v":""}]
[{"$f":"IF(AND(Blad1!C1932<>0,Blad1!D1932>0),CONCATENATE(Enhet!$B$1,\";\",Blad3!H1932,\";\",Blad3!I1932),\"\")","v":""}]
[{"$f":"IF(AND(Blad1!C1933<>0,Blad1!D1933>0),CONCATENATE(Enhet!$B$1,\";\",Blad3!H1933,\";\",Blad3!I1933),\"\")","v":""}]
[{"$f":"IF(AND(Blad1!C1934<>0,Blad1!D1934>0),CONCATENATE(Enhet!$B$1,\";\",Blad3!H1934,\";\",Blad3!I1934),\"\")","v":""}]
[{"$f":"IF(AND(Blad1!C1935<>0,Blad1!D1935>0),CONCATENATE(Enhet!$B$1,\";\",Blad3!H1935,\";\",Blad3!I1935),\"\")","v":""}]
[{"$f":"IF(AND(Blad1!C1936<>0,Blad1!D1936>0),CONCATENATE(Enhet!$B$1,\";\",Blad3!H1936,\";\",Blad3!I1936),\"\")","v":""}]
[{"$f":"IF(AND(Blad1!C1937<>0,Blad1!D1937>0),CONCATENATE(Enhet!$B$1,\";\",Blad3!H1937,\";\",Blad3!I1937),\"\")","v":""}]
[{"$f":"IF(AND(Blad1!C1938<>0,Blad1!D1938>0),CONCATENATE(Enhet!$B$1,\";\",Blad3!H1938,\";\",Blad3!I1938),\"\")","v":""}]
[{"$f":"IF(AND(Blad1!C1939<>0,Blad1!D1939>0),CONCATENATE(Enhet!$B$1,\";\",Blad3!H1939,\";\",Blad3!I1939),\"\")","v":""}]
[{"$f":"IF(AND(Blad1!C1940<>0,Blad1!D1940>0),CONCATENATE(Enhet!$B$1,\";\",Blad3!H1940,\";\",Blad3!I1940),\"\")","v":""}]
[{"$f":"IF(AND(Blad1!C1941<>0,Blad1!D1941>0),CONCATENATE(Enhet!$B$1,\";\",Blad3!H1941,\";\",Blad3!I1941),\"\")","v":""}]
[{"$f":"IF(AND(Blad1!C1942<>0,Blad1!D1942>0),CONCATENATE(Enhet!$B$1,\";\",Blad3!H1942,\";\",Blad3!I1942),\"\")","v":""}]
[{"$f":"IF(AND(Blad1!C1943<>0,Blad1!D1943>0),CONCATENATE(Enhet!$B$1,\";\",Blad3!H1943,\";\",Blad3!I1943),\"\")","v":""}]
[{"$f":"IF(AND(Blad1!C1944<>0,Blad1!D1944>0),CONCATENATE(Enhet!$B$1,\";\",Blad3!H1944,\";\",Blad3!I1944),\"\")","v":""}]
[{"$f":"IF(AND(Blad1!C1945<>0,Blad1!D1945>0),CONCATENATE(Enhet!$B$1,\";\",Blad3!H1945,\";\",Blad3!I1945),\"\")","v":""}]
[{"$f":"IF(AND(Blad1!C1946<>0,Blad1!D1946>0),CONCATENATE(Enhet!$B$1,\";\",Blad3!H1946,\";\",Blad3!I1946),\"\")","v":""}]
[{"$f":"IF(AND(Blad1!C1947<>0,Blad1!D1947>0),CONCATENATE(Enhet!$B$1,\";\",Blad3!H1947,\";\",Blad3!I1947),\"\")","v":""}]
[{"$f":"IF(AND(Blad1!C1948<>0,Blad1!D1948>0),CONCATENATE(Enhet!$B$1,\";\",Blad3!H1948,\";\",Blad3!I1948),\"\")","v":""}]
[{"$f":"IF(AND(Blad1!C1949<>0,Blad1!D1949>0),CONCATENATE(Enhet!$B$1,\";\",Blad3!H1949,\";\",Blad3!I1949),\"\")","v":""}]
[{"$f":"IF(AND(Blad1!C1950<>0,Blad1!D1950>0),CONCATENATE(Enhet!$B$1,\";\",Blad3!H1950,\";\",Blad3!I1950),\"\")","v":""}]
[{"$f":"IF(AND(Blad1!C1951<>0,Blad1!D1951>0),CONCATENATE(Enhet!$B$1,\";\",Blad3!H1951,\";\",Blad3!I1951),\"\")","v":""}]
[{"$f":"IF(AND(Blad1!C1952<>0,Blad1!D1952>0),CONCATENATE(Enhet!$B$1,\";\",Blad3!H1952,\";\",Blad3!I1952),\"\")","v":""}]
[{"$f":"IF(AND(Blad1!C1953<>0,Blad1!D1953>0),CONCATENATE(Enhet!$B$1,\";\",Blad3!H1953,\";\",Blad3!I1953),\"\")","v":""}]
[{"$f":"IF(AND(Blad1!C1954<>0,Blad1!D1954>0),CONCATENATE(Enhet!$B$1,\";\",Blad3!H1954,\";\",Blad3!I1954),\"\")","v":""}]
[{"$f":"IF(AND(Blad1!C1955<>0,Blad1!D1955>0),CONCATENATE(Enhet!$B$1,\";\",Blad3!H1955,\";\",Blad3!I1955),\"\")","v":""}]
[{"$f":"IF(AND(Blad1!C1956<>0,Blad1!D1956>0),CONCATENATE(Enhet!$B$1,\";\",Blad3!H1956,\";\",Blad3!I1956),\"\")","v":""}]
[{"$f":"IF(AND(Blad1!C1957<>0,Blad1!D1957>0),CONCATENATE(Enhet!$B$1,\";\",Blad3!H1957,\";\",Blad3!I1957),\"\")","v":""}]
[{"$f":"IF(AND(Blad1!C1958<>0,Blad1!D1958>0),CONCATENATE(Enhet!$B$1,\";\",Blad3!H1958,\";\",Blad3!I1958),\"\")","v":""}]
[{"$f":"IF(AND(Blad1!C1959<>0,Blad1!D1959>0),CONCATENATE(Enhet!$B$1,\";\",Blad3!H1959,\";\",Blad3!I1959),\"\")","v":""}]
[{"$f":"IF(AND(Blad1!C1960<>0,Blad1!D1960>0),CONCATENATE(Enhet!$B$1,\";\",Blad3!H1960,\";\",Blad3!I1960),\"\")","v":""}]
[{"$f":"IF(AND(Blad1!C1961<>0,Blad1!D1961>0),CONCATENATE(Enhet!$B$1,\";\",Blad3!H1961,\";\",Blad3!I1961),\"\")","v":""}]
[{"$f":"IF(AND(Blad1!C1962<>0,Blad1!D1962>0),CONCATENATE(Enhet!$B$1,\";\",Blad3!H1962,\";\",Blad3!I1962),\"\")","v":""}]
[{"$f":"IF(AND(Blad1!C1963<>0,Blad1!D1963>0),CONCATENATE(Enhet!$B$1,\";\",Blad3!H1963,\";\",Blad3!I1963),\"\")","v":""}]
[{"$f":"IF(AND(Blad1!C1964<>0,Blad1!D1964>0),CONCATENATE(Enhet!$B$1,\";\",Blad3!H1964,\";\",Blad3!I1964),\"\")","v":""}]
[{"$f":"IF(AND(Blad1!C1965<>0,Blad1!D1965>0),CONCATENATE(Enhet!$B$1,\";\",Blad3!H1965,\";\",Blad3!I1965),\"\")","v":""}]
[{"$f":"IF(AND(Blad1!C1966<>0,Blad1!D1966>0),CONCATENATE(Enhet!$B$1,\";\",Blad3!H1966,\";\",Blad3!I1966),\"\")","v":""}]
[{"$f":"IF(AND(Blad1!C1967<>0,Blad1!D1967>0),CONCATENATE(Enhet!$B$1,\";\",Blad3!H1967,\";\",Blad3!I1967),\"\")","v":""}]
[{"$f":"IF(AND(Blad1!C1968<>0,Blad1!D1968>0),CONCATENATE(Enhet!$B$1,\";\",Blad3!H1968,\";\",Blad3!I1968),\"\")","v":""}]
[{"$f":"IF(AND(Blad1!C1969<>0,Blad1!D1969>0),CONCATENATE(Enhet!$B$1,\";\",Blad3!H1969,\";\",Blad3!I1969),\"\")","v":""}]
[{"$f":"IF(AND(Blad1!C1970<>0,Blad1!D1970>0),CONCATENATE(Enhet!$B$1,\";\",Blad3!H1970,\";\",Blad3!I1970),\"\")","v":""}]
[{"$f":"IF(AND(Blad1!C1971<>0,Blad1!D1971>0),CONCATENATE(Enhet!$B$1,\";\",Blad3!H1971,\";\",Blad3!I1971),\"\")","v":""}]
[{"$f":"IF(AND(Blad1!C1972<>0,Blad1!D1972>0),CONCATENATE(Enhet!$B$1,\";\",Blad3!H1972,\";\",Blad3!I1972),\"\")","v":""}]
[{"$f":"IF(AND(Blad1!C1973<>0,Blad1!D1973>0),CONCATENATE(Enhet!$B$1,\";\",Blad3!H1973,\";\",Blad3!I1973),\"\")","v":""}]
[{"$f":"IF(AND(Blad1!C1974<>0,Blad1!D1974>0),CONCATENATE(Enhet!$B$1,\";\",Blad3!H1974,\";\",Blad3!I1974),\"\")","v":""}]
[{"$f":"IF(AND(Blad1!C1975<>0,Blad1!D1975>0),CONCATENATE(Enhet!$B$1,\";\",Blad3!H1975,\";\",Blad3!I1975),\"\")","v":""}]
[{"$f":"IF(AND(Blad1!C1976<>0,Blad1!D1976>0),CONCATENATE(Enhet!$B$1,\";\",Blad3!H1976,\";\",Blad3!I1976),\"\")","v":""}]
[{"$f":"IF(AND(Blad1!C1977<>0,Blad1!D1977>0),CONCATENATE(Enhet!$B$1,\";\",Blad3!H1977,\";\",Blad3!I1977),\"\")","v":""}]
[{"$f":"IF(AND(Blad1!C1978<>0,Blad1!D1978>0),CONCATENATE(Enhet!$B$1,\";\",Blad3!H1978,\";\",Blad3!I1978),\"\")","v":""}]
[{"$f":"IF(AND(Blad1!C1979<>0,Blad1!D1979>0),CONCATENATE(Enhet!$B$1,\";\",Blad3!H1979,\";\",Blad3!I1979),\"\")","v":""}]
[{"$f":"IF(AND(Blad1!C1980<>0,Blad1!D1980>0),CONCATENATE(Enhet!$B$1,\";\",Blad3!H1980,\";\",Blad3!I1980),\"\")","v":""}]
[{"$f":"IF(AND(Blad1!C1981<>0,Blad1!D1981>0),CONCATENATE(Enhet!$B$1,\";\",Blad3!H1981,\";\",Blad3!I1981),\"\")","v":""}]
[{"$f":"IF(AND(Blad1!C1982<>0,Blad1!D1982>0),CONCATENATE(Enhet!$B$1,\";\",Blad3!H1982,\";\",Blad3!I1982),\"\")","v":""}]
[{"$f":"IF(AND(Blad1!C1983<>0,Blad1!D1983>0),CONCATENATE(Enhet!$B$1,\";\",Blad3!H1983,\";\",Blad3!I1983),\"\")","v":""}]
[{"$f":"IF(AND(Blad1!C1984<>0,Blad1!D1984>0),CONCATENATE(Enhet!$B$1,\";\",Blad3!H1984,\";\",Blad3!I1984),\"\")","v":""}]
[{"$f":"IF(AND(Blad1!C1985<>0,Blad1!D1985>0),CONCATENATE(Enhet!$B$1,\";\",Blad3!H1985,\";\",Blad3!I1985),\"\")","v":""}]
[{"$f":"IF(AND(Blad1!C1986<>0,Blad1!D1986>0),CONCATENATE(Enhet!$B$1,\";\",Blad3!H1986,\";\",Blad3!I1986),\"\")","v":""}]
[{"$f":"IF(AND(Blad1!C1987<>0,Blad1!D1987>0),CONCATENATE(Enhet!$B$1,\";\",Blad3!H1987,\";\",Blad3!I1987),\"\")","v":""}]
[{"$f":"IF(AND(Blad1!C1988<>0,Blad1!D1988>0),CONCATENATE(Enhet!$B$1,\";\",Blad3!H1988,\";\",Blad3!I1988),\"\")","v":""}]
[{"$f":"IF(AND(Blad1!C1989<>0,Blad1!D1989>0),CONCATENATE(Enhet!$B$1,\";\",Blad3!H1989,\";\",Blad3!I1989),\"\")","v":""}]
[{"$f":"IF(AND(Blad1!C1990<>0,Blad1!D1990>0),CONCATENATE(Enhet!$B$1,\";\",Blad3!H1990,\";\",Blad3!I1990),\"\")","v":""}]
[{"$f":"IF(AND(Blad1!C1991<>0,Blad1!D1991>0),CONCATENATE(Enhet!$B$1,\";\",Blad3!H1991,\";\",Blad3!I1991),\"\")","v":""}]
[{"$f":"IF(AND(Blad1!C1992<>0,Blad1!D1992>0),CONCATENATE(Enhet!$B$1,\";\",Blad3!H1992,\";\",Blad3!I1992),\"\")","v":""}]
[{"$f":"IF(AND(Blad1!C1993<>0,Blad1!D1993>0),CONCATENATE(Enhet!$B$1,\";\",Blad3!H1993,\";\",Blad3!I1993),\"\")","v":""}]
[{"$f":"IF(AND(Blad1!C1994<>0,Blad1!D1994>0),CONCATENATE(Enhet!$B$1,\";\",Blad3!H1994,\";\",Blad3!I1994),\"\")","v":""}]
[{"$f":"IF(AND(Blad1!C1995<>0,Blad1!D1995>0),CONCATENATE(Enhet!$B$1,\";\",Blad3!H1995,\";\",Blad3!I1995),\"\")","v":""}]
[{"$f":"IF(AND(Blad1!C1996<>0,Blad1!D1996>0),CONCATENATE(Enhet!$B$1,\";\",Blad3!H1996,\";\",Blad3!I1996),\"\")","v":""}]
[{"$f":"IF(AND(Blad1!C1997<>0,Blad1!D1997>0),CONCATENATE(Enhet!$B$1,\";\",Blad3!H1997,\";\",Blad3!I1997),\"\")","v":""}]
[{"$f":"IF(AND(Blad1!C1998<>0,Blad1!D1998>0),CONCATENATE(Enhet!$B$1,\";\",Blad3!H1998,\";\",Blad3!I1998),\"\")","v":""}]
[{"$f":"IF(AND(Blad1!C1999<>0,Blad1!D1999>0),CONCATENATE(Enhet!$B$1,\";\",Blad3!H1999,\";\",Blad3!I1999),\"\")","v":""}]
[{"$f":"IF(AND(Blad1!C2000<>0,Blad1!D2000>0),CONCATENATE(Enhet!$B$1,\";\",Blad3!H2000,\";\",Blad3!I2000),\"\")","v":""}]
[{"$f":"IF(AND(Blad1!C2001<>0,Blad1!D2001>0),CONCATENATE(Enhet!$B$1,\";\",Blad3!H2001,\";\",Blad3!I2001),\"\")","v":""}]
[{"$f":"IF(AND(Blad1!C2002<>0,Blad1!D2002>0),CONCATENATE(Enhet!$B$1,\";\",Blad3!H2002,\";\",Blad3!I2002),\"\")","v":""}]
[{"$f":"IF(AND(Blad1!C2003<>0,Blad1!D2003>0),CONCATENATE(Enhet!$B$1,\";\",Blad3!H2003,\";\",Blad3!I2003),\"\")","v":""}]
[{"$f":"IF(AND(Blad1!C2004<>0,Blad1!D2004>0),CONCATENATE(Enhet!$B$1,\";\",Blad3!H2004,\";\",Blad3!I2004),\"\")","v":""}]
[{"$f":"IF(AND(Blad1!C2005<>0,Blad1!D2005>0),CONCATENATE(Enhet!$B$1,\";\",Blad3!H2005,\";\",Blad3!I2005),\"\")","v":""}]
[{"$f":"IF(AND(Blad1!C2006<>0,Blad1!D2006>0),CONCATENATE(Enhet!$B$1,\";\",Blad3!H2006,\";\",Blad3!I2006),\"\")","v":""}]
[{"$f":"IF(AND(Blad1!C2007<>0,Blad1!D2007>0),CONCATENATE(Enhet!$B$1,\";\",Blad3!H2007,\";\",Blad3!I2007),\"\")","v":""}]
[{"$f":"IF(AND(Blad1!C2008<>0,Blad1!D2008>0),CONCATENATE(Enhet!$B$1,\";\",Blad3!H2008,\";\",Blad3!I2008),\"\")","v":""}]
[{"$f":"IF(AND(Blad1!C2009<>0,Blad1!D2009>0),CONCATENATE(Enhet!$B$1,\";\",Blad3!H2009,\";\",Blad3!I2009),\"\")","v":""}]
[{"$f":"IF(AND(Blad1!C2010<>0,Blad1!D2010>0),CONCATENATE(Enhet!$B$1,\";\",Blad3!H2010,\";\",Blad3!I2010),\"\")","v":""}]
[{"$f":"IF(AND(Blad1!C2011<>0,Blad1!D2011>0),CONCATENATE(Enhet!$B$1,\";\",Blad3!H2011,\";\",Blad3!I2011),\"\")","v":""}]
[{"$f":"IF(AND(Blad1!C2012<>0,Blad1!D2012>0),CONCATENATE(Enhet!$B$1,\";\",Blad3!H2012,\";\",Blad3!I2012),\"\")","v":""}]
[{"$f":"IF(AND(Blad1!C2013<>0,Blad1!D2013>0),CONCATENATE(Enhet!$B$1,\";\",Blad3!H2013,\";\",Blad3!I2013),\"\")","v":""}]
[{"$f":"IF(AND(Blad1!C2014<>0,Blad1!D2014>0),CONCATENATE(Enhet!$B$1,\";\",Blad3!H2014,\";\",Blad3!I2014),\"\")","v":""}]
[{"$f":"IF(AND(Blad1!C2015<>0,Blad1!D2015>0),CONCATENATE(Enhet!$B$1,\";\",Blad3!H2015,\";\",Blad3!I2015),\"\")","v":""}]
[{"$f":"IF(AND(Blad1!C2016<>0,Blad1!D2016>0),CONCATENATE(Enhet!$B$1,\";\",Blad3!H2016,\";\",Blad3!I2016),\"\")","v":""}]
[{"$f":"IF(AND(Blad1!C2017<>0,Blad1!D2017>0),CONCATENATE(Enhet!$B$1,\";\",Blad3!H2017,\";\",Blad3!I2017),\"\")","v":""}]
[{"$f":"IF(AND(Blad1!C2018<>0,Blad1!D2018>0),CONCATENATE(Enhet!$B$1,\";\",Blad3!H2018,\";\",Blad3!I2018),\"\")","v":""}]
[{"$f":"IF(AND(Blad1!C2019<>0,Blad1!D2019>0),CONCATENATE(Enhet!$B$1,\";\",Blad3!H2019,\";\",Blad3!I2019),\"\")","v":""}]
[{"$f":"IF(AND(Blad1!C2020<>0,Blad1!D2020>0),CONCATENATE(Enhet!$B$1,\";\",Blad3!H2020,\";\",Blad3!I2020),\"\")","v":""}]
[{"$f":"IF(AND(Blad1!C2021<>0,Blad1!D2021>0),CONCATENATE(Enhet!$B$1,\";\",Blad3!H2021,\";\",Blad3!I2021),\"\")","v":""}]
[{"$f":"IF(AND(Blad1!C2022<>0,Blad1!D2022>0),CONCATENATE(Enhet!$B$1,\";\",Blad3!H2022,\";\",Blad3!I2022),\"\")","v":""}]
[{"$f":"IF(AND(Blad1!C2023<>0,Blad1!D2023>0),CONCATENATE(Enhet!$B$1,\";\",Blad3!H2023,\";\",Blad3!I2023),\"\")","v":""}]
[{"$f":"IF(AND(Blad1!C2024<>0,Blad1!D2024>0),CONCATENATE(Enhet!$B$1,\";\",Blad3!H2024,\";\",Blad3!I2024),\"\")","v":""}]
[{"$f":"IF(AND(Blad1!C2025<>0,Blad1!D2025>0),CONCATENATE(Enhet!$B$1,\";\",Blad3!H2025,\";\",Blad3!I2025),\"\")","v":""}]
[{"$f":"IF(AND(Blad1!C2026<>0,Blad1!D2026>0),CONCATENATE(Enhet!$B$1,\";\",Blad3!H2026,\";\",Blad3!I2026),\"\")","v":""}]
[{"$f":"IF(AND(Blad1!C2027<>0,Blad1!D2027>0),CONCATENATE(Enhet!$B$1,\";\",Blad3!H2027,\";\",Blad3!I2027),\"\")","v":""}]
[{"$f":"IF(AND(Blad1!C2028<>0,Blad1!D2028>0),CONCATENATE(Enhet!$B$1,\";\",Blad3!H2028,\";\",Blad3!I2028),\"\")","v":""}]
[{"$f":"IF(AND(Blad1!C2029<>0,Blad1!D2029>0),CONCATENATE(Enhet!$B$1,\";\",Blad3!H2029,\";\",Blad3!I2029),\"\")","v":""}]
[{"$f":"IF(AND(Blad1!C2030<>0,Blad1!D2030>0),CONCATENATE(Enhet!$B$1,\";\",Blad3!H2030,\";\",Blad3!I2030),\"\")","v":""}]
[{"$f":"IF(AND(Blad1!C2031<>0,Blad1!D2031>0),CONCATENATE(Enhet!$B$1,\";\",Blad3!H2031,\";\",Blad3!I2031),\"\")","v":""}]
[{"$f":"IF(AND(Blad1!C2032<>0,Blad1!D2032>0),CONCATENATE(Enhet!$B$1,\";\",Blad3!H2032,\";\",Blad3!I2032),\"\")","v":""}]
[{"$f":"IF(AND(Blad1!C2033<>0,Blad1!D2033>0),CONCATENATE(Enhet!$B$1,\";\",Blad3!H2033,\";\",Blad3!I2033),\"\")","v":""}]
[{"$f":"IF(AND(Blad1!C2034<>0,Blad1!D2034>0),CONCATENATE(Enhet!$B$1,\";\",Blad3!H2034,\";\",Blad3!I2034),\"\")","v":""}]
[{"$f":"IF(AND(Blad1!C2035<>0,Blad1!D2035>0),CONCATENATE(Enhet!$B$1,\";\",Blad3!H2035,\";\",Blad3!I2035),\"\")","v":""}]
[{"$f":"IF(AND(Blad1!C2036<>0,Blad1!D2036>0),CONCATENATE(Enhet!$B$1,\";\",Blad3!H2036,\";\",Blad3!I2036),\"\")","v":""}]
[{"$f":"IF(AND(Blad1!C2037<>0,Blad1!D2037>0),CONCATENATE(Enhet!$B$1,\";\",Blad3!H2037,\";\",Blad3!I2037),\"\")","v":""}]
[{"$f":"IF(AND(Blad1!C2038<>0,Blad1!D2038>0),CONCATENATE(Enhet!$B$1,\";\",Blad3!H2038,\";\",Blad3!I2038),\"\")","v":""}]
[{"$f":"IF(AND(Blad1!C2039<>0,Blad1!D2039>0),CONCATENATE(Enhet!$B$1,\";\",Blad3!H2039,\";\",Blad3!I2039),\"\")","v":""}]
[{"$f":"IF(AND(Blad1!C2040<>0,Blad1!D2040>0),CONCATENATE(Enhet!$B$1,\";\",Blad3!H2040,\";\",Blad3!I2040),\"\")","v":""}]
[{"$f":"IF(AND(Blad1!C2041<>0,Blad1!D2041>0),CONCATENATE(Enhet!$B$1,\";\",Blad3!H2041,\";\",Blad3!I2041),\"\")","v":""}]
[{"$f":"IF(AND(Blad1!C2042<>0,Blad1!D2042>0),CONCATENATE(Enhet!$B$1,\";\",Blad3!H2042,\";\",Blad3!I2042),\"\")","v":""}]
[{"$f":"IF(AND(Blad1!C2043<>0,Blad1!D2043>0),CONCATENATE(Enhet!$B$1,\";\",Blad3!H2043,\";\",Blad3!I2043),\"\")","v":""}]
[{"$f":"IF(AND(Blad1!C2044<>0,Blad1!D2044>0),CONCATENATE(Enhet!$B$1,\";\",Blad3!H2044,\";\",Blad3!I2044),\"\")","v":""}]
[{"$f":"IF(AND(Blad1!C2045<>0,Blad1!D2045>0),CONCATENATE(Enhet!$B$1,\";\",Blad3!H2045,\";\",Blad3!I2045),\"\")","v":""}]
[{"$f":"IF(AND(Blad1!C2046<>0,Blad1!D2046>0),CONCATENATE(Enhet!$B$1,\";\",Blad3!H2046,\";\",Blad3!I2046),\"\")","v":""}]
[{"$f":"IF(AND(Blad1!C2047<>0,Blad1!D2047>0),CONCATENATE(Enhet!$B$1,\";\",Blad3!H2047,\";\",Blad3!I2047),\"\")","v":""}]
[{"$f":"IF(AND(Blad1!C2048<>0,Blad1!D2048>0),CONCATENATE(Enhet!$B$1,\";\",Blad3!H2048,\";\",Blad3!I2048),\"\")","v":""}]
[{"$f":"IF(AND(Blad1!C2049<>0,Blad1!D2049>0),CONCATENATE(Enhet!$B$1,\";\",Blad3!H2049,\";\",Blad3!I2049),\"\")","v":""}]
[{"$f":"IF(AND(Blad1!C2050<>0,Blad1!D2050>0),CONCATENATE(Enhet!$B$1,\";\",Blad3!H2050,\";\",Blad3!I2050),\"\")","v":""}]
[{"$f":"IF(AND(Blad1!C2051<>0,Blad1!D2051>0),CONCATENATE(Enhet!$B$1,\";\",Blad3!H2051,\";\",Blad3!I2051),\"\")","v":""}]
[{"$f":"IF(AND(Blad1!C2052<>0,Blad1!D2052>0),CONCATENATE(Enhet!$B$1,\";\",Blad3!H2052,\";\",Blad3!I2052),\"\")","v":""}]
[{"$f":"IF(AND(Blad1!C2053<>0,Blad1!D2053>0),CONCATENATE(Enhet!$B$1,\";\",Blad3!H2053,\";\",Blad3!I2053),\"\")","v":""}]
[{"$f":"IF(AND(Blad1!C2054<>0,Blad1!D2054>0),CONCATENATE(Enhet!$B$1,\";\",Blad3!H2054,\";\",Blad3!I2054),\"\")","v":""}]
[{"$f":"IF(AND(Blad1!C2055<>0,Blad1!D2055>0),CONCATENATE(Enhet!$B$1,\";\",Blad3!H2055,\";\",Blad3!I2055),\"\")","v":""}]
[{"$f":"IF(AND(Blad1!C2056<>0,Blad1!D2056>0),CONCATENATE(Enhet!$B$1,\";\",Blad3!H2056,\";\",Blad3!I2056),\"\")","v":""}]
[{"$f":"IF(AND(Blad1!C2057<>0,Blad1!D2057>0),CONCATENATE(Enhet!$B$1,\";\",Blad3!H2057,\";\",Blad3!I2057),\"\")","v":""}]
[{"$f":"IF(AND(Blad1!C2058<>0,Blad1!D2058>0),CONCATENATE(Enhet!$B$1,\";\",Blad3!H2058,\";\",Blad3!I2058),\"\")","v":""}]
[{"$f":"IF(AND(Blad1!C2059<>0,Blad1!D2059>0),CONCATENATE(Enhet!$B$1,\";\",Blad3!H2059,\";\",Blad3!I2059),\"\")","v":""}]
[{"$f":"IF(AND(Blad1!C2060<>0,Blad1!D2060>0),CONCATENATE(Enhet!$B$1,\";\",Blad3!H2060,\";\",Blad3!I2060),\"\")","v":""}]
[{"$f":"IF(AND(Blad1!C2061<>0,Blad1!D2061>0),CONCATENATE(Enhet!$B$1,\";\",Blad3!H2061,\";\",Blad3!I2061),\"\")","v":""}]
[{"$f":"IF(AND(Blad1!C2062<>0,Blad1!D2062>0),CONCATENATE(Enhet!$B$1,\";\",Blad3!H2062,\";\",Blad3!I2062),\"\")","v":""}]
[{"$f":"IF(AND(Blad1!C2063<>0,Blad1!D2063>0),CONCATENATE(Enhet!$B$1,\";\",Blad3!H2063,\";\",Blad3!I2063),\"\")","v":""}]
[{"$f":"IF(AND(Blad1!C2064<>0,Blad1!D2064>0),CONCATENATE(Enhet!$B$1,\";\",Blad3!H2064,\";\",Blad3!I2064),\"\")","v":""}]
[{"$f":"IF(AND(Blad1!C2065<>0,Blad1!D2065>0),CONCATENATE(Enhet!$B$1,\";\",Blad3!H2065,\";\",Blad3!I2065),\"\")","v":""}]
[{"$f":"IF(AND(Blad1!C2066<>0,Blad1!D2066>0),CONCATENATE(Enhet!$B$1,\";\",Blad3!H2066,\";\",Blad3!I2066),\"\")","v":""}]
[{"$f":"IF(AND(Blad1!C2067<>0,Blad1!D2067>0),CONCATENATE(Enhet!$B$1,\";\",Blad3!H2067,\";\",Blad3!I2067),\"\")","v":""}]
[{"$f":"IF(AND(Blad1!C2068<>0,Blad1!D2068>0),CONCATENATE(Enhet!$B$1,\";\",Blad3!H2068,\";\",Blad3!I2068),\"\")","v":""}]
[{"$f":"IF(AND(Blad1!C2069<>0,Blad1!D2069>0),CONCATENATE(Enhet!$B$1,\";\",Blad3!H2069,\";\",Blad3!I2069),\"\")","v":""}]
[{"$f":"IF(AND(Blad1!C2070<>0,Blad1!D2070>0),CONCATENATE(Enhet!$B$1,\";\",Blad3!H2070,\";\",Blad3!I2070),\"\")","v":""}]
[{"$f":"IF(AND(Blad1!C2071<>0,Blad1!D2071>0),CONCATENATE(Enhet!$B$1,\";\",Blad3!H2071,\";\",Blad3!I2071),\"\")","v":""}]
[{"$f":"IF(AND(Blad1!C2072<>0,Blad1!D2072>0),CONCATENATE(Enhet!$B$1,\";\",Blad3!H2072,\";\",Blad3!I2072),\"\")","v":""}]
[{"$f":"IF(AND(Blad1!C2073<>0,Blad1!D2073>0),CONCATENATE(Enhet!$B$1,\";\",Blad3!H2073,\";\",Blad3!I2073),\"\")","v":""}]
[{"$f":"IF(AND(Blad1!C2074<>0,Blad1!D2074>0),CONCATENATE(Enhet!$B$1,\";\",Blad3!H2074,\";\",Blad3!I2074),\"\")","v":""}]
[{"$f":"IF(AND(Blad1!C2075<>0,Blad1!D2075>0),CONCATENATE(Enhet!$B$1,\";\",Blad3!H2075,\";\",Blad3!I2075),\"\")","v":""}]
[{"$f":"IF(AND(Blad1!C2076<>0,Blad1!D2076>0),CONCATENATE(Enhet!$B$1,\";\",Blad3!H2076,\";\",Blad3!I2076),\"\")","v":""}]
[{"$f":"IF(AND(Blad1!C2077<>0,Blad1!D2077>0),CONCATENATE(Enhet!$B$1,\";\",Blad3!H2077,\";\",Blad3!I2077),\"\")","v":""}]
[{"$f":"IF(AND(Blad1!C2078<>0,Blad1!D2078>0),CONCATENATE(Enhet!$B$1,\";\",Blad3!H2078,\";\",Blad3!I2078),\"\")","v":""}]
[{"$f":"IF(AND(Blad1!C2079<>0,Blad1!D2079>0),CONCATENATE(Enhet!$B$1,\";\",Blad3!H2079,\";\",Blad3!I2079),\"\")","v":""}]
[{"$f":"IF(AND(Blad1!C2080<>0,Blad1!D2080>0),CONCATENATE(Enhet!$B$1,\";\",Blad3!H2080,\";\",Blad3!I2080),\"\")","v":""}]
[{"$f":"IF(AND(Blad1!C2081<>0,Blad1!D2081>0),CONCATENATE(Enhet!$B$1,\";\",Blad3!H2081,\";\",Blad3!I2081),\"\")","v":""}]
[{"$f":"IF(AND(Blad1!C2082<>0,Blad1!D2082>0),CONCATENATE(Enhet!$B$1,\";\",Blad3!H2082,\";\",Blad3!I2082),\"\")","v":""}]
[{"$f":"IF(AND(Blad1!C2083<>0,Blad1!D2083>0),CONCATENATE(Enhet!$B$1,\";\",Blad3!H2083,\";\",Blad3!I2083),\"\")","v":""}]
[{"$f":"IF(AND(Blad1!C2084<>0,Blad1!D2084>0),CONCATENATE(Enhet!$B$1,\";\",Blad3!H2084,\";\",Blad3!I2084),\"\")","v":""}]
[{"$f":"IF(AND(Blad1!C2085<>0,Blad1!D2085>0),CONCATENATE(Enhet!$B$1,\";\",Blad3!H2085,\";\",Blad3!I2085),\"\")","v":""}]
[{"$f":"IF(AND(Blad1!C2086<>0,Blad1!D2086>0),CONCATENATE(Enhet!$B$1,\";\",Blad3!H2086,\";\",Blad3!I2086),\"\")","v":""}]
[{"$f":"IF(AND(Blad1!C2087<>0,Blad1!D2087>0),CONCATENATE(Enhet!$B$1,\";\",Blad3!H2087,\";\",Blad3!I2087),\"\")","v":""}]
[{"$f":"IF(AND(Blad1!C2088<>0,Blad1!D2088>0),CONCATENATE(Enhet!$B$1,\";\",Blad3!H2088,\";\",Blad3!I2088),\"\")","v":""}]
[{"$f":"IF(AND(Blad1!C2089<>0,Blad1!D2089>0),CONCATENATE(Enhet!$B$1,\";\",Blad3!H2089,\";\",Blad3!I2089),\"\")","v":""}]
[{"$f":"IF(AND(Blad1!C2090<>0,Blad1!D2090>0),CONCATENATE(Enhet!$B$1,\";\",Blad3!H2090,\";\",Blad3!I2090),\"\")","v":""}]
[{"$f":"IF(AND(Blad1!C2091<>0,Blad1!D2091>0),CONCATENATE(Enhet!$B$1,\";\",Blad3!H2091,\";\",Blad3!I2091),\"\")","v":""}]
[{"$f":"IF(AND(Blad1!C2092<>0,Blad1!D2092>0),CONCATENATE(Enhet!$B$1,\";\",Blad3!H2092,\";\",Blad3!I2092),\"\")","v":""}]
[{"$f":"IF(AND(Blad1!C2093<>0,Blad1!D2093>0),CONCATENATE(Enhet!$B$1,\";\",Blad3!H2093,\";\",Blad3!I2093),\"\")","v":""}]
[{"$f":"IF(AND(Blad1!C2094<>0,Blad1!D2094>0),CONCATENATE(Enhet!$B$1,\";\",Blad3!H2094,\";\",Blad3!I2094),\"\")","v":""}]
[{"$f":"IF(AND(Blad1!C2095<>0,Blad1!D2095>0),CONCATENATE(Enhet!$B$1,\";\",Blad3!H2095,\";\",Blad3!I2095),\"\")","v":""}]
[{"$f":"IF(AND(Blad1!C2096<>0,Blad1!D2096>0),CONCATENATE(Enhet!$B$1,\";\",Blad3!H2096,\";\",Blad3!I2096),\"\")","v":""}]
[{"$f":"IF(AND(Blad1!C2097<>0,Blad1!D2097>0),CONCATENATE(Enhet!$B$1,\";\",Blad3!H2097,\";\",Blad3!I2097),\"\")","v":""}]
[{"$f":"IF(AND(Blad1!C2098<>0,Blad1!D2098>0),CONCATENATE(Enhet!$B$1,\";\",Blad3!H2098,\";\",Blad3!I2098),\"\")","v":""}]
[{"$f":"IF(AND(Blad1!C2099<>0,Blad1!D2099>0),CONCATENATE(Enhet!$B$1,\";\",Blad3!H2099,\";\",Blad3!I2099),\"\")","v":""}]
[{"$f":"IF(AND(Blad1!C2100<>0,Blad1!D2100>0),CONCATENATE(Enhet!$B$1,\";\",Blad3!H2100,\";\",Blad3!I2100),\"\")","v":""}]
[{"$f":"IF(AND(Blad1!C2101<>0,Blad1!D2101>0),CONCATENATE(Enhet!$B$1,\";\",Blad3!H2101,\";\",Blad3!I2101),\"\")","v":""}]
[{"$f":"IF(AND(Blad1!C2102<>0,Blad1!D2102>0),CONCATENATE(Enhet!$B$1,\";\",Blad3!H2102,\";\",Blad3!I2102),\"\")","v":""}]
[{"$f":"IF(AND(Blad1!C2103<>0,Blad1!D2103>0),CONCATENATE(Enhet!$B$1,\";\",Blad3!H2103,\";\",Blad3!I2103),\"\")","v":""}]
[{"$f":"IF(AND(Blad1!C2104<>0,Blad1!D2104>0),CONCATENATE(Enhet!$B$1,\";\",Blad3!H2104,\";\",Blad3!I2104),\"\")","v":""}]
[{"$f":"IF(AND(Blad1!C2105<>0,Blad1!D2105>0),CONCATENATE(Enhet!$B$1,\";\",Blad3!H2105,\";\",Blad3!I2105),\"\")","v":""}]
[{"$f":"IF(AND(Blad1!C2106<>0,Blad1!D2106>0),CONCATENATE(Enhet!$B$1,\";\",Blad3!H2106,\";\",Blad3!I2106),\"\")","v":""}]
[{"$f":"IF(AND(Blad1!C2107<>0,Blad1!D2107>0),CONCATENATE(Enhet!$B$1,\";\",Blad3!H2107,\";\",Blad3!I2107),\"\")","v":""}]
[{"$f":"IF(AND(Blad1!C2108<>0,Blad1!D2108>0),CONCATENATE(Enhet!$B$1,\";\",Blad3!H2108,\";\",Blad3!I2108),\"\")","v":""}]
[{"$f":"IF(AND(Blad1!C2109<>0,Blad1!D2109>0),CONCATENATE(Enhet!$B$1,\";\",Blad3!H2109,\";\",Blad3!I2109),\"\")","v":""}]
[{"$f":"IF(AND(Blad1!C2110<>0,Blad1!D2110>0),CONCATENATE(Enhet!$B$1,\";\",Blad3!H2110,\";\",Blad3!I2110),\"\")","v":""}]
[{"$f":"IF(AND(Blad1!C2111<>0,Blad1!D2111>0),CONCATENATE(Enhet!$B$1,\";\",Blad3!H2111,\";\",Blad3!I2111),\"\")","v":""}]
[{"$f":"IF(AND(Blad1!C2112<>0,Blad1!D2112>0),CONCATENATE(Enhet!$B$1,\";\",Blad3!H2112,\";\",Blad3!I2112),\"\")","v":""}]
[{"$f":"IF(AND(Blad1!C2113<>0,Blad1!D2113>0),CONCATENATE(Enhet!$B$1,\";\",Blad3!H2113,\";\",Blad3!I2113),\"\")","v":""}]
[{"$f":"IF(AND(Blad1!C2114<>0,Blad1!D2114>0),CONCATENATE(Enhet!$B$1,\";\",Blad3!H2114,\";\",Blad3!I2114),\"\")","v":""}]
[{"$f":"IF(AND(Blad1!C2115<>0,Blad1!D2115>0),CONCATENATE(Enhet!$B$1,\";\",Blad3!H2115,\";\",Blad3!I2115),\"\")","v":""}]
[{"$f":"IF(AND(Blad1!C2116<>0,Blad1!D2116>0),CONCATENATE(Enhet!$B$1,\";\",Blad3!H2116,\";\",Blad3!I2116),\"\")","v":""}]
[{"$f":"IF(AND(Blad1!C2117<>0,Blad1!D2117>0),CONCATENATE(Enhet!$B$1,\";\",Blad3!H2117,\";\",Blad3!I2117),\"\")","v":""}]
[{"$f":"IF(AND(Blad1!C2118<>0,Blad1!D2118>0),CONCATENATE(Enhet!$B$1,\";\",Blad3!H2118,\";\",Blad3!I2118),\"\")","v":""}]
[{"$f":"IF(AND(Blad1!C2119<>0,Blad1!D2119>0),CONCATENATE(Enhet!$B$1,\";\",Blad3!H2119,\";\",Blad3!I2119),\"\")","v":""}]
[{"$f":"IF(AND(Blad1!C2120<>0,Blad1!D2120>0),CONCATENATE(Enhet!$B$1,\";\",Blad3!H2120,\";\",Blad3!I2120),\"\")","v":""}]
[{"$f":"IF(AND(Blad1!C2121<>0,Blad1!D2121>0),CONCATENATE(Enhet!$B$1,\";\",Blad3!H2121,\";\",Blad3!I2121),\"\")","v":""}]
[{"$f":"IF(AND(Blad1!C2122<>0,Blad1!D2122>0),CONCATENATE(Enhet!$B$1,\";\",Blad3!H2122,\";\",Blad3!I2122),\"\")","v":""}]
[{"$f":"IF(AND(Blad1!C2123<>0,Blad1!D2123>0),CONCATENATE(Enhet!$B$1,\";\",Blad3!H2123,\";\",Blad3!I2123),\"\")","v":""}]
[{"$f":"IF(AND(Blad1!C2124<>0,Blad1!D2124>0),CONCATENATE(Enhet!$B$1,\";\",Blad3!H2124,\";\",Blad3!I2124),\"\")","v":""}]
[{"$f":"IF(AND(Blad1!C2125<>0,Blad1!D2125>0),CONCATENATE(Enhet!$B$1,\";\",Blad3!H2125,\";\",Blad3!I2125),\"\")","v":""}]
[{"$f":"IF(AND(Blad1!C2126<>0,Blad1!D2126>0),CONCATENATE(Enhet!$B$1,\";\",Blad3!H2126,\";\",Blad3!I2126),\"\")","v":""}]
[{"$f":"IF(AND(Blad1!C2127<>0,Blad1!D2127>0),CONCATENATE(Enhet!$B$1,\";\",Blad3!H2127,\";\",Blad3!I2127),\"\")","v":""}]
[{"$f":"IF(AND(Blad1!C2128<>0,Blad1!D2128>0),CONCATENATE(Enhet!$B$1,\";\",Blad3!H2128,\";\",Blad3!I2128),\"\")","v":""}]
[{"$f":"IF(AND(Blad1!C2129<>0,Blad1!D2129>0),CONCATENATE(Enhet!$B$1,\";\",Blad3!H2129,\";\",Blad3!I2129),\"\")","v":""}]
[{"$f":"IF(AND(Blad1!C2130<>0,Blad1!D2130>0),CONCATENATE(Enhet!$B$1,\";\",Blad3!H2130,\";\",Blad3!I2130),\"\")","v":""}]
[{"$f":"IF(AND(Blad1!C2131<>0,Blad1!D2131>0),CONCATENATE(Enhet!$B$1,\";\",Blad3!H2131,\";\",Blad3!I2131),\"\")","v":""}]
[{"$f":"IF(AND(Blad1!C2132<>0,Blad1!D2132>0),CONCATENATE(Enhet!$B$1,\";\",Blad3!H2132,\";\",Blad3!I2132),\"\")","v":""}]
[{"$f":"IF(AND(Blad1!C2133<>0,Blad1!D2133>0),CONCATENATE(Enhet!$B$1,\";\",Blad3!H2133,\";\",Blad3!I2133),\"\")","v":""}]
[{"$f":"IF(AND(Blad1!C2134<>0,Blad1!D2134>0),CONCATENATE(Enhet!$B$1,\";\",Blad3!H2134,\";\",Blad3!I2134),\"\")","v":""}]
[{"$f":"IF(AND(Blad1!C2135<>0,Blad1!D2135>0),CONCATENATE(Enhet!$B$1,\";\",Blad3!H2135,\";\",Blad3!I2135),\"\")","v":""}]
[{"$f":"IF(AND(Blad1!C2136<>0,Blad1!D2136>0),CONCATENATE(Enhet!$B$1,\";\",Blad3!H2136,\";\",Blad3!I2136),\"\")","v":""}]
[{"$f":"IF(AND(Blad1!C2137<>0,Blad1!D2137>0),CONCATENATE(Enhet!$B$1,\";\",Blad3!H2137,\";\",Blad3!I2137),\"\")","v":""}]
[{"$f":"IF(AND(Blad1!C2138<>0,Blad1!D2138>0),CONCATENATE(Enhet!$B$1,\";\",Blad3!H2138,\";\",Blad3!I2138),\"\")","v":""}]
[{"$f":"IF(AND(Blad1!C2139<>0,Blad1!D2139>0),CONCATENATE(Enhet!$B$1,\";\",Blad3!H2139,\";\",Blad3!I2139),\"\")","v":""}]
[{"$f":"IF(AND(Blad1!C2140<>0,Blad1!D2140>0),CONCATENATE(Enhet!$B$1,\";\",Blad3!H2140,\";\",Blad3!I2140),\"\")","v":""}]
[{"$f":"IF(AND(Blad1!C2141<>0,Blad1!D2141>0),CONCATENATE(Enhet!$B$1,\";\",Blad3!H2141,\";\",Blad3!I2141),\"\")","v":""}]
[{"$f":"IF(AND(Blad1!C2142<>0,Blad1!D2142>0),CONCATENATE(Enhet!$B$1,\";\",Blad3!H2142,\";\",Blad3!I2142),\"\")","v":""}]
[{"$f":"IF(AND(Blad1!C2143<>0,Blad1!D2143>0),CONCATENATE(Enhet!$B$1,\";\",Blad3!H2143,\";\",Blad3!I2143),\"\")","v":""}]
[{"$f":"IF(AND(Blad1!C2144<>0,Blad1!D2144>0),CONCATENATE(Enhet!$B$1,\";\",Blad3!H2144,\";\",Blad3!I2144),\"\")","v":""}]
[{"$f":"IF(AND(Blad1!C2145<>0,Blad1!D2145>0),CONCATENATE(Enhet!$B$1,\";\",Blad3!H2145,\";\",Blad3!I2145),\"\")","v":""}]
[{"$f":"IF(AND(Blad1!C2146<>0,Blad1!D2146>0),CONCATENATE(Enhet!$B$1,\";\",Blad3!H2146,\";\",Blad3!I2146),\"\")","v":""}]
[{"$f":"IF(AND(Blad1!C2147<>0,Blad1!D2147>0),CONCATENATE(Enhet!$B$1,\";\",Blad3!H2147,\";\",Blad3!I2147),\"\")","v":""}]
[{"$f":"IF(AND(Blad1!C2148<>0,Blad1!D2148>0),CONCATENATE(Enhet!$B$1,\";\",Blad3!H2148,\";\",Blad3!I2148),\"\")","v":""}]
[{"$f":"IF(AND(Blad1!C2149<>0,Blad1!D2149>0),CONCATENATE(Enhet!$B$1,\";\",Blad3!H2149,\";\",Blad3!I2149),\"\")","v":""}]
[{"$f":"IF(AND(Blad1!C2150<>0,Blad1!D2150>0),CONCATENATE(Enhet!$B$1,\";\",Blad3!H2150,\";\",Blad3!I2150),\"\")","v":""}]
[{"$f":"IF(AND(Blad1!C2151<>0,Blad1!D2151>0),CONCATENATE(Enhet!$B$1,\";\",Blad3!H2151,\";\",Blad3!I2151),\"\")","v":""}]
[{"$f":"IF(AND(Blad1!C2152<>0,Blad1!D2152>0),CONCATENATE(Enhet!$B$1,\";\",Blad3!H2152,\";\",Blad3!I2152),\"\")","v":""}]
[{"$f":"IF(AND(Blad1!C2153<>0,Blad1!D2153>0),CONCATENATE(Enhet!$B$1,\";\",Blad3!H2153,\";\",Blad3!I2153),\"\")","v":""}]
[{"$f":"IF(AND(Blad1!C2154<>0,Blad1!D2154>0),CONCATENATE(Enhet!$B$1,\";\",Blad3!H2154,\";\",Blad3!I2154),\"\")","v":""}]
[{"$f":"IF(AND(Blad1!C2155<>0,Blad1!D2155>0),CONCATENATE(Enhet!$B$1,\";\",Blad3!H2155,\";\",Blad3!I2155),\"\")","v":""}]
[{"$f":"IF(AND(Blad1!C2156<>0,Blad1!D2156>0),CONCATENATE(Enhet!$B$1,\";\",Blad3!H2156,\";\",Blad3!I2156),\"\")","v":""}]
[{"$f":"IF(AND(Blad1!C2157<>0,Blad1!D2157>0),CONCATENATE(Enhet!$B$1,\";\",Blad3!H2157,\";\",Blad3!I2157),\"\")","v":""}]
[{"$f":"IF(AND(Blad1!C2158<>0,Blad1!D2158>0),CONCATENATE(Enhet!$B$1,\";\",Blad3!H2158,\";\",Blad3!I2158),\"\")","v":""}]
[{"$f":"IF(AND(Blad1!C2159<>0,Blad1!D2159>0),CONCATENATE(Enhet!$B$1,\";\",Blad3!H2159,\";\",Blad3!I2159),\"\")","v":""}]
[{"$f":"IF(AND(Blad1!C2160<>0,Blad1!D2160>0),CONCATENATE(Enhet!$B$1,\";\",Blad3!H2160,\";\",Blad3!I2160),\"\")","v":""}]
[{"$f":"IF(AND(Blad1!C2161<>0,Blad1!D2161>0),CONCATENATE(Enhet!$B$1,\";\",Blad3!H2161,\";\",Blad3!I2161),\"\")","v":""}]
[{"$f":"IF(AND(Blad1!C2162<>0,Blad1!D2162>0),CONCATENATE(Enhet!$B$1,\";\",Blad3!H2162,\";\",Blad3!I2162),\"\")","v":""}]
[{"$f":"IF(AND(Blad1!C2163<>0,Blad1!D2163>0),CONCATENATE(Enhet!$B$1,\";\",Blad3!H2163,\";\",Blad3!I2163),\"\")","v":""}]
[{"$f":"IF(AND(Blad1!C2164<>0,Blad1!D2164>0),CONCATENATE(Enhet!$B$1,\";\",Blad3!H2164,\";\",Blad3!I2164),\"\")","v":""}]
[{"$f":"IF(AND(Blad1!C2165<>0,Blad1!D2165>0),CONCATENATE(Enhet!$B$1,\";\",Blad3!H2165,\";\",Blad3!I2165),\"\")","v":""}]
[{"$f":"IF(AND(Blad1!C2166<>0,Blad1!D2166>0),CONCATENATE(Enhet!$B$1,\";\",Blad3!H2166,\";\",Blad3!I2166),\"\")","v":""}]
[{"$f":"IF(AND(Blad1!C2167<>0,Blad1!D2167>0),CONCATENATE(Enhet!$B$1,\";\",Blad3!H2167,\";\",Blad3!I2167),\"\")","v":""}]
[{"$f":"IF(AND(Blad1!C2168<>0,Blad1!D2168>0),CONCATENATE(Enhet!$B$1,\";\",Blad3!H2168,\";\",Blad3!I2168),\"\")","v":""}]
[{"$f":"IF(AND(Blad1!C2169<>0,Blad1!D2169>0),CONCATENATE(Enhet!$B$1,\";\",Blad3!H2169,\";\",Blad3!I2169),\"\")","v":""}]
[{"$f":"IF(AND(Blad1!C2170<>0,Blad1!D2170>0),CONCATENATE(Enhet!$B$1,\";\",Blad3!H2170,\";\",Blad3!I2170),\"\")","v":""}]
[{"$f":"IF(AND(Blad1!C2171<>0,Blad1!D2171>0),CONCATENATE(Enhet!$B$1,\";\",Blad3!H2171,\";\",Blad3!I2171),\"\")","v":""}]
[{"$f":"IF(AND(Blad1!C2172<>0,Blad1!D2172>0),CONCATENATE(Enhet!$B$1,\";\",Blad3!H2172,\";\",Blad3!I2172),\"\")","v":""}]
[{"$f":"IF(AND(Blad1!C2173<>0,Blad1!D2173>0),CONCATENATE(Enhet!$B$1,\";\",Blad3!H2173,\";\",Blad3!I2173),\"\")","v":""}]
[{"$f":"IF(AND(Blad1!C2174<>0,Blad1!D2174>0),CONCATENATE(Enhet!$B$1,\";\",Blad3!H2174,\";\",Blad3!I2174),\"\")","v":""}]
[{"$f":"IF(AND(Blad1!C2175<>0,Blad1!D2175>0),CONCATENATE(Enhet!$B$1,\";\",Blad3!H2175,\";\",Blad3!I2175),\"\")","v":""}]
[{"$f":"IF(AND(Blad1!C2176<>0,Blad1!D2176>0),CONCATENATE(Enhet!$B$1,\";\",Blad3!H2176,\";\",Blad3!I2176),\"\")","v":""}]
[{"$f":"IF(AND(Blad1!C2177<>0,Blad1!D2177>0),CONCATENATE(Enhet!$B$1,\";\",Blad3!H2177,\";\",Blad3!I2177),\"\")","v":""}]
[{"$f":"IF(AND(Blad1!C2178<>0,Blad1!D2178>0),CONCATENATE(Enhet!$B$1,\";\",Blad3!H2178,\";\",Blad3!I2178),\"\")","v":""}]
[{"$f":"IF(AND(Blad1!C2179<>0,Blad1!D2179>0),CONCATENATE(Enhet!$B$1,\";\",Blad3!H2179,\";\",Blad3!I2179),\"\")","v":""}]
[{"$f":"IF(AND(Blad1!C2180<>0,Blad1!D2180>0),CONCATENATE(Enhet!$B$1,\";\",Blad3!H2180,\";\",Blad3!I2180),\"\")","v":""}]
[{"$f":"IF(AND(Blad1!C2181<>0,Blad1!D2181>0),CONCATENATE(Enhet!$B$1,\";\",Blad3!H2181,\";\",Blad3!I2181),\"\")","v":""}]
[{"$f":"IF(AND(Blad1!C2182<>0,Blad1!D2182>0),CONCATENATE(Enhet!$B$1,\";\",Blad3!H2182,\";\",Blad3!I2182),\"\")","v":""}]
[{"$f":"IF(AND(Blad1!C2183<>0,Blad1!D2183>0),CONCATENATE(Enhet!$B$1,\";\",Blad3!H2183,\";\",Blad3!I2183),\"\")","v":""}]
[{"$f":"IF(AND(Blad1!C2184<>0,Blad1!D2184>0),CONCATENATE(Enhet!$B$1,\";\",Blad3!H2184,\";\",Blad3!I2184),\"\")","v":""}]
[{"$f":"IF(AND(Blad1!C2185<>0,Blad1!D2185>0),CONCATENATE(Enhet!$B$1,\";\",Blad3!H2185,\";\",Blad3!I2185),\"\")","v":""}]
[{"$f":"IF(AND(Blad1!C2186<>0,Blad1!D2186>0),CONCATENATE(Enhet!$B$1,\";\",Blad3!H2186,\";\",Blad3!I2186),\"\")","v":""}]
[{"$f":"IF(AND(Blad1!C2187<>0,Blad1!D2187>0),CONCATENATE(Enhet!$B$1,\";\",Blad3!H2187,\";\",Blad3!I2187),\"\")","v":""}]
[{"$f":"IF(AND(Blad1!C2188<>0,Blad1!D2188>0),CONCATENATE(Enhet!$B$1,\";\",Blad3!H2188,\";\",Blad3!I2188),\"\")","v":""}]
[{"$f":"IF(AND(Blad1!C2189<>0,Blad1!D2189>0),CONCATENATE(Enhet!$B$1,\";\",Blad3!H2189,\";\",Blad3!I2189),\"\")","v":""}]
[{"$f":"IF(AND(Blad1!C2190<>0,Blad1!D2190>0),CONCATENATE(Enhet!$B$1,\";\",Blad3!H2190,\";\",Blad3!I2190),\"\")","v":""}]
[{"$f":"IF(AND(Blad1!C2191<>0,Blad1!D2191>0),CONCATENATE(Enhet!$B$1,\";\",Blad3!H2191,\";\",Blad3!I2191),\"\")","v":""}]
[{"$f":"IF(AND(Blad1!C2192<>0,Blad1!D2192>0),CONCATENATE(Enhet!$B$1,\";\",Blad3!H2192,\";\",Blad3!I2192),\"\")","v":""}]
[{"$f":"IF(AND(Blad1!C2193<>0,Blad1!D2193>0),CONCATENATE(Enhet!$B$1,\";\",Blad3!H2193,\";\",Blad3!I2193),\"\")","v":""}]
[{"$f":"IF(AND(Blad1!C2194<>0,Blad1!D2194>0),CONCATENATE(Enhet!$B$1,\";\",Blad3!H2194,\";\",Blad3!I2194),\"\")","v":""}]
[{"$f":"IF(AND(Blad1!C2195<>0,Blad1!D2195>0),CONCATENATE(Enhet!$B$1,\";\",Blad3!H2195,\";\",Blad3!I2195),\"\")","v":""}]
[{"$f":"IF(AND(Blad1!C2196<>0,Blad1!D2196>0),CONCATENATE(Enhet!$B$1,\";\",Blad3!H2196,\";\",Blad3!I2196),\"\")","v":""}]
[{"$f":"IF(AND(Blad1!C2197<>0,Blad1!D2197>0),CONCATENATE(Enhet!$B$1,\";\",Blad3!H2197,\";\",Blad3!I2197),\"\")","v":""}]
[{"$f":"IF(AND(Blad1!C2198<>0,Blad1!D2198>0),CONCATENATE(Enhet!$B$1,\";\",Blad3!H2198,\";\",Blad3!I2198),\"\")","v":""}]
[{"$f":"IF(AND(Blad1!C2199<>0,Blad1!D2199>0),CONCATENATE(Enhet!$B$1,\";\",Blad3!H2199,\";\",Blad3!I2199),\"\")","v":""}]
[{"$f":"IF(AND(Blad1!C2200<>0,Blad1!D2200>0),CONCATENATE(Enhet!$B$1,\";\",Blad3!H2200,\";\",Blad3!I2200),\"\")","v":""}]
[{"$f":"IF(AND(Blad1!C2201<>0,Blad1!D2201>0),CONCATENATE(Enhet!$B$1,\";\",Blad3!H2201,\";\",Blad3!I2201),\"\")","v":""}]
[{"$f":"IF(AND(Blad1!C2202<>0,Blad1!D2202>0),CONCATENATE(Enhet!$B$1,\";\",Blad3!H2202,\";\",Blad3!I2202),\"\")","v":""}]
[{"$f":"IF(AND(Blad1!C2203<>0,Blad1!D2203>0),CONCATENATE(Enhet!$B$1,\";\",Blad3!H2203,\";\",Blad3!I2203),\"\")","v":""}]
[{"$f":"IF(AND(Blad1!C2204<>0,Blad1!D2204>0),CONCATENATE(Enhet!$B$1,\";\",Blad3!H2204,\";\",Blad3!I2204),\"\")","v":""}]
[{"$f":"IF(AND(Blad1!C2205<>0,Blad1!D2205>0),CONCATENATE(Enhet!$B$1,\";\",Blad3!H2205,\";\",Blad3!I2205),\"\")","v":""}]
[{"$f":"IF(AND(Blad1!C2206<>0,Blad1!D2206>0),CONCATENATE(Enhet!$B$1,\";\",Blad3!H2206,\";\",Blad3!I2206),\"\")","v":""}]
[{"$f":"IF(AND(Blad1!C2207<>0,Blad1!D2207>0),CONCATENATE(Enhet!$B$1,\";\",Blad3!H2207,\";\",Blad3!I2207),\"\")","v":""}]
[{"$f":"IF(AND(Blad1!C2208<>0,Blad1!D2208>0),CONCATENATE(Enhet!$B$1,\";\",Blad3!H2208,\";\",Blad3!I2208),\"\")","v":""}]
[{"$f":"IF(AND(Blad1!C2209<>0,Blad1!D2209>0),CONCATENATE(Enhet!$B$1,\";\",Blad3!H2209,\";\",Blad3!I2209),\"\")","v":""}]
[{"$f":"IF(AND(Blad1!C2210<>0,Blad1!D2210>0),CONCATENATE(Enhet!$B$1,\";\",Blad3!H2210,\";\",Blad3!I2210),\"\")","v":""}]
[{"$f":"IF(AND(Blad1!C2211<>0,Blad1!D2211>0),CONCATENATE(Enhet!$B$1,\";\",Blad3!H2211,\";\",Blad3!I2211),\"\")","v":""}]
[{"$f":"IF(AND(Blad1!C2212<>0,Blad1!D2212>0),CONCATENATE(Enhet!$B$1,\";\",Blad3!H2212,\";\",Blad3!I2212),\"\")","v":""}]
[{"$f":"IF(AND(Blad1!C2213<>0,Blad1!D2213>0),CONCATENATE(Enhet!$B$1,\";\",Blad3!H2213,\";\",Blad3!I2213),\"\")","v":""}]
[{"$f":"IF(AND(Blad1!C2214<>0,Blad1!D2214>0),CONCATENATE(Enhet!$B$1,\";\",Blad3!H2214,\";\",Blad3!I2214),\"\")","v":""}]
[{"$f":"IF(AND(Blad1!C2215<>0,Blad1!D2215>0),CONCATENATE(Enhet!$B$1,\";\",Blad3!H2215,\";\",Blad3!I2215),\"\")","v":""}]
[{"$f":"IF(AND(Blad1!C2216<>0,Blad1!D2216>0),CONCATENATE(Enhet!$B$1,\";\",Blad3!H2216,\";\",Blad3!I2216),\"\")","v":""}]
[{"$f":"IF(AND(Blad1!C2217<>0,Blad1!D2217>0),CONCATENATE(Enhet!$B$1,\";\",Blad3!H2217,\";\",Blad3!I2217),\"\")","v":""}]
[{"$f":"IF(AND(Blad1!C2218<>0,Blad1!D2218>0),CONCATENATE(Enhet!$B$1,\";\",Blad3!H2218,\";\",Blad3!I2218),\"\")","v":""}]
[{"$f":"IF(AND(Blad1!C2219<>0,Blad1!D2219>0),CONCATENATE(Enhet!$B$1,\";\",Blad3!H2219,\";\",Blad3!I2219),\"\")","v":""}]
[{"$f":"IF(AND(Blad1!C2220<>0,Blad1!D2220>0),CONCATENATE(Enhet!$B$1,\";\",Blad3!H2220,\";\",Blad3!I2220),\"\")","v":""}]
[{"$f":"IF(AND(Blad1!C2221<>0,Blad1!D2221>0),CONCATENATE(Enhet!$B$1,\";\",Blad3!H2221,\";\",Blad3!I2221),\"\")","v":""}]
[{"$f":"IF(AND(Blad1!C2222<>0,Blad1!D2222>0),CONCATENATE(Enhet!$B$1,\";\",Blad3!H2222,\";\",Blad3!I2222),\"\")","v":""}]
[{"$f":"IF(AND(Blad1!C2223<>0,Blad1!D2223>0),CONCATENATE(Enhet!$B$1,\";\",Blad3!H2223,\";\",Blad3!I2223),\"\")","v":""}]
[{"$f":"IF(AND(Blad1!C2224<>0,Blad1!D2224>0),CONCATENATE(Enhet!$B$1,\";\",Blad3!H2224,\";\",Blad3!I2224),\"\")","v":""}]
[{"$f":"IF(AND(Blad1!C2225<>0,Blad1!D2225>0),CONCATENATE(Enhet!$B$1,\";\",Blad3!H2225,\";\",Blad3!I2225),\"\")","v":""}]
[{"$f":"IF(AND(Blad1!C2226<>0,Blad1!D2226>0),CONCATENATE(Enhet!$B$1,\";\",Blad3!H2226,\";\",Blad3!I2226),\"\")","v":""}]
[{"$f":"IF(AND(Blad1!C2227<>0,Blad1!D2227>0),CONCATENATE(Enhet!$B$1,\";\",Blad3!H2227,\";\",Blad3!I2227),\"\")","v":""}]
[{"$f":"IF(AND(Blad1!C2228<>0,Blad1!D2228>0),CONCATENATE(Enhet!$B$1,\";\",Blad3!H2228,\";\",Blad3!I2228),\"\")","v":""}]
[{"$f":"IF(AND(Blad1!C2229<>0,Blad1!D2229>0),CONCATENATE(Enhet!$B$1,\";\",Blad3!H2229,\";\",Blad3!I2229),\"\")","v":""}]
[{"$f":"IF(AND(Blad1!C2230<>0,Blad1!D2230>0),CONCATENATE(Enhet!$B$1,\";\",Blad3!H2230,\";\",Blad3!I2230),\"\")","v":""}]
[{"$f":"IF(AND(Blad1!C2231<>0,Blad1!D2231>0),CONCATENATE(Enhet!$B$1,\";\",Blad3!H2231,\";\",Blad3!I2231),\"\")","v":""}]
[{"$f":"IF(AND(Blad1!C2232<>0,Blad1!D2232>0),CONCATENATE(Enhet!$B$1,\";\",Blad3!H2232,\";\",Blad3!I2232),\"\")","v":""}]
[{"$f":"IF(AND(Blad1!C2233<>0,Blad1!D2233>0),CONCATENATE(Enhet!$B$1,\";\",Blad3!H2233,\";\",Blad3!I2233),\"\")","v":""}]
[{"$f":"IF(AND(Blad1!C2234<>0,Blad1!D2234>0),CONCATENATE(Enhet!$B$1,\";\",Blad3!H2234,\";\",Blad3!I2234),\"\")","v":""}]
[{"$f":"IF(AND(Blad1!C2235<>0,Blad1!D2235>0),CONCATENATE(Enhet!$B$1,\";\",Blad3!H2235,\";\",Blad3!I2235),\"\")","v":""}]
[{"$f":"IF(AND(Blad1!C2236<>0,Blad1!D2236>0),CONCATENATE(Enhet!$B$1,\";\",Blad3!H2236,\";\",Blad3!I2236),\"\")","v":""}]
[{"$f":"IF(AND(Blad1!C2237<>0,Blad1!D2237>0),CONCATENATE(Enhet!$B$1,\";\",Blad3!H2237,\";\",Blad3!I2237),\"\")","v":""}]
[{"$f":"IF(AND(Blad1!C2238<>0,Blad1!D2238>0),CONCATENATE(Enhet!$B$1,\";\",Blad3!H2238,\";\",Blad3!I2238),\"\")","v":""}]
[{"$f":"IF(AND(Blad1!C2239<>0,Blad1!D2239>0),CONCATENATE(Enhet!$B$1,\";\",Blad3!H2239,\";\",Blad3!I2239),\"\")","v":""}]
[{"$f":"IF(AND(Blad1!C2240<>0,Blad1!D2240>0),CONCATENATE(Enhet!$B$1,\";\",Blad3!H2240,\";\",Blad3!I2240),\"\")","v":""}]
[{"$f":"IF(AND(Blad1!C2241<>0,Blad1!D2241>0),CONCATENATE(Enhet!$B$1,\";\",Blad3!H2241,\";\",Blad3!I2241),\"\")","v":""}]
[{"$f":"IF(AND(Blad1!C2242<>0,Blad1!D2242>0),CONCATENATE(Enhet!$B$1,\";\",Blad3!H2242,\";\",Blad3!I2242),\"\")","v":""}]
[{"$f":"IF(AND(Blad1!C2243<>0,Blad1!D2243>0),CONCATENATE(Enhet!$B$1,\";\",Blad3!H2243,\";\",Blad3!I2243),\"\")","v":""}]
[{"$f":"IF(AND(Blad1!C2244<>0,Blad1!D2244>0),CONCATENATE(Enhet!$B$1,\";\",Blad3!H2244,\";\",Blad3!I2244),\"\")","v":""}]
[{"$f":"IF(AND(Blad1!C2245<>0,Blad1!D2245>0),CONCATENATE(Enhet!$B$1,\";\",Blad3!H2245,\";\",Blad3!I2245),\"\")","v":""}]
[{"$f":"IF(AND(Blad1!C2246<>0,Blad1!D2246>0),CONCATENATE(Enhet!$B$1,\";\",Blad3!H2246,\";\",Blad3!I2246),\"\")","v":""}]
[{"$f":"IF(AND(Blad1!C2247<>0,Blad1!D2247>0),CONCATENATE(Enhet!$B$1,\";\",Blad3!H2247,\";\",Blad3!I2247),\"\")","v":""}]
[{"$f":"IF(AND(Blad1!C2248<>0,Blad1!D2248>0),CONCATENATE(Enhet!$B$1,\";\",Blad3!H2248,\";\",Blad3!I2248),\"\")","v":""}]
[{"$f":"IF(AND(Blad1!C2249<>0,Blad1!D2249>0),CONCATENATE(Enhet!$B$1,\";\",Blad3!H2249,\";\",Blad3!I2249),\"\")","v":""}]
[{"$f":"IF(AND(Blad1!C2250<>0,Blad1!D2250>0),CONCATENATE(Enhet!$B$1,\";\",Blad3!H2250,\";\",Blad3!I2250),\"\")","v":""}]
[{"$f":"IF(AND(Blad1!C2251<>0,Blad1!D2251>0),CONCATENATE(Enhet!$B$1,\";\",Blad3!H2251,\";\",Blad3!I2251),\"\")","v":""}]
[{"$f":"IF(AND(Blad1!C2252<>0,Blad1!D2252>0),CONCATENATE(Enhet!$B$1,\";\",Blad3!H2252,\";\",Blad3!I2252),\"\")","v":""}]
[{"$f":"IF(AND(Blad1!C2253<>0,Blad1!D2253>0),CONCATENATE(Enhet!$B$1,\";\",Blad3!H2253,\";\",Blad3!I2253),\"\")","v":""}]
[{"$f":"IF(AND(Blad1!C2254<>0,Blad1!D2254>0),CONCATENATE(Enhet!$B$1,\";\",Blad3!H2254,\";\",Blad3!I2254),\"\")","v":""}]
[{"$f":"IF(AND(Blad1!C2255<>0,Blad1!D2255>0),CONCATENATE(Enhet!$B$1,\";\",Blad3!H2255,\";\",Blad3!I2255),\"\")","v":""}]
[{"$f":"IF(AND(Blad1!C2256<>0,Blad1!D2256>0),CONCATENATE(Enhet!$B$1,\";\",Blad3!H2256,\";\",Blad3!I2256),\"\")","v":""}]
[{"$f":"IF(AND(Blad1!C2257<>0,Blad1!D2257>0),CONCATENATE(Enhet!$B$1,\";\",Blad3!H2257,\";\",Blad3!I2257),\"\")","v":""}]
[{"$f":"IF(AND(Blad1!C2258<>0,Blad1!D2258>0),CONCATENATE(Enhet!$B$1,\";\",Blad3!H2258,\";\",Blad3!I2258),\"\")","v":""}]
[{"$f":"IF(AND(Blad1!C2259<>0,Blad1!D2259>0),CONCATENATE(Enhet!$B$1,\";\",Blad3!H2259,\";\",Blad3!I2259),\"\")","v":""}]
[{"$f":"IF(AND(Blad1!C2260<>0,Blad1!D2260>0),CONCATENATE(Enhet!$B$1,\";\",Blad3!H2260,\";\",Blad3!I2260),\"\")","v":""}]
[{"$f":"IF(AND(Blad1!C2261<>0,Blad1!D2261>0),CONCATENATE(Enhet!$B$1,\";\",Blad3!H2261,\";\",Blad3!I2261),\"\")","v":""}]
[{"$f":"IF(AND(Blad1!C2262<>0,Blad1!D2262>0),CONCATENATE(Enhet!$B$1,\";\",Blad3!H2262,\";\",Blad3!I2262),\"\")","v":""}]
[{"$f":"IF(AND(Blad1!C2263<>0,Blad1!D2263>0),CONCATENATE(Enhet!$B$1,\";\",Blad3!H2263,\";\",Blad3!I2263),\"\")","v":""}]
[{"$f":"IF(AND(Blad1!C2264<>0,Blad1!D2264>0),CONCATENATE(Enhet!$B$1,\";\",Blad3!H2264,\";\",Blad3!I2264),\"\")","v":""}]
[{"$f":"IF(AND(Blad1!C2265<>0,Blad1!D2265>0),CONCATENATE(Enhet!$B$1,\";\",Blad3!H2265,\";\",Blad3!I2265),\"\")","v":""}]
[{"$f":"IF(AND(Blad1!C2266<>0,Blad1!D2266>0),CONCATENATE(Enhet!$B$1,\";\",Blad3!H2266,\";\",Blad3!I2266),\"\")","v":""}]
[{"$f":"IF(AND(Blad1!C2267<>0,Blad1!D2267>0),CONCATENATE(Enhet!$B$1,\";\",Blad3!H2267,\";\",Blad3!I2267),\"\")","v":""}]
[{"$f":"IF(AND(Blad1!C2268<>0,Blad1!D2268>0),CONCATENATE(Enhet!$B$1,\";\",Blad3!H2268,\";\",Blad3!I2268),\"\")","v":""}]
[{"$f":"IF(AND(Blad1!C2269<>0,Blad1!D2269>0),CONCATENATE(Enhet!$B$1,\";\",Blad3!H2269,\";\",Blad3!I2269),\"\")","v":""}]
[{"$f":"IF(AND(Blad1!C2270<>0,Blad1!D2270>0),CONCATENATE(Enhet!$B$1,\";\",Blad3!H2270,\";\",Blad3!I2270),\"\")","v":""}]
[{"$f":"IF(AND(Blad1!C2271<>0,Blad1!D2271>0),CONCATENATE(Enhet!$B$1,\";\",Blad3!H2271,\";\",Blad3!I2271),\"\")","v":""}]
[{"$f":"IF(AND(Blad1!C2272<>0,Blad1!D2272>0),CONCATENATE(Enhet!$B$1,\";\",Blad3!H2272,\";\",Blad3!I2272),\"\")","v":""}]
[{"$f":"IF(AND(Blad1!C2273<>0,Blad1!D2273>0),CONCATENATE(Enhet!$B$1,\";\",Blad3!H2273,\";\",Blad3!I2273),\"\")","v":""}]
[{"$f":"IF(AND(Blad1!C2274<>0,Blad1!D2274>0),CONCATENATE(Enhet!$B$1,\";\",Blad3!H2274,\";\",Blad3!I2274),\"\")","v":""}]
[{"$f":"IF(AND(Blad1!C2275<>0,Blad1!D2275>0),CONCATENATE(Enhet!$B$1,\";\",Blad3!H2275,\";\",Blad3!I2275),\"\")","v":""}]
[{"$f":"IF(AND(Blad1!C2276<>0,Blad1!D2276>0),CONCATENATE(Enhet!$B$1,\";\",Blad3!H2276,\";\",Blad3!I2276),\"\")","v":""}]
[{"$f":"IF(AND(Blad1!C2277<>0,Blad1!D2277>0),CONCATENATE(Enhet!$B$1,\";\",Blad3!H2277,\";\",Blad3!I2277),\"\")","v":""}]
[{"$f":"IF(AND(Blad1!C2278<>0,Blad1!D2278>0),CONCATENATE(Enhet!$B$1,\";\",Blad3!H2278,\";\",Blad3!I2278),\"\")","v":""}]
[{"$f":"IF(AND(Blad1!C2279<>0,Blad1!D2279>0),CONCATENATE(Enhet!$B$1,\";\",Blad3!H2279,\";\",Blad3!I2279),\"\")","v":""}]
[{"$f":"IF(AND(Blad1!C2280<>0,Blad1!D2280>0),CONCATENATE(Enhet!$B$1,\";\",Blad3!H2280,\";\",Blad3!I2280),\"\")","v":""}]
[{"$f":"IF(AND(Blad1!C2281<>0,Blad1!D2281>0),CONCATENATE(Enhet!$B$1,\";\",Blad3!H2281,\";\",Blad3!I2281),\"\")","v":""}]
[{"$f":"IF(AND(Blad1!C2282<>0,Blad1!D2282>0),CONCATENATE(Enhet!$B$1,\";\",Blad3!H2282,\";\",Blad3!I2282),\"\")","v":""}]
[{"$f":"IF(AND(Blad1!C2283<>0,Blad1!D2283>0),CONCATENATE(Enhet!$B$1,\";\",Blad3!H2283,\";\",Blad3!I2283),\"\")","v":""}]
[{"$f":"IF(AND(Blad1!C2284<>0,Blad1!D2284>0),CONCATENATE(Enhet!$B$1,\";\",Blad3!H2284,\";\",Blad3!I2284),\"\")","v":""}]
[{"$f":"IF(AND(Blad1!C2285<>0,Blad1!D2285>0),CONCATENATE(Enhet!$B$1,\";\",Blad3!H2285,\";\",Blad3!I2285),\"\")","v":""}]
[{"$f":"IF(AND(Blad1!C2286<>0,Blad1!D2286>0),CONCATENATE(Enhet!$B$1,\";\",Blad3!H2286,\";\",Blad3!I2286),\"\")","v":""}]
[{"$f":"IF(AND(Blad1!C2287<>0,Blad1!D2287>0),CONCATENATE(Enhet!$B$1,\";\",Blad3!H2287,\";\",Blad3!I2287),\"\")","v":""}]
[{"$f":"IF(AND(Blad1!C2288<>0,Blad1!D2288>0),CONCATENATE(Enhet!$B$1,\";\",Blad3!H2288,\";\",Blad3!I2288),\"\")","v":""}]
[{"$f":"IF(AND(Blad1!C2289<>0,Blad1!D2289>0),CONCATENATE(Enhet!$B$1,\";\",Blad3!H2289,\";\",Blad3!I2289),\"\")","v":""}]
[{"$f":"IF(AND(Blad1!C2290<>0,Blad1!D2290>0),CONCATENATE(Enhet!$B$1,\";\",Blad3!H2290,\";\",Blad3!I2290),\"\")","v":""}]
[{"$f":"IF(AND(Blad1!C2291<>0,Blad1!D2291>0),CONCATENATE(Enhet!$B$1,\";\",Blad3!H2291,\";\",Blad3!I2291),\"\")","v":""}]
[{"$f":"IF(AND(Blad1!C2292<>0,Blad1!D2292>0),CONCATENATE(Enhet!$B$1,\";\",Blad3!H2292,\";\",Blad3!I2292),\"\")","v":""}]
[{"$f":"IF(AND(Blad1!C2293<>0,Blad1!D2293>0),CONCATENATE(Enhet!$B$1,\";\",Blad3!H2293,\";\",Blad3!I2293),\"\")","v":""}]
[{"$f":"IF(AND(Blad1!C2294<>0,Blad1!D2294>0),CONCATENATE(Enhet!$B$1,\";\",Blad3!H2294,\";\",Blad3!I2294),\"\")","v":""}]
[{"$f":"IF(AND(Blad1!C2295<>0,Blad1!D2295>0),CONCATENATE(Enhet!$B$1,\";\",Blad3!H2295,\";\",Blad3!I2295),\"\")","v":""}]
[{"$f":"IF(AND(Blad1!C2296<>0,Blad1!D2296>0),CONCATENATE(Enhet!$B$1,\";\",Blad3!H2296,\";\",Blad3!I2296),\"\")","v":""}]
[{"$f":"IF(AND(Blad1!C2297<>0,Blad1!D2297>0),CONCATENATE(Enhet!$B$1,\";\",Blad3!H2297,\";\",Blad3!I2297),\"\")","v":""}]
[{"$f":"IF(AND(Blad1!C2298<>0,Blad1!D2298>0),CONCATENATE(Enhet!$B$1,\";\",Blad3!H2298,\";\",Blad3!I2298),\"\")","v":""}]
[{"$f":"IF(AND(Blad1!C2299<>0,Blad1!D2299>0),CONCATENATE(Enhet!$B$1,\";\",Blad3!H2299,\";\",Blad3!I2299),\"\")","v":""}]
[{"$f":"IF(AND(Blad1!C2300<>0,Blad1!D2300>0),CONCATENATE(Enhet!$B$1,\";\",Blad3!H2300,\";\",Blad3!I2300),\"\")","v":""}]
[{"$f":"IF(AND(Blad1!C2301<>0,Blad1!D2301>0),CONCATENATE(Enhet!$B$1,\";\",Blad3!H2301,\";\",Blad3!I2301),\"\")","v":""}]
[{"$f":"IF(AND(Blad1!C2302<>0,Blad1!D2302>0),CONCATENATE(Enhet!$B$1,\";\",Blad3!H2302,\";\",Blad3!I2302),\"\")","v":""}]
[{"$f":"IF(AND(Blad1!C2303<>0,Blad1!D2303>0),CONCATENATE(Enhet!$B$1,\";\",Blad3!H2303,\";\",Blad3!I2303),\"\")","v":""}]
[{"$f":"IF(AND(Blad1!C2304<>0,Blad1!D2304>0),CONCATENATE(Enhet!$B$1,\";\",Blad3!H2304,\";\",Blad3!I2304),\"\")","v":""}]
[{"$f":"IF(AND(Blad1!C2305<>0,Blad1!D2305>0),CONCATENATE(Enhet!$B$1,\";\",Blad3!H2305,\";\",Blad3!I2305),\"\")","v":""}]
[{"$f":"IF(AND(Blad1!C2306<>0,Blad1!D2306>0),CONCATENATE(Enhet!$B$1,\";\",Blad3!H2306,\";\",Blad3!I2306),\"\")","v":""}]
[{"$f":"IF(AND(Blad1!C2307<>0,Blad1!D2307>0),CONCATENATE(Enhet!$B$1,\";\",Blad3!H2307,\";\",Blad3!I2307),\"\")","v":""}]
[{"$f":"IF(AND(Blad1!C2308<>0,Blad1!D2308>0),CONCATENATE(Enhet!$B$1,\";\",Blad3!H2308,\";\",Blad3!I2308),\"\")","v":""}]
[{"$f":"IF(AND(Blad1!C2309<>0,Blad1!D2309>0),CONCATENATE(Enhet!$B$1,\";\",Blad3!H2309,\";\",Blad3!I2309),\"\")","v":""}]
[{"$f":"IF(AND(Blad1!C2310<>0,Blad1!D2310>0),CONCATENATE(Enhet!$B$1,\";\",Blad3!H2310,\";\",Blad3!I2310),\"\")","v":""}]
[{"$f":"IF(AND(Blad1!C2311<>0,Blad1!D2311>0),CONCATENATE(Enhet!$B$1,\";\",Blad3!H2311,\";\",Blad3!I2311),\"\")","v":""}]
[{"$f":"IF(AND(Blad1!C2312<>0,Blad1!D2312>0),CONCATENATE(Enhet!$B$1,\";\",Blad3!H2312,\";\",Blad3!I2312),\"\")","v":""}]
[{"$f":"IF(AND(Blad1!C2313<>0,Blad1!D2313>0),CONCATENATE(Enhet!$B$1,\";\",Blad3!H2313,\";\",Blad3!I2313),\"\")","v":""}]
[{"$f":"IF(AND(Blad1!C2314<>0,Blad1!D2314>0),CONCATENATE(Enhet!$B$1,\";\",Blad3!H2314,\";\",Blad3!I2314),\"\")","v":""}]
[{"$f":"IF(AND(Blad1!C2315<>0,Blad1!D2315>0),CONCATENATE(Enhet!$B$1,\";\",Blad3!H2315,\";\",Blad3!I2315),\"\")","v":""}]
[{"$f":"IF(AND(Blad1!C2316<>0,Blad1!D2316>0),CONCATENATE(Enhet!$B$1,\";\",Blad3!H2316,\";\",Blad3!I2316),\"\")","v":""}]
[{"$f":"IF(AND(Blad1!C2317<>0,Blad1!D2317>0),CONCATENATE(Enhet!$B$1,\";\",Blad3!H2317,\";\",Blad3!I2317),\"\")","v":""}]
[{"$f":"IF(AND(Blad1!C2318<>0,Blad1!D2318>0),CONCATENATE(Enhet!$B$1,\";\",Blad3!H2318,\";\",Blad3!I2318),\"\")","v":""}]
[{"$f":"IF(AND(Blad1!C2319<>0,Blad1!D2319>0),CONCATENATE(Enhet!$B$1,\";\",Blad3!H2319,\";\",Blad3!I2319),\"\")","v":""}]
[{"$f":"IF(AND(Blad1!C2320<>0,Blad1!D2320>0),CONCATENATE(Enhet!$B$1,\";\",Blad3!H2320,\";\",Blad3!I2320),\"\")","v":""}]
[{"$f":"IF(AND(Blad1!C2321<>0,Blad1!D2321>0),CONCATENATE(Enhet!$B$1,\";\",Blad3!H2321,\";\",Blad3!I2321),\"\")","v":""}]
[{"$f":"IF(AND(Blad1!C2322<>0,Blad1!D2322>0),CONCATENATE(Enhet!$B$1,\";\",Blad3!H2322,\";\",Blad3!I2322),\"\")","v":""}]
[{"$f":"IF(AND(Blad1!C2323<>0,Blad1!D2323>0),CONCATENATE(Enhet!$B$1,\";\",Blad3!H2323,\";\",Blad3!I2323),\"\")","v":""}]
[{"$f":"IF(AND(Blad1!C2324<>0,Blad1!D2324>0),CONCATENATE(Enhet!$B$1,\";\",Blad3!H2324,\";\",Blad3!I2324),\"\")","v":""}]
[{"$f":"IF(AND(Blad1!C2325<>0,Blad1!D2325>0),CONCATENATE(Enhet!$B$1,\";\",Blad3!H2325,\";\",Blad3!I2325),\"\")","v":""}]
[{"$f":"IF(AND(Blad1!C2326<>0,Blad1!D2326>0),CONCATENATE(Enhet!$B$1,\";\",Blad3!H2326,\";\",Blad3!I2326),\"\")","v":""}]
[{"$f":"IF(AND(Blad1!C2327<>0,Blad1!D2327>0),CONCATENATE(Enhet!$B$1,\";\",Blad3!H2327,\";\",Blad3!I2327),\"\")","v":""}]
[{"$f":"IF(AND(Blad1!C2328<>0,Blad1!D2328>0),CONCATENATE(Enhet!$B$1,\";\",Blad3!H2328,\";\",Blad3!I2328),\"\")","v":""}]
[{"$f":"IF(AND(Blad1!C2329<>0,Blad1!D2329>0),CONCATENATE(Enhet!$B$1,\";\",Blad3!H2329,\";\",Blad3!I2329),\"\")","v":""}]
[{"$f":"IF(AND(Blad1!C2330<>0,Blad1!D2330>0),CONCATENATE(Enhet!$B$1,\";\",Blad3!H2330,\";\",Blad3!I2330),\"\")","v":""}]
[{"$f":"IF(AND(Blad1!C2331<>0,Blad1!D2331>0),CONCATENATE(Enhet!$B$1,\";\",Blad3!H2331,\";\",Blad3!I2331),\"\")","v":""}]
[{"$f":"IF(AND(Blad1!C2332<>0,Blad1!D2332>0),CONCATENATE(Enhet!$B$1,\";\",Blad3!H2332,\";\",Blad3!I2332),\"\")","v":""}]
[{"$f":"IF(AND(Blad1!C2333<>0,Blad1!D2333>0),CONCATENATE(Enhet!$B$1,\";\",Blad3!H2333,\";\",Blad3!I2333),\"\")","v":""}]
[{"$f":"IF(AND(Blad1!C2334<>0,Blad1!D2334>0),CONCATENATE(Enhet!$B$1,\";\",Blad3!H2334,\";\",Blad3!I2334),\"\")","v":""}]
[{"$f":"IF(AND(Blad1!C2335<>0,Blad1!D2335>0),CONCATENATE(Enhet!$B$1,\";\",Blad3!H2335,\";\",Blad3!I2335),\"\")","v":""}]
[{"$f":"IF(AND(Blad1!C2336<>0,Blad1!D2336>0),CONCATENATE(Enhet!$B$1,\";\",Blad3!H2336,\";\",Blad3!I2336),\"\")","v":""}]
[{"$f":"IF(AND(Blad1!C2337<>0,Blad1!D2337>0),CONCATENATE(Enhet!$B$1,\";\",Blad3!H2337,\";\",Blad3!I2337),\"\")","v":""}]
[{"$f":"IF(AND(Blad1!C2338<>0,Blad1!D2338>0),CONCATENATE(Enhet!$B$1,\";\",Blad3!H2338,\";\",Blad3!I2338),\"\")","v":""}]
[{"$f":"IF(AND(Blad1!C2339<>0,Blad1!D2339>0),CONCATENATE(Enhet!$B$1,\";\",Blad3!H2339,\";\",Blad3!I2339),\"\")","v":""}]
[{"$f":"IF(AND(Blad1!C2340<>0,Blad1!D2340>0),CONCATENATE(Enhet!$B$1,\";\",Blad3!H2340,\";\",Blad3!I2340),\"\")","v":""}]
[{"$f":"IF(AND(Blad1!C2341<>0,Blad1!D2341>0),CONCATENATE(Enhet!$B$1,\";\",Blad3!H2341,\";\",Blad3!I2341),\"\")","v":""}]
[{"$f":"IF(AND(Blad1!C2342<>0,Blad1!D2342>0),CONCATENATE(Enhet!$B$1,\";\",Blad3!H2342,\";\",Blad3!I2342),\"\")","v":""}]
[{"$f":"IF(AND(Blad1!C2343<>0,Blad1!D2343>0),CONCATENATE(Enhet!$B$1,\";\",Blad3!H2343,\";\",Blad3!I2343),\"\")","v":""}]
[{"$f":"IF(AND(Blad1!C2344<>0,Blad1!D2344>0),CONCATENATE(Enhet!$B$1,\";\",Blad3!H2344,\";\",Blad3!I2344),\"\")","v":""}]
[{"$f":"IF(AND(Blad1!C2345<>0,Blad1!D2345>0),CONCATENATE(Enhet!$B$1,\";\",Blad3!H2345,\";\",Blad3!I2345),\"\")","v":""}]
[{"$f":"IF(AND(Blad1!C2346<>0,Blad1!D2346>0),CONCATENATE(Enhet!$B$1,\";\",Blad3!H2346,\";\",Blad3!I2346),\"\")","v":""}]
[{"$f":"IF(AND(Blad1!C2347<>0,Blad1!D2347>0),CONCATENATE(Enhet!$B$1,\";\",Blad3!H2347,\";\",Blad3!I2347),\"\")","v":""}]
[{"$f":"IF(AND(Blad1!C2348<>0,Blad1!D2348>0),CONCATENATE(Enhet!$B$1,\";\",Blad3!H2348,\";\",Blad3!I2348),\"\")","v":""}]
[{"$f":"IF(AND(Blad1!C2349<>0,Blad1!D2349>0),CONCATENATE(Enhet!$B$1,\";\",Blad3!H2349,\";\",Blad3!I2349),\"\")","v":""}]
[{"$f":"IF(AND(Blad1!C2350<>0,Blad1!D2350>0),CONCATENATE(Enhet!$B$1,\";\",Blad3!H2350,\";\",Blad3!I2350),\"\")","v":""}]
[{"$f":"IF(AND(Blad1!C2351<>0,Blad1!D2351>0),CONCATENATE(Enhet!$B$1,\";\",Blad3!H2351,\";\",Blad3!I2351),\"\")","v":""}]
[{"$f":"IF(AND(Blad1!C2352<>0,Blad1!D2352>0),CONCATENATE(Enhet!$B$1,\";\",Blad3!H2352,\";\",Blad3!I2352),\"\")","v":""}]
[{"$f":"IF(AND(Blad1!C2353<>0,Blad1!D2353>0),CONCATENATE(Enhet!$B$1,\";\",Blad3!H2353,\";\",Blad3!I2353),\"\")","v":""}]
[{"$f":"IF(AND(Blad1!C2354<>0,Blad1!D2354>0),CONCATENATE(Enhet!$B$1,\";\",Blad3!H2354,\";\",Blad3!I2354),\"\")","v":""}]
[{"$f":"IF(AND(Blad1!C2355<>0,Blad1!D2355>0),CONCATENATE(Enhet!$B$1,\";\",Blad3!H2355,\";\",Blad3!I2355),\"\")","v":""}]
[{"$f":"IF(AND(Blad1!C2356<>0,Blad1!D2356>0),CONCATENATE(Enhet!$B$1,\";\",Blad3!H2356,\";\",Blad3!I2356),\"\")","v":""}]
[{"$f":"IF(AND(Blad1!C2357<>0,Blad1!D2357>0),CONCATENATE(Enhet!$B$1,\";\",Blad3!H2357,\";\",Blad3!I2357),\"\")","v":""}]
[{"$f":"IF(AND(Blad1!C2358<>0,Blad1!D2358>0),CONCATENATE(Enhet!$B$1,\";\",Blad3!H2358,\";\",Blad3!I2358),\"\")","v":""}]
[{"$f":"IF(AND(Blad1!C2359<>0,Blad1!D2359>0),CONCATENATE(Enhet!$B$1,\";\",Blad3!H2359,\";\",Blad3!I2359),\"\")","v":""}]
[{"$f":"IF(AND(Blad1!C2360<>0,Blad1!D2360>0),CONCATENATE(Enhet!$B$1,\";\",Blad3!H2360,\";\",Blad3!I2360),\"\")","v":""}]
[{"$f":"IF(AND(Blad1!C2361<>0,Blad1!D2361>0),CONCATENATE(Enhet!$B$1,\";\",Blad3!H2361,\";\",Blad3!I2361),\"\")","v":""}]
[{"$f":"IF(AND(Blad1!C2362<>0,Blad1!D2362>0),CONCATENATE(Enhet!$B$1,\";\",Blad3!H2362,\";\",Blad3!I2362),\"\")","v":""}]
[{"$f":"IF(AND(Blad1!C2363<>0,Blad1!D2363>0),CONCATENATE(Enhet!$B$1,\";\",Blad3!H2363,\";\",Blad3!I2363),\"\")","v":""}]
[{"$f":"IF(AND(Blad1!C2364<>0,Blad1!D2364>0),CONCATENATE(Enhet!$B$1,\";\",Blad3!H2364,\";\",Blad3!I2364),\"\")","v":""}]
[{"$f":"IF(AND(Blad1!C2365<>0,Blad1!D2365>0),CONCATENATE(Enhet!$B$1,\";\",Blad3!H2365,\";\",Blad3!I2365),\"\")","v":""}]
[{"$f":"IF(AND(Blad1!C2366<>0,Blad1!D2366>0),CONCATENATE(Enhet!$B$1,\";\",Blad3!H2366,\";\",Blad3!I2366),\"\")","v":""}]
[{"$f":"IF(AND(Blad1!C2367<>0,Blad1!D2367>0),CONCATENATE(Enhet!$B$1,\";\",Blad3!H2367,\";\",Blad3!I2367),\"\")","v":""}]
[{"$f":"IF(AND(Blad1!C2368<>0,Blad1!D2368>0),CONCATENATE(Enhet!$B$1,\";\",Blad3!H2368,\";\",Blad3!I2368),\"\")","v":""}]
[{"$f":"IF(AND(Blad1!C2369<>0,Blad1!D2369>0),CONCATENATE(Enhet!$B$1,\";\",Blad3!H2369,\";\",Blad3!I2369),\"\")","v":""}]
[{"$f":"IF(AND(Blad1!C2370<>0,Blad1!D2370>0),CONCATENATE(Enhet!$B$1,\";\",Blad3!H2370,\";\",Blad3!I2370),\"\")","v":""}]
[{"$f":"IF(AND(Blad1!C2371<>0,Blad1!D2371>0),CONCATENATE(Enhet!$B$1,\";\",Blad3!H2371,\";\",Blad3!I2371),\"\")","v":""}]
[{"$f":"IF(AND(Blad1!C2372<>0,Blad1!D2372>0),CONCATENATE(Enhet!$B$1,\";\",Blad3!H2372,\";\",Blad3!I2372),\"\")","v":""}]
[{"$f":"IF(AND(Blad1!C2373<>0,Blad1!D2373>0),CONCATENATE(Enhet!$B$1,\";\",Blad3!H2373,\";\",Blad3!I2373),\"\")","v":""}]
[{"$f":"IF(AND(Blad1!C2374<>0,Blad1!D2374>0),CONCATENATE(Enhet!$B$1,\";\",Blad3!H2374,\";\",Blad3!I2374),\"\")","v":""}]
[{"$f":"IF(AND(Blad1!C2375<>0,Blad1!D2375>0),CONCATENATE(Enhet!$B$1,\";\",Blad3!H2375,\";\",Blad3!I2375),\"\")","v":""}]
[{"$f":"IF(AND(Blad1!C2376<>0,Blad1!D2376>0),CONCATENATE(Enhet!$B$1,\";\",Blad3!H2376,\";\",Blad3!I2376),\"\")","v":""}]
[{"$f":"IF(AND(Blad1!C2377<>0,Blad1!D2377>0),CONCATENATE(Enhet!$B$1,\";\",Blad3!H2377,\";\",Blad3!I2377),\"\")","v":""}]
[{"$f":"IF(AND(Blad1!C2378<>0,Blad1!D2378>0),CONCATENATE(Enhet!$B$1,\";\",Blad3!H2378,\";\",Blad3!I2378),\"\")","v":""}]
[{"$f":"IF(AND(Blad1!C2379<>0,Blad1!D2379>0),CONCATENATE(Enhet!$B$1,\";\",Blad3!H2379,\";\",Blad3!I2379),\"\")","v":""}]
[{"$f":"IF(AND(Blad1!C2380<>0,Blad1!D2380>0),CONCATENATE(Enhet!$B$1,\";\",Blad3!H2380,\";\",Blad3!I2380),\"\")","v":""}]
[{"$f":"IF(AND(Blad1!C2381<>0,Blad1!D2381>0),CONCATENATE(Enhet!$B$1,\";\",Blad3!H2381,\";\",Blad3!I2381),\"\")","v":""}]
[{"$f":"IF(AND(Blad1!C2382<>0,Blad1!D2382>0),CONCATENATE(Enhet!$B$1,\";\",Blad3!H2382,\";\",Blad3!I2382),\"\")","v":""}]
[{"$f":"IF(AND(Blad1!C2383<>0,Blad1!D2383>0),CONCATENATE(Enhet!$B$1,\";\",Blad3!H2383,\";\",Blad3!I2383),\"\")","v":""}]
[{"$f":"IF(AND(Blad1!C2384<>0,Blad1!D2384>0),CONCATENATE(Enhet!$B$1,\";\",Blad3!H2384,\";\",Blad3!I2384),\"\")","v":""}]
[{"$f":"IF(AND(Blad1!C2385<>0,Blad1!D2385>0),CONCATENATE(Enhet!$B$1,\";\",Blad3!H2385,\";\",Blad3!I2385),\"\")","v":""}]
[{"$f":"IF(AND(Blad1!C2386<>0,Blad1!D2386>0),CONCATENATE(Enhet!$B$1,\";\",Blad3!H2386,\";\",Blad3!I2386),\"\")","v":""}]
[{"$f":"IF(AND(Blad1!C2387<>0,Blad1!D2387>0),CONCATENATE(Enhet!$B$1,\";\",Blad3!H2387,\";\",Blad3!I2387),\"\")","v":""}]
[{"$f":"IF(AND(Blad1!C2388<>0,Blad1!D2388>0),CONCATENATE(Enhet!$B$1,\";\",Blad3!H2388,\";\",Blad3!I2388),\"\")","v":""}]
[{"$f":"IF(AND(Blad1!C2389<>0,Blad1!D2389>0),CONCATENATE(Enhet!$B$1,\";\",Blad3!H2389,\";\",Blad3!I2389),\"\")","v":""}]
[{"$f":"IF(AND(Blad1!C2390<>0,Blad1!D2390>0),CONCATENATE(Enhet!$B$1,\";\",Blad3!H2390,\";\",Blad3!I2390),\"\")","v":""}]
[{"$f":"IF(AND(Blad1!C2391<>0,Blad1!D2391>0),CONCATENATE(Enhet!$B$1,\";\",Blad3!H2391,\";\",Blad3!I2391),\"\")","v":""}]
[{"$f":"IF(AND(Blad1!C2392<>0,Blad1!D2392>0),CONCATENATE(Enhet!$B$1,\";\",Blad3!H2392,\";\",Blad3!I2392),\"\")","v":""}]
[{"$f":"IF(AND(Blad1!C2393<>0,Blad1!D2393>0),CONCATENATE(Enhet!$B$1,\";\",Blad3!H2393,\";\",Blad3!I2393),\"\")","v":""}]
[{"$f":"IF(AND(Blad1!C2394<>0,Blad1!D2394>0),CONCATENATE(Enhet!$B$1,\";\",Blad3!H2394,\";\",Blad3!I2394),\"\")","v":""}]
[{"$f":"IF(AND(Blad1!C2395<>0,Blad1!D2395>0),CONCATENATE(Enhet!$B$1,\";\",Blad3!H2395,\";\",Blad3!I2395),\"\")","v":""}]
[{"$f":"IF(AND(Blad1!C2396<>0,Blad1!D2396>0),CONCATENATE(Enhet!$B$1,\";\",Blad3!H2396,\";\",Blad3!I2396),\"\")","v":""}]
[{"$f":"IF(AND(Blad1!C2397<>0,Blad1!D2397>0),CONCATENATE(Enhet!$B$1,\";\",Blad3!H2397,\";\",Blad3!I2397),\"\")","v":""}]
[{"$f":"IF(AND(Blad1!C2398<>0,Blad1!D2398>0),CONCATENATE(Enhet!$B$1,\";\",Blad3!H2398,\";\",Blad3!I2398),\"\")","v":""}]
[{"$f":"IF(AND(Blad1!C2399<>0,Blad1!D2399>0),CONCATENATE(Enhet!$B$1,\";\",Blad3!H2399,\";\",Blad3!I2399),\"\")","v":""}]
[{"$f":"IF(AND(Blad1!C2400<>0,Blad1!D2400>0),CONCATENATE(Enhet!$B$1,\";\",Blad3!H2400,\";\",Blad3!I2400),\"\")","v":""}]
[{"$f":"IF(AND(Blad1!C2401<>0,Blad1!D2401>0),CONCATENATE(Enhet!$B$1,\";\",Blad3!H2401,\";\",Blad3!I2401),\"\")","v":""}]
[{"$f":"IF(AND(Blad1!C2402<>0,Blad1!D2402>0),CONCATENATE(Enhet!$B$1,\";\",Blad3!H2402,\";\",Blad3!I2402),\"\")","v":""}]
[{"$f":"IF(AND(Blad1!C2403<>0,Blad1!D2403>0),CONCATENATE(Enhet!$B$1,\";\",Blad3!H2403,\";\",Blad3!I2403),\"\")","v":""}]
[{"$f":"IF(AND(Blad1!C2404<>0,Blad1!D2404>0),CONCATENATE(Enhet!$B$1,\";\",Blad3!H2404,\";\",Blad3!I2404),\"\")","v":""}]
[{"$f":"IF(AND(Blad1!C2405<>0,Blad1!D2405>0),CONCATENATE(Enhet!$B$1,\";\",Blad3!H2405,\";\",Blad3!I2405),\"\")","v":""}]
[{"$f":"IF(AND(Blad1!C2406<>0,Blad1!D2406>0),CONCATENATE(Enhet!$B$1,\";\",Blad3!H2406,\";\",Blad3!I2406),\"\")","v":""}]
[{"$f":"IF(AND(Blad1!C2407<>0,Blad1!D2407>0),CONCATENATE(Enhet!$B$1,\";\",Blad3!H2407,\";\",Blad3!I2407),\"\")","v":""}]
[{"$f":"IF(AND(Blad1!C2408<>0,Blad1!D2408>0),CONCATENATE(Enhet!$B$1,\";\",Blad3!H2408,\";\",Blad3!I2408),\"\")","v":""}]
[{"$f":"IF(AND(Blad1!C2409<>0,Blad1!D2409>0),CONCATENATE(Enhet!$B$1,\";\",Blad3!H2409,\";\",Blad3!I2409),\"\")","v":""}]
[{"$f":"IF(AND(Blad1!C2410<>0,Blad1!D2410>0),CONCATENATE(Enhet!$B$1,\";\",Blad3!H2410,\";\",Blad3!I2410),\"\")","v":""}]
[{"$f":"IF(AND(Blad1!C2411<>0,Blad1!D2411>0),CONCATENATE(Enhet!$B$1,\";\",Blad3!H2411,\";\",Blad3!I2411),\"\")","v":""}]
[{"$f":"IF(AND(Blad1!C2412<>0,Blad1!D2412>0),CONCATENATE(Enhet!$B$1,\";\",Blad3!H2412,\";\",Blad3!I2412),\"\")","v":""}]
[{"$f":"IF(AND(Blad1!C2413<>0,Blad1!D2413>0),CONCATENATE(Enhet!$B$1,\";\",Blad3!H2413,\";\",Blad3!I2413),\"\")","v":""}]
[{"$f":"IF(AND(Blad1!C2414<>0,Blad1!D2414>0),CONCATENATE(Enhet!$B$1,\";\",Blad3!H2414,\";\",Blad3!I2414),\"\")","v":""}]
[{"$f":"IF(AND(Blad1!C2415<>0,Blad1!D2415>0),CONCATENATE(Enhet!$B$1,\";\",Blad3!H2415,\";\",Blad3!I2415),\"\")","v":""}]
[{"$f":"IF(AND(Blad1!C2416<>0,Blad1!D2416>0),CONCATENATE(Enhet!$B$1,\";\",Blad3!H2416,\";\",Blad3!I2416),\"\")","v":""}]
[{"$f":"IF(AND(Blad1!C2417<>0,Blad1!D2417>0),CONCATENATE(Enhet!$B$1,\";\",Blad3!H2417,\";\",Blad3!I2417),\"\")","v":""}]
[{"$f":"IF(AND(Blad1!C2418<>0,Blad1!D2418>0),CONCATENATE(Enhet!$B$1,\";\",Blad3!H2418,\";\",Blad3!I2418),\"\")","v":""}]
[{"$f":"IF(AND(Blad1!C2419<>0,Blad1!D2419>0),CONCATENATE(Enhet!$B$1,\";\",Blad3!H2419,\";\",Blad3!I2419),\"\")","v":""}]
[{"$f":"IF(AND(Blad1!C2420<>0,Blad1!D2420>0),CONCATENATE(Enhet!$B$1,\";\",Blad3!H2420,\";\",Blad3!I2420),\"\")","v":""}]
[{"$f":"IF(AND(Blad1!C2421<>0,Blad1!D2421>0),CONCATENATE(Enhet!$B$1,\";\",Blad3!H2421,\";\",Blad3!I2421),\"\")","v":""}]
[{"$f":"IF(AND(Blad1!C2422<>0,Blad1!D2422>0),CONCATENATE(Enhet!$B$1,\";\",Blad3!H2422,\";\",Blad3!I2422),\"\")","v":""}]
[{"$f":"IF(AND(Blad1!C2423<>0,Blad1!D2423>0),CONCATENATE(Enhet!$B$1,\";\",Blad3!H2423,\";\",Blad3!I2423),\"\")","v":""}]
[{"$f":"IF(AND(Blad1!C2424<>0,Blad1!D2424>0),CONCATENATE(Enhet!$B$1,\";\",Blad3!H2424,\";\",Blad3!I2424),\"\")","v":""}]
[{"$f":"IF(AND(Blad1!C2425<>0,Blad1!D2425>0),CONCATENATE(Enhet!$B$1,\";\",Blad3!H2425,\";\",Blad3!I2425),\"\")","v":""}]
[{"$f":"IF(AND(Blad1!C2426<>0,Blad1!D2426>0),CONCATENATE(Enhet!$B$1,\";\",Blad3!H2426,\";\",Blad3!I2426),\"\")","v":""}]
[{"$f":"IF(AND(Blad1!C2427<>0,Blad1!D2427>0),CONCATENATE(Enhet!$B$1,\";\",Blad3!H2427,\";\",Blad3!I2427),\"\")","v":""}]
[{"$f":"IF(AND(Blad1!C2428<>0,Blad1!D2428>0),CONCATENATE(Enhet!$B$1,\";\",Blad3!H2428,\";\",Blad3!I2428),\"\")","v":""}]
[{"$f":"IF(AND(Blad1!C2429<>0,Blad1!D2429>0),CONCATENATE(Enhet!$B$1,\";\",Blad3!H2429,\";\",Blad3!I2429),\"\")","v":""}]
[{"$f":"IF(AND(Blad1!C2430<>0,Blad1!D2430>0),CONCATENATE(Enhet!$B$1,\";\",Blad3!H2430,\";\",Blad3!I2430),\"\")","v":""}]
[{"$f":"IF(AND(Blad1!C2431<>0,Blad1!D2431>0),CONCATENATE(Enhet!$B$1,\";\",Blad3!H2431,\";\",Blad3!I2431),\"\")","v":""}]
[{"$f":"IF(AND(Blad1!C2432<>0,Blad1!D2432>0),CONCATENATE(Enhet!$B$1,\";\",Blad3!H2432,\";\",Blad3!I2432),\"\")","v":""}]
[{"$f":"IF(AND(Blad1!C2433<>0,Blad1!D2433>0),CONCATENATE(Enhet!$B$1,\";\",Blad3!H2433,\";\",Blad3!I2433),\"\")","v":""}]
[{"$f":"IF(AND(Blad1!C2434<>0,Blad1!D2434>0),CONCATENATE(Enhet!$B$1,\";\",Blad3!H2434,\";\",Blad3!I2434),\"\")","v":""}]
[{"$f":"IF(AND(Blad1!C2435<>0,Blad1!D2435>0),CONCATENATE(Enhet!$B$1,\";\",Blad3!H2435,\";\",Blad3!I2435),\"\")","v":""}]
[{"$f":"IF(AND(Blad1!C2436<>0,Blad1!D2436>0),CONCATENATE(Enhet!$B$1,\";\",Blad3!H2436,\";\",Blad3!I2436),\"\")","v":""}]
[{"$f":"IF(AND(Blad1!C2437<>0,Blad1!D2437>0),CONCATENATE(Enhet!$B$1,\";\",Blad3!H2437,\";\",Blad3!I2437),\"\")","v":""}]
[{"$f":"IF(AND(Blad1!C2438<>0,Blad1!D2438>0),CONCATENATE(Enhet!$B$1,\";\",Blad3!H2438,\";\",Blad3!I2438),\"\")","v":""}]
[{"$f":"IF(AND(Blad1!C2439<>0,Blad1!D2439>0),CONCATENATE(Enhet!$B$1,\";\",Blad3!H2439,\";\",Blad3!I2439),\"\")","v":""}]
[{"$f":"IF(AND(Blad1!C2440<>0,Blad1!D2440>0),CONCATENATE(Enhet!$B$1,\";\",Blad3!H2440,\";\",Blad3!I2440),\"\")","v":""}]
[{"$f":"IF(AND(Blad1!C2441<>0,Blad1!D2441>0),CONCATENATE(Enhet!$B$1,\";\",Blad3!H2441,\";\",Blad3!I2441),\"\")","v":""}]
[{"$f":"IF(AND(Blad1!C2442<>0,Blad1!D2442>0),CONCATENATE(Enhet!$B$1,\";\",Blad3!H2442,\";\",Blad3!I2442),\"\")","v":""}]
[{"$f":"IF(AND(Blad1!C2443<>0,Blad1!D2443>0),CONCATENATE(Enhet!$B$1,\";\",Blad3!H2443,\";\",Blad3!I2443),\"\")","v":""}]
[{"$f":"IF(AND(Blad1!C2444<>0,Blad1!D2444>0),CONCATENATE(Enhet!$B$1,\";\",Blad3!H2444,\";\",Blad3!I2444),\"\")","v":""}]
[{"$f":"IF(AND(Blad1!C2445<>0,Blad1!D2445>0),CONCATENATE(Enhet!$B$1,\";\",Blad3!H2445,\";\",Blad3!I2445),\"\")","v":""}]
[{"$f":"IF(AND(Blad1!C2446<>0,Blad1!D2446>0),CONCATENATE(Enhet!$B$1,\";\",Blad3!H2446,\";\",Blad3!I2446),\"\")","v":""}]
[{"$f":"IF(AND(Blad1!C2447<>0,Blad1!D2447>0),CONCATENATE(Enhet!$B$1,\";\",Blad3!H2447,\";\",Blad3!I2447),\"\")","v":""}]
[{"$f":"IF(AND(Blad1!C2448<>0,Blad1!D2448>0),CONCATENATE(Enhet!$B$1,\";\",Blad3!H2448,\";\",Blad3!I2448),\"\")","v":""}]
[{"$f":"IF(AND(Blad1!C2449<>0,Blad1!D2449>0),CONCATENATE(Enhet!$B$1,\";\",Blad3!H2449,\";\",Blad3!I2449),\"\")","v":""}]
[{"$f":"IF(AND(Blad1!C2450<>0,Blad1!D2450>0),CONCATENATE(Enhet!$B$1,\";\",Blad3!H2450,\";\",Blad3!I2450),\"\")","v":""}]
[{"$f":"IF(AND(Blad1!C2451<>0,Blad1!D2451>0),CONCATENATE(Enhet!$B$1,\";\",Blad3!H2451,\";\",Blad3!I2451),\"\")","v":""}]
[{"$f":"IF(AND(Blad1!C2452<>0,Blad1!D2452>0),CONCATENATE(Enhet!$B$1,\";\",Blad3!H2452,\";\",Blad3!I2452),\"\")","v":""}]
[{"$f":"IF(AND(Blad1!C2453<>0,Blad1!D2453>0),CONCATENATE(Enhet!$B$1,\";\",Blad3!H2453,\";\",Blad3!I2453),\"\")","v":""}]
[{"$f":"IF(AND(Blad1!C2454<>0,Blad1!D2454>0),CONCATENATE(Enhet!$B$1,\";\",Blad3!H2454,\";\",Blad3!I2454),\"\")","v":""}]
[{"$f":"IF(AND(Blad1!C2455<>0,Blad1!D2455>0),CONCATENATE(Enhet!$B$1,\";\",Blad3!H2455,\";\",Blad3!I2455),\"\")","v":""}]
[{"$f":"IF(AND(Blad1!C2456<>0,Blad1!D2456>0),CONCATENATE(Enhet!$B$1,\";\",Blad3!H2456,\";\",Blad3!I2456),\"\")","v":""}]
[{"$f":"IF(AND(Blad1!C2457<>0,Blad1!D2457>0),CONCATENATE(Enhet!$B$1,\";\",Blad3!H2457,\";\",Blad3!I2457),\"\")","v":""}]
[{"$f":"IF(AND(Blad1!C2458<>0,Blad1!D2458>0),CONCATENATE(Enhet!$B$1,\";\",Blad3!H2458,\";\",Blad3!I2458),\"\")","v":""}]
[{"$f":"IF(AND(Blad1!C2459<>0,Blad1!D2459>0),CONCATENATE(Enhet!$B$1,\";\",Blad3!H2459,\";\",Blad3!I2459),\"\")","v":""}]
[{"$f":"IF(AND(Blad1!C2460<>0,Blad1!D2460>0),CONCATENATE(Enhet!$B$1,\";\",Blad3!H2460,\";\",Blad3!I2460),\"\")","v":""}]
[{"$f":"IF(AND(Blad1!C2461<>0,Blad1!D2461>0),CONCATENATE(Enhet!$B$1,\";\",Blad3!H2461,\";\",Blad3!I2461),\"\")","v":""}]
[{"$f":"IF(AND(Blad1!C2462<>0,Blad1!D2462>0),CONCATENATE(Enhet!$B$1,\";\",Blad3!H2462,\";\",Blad3!I2462),\"\")","v":""}]
[{"$f":"IF(AND(Blad1!C2463<>0,Blad1!D2463>0),CONCATENATE(Enhet!$B$1,\";\",Blad3!H2463,\";\",Blad3!I2463),\"\")","v":""}]
[{"$f":"IF(AND(Blad1!C2464<>0,Blad1!D2464>0),CONCATENATE(Enhet!$B$1,\";\",Blad3!H2464,\";\",Blad3!I2464),\"\")","v":""}]
[{"$f":"IF(AND(Blad1!C2465<>0,Blad1!D2465>0),CONCATENATE(Enhet!$B$1,\";\",Blad3!H2465,\";\",Blad3!I2465),\"\")","v":""}]
[{"$f":"IF(AND(Blad1!C2466<>0,Blad1!D2466>0),CONCATENATE(Enhet!$B$1,\";\",Blad3!H2466,\";\",Blad3!I2466),\"\")","v":""}]
[{"$f":"IF(AND(Blad1!C2467<>0,Blad1!D2467>0),CONCATENATE(Enhet!$B$1,\";\",Blad3!H2467,\";\",Blad3!I2467),\"\")","v":""}]
[{"$f":"IF(AND(Blad1!C2468<>0,Blad1!D2468>0),CONCATENATE(Enhet!$B$1,\";\",Blad3!H2468,\";\",Blad3!I2468),\"\")","v":""}]
[{"$f":"IF(AND(Blad1!C2469<>0,Blad1!D2469>0),CONCATENATE(Enhet!$B$1,\";\",Blad3!H2469,\";\",Blad3!I2469),\"\")","v":""}]
[{"$f":"IF(AND(Blad1!C2470<>0,Blad1!D2470>0),CONCATENATE(Enhet!$B$1,\";\",Blad3!H2470,\";\",Blad3!I2470),\"\")","v":""}]
[{"$f":"IF(AND(Blad1!C2471<>0,Blad1!D2471>0),CONCATENATE(Enhet!$B$1,\";\",Blad3!H2471,\";\",Blad3!I2471),\"\")","v":""}]
[{"$f":"IF(AND(Blad1!C2472<>0,Blad1!D2472>0),CONCATENATE(Enhet!$B$1,\";\",Blad3!H2472,\";\",Blad3!I2472),\"\")","v":""}]
[{"$f":"IF(AND(Blad1!C2473<>0,Blad1!D2473>0),CONCATENATE(Enhet!$B$1,\";\",Blad3!H2473,\";\",Blad3!I2473),\"\")","v":""}]
[{"$f":"IF(AND(Blad1!C2474<>0,Blad1!D2474>0),CONCATENATE(Enhet!$B$1,\";\",Blad3!H2474,\";\",Blad3!I2474),\"\")","v":""}]
[{"$f":"IF(AND(Blad1!C2475<>0,Blad1!D2475>0),CONCATENATE(Enhet!$B$1,\";\",Blad3!H2475,\";\",Blad3!I2475),\"\")","v":""}]
[{"$f":"IF(AND(Blad1!C2476<>0,Blad1!D2476>0),CONCATENATE(Enhet!$B$1,\";\",Blad3!H2476,\";\",Blad3!I2476),\"\")","v":""}]
[{"$f":"IF(AND(Blad1!C2477<>0,Blad1!D2477>0),CONCATENATE(Enhet!$B$1,\";\",Blad3!H2477,\";\",Blad3!I2477),\"\")","v":""}]
[{"$f":"IF(AND(Blad1!C2478<>0,Blad1!D2478>0),CONCATENATE(Enhet!$B$1,\";\",Blad3!H2478,\";\",Blad3!I2478),\"\")","v":""}]
[{"$f":"IF(AND(Blad1!C2479<>0,Blad1!D2479>0),CONCATENATE(Enhet!$B$1,\";\",Blad3!H2479,\";\",Blad3!I2479),\"\")","v":""}]
[{"$f":"IF(AND(Blad1!C2480<>0,Blad1!D2480>0),CONCATENATE(Enhet!$B$1,\";\",Blad3!H2480,\";\",Blad3!I2480),\"\")","v":""}]
[{"$f":"IF(AND(Blad1!C2481<>0,Blad1!D2481>0),CONCATENATE(Enhet!$B$1,\";\",Blad3!H2481,\";\",Blad3!I2481),\"\")","v":""}]
[{"$f":"IF(AND(Blad1!C2482<>0,Blad1!D2482>0),CONCATENATE(Enhet!$B$1,\";\",Blad3!H2482,\";\",Blad3!I2482),\"\")","v":""}]
[{"$f":"IF(AND(Blad1!C2483<>0,Blad1!D2483>0),CONCATENATE(Enhet!$B$1,\";\",Blad3!H2483,\";\",Blad3!I2483),\"\")","v":""}]
[{"$f":"IF(AND(Blad1!C2484<>0,Blad1!D2484>0),CONCATENATE(Enhet!$B$1,\";\",Blad3!H2484,\";\",Blad3!I2484),\"\")","v":""}]
[{"$f":"IF(AND(Blad1!C2485<>0,Blad1!D2485>0),CONCATENATE(Enhet!$B$1,\";\",Blad3!H2485,\";\",Blad3!I2485),\"\")","v":""}]
[{"$f":"IF(AND(Blad1!C2486<>0,Blad1!D2486>0),CONCATENATE(Enhet!$B$1,\";\",Blad3!H2486,\";\",Blad3!I2486),\"\")","v":""}]
[{"$f":"IF(AND(Blad1!C2487<>0,Blad1!D2487>0),CONCATENATE(Enhet!$B$1,\";\",Blad3!H2487,\";\",Blad3!I2487),\"\")","v":""}]
[{"$f":"IF(AND(Blad1!C2488<>0,Blad1!D2488>0),CONCATENATE(Enhet!$B$1,\";\",Blad3!H2488,\";\",Blad3!I2488),\"\")","v":""}]
[{"$f":"IF(AND(Blad1!C2489<>0,Blad1!D2489>0),CONCATENATE(Enhet!$B$1,\";\",Blad3!H2489,\";\",Blad3!I2489),\"\")","v":""}]
[{"$f":"IF(AND(Blad1!C2490<>0,Blad1!D2490>0),CONCATENATE(Enhet!$B$1,\";\",Blad3!H2490,\";\",Blad3!I2490),\"\")","v":""}]
[{"$f":"IF(AND(Blad1!C2491<>0,Blad1!D2491>0),CONCATENATE(Enhet!$B$1,\";\",Blad3!H2491,\";\",Blad3!I2491),\"\")","v":""}]
[{"$f":"IF(AND(Blad1!C2492<>0,Blad1!D2492>0),CONCATENATE(Enhet!$B$1,\";\",Blad3!H2492,\";\",Blad3!I2492),\"\")","v":""}]
[{"$f":"IF(AND(Blad1!C2493<>0,Blad1!D2493>0),CONCATENATE(Enhet!$B$1,\";\",Blad3!H2493,\";\",Blad3!I2493),\"\")","v":""}]
[{"$f":"IF(AND(Blad1!C2494<>0,Blad1!D2494>0),CONCATENATE(Enhet!$B$1,\";\",Blad3!H2494,\";\",Blad3!I2494),\"\")","v":""}]
[{"$f":"IF(AND(Blad1!C2495<>0,Blad1!D2495>0),CONCATENATE(Enhet!$B$1,\";\",Blad3!H2495,\";\",Blad3!I2495),\"\")","v":""}]
[{"$f":"IF(AND(Blad1!C2496<>0,Blad1!D2496>0),CONCATENATE(Enhet!$B$1,\";\",Blad3!H2496,\";\",Blad3!I2496),\"\")","v":""}]
[{"$f":"IF(AND(Blad1!C2497<>0,Blad1!D2497>0),CONCATENATE(Enhet!$B$1,\";\",Blad3!H2497,\";\",Blad3!I2497),\"\")","v":""}]
[{"$f":"IF(AND(Blad1!C2498<>0,Blad1!D2498>0),CONCATENATE(Enhet!$B$1,\";\",Blad3!H2498,\";\",Blad3!I2498),\"\")","v":""}]
[{"$f":"IF(AND(Blad1!C2499<>0,Blad1!D2499>0),CONCATENATE(Enhet!$B$1,\";\",Blad3!H2499,\";\",Blad3!I2499),\"\")","v":""}]
[{"$f":"IF(AND(Blad1!C2500<>0,Blad1!D2500>0),CONCATENATE(Enhet!$B$1,\";\",Blad3!H2500,\";\",Blad3!I2500),\"\")","v":""}]
[{"$f":"IF(AND(Blad1!C2501<>0,Blad1!D2501>0),CONCATENATE(Enhet!$B$1,\";\",Blad3!H2501,\";\",Blad3!I2501),\"\")","v":""}]
[{"$f":"IF(AND(Blad1!C2502<>0,Blad1!D2502>0),CONCATENATE(Enhet!$B$1,\";\",Blad3!H2502,\";\",Blad3!I2502),\"\")","v":""}]
[{"$f":"IF(AND(Blad1!C2503<>0,Blad1!D2503>0),CONCATENATE(Enhet!$B$1,\";\",Blad3!H2503,\";\",Blad3!I2503),\"\")","v":""}]
[{"$f":"IF(AND(Blad1!C2504<>0,Blad1!D2504>0),CONCATENATE(Enhet!$B$1,\";\",Blad3!H2504,\";\",Blad3!I2504),\"\")","v":""}]
[{"$f":"IF(AND(Blad1!C2505<>0,Blad1!D2505>0),CONCATENATE(Enhet!$B$1,\";\",Blad3!H2505,\";\",Blad3!I2505),\"\")","v":""}]
[{"$f":"IF(AND(Blad1!C2506<>0,Blad1!D2506>0),CONCATENATE(Enhet!$B$1,\";\",Blad3!H2506,\";\",Blad3!I2506),\"\")","v":""}]
[{"$f":"IF(AND(Blad1!C2507<>0,Blad1!D2507>0),CONCATENATE(Enhet!$B$1,\";\",Blad3!H2507,\";\",Blad3!I2507),\"\")","v":""}]
[{"$f":"IF(AND(Blad1!C2508<>0,Blad1!D2508>0),CONCATENATE(Enhet!$B$1,\";\",Blad3!H2508,\";\",Blad3!I2508),\"\")","v":""}]
[{"$f":"IF(AND(Blad1!C2509<>0,Blad1!D2509>0),CONCATENATE(Enhet!$B$1,\";\",Blad3!H2509,\";\",Blad3!I2509),\"\")","v":""}]
[{"$f":"IF(AND(Blad1!C2510<>0,Blad1!D2510>0),CONCATENATE(Enhet!$B$1,\";\",Blad3!H2510,\";\",Blad3!I2510),\"\")","v":""}]
[{"$f":"IF(AND(Blad1!C2511<>0,Blad1!D2511>0),CONCATENATE(Enhet!$B$1,\";\",Blad3!H2511,\";\",Blad3!I2511),\"\")","v":""}]
[{"$f":"IF(AND(Blad1!C2512<>0,Blad1!D2512>0),CONCATENATE(Enhet!$B$1,\";\",Blad3!H2512,\";\",Blad3!I2512),\"\")","v":""}]
[{"$f":"IF(AND(Blad1!C2513<>0,Blad1!D2513>0),CONCATENATE(Enhet!$B$1,\";\",Blad3!H2513,\";\",Blad3!I2513),\"\")","v":""}]
[{"$f":"IF(AND(Blad1!C2514<>0,Blad1!D2514>0),CONCATENATE(Enhet!$B$1,\";\",Blad3!H2514,\";\",Blad3!I2514),\"\")","v":""}]
[{"$f":"IF(AND(Blad1!C2515<>0,Blad1!D2515>0),CONCATENATE(Enhet!$B$1,\";\",Blad3!H2515,\";\",Blad3!I2515),\"\")","v":""}]
[{"$f":"IF(AND(Blad1!C2516<>0,Blad1!D2516>0),CONCATENATE(Enhet!$B$1,\";\",Blad3!H2516,\";\",Blad3!I2516),\"\")","v":""}]
[{"$f":"IF(AND(Blad1!C2517<>0,Blad1!D2517>0),CONCATENATE(Enhet!$B$1,\";\",Blad3!H2517,\";\",Blad3!I2517),\"\")","v":""}]
[{"$f":"IF(AND(Blad1!C2518<>0,Blad1!D2518>0),CONCATENATE(Enhet!$B$1,\";\",Blad3!H2518,\";\",Blad3!I2518),\"\")","v":""}]
[{"$f":"IF(AND(Blad1!C2519<>0,Blad1!D2519>0),CONCATENATE(Enhet!$B$1,\";\",Blad3!H2519,\";\",Blad3!I2519),\"\")","v":""}]
[{"$f":"IF(AND(Blad1!C2520<>0,Blad1!D2520>0),CONCATENATE(Enhet!$B$1,\";\",Blad3!H2520,\";\",Blad3!I2520),\"\")","v":""}]
[{"$f":"IF(AND(Blad1!C2521<>0,Blad1!D2521>0),CONCATENATE(Enhet!$B$1,\";\",Blad3!H2521,\";\",Blad3!I2521),\"\")","v":""}]
[{"$f":"IF(AND(Blad1!C2522<>0,Blad1!D2522>0),CONCATENATE(Enhet!$B$1,\";\",Blad3!H2522,\";\",Blad3!I2522),\"\")","v":""}]
[{"$f":"IF(AND(Blad1!C2523<>0,Blad1!D2523>0),CONCATENATE(Enhet!$B$1,\";\",Blad3!H2523,\";\",Blad3!I2523),\"\")","v":""}]
[{"$f":"IF(AND(Blad1!C2524<>0,Blad1!D2524>0),CONCATENATE(Enhet!$B$1,\";\",Blad3!H2524,\";\",Blad3!I2524),\"\")","v":""}]
[{"$f":"IF(AND(Blad1!C2525<>0,Blad1!D2525>0),CONCATENATE(Enhet!$B$1,\";\",Blad3!H2525,\";\",Blad3!I2525),\"\")","v":""}]
[{"$f":"IF(AND(Blad1!C2526<>0,Blad1!D2526>0),CONCATENATE(Enhet!$B$1,\";\",Blad3!H2526,\";\",Blad3!I2526),\"\")","v":""}]
[{"$f":"IF(AND(Blad1!C2527<>0,Blad1!D2527>0),CONCATENATE(Enhet!$B$1,\";\",Blad3!H2527,\";\",Blad3!I2527),\"\")","v":""}]
[{"$f":"IF(AND(Blad1!C2528<>0,Blad1!D2528>0),CONCATENATE(Enhet!$B$1,\";\",Blad3!H2528,\";\",Blad3!I2528),\"\")","v":""}]
[{"$f":"IF(AND(Blad1!C2529<>0,Blad1!D2529>0),CONCATENATE(Enhet!$B$1,\";\",Blad3!H2529,\";\",Blad3!I2529),\"\")","v":""}]
[{"$f":"IF(AND(Blad1!C2530<>0,Blad1!D2530>0),CONCATENATE(Enhet!$B$1,\";\",Blad3!H2530,\";\",Blad3!I2530),\"\")","v":""}]
[{"$f":"IF(AND(Blad1!C2531<>0,Blad1!D2531>0),CONCATENATE(Enhet!$B$1,\";\",Blad3!H2531,\";\",Blad3!I2531),\"\")","v":""}]
[{"$f":"IF(AND(Blad1!C2532<>0,Blad1!D2532>0),CONCATENATE(Enhet!$B$1,\";\",Blad3!H2532,\";\",Blad3!I2532),\"\")","v":""}]
[{"$f":"IF(AND(Blad1!C2533<>0,Blad1!D2533>0),CONCATENATE(Enhet!$B$1,\";\",Blad3!H2533,\";\",Blad3!I2533),\"\")","v":""}]
[{"$f":"IF(AND(Blad1!C2534<>0,Blad1!D2534>0),CONCATENATE(Enhet!$B$1,\";\",Blad3!H2534,\";\",Blad3!I2534),\"\")","v":""}]
[{"$f":"IF(AND(Blad1!C2535<>0,Blad1!D2535>0),CONCATENATE(Enhet!$B$1,\";\",Blad3!H2535,\";\",Blad3!I2535),\"\")","v":""}]
[{"$f":"IF(AND(Blad1!C2536<>0,Blad1!D2536>0),CONCATENATE(Enhet!$B$1,\";\",Blad3!H2536,\";\",Blad3!I2536),\"\")","v":""}]
[{"$f":"IF(AND(Blad1!C2537<>0,Blad1!D2537>0),CONCATENATE(Enhet!$B$1,\";\",Blad3!H2537,\";\",Blad3!I2537),\"\")","v":""}]
[{"$f":"IF(AND(Blad1!C2538<>0,Blad1!D2538>0),CONCATENATE(Enhet!$B$1,\";\",Blad3!H2538,\";\",Blad3!I2538),\"\")","v":""}]
[{"$f":"IF(AND(Blad1!C2539<>0,Blad1!D2539>0),CONCATENATE(Enhet!$B$1,\";\",Blad3!H2539,\";\",Blad3!I2539),\"\")","v":""}]
[{"$f":"IF(AND(Blad1!C2540<>0,Blad1!D2540>0),CONCATENATE(Enhet!$B$1,\";\",Blad3!H2540,\";\",Blad3!I2540),\"\")","v":""}]
[{"$f":"IF(AND(Blad1!C2541<>0,Blad1!D2541>0),CONCATENATE(Enhet!$B$1,\";\",Blad3!H2541,\";\",Blad3!I2541),\"\")","v":""}]
[{"$f":"IF(AND(Blad1!C2542<>0,Blad1!D2542>0),CONCATENATE(Enhet!$B$1,\";\",Blad3!H2542,\";\",Blad3!I2542),\"\")","v":""}]
[{"$f":"IF(AND(Blad1!C2543<>0,Blad1!D2543>0),CONCATENATE(Enhet!$B$1,\";\",Blad3!H2543,\";\",Blad3!I2543),\"\")","v":""}]
[{"$f":"IF(AND(Blad1!C2544<>0,Blad1!D2544>0),CONCATENATE(Enhet!$B$1,\";\",Blad3!H2544,\";\",Blad3!I2544),\"\")","v":""}]
[{"$f":"IF(AND(Blad1!C2545<>0,Blad1!D2545>0),CONCATENATE(Enhet!$B$1,\";\",Blad3!H2545,\";\",Blad3!I2545),\"\")","v":""}]
[{"$f":"IF(AND(Blad1!C2546<>0,Blad1!D2546>0),CONCATENATE(Enhet!$B$1,\";\",Blad3!H2546,\";\",Blad3!I2546),\"\")","v":""}]
[{"$f":"IF(AND(Blad1!C2547<>0,Blad1!D2547>0),CONCATENATE(Enhet!$B$1,\";\",Blad3!H2547,\";\",Blad3!I2547),\"\")","v":""}]
[{"$f":"IF(AND(Blad1!C2548<>0,Blad1!D2548>0),CONCATENATE(Enhet!$B$1,\";\",Blad3!H2548,\";\",Blad3!I2548),\"\")","v":""}]
[{"$f":"IF(AND(Blad1!C2549<>0,Blad1!D2549>0),CONCATENATE(Enhet!$B$1,\";\",Blad3!H2549,\";\",Blad3!I2549),\"\")","v":""}]
[{"$f":"IF(AND(Blad1!C2550<>0,Blad1!D2550>0),CONCATENATE(Enhet!$B$1,\";\",Blad3!H2550,\";\",Blad3!I2550),\"\")","v":""}]
[{"$f":"IF(AND(Blad1!C2551<>0,Blad1!D2551>0),CONCATENATE(Enhet!$B$1,\";\",Blad3!H2551,\";\",Blad3!I2551),\"\")","v":""}]
[{"$f":"IF(AND(Blad1!C2552<>0,Blad1!D2552>0),CONCATENATE(Enhet!$B$1,\";\",Blad3!H2552,\";\",Blad3!I2552),\"\")","v":""}]
[{"$f":"IF(AND(Blad1!C2553<>0,Blad1!D2553>0),CONCATENATE(Enhet!$B$1,\";\",Blad3!H2553,\";\",Blad3!I2553),\"\")","v":""}]
[{"$f":"IF(AND(Blad1!C2554<>0,Blad1!D2554>0),CONCATENATE(Enhet!$B$1,\";\",Blad3!H2554,\";\",Blad3!I2554),\"\")","v":""}]
[{"$f":"IF(AND(Blad1!C2555<>0,Blad1!D2555>0),CONCATENATE(Enhet!$B$1,\";\",Blad3!H2555,\";\",Blad3!I2555),\"\")","v":""}]
[{"$f":"IF(AND(Blad1!C2556<>0,Blad1!D2556>0),CONCATENATE(Enhet!$B$1,\";\",Blad3!H2556,\";\",Blad3!I2556),\"\")","v":""}]
[{"$f":"IF(AND(Blad1!C2557<>0,Blad1!D2557>0),CONCATENATE(Enhet!$B$1,\";\",Blad3!H2557,\";\",Blad3!I2557),\"\")","v":""}]
[{"$f":"IF(AND(Blad1!C2558<>0,Blad1!D2558>0),CONCATENATE(Enhet!$B$1,\";\",Blad3!H2558,\";\",Blad3!I2558),\"\")","v":""}]
[{"$f":"IF(AND(Blad1!C2559<>0,Blad1!D2559>0),CONCATENATE(Enhet!$B$1,\";\",Blad3!H2559,\";\",Blad3!I2559),\"\")","v":""}]
[{"$f":"IF(AND(Blad1!C2560<>0,Blad1!D2560>0),CONCATENATE(Enhet!$B$1,\";\",Blad3!H2560,\";\",Blad3!I2560),\"\")","v":""}]
[{"$f":"IF(AND(Blad1!C2561<>0,Blad1!D2561>0),CONCATENATE(Enhet!$B$1,\";\",Blad3!H2561,\";\",Blad3!I2561),\"\")","v":""}]
[{"$f":"IF(AND(Blad1!C2562<>0,Blad1!D2562>0),CONCATENATE(Enhet!$B$1,\";\",Blad3!H2562,\";\",Blad3!I2562),\"\")","v":""}]
[{"$f":"IF(AND(Blad1!C2563<>0,Blad1!D2563>0),CONCATENATE(Enhet!$B$1,\";\",Blad3!H2563,\";\",Blad3!I2563),\"\")","v":""}]
[{"$f":"IF(AND(Blad1!C2564<>0,Blad1!D2564>0),CONCATENATE(Enhet!$B$1,\";\",Blad3!H2564,\";\",Blad3!I2564),\"\")","v":""}]
[{"$f":"IF(AND(Blad1!C2565<>0,Blad1!D2565>0),CONCATENATE(Enhet!$B$1,\";\",Blad3!H2565,\";\",Blad3!I2565),\"\")","v":""}]
[{"$f":"IF(AND(Blad1!C2566<>0,Blad1!D2566>0),CONCATENATE(Enhet!$B$1,\";\",Blad3!H2566,\";\",Blad3!I2566),\"\")","v":""}]
[{"$f":"IF(AND(Blad1!C2567<>0,Blad1!D2567>0),CONCATENATE(Enhet!$B$1,\";\",Blad3!H2567,\";\",Blad3!I2567),\"\")","v":""}]
[{"$f":"IF(AND(Blad1!C2568<>0,Blad1!D2568>0),CONCATENATE(Enhet!$B$1,\";\",Blad3!H2568,\";\",Blad3!I2568),\"\")","v":""}]
[{"$f":"IF(AND(Blad1!C2569<>0,Blad1!D2569>0),CONCATENATE(Enhet!$B$1,\";\",Blad3!H2569,\";\",Blad3!I2569),\"\")","v":""}]
[{"$f":"IF(AND(Blad1!C2570<>0,Blad1!D2570>0),CONCATENATE(Enhet!$B$1,\";\",Blad3!H2570,\";\",Blad3!I2570),\"\")","v":""}]
[{"$f":"IF(AND(Blad1!C2571<>0,Blad1!D2571>0),CONCATENATE(Enhet!$B$1,\";\",Blad3!H2571,\";\",Blad3!I2571),\"\")","v":""}]
[{"$f":"IF(AND(Blad1!C2572<>0,Blad1!D2572>0),CONCATENATE(Enhet!$B$1,\";\",Blad3!H2572,\";\",Blad3!I2572),\"\")","v":""}]
[{"$f":"IF(AND(Blad1!C2573<>0,Blad1!D2573>0),CONCATENATE(Enhet!$B$1,\";\",Blad3!H2573,\";\",Blad3!I2573),\"\")","v":""}]
[{"$f":"IF(AND(Blad1!C2574<>0,Blad1!D2574>0),CONCATENATE(Enhet!$B$1,\";\",Blad3!H2574,\";\",Blad3!I2574),\"\")","v":""}]
[{"$f":"IF(AND(Blad1!C2575<>0,Blad1!D2575>0),CONCATENATE(Enhet!$B$1,\";\",Blad3!H2575,\";\",Blad3!I2575),\"\")","v":""}]
[{"$f":"IF(AND(Blad1!C2576<>0,Blad1!D2576>0),CONCATENATE(Enhet!$B$1,\";\",Blad3!H2576,\";\",Blad3!I2576),\"\")","v":""}]
[{"$f":"IF(AND(Blad1!C2577<>0,Blad1!D2577>0),CONCATENATE(Enhet!$B$1,\";\",Blad3!H2577,\";\",Blad3!I2577),\"\")","v":""}]
[{"$f":"IF(AND(Blad1!C2578<>0,Blad1!D2578>0),CONCATENATE(Enhet!$B$1,\";\",Blad3!H2578,\";\",Blad3!I2578),\"\")","v":""}]
[{"$f":"IF(AND(Blad1!C2579<>0,Blad1!D2579>0),CONCATENATE(Enhet!$B$1,\";\",Blad3!H2579,\";\",Blad3!I2579),\"\")","v":""}]
[{"$f":"IF(AND(Blad1!C2580<>0,Blad1!D2580>0),CONCATENATE(Enhet!$B$1,\";\",Blad3!H2580,\";\",Blad3!I2580),\"\")","v":""}]
[{"$f":"IF(AND(Blad1!C2581<>0,Blad1!D2581>0),CONCATENATE(Enhet!$B$1,\";\",Blad3!H2581,\";\",Blad3!I2581),\"\")","v":""}]
[{"$f":"IF(AND(Blad1!C2582<>0,Blad1!D2582>0),CONCATENATE(Enhet!$B$1,\";\",Blad3!H2582,\";\",Blad3!I2582),\"\")","v":""}]
[{"$f":"IF(AND(Blad1!C2583<>0,Blad1!D2583>0),CONCATENATE(Enhet!$B$1,\";\",Blad3!H2583,\";\",Blad3!I2583),\"\")","v":""}]
[{"$f":"IF(AND(Blad1!C2584<>0,Blad1!D2584>0),CONCATENATE(Enhet!$B$1,\";\",Blad3!H2584,\";\",Blad3!I2584),\"\")","v":""}]
[{"$f":"IF(AND(Blad1!C2585<>0,Blad1!D2585>0),CONCATENATE(Enhet!$B$1,\";\",Blad3!H2585,\";\",Blad3!I2585),\"\")","v":""}]
[{"$f":"IF(AND(Blad1!C2586<>0,Blad1!D2586>0),CONCATENATE(Enhet!$B$1,\";\",Blad3!H2586,\";\",Blad3!I2586),\"\")","v":""}]
[{"$f":"IF(AND(Blad1!C2587<>0,Blad1!D2587>0),CONCATENATE(Enhet!$B$1,\";\",Blad3!H2587,\";\",Blad3!I2587),\"\")","v":""}]
[{"$f":"IF(AND(Blad1!C2588<>0,Blad1!D2588>0),CONCATENATE(Enhet!$B$1,\";\",Blad3!H2588,\";\",Blad3!I2588),\"\")","v":""}]
[{"$f":"IF(AND(Blad1!C2589<>0,Blad1!D2589>0),CONCATENATE(Enhet!$B$1,\";\",Blad3!H2589,\";\",Blad3!I2589),\"\")","v":""}]
[{"$f":"IF(AND(Blad1!C2590<>0,Blad1!D2590>0),CONCATENATE(Enhet!$B$1,\";\",Blad3!H2590,\";\",Blad3!I2590),\"\")","v":""}]
[{"$f":"IF(AND(Blad1!C2591<>0,Blad1!D2591>0),CONCATENATE(Enhet!$B$1,\";\",Blad3!H2591,\";\",Blad3!I2591),\"\")","v":""}]
[{"$f":"IF(AND(Blad1!C2592<>0,Blad1!D2592>0),CONCATENATE(Enhet!$B$1,\";\",Blad3!H2592,\";\",Blad3!I2592),\"\")","v":""}]
[{"$f":"IF(AND(Blad1!C2593<>0,Blad1!D2593>0),CONCATENATE(Enhet!$B$1,\";\",Blad3!H2593,\";\",Blad3!I2593),\"\")","v":""}]
[{"$f":"IF(AND(Blad1!C2594<>0,Blad1!D2594>0),CONCATENATE(Enhet!$B$1,\";\",Blad3!H2594,\";\",Blad3!I2594),\"\")","v":""}]
[{"$f":"IF(AND(Blad1!C2595<>0,Blad1!D2595>0),CONCATENATE(Enhet!$B$1,\";\",Blad3!H2595,\";\",Blad3!I2595),\"\")","v":""}]
[{"$f":"IF(AND(Blad1!C2596<>0,Blad1!D2596>0),CONCATENATE(Enhet!$B$1,\";\",Blad3!H2596,\";\",Blad3!I2596),\"\")","v":""}]
[{"$f":"IF(AND(Blad1!C2597<>0,Blad1!D2597>0),CONCATENATE(Enhet!$B$1,\";\",Blad3!H2597,\";\",Blad3!I2597),\"\")","v":""}]
[{"$f":"IF(AND(Blad1!C2598<>0,Blad1!D2598>0),CONCATENATE(Enhet!$B$1,\";\",Blad3!H2598,\";\",Blad3!I2598),\"\")","v":""}]
[{"$f":"IF(AND(Blad1!C2599<>0,Blad1!D2599>0),CONCATENATE(Enhet!$B$1,\";\",Blad3!H2599,\";\",Blad3!I2599),\"\")","v":""}]
[{"$f":"IF(AND(Blad1!C2600<>0,Blad1!D2600>0),CONCATENATE(Enhet!$B$1,\";\",Blad3!H2600,\";\",Blad3!I2600),\"\")","v":""}]
[{"$f":"IF(AND(Blad1!C2601<>0,Blad1!D2601>0),CONCATENATE(Enhet!$B$1,\";\",Blad3!H2601,\";\",Blad3!I2601),\"\")","v":""}]
[{"$f":"IF(AND(Blad1!C2602<>0,Blad1!D2602>0),CONCATENATE(Enhet!$B$1,\";\",Blad3!H2602,\";\",Blad3!I2602),\"\")","v":""}]
[{"$f":"IF(AND(Blad1!C2603<>0,Blad1!D2603>0),CONCATENATE(Enhet!$B$1,\";\",Blad3!H2603,\";\",Blad3!I2603),\"\")","v":""}]
[{"$f":"IF(AND(Blad1!C2604<>0,Blad1!D2604>0),CONCATENATE(Enhet!$B$1,\";\",Blad3!H2604,\";\",Blad3!I2604),\"\")","v":""}]
[{"$f":"IF(AND(Blad1!C2605<>0,Blad1!D2605>0),CONCATENATE(Enhet!$B$1,\";\",Blad3!H2605,\";\",Blad3!I2605),\"\")","v":""}]
[{"$f":"IF(AND(Blad1!C2606<>0,Blad1!D2606>0),CONCATENATE(Enhet!$B$1,\";\",Blad3!H2606,\";\",Blad3!I2606),\"\")","v":""}]
[{"$f":"IF(AND(Blad1!C2607<>0,Blad1!D2607>0),CONCATENATE(Enhet!$B$1,\";\",Blad3!H2607,\";\",Blad3!I2607),\"\")","v":""}]
[{"$f":"IF(AND(Blad1!C2608<>0,Blad1!D2608>0),CONCATENATE(Enhet!$B$1,\";\",Blad3!H2608,\";\",Blad3!I2608),\"\")","v":""}]
[{"$f":"IF(AND(Blad1!C2609<>0,Blad1!D2609>0),CONCATENATE(Enhet!$B$1,\";\",Blad3!H2609,\";\",Blad3!I2609),\"\")","v":""}]
[{"$f":"IF(AND(Blad1!C2610<>0,Blad1!D2610>0),CONCATENATE(Enhet!$B$1,\";\",Blad3!H2610,\";\",Blad3!I2610),\"\")","v":""}]
[{"$f":"IF(AND(Blad1!C2611<>0,Blad1!D2611>0),CONCATENATE(Enhet!$B$1,\";\",Blad3!H2611,\";\",Blad3!I2611),\"\")","v":""}]
[{"$f":"IF(AND(Blad1!C2612<>0,Blad1!D2612>0),CONCATENATE(Enhet!$B$1,\";\",Blad3!H2612,\";\",Blad3!I2612),\"\")","v":""}]
[{"$f":"IF(AND(Blad1!C2613<>0,Blad1!D2613>0),CONCATENATE(Enhet!$B$1,\";\",Blad3!H2613,\";\",Blad3!I2613),\"\")","v":""}]
[{"$f":"IF(AND(Blad1!C2614<>0,Blad1!D2614>0),CONCATENATE(Enhet!$B$1,\";\",Blad3!H2614,\";\",Blad3!I2614),\"\")","v":""}]
[{"$f":"IF(AND(Blad1!C2615<>0,Blad1!D2615>0),CONCATENATE(Enhet!$B$1,\";\",Blad3!H2615,\";\",Blad3!I2615),\"\")","v":""}]
[{"$f":"IF(AND(Blad1!C2616<>0,Blad1!D2616>0),CONCATENATE(Enhet!$B$1,\";\",Blad3!H2616,\";\",Blad3!I2616),\"\")","v":""}]
[{"$f":"IF(AND(Blad1!C2617<>0,Blad1!D2617>0),CONCATENATE(Enhet!$B$1,\";\",Blad3!H2617,\";\",Blad3!I2617),\"\")","v":""}]
[{"$f":"IF(AND(Blad1!C2618<>0,Blad1!D2618>0),CONCATENATE(Enhet!$B$1,\";\",Blad3!H2618,\";\",Blad3!I2618),\"\")","v":""}]
[{"$f":"IF(AND(Blad1!C2619<>0,Blad1!D2619>0),CONCATENATE(Enhet!$B$1,\";\",Blad3!H2619,\";\",Blad3!I2619),\"\")","v":""}]
[{"$f":"IF(AND(Blad1!C2620<>0,Blad1!D2620>0),CONCATENATE(Enhet!$B$1,\";\",Blad3!H2620,\";\",Blad3!I2620),\"\")","v":""}]
[{"$f":"IF(AND(Blad1!C2621<>0,Blad1!D2621>0),CONCATENATE(Enhet!$B$1,\";\",Blad3!H2621,\";\",Blad3!I2621),\"\")","v":""}]
[{"$f":"IF(AND(Blad1!C2622<>0,Blad1!D2622>0),CONCATENATE(Enhet!$B$1,\";\",Blad3!H2622,\";\",Blad3!I2622),\"\")","v":""}]
[{"$f":"IF(AND(Blad1!C2623<>0,Blad1!D2623>0),CONCATENATE(Enhet!$B$1,\";\",Blad3!H2623,\";\",Blad3!I2623),\"\")","v":""}]
[{"$f":"IF(AND(Blad1!C2624<>0,Blad1!D2624>0),CONCATENATE(Enhet!$B$1,\";\",Blad3!H2624,\";\",Blad3!I2624),\"\")","v":""}]
[{"$f":"IF(AND(Blad1!C2625<>0,Blad1!D2625>0),CONCATENATE(Enhet!$B$1,\";\",Blad3!H2625,\";\",Blad3!I2625),\"\")","v":""}]
[{"$f":"IF(AND(Blad1!C2626<>0,Blad1!D2626>0),CONCATENATE(Enhet!$B$1,\";\",Blad3!H2626,\";\",Blad3!I2626),\"\")","v":""}]
[{"$f":"IF(AND(Blad1!C2627<>0,Blad1!D2627>0),CONCATENATE(Enhet!$B$1,\";\",Blad3!H2627,\";\",Blad3!I2627),\"\")","v":""}]
[{"$f":"IF(AND(Blad1!C2628<>0,Blad1!D2628>0),CONCATENATE(Enhet!$B$1,\";\",Blad3!H2628,\";\",Blad3!I2628),\"\")","v":""}]
[{"$f":"IF(AND(Blad1!C2629<>0,Blad1!D2629>0),CONCATENATE(Enhet!$B$1,\";\",Blad3!H2629,\";\",Blad3!I2629),\"\")","v":""}]
[{"$f":"IF(AND(Blad1!C2630<>0,Blad1!D2630>0),CONCATENATE(Enhet!$B$1,\";\",Blad3!H2630,\";\",Blad3!I2630),\"\")","v":""}]
[{"$f":"IF(AND(Blad1!C2631<>0,Blad1!D2631>0),CONCATENATE(Enhet!$B$1,\";\",Blad3!H2631,\";\",Blad3!I2631),\"\")","v":""}]
[{"$f":"IF(AND(Blad1!C2632<>0,Blad1!D2632>0),CONCATENATE(Enhet!$B$1,\";\",Blad3!H2632,\";\",Blad3!I2632),\"\")","v":""}]
[{"$f":"IF(AND(Blad1!C2633<>0,Blad1!D2633>0),CONCATENATE(Enhet!$B$1,\";\",Blad3!H2633,\";\",Blad3!I2633),\"\")","v":""}]
[{"$f":"IF(AND(Blad1!C2634<>0,Blad1!D2634>0),CONCATENATE(Enhet!$B$1,\";\",Blad3!H2634,\";\",Blad3!I2634),\"\")","v":""}]
[{"$f":"IF(AND(Blad1!C2635<>0,Blad1!D2635>0),CONCATENATE(Enhet!$B$1,\";\",Blad3!H2635,\";\",Blad3!I2635),\"\")","v":""}]
[{"$f":"IF(AND(Blad1!C2636<>0,Blad1!D2636>0),CONCATENATE(Enhet!$B$1,\";\",Blad3!H2636,\";\",Blad3!I2636),\"\")","v":""}]
[{"$f":"IF(AND(Blad1!C2637<>0,Blad1!D2637>0),CONCATENATE(Enhet!$B$1,\";\",Blad3!H2637,\";\",Blad3!I2637),\"\")","v":""}]
[{"$f":"IF(AND(Blad1!C2638<>0,Blad1!D2638>0),CONCATENATE(Enhet!$B$1,\";\",Blad3!H2638,\";\",Blad3!I2638),\"\")","v":""}]
[{"$f":"IF(AND(Blad1!C2639<>0,Blad1!D2639>0),CONCATENATE(Enhet!$B$1,\";\",Blad3!H2639,\";\",Blad3!I2639),\"\")","v":""}]
[{"$f":"IF(AND(Blad1!C2640<>0,Blad1!D2640>0),CONCATENATE(Enhet!$B$1,\";\",Blad3!H2640,\";\",Blad3!I2640),\"\")","v":""}]
[{"$f":"IF(AND(Blad1!C2641<>0,Blad1!D2641>0),CONCATENATE(Enhet!$B$1,\";\",Blad3!H2641,\";\",Blad3!I2641),\"\")","v":""}]
[{"$f":"IF(AND(Blad1!C2642<>0,Blad1!D2642>0),CONCATENATE(Enhet!$B$1,\";\",Blad3!H2642,\";\",Blad3!I2642),\"\")","v":""}]
[{"$f":"IF(AND(Blad1!C2643<>0,Blad1!D2643>0),CONCATENATE(Enhet!$B$1,\";\",Blad3!H2643,\";\",Blad3!I2643),\"\")","v":""}]
[{"$f":"IF(AND(Blad1!C2644<>0,Blad1!D2644>0),CONCATENATE(Enhet!$B$1,\";\",Blad3!H2644,\";\",Blad3!I2644),\"\")","v":""}]
[{"$f":"IF(AND(Blad1!C2645<>0,Blad1!D2645>0),CONCATENATE(Enhet!$B$1,\";\",Blad3!H2645,\";\",Blad3!I2645),\"\")","v":""}]
[{"$f":"IF(AND(Blad1!C2646<>0,Blad1!D2646>0),CONCATENATE(Enhet!$B$1,\";\",Blad3!H2646,\";\",Blad3!I2646),\"\")","v":""}]
[{"$f":"IF(AND(Blad1!C2647<>0,Blad1!D2647>0),CONCATENATE(Enhet!$B$1,\";\",Blad3!H2647,\";\",Blad3!I2647),\"\")","v":""}]
[{"$f":"IF(AND(Blad1!C2648<>0,Blad1!D2648>0),CONCATENATE(Enhet!$B$1,\";\",Blad3!H2648,\";\",Blad3!I2648),\"\")","v":""}]
[{"$f":"IF(AND(Blad1!C2649<>0,Blad1!D2649>0),CONCATENATE(Enhet!$B$1,\";\",Blad3!H2649,\";\",Blad3!I2649),\"\")","v":""}]
[{"$f":"IF(AND(Blad1!C2650<>0,Blad1!D2650>0),CONCATENATE(Enhet!$B$1,\";\",Blad3!H2650,\";\",Blad3!I2650),\"\")","v":""}]
[{"$f":"IF(AND(Blad1!C2651<>0,Blad1!D2651>0),CONCATENATE(Enhet!$B$1,\";\",Blad3!H2651,\";\",Blad3!I2651),\"\")","v":""}]
[{"$f":"IF(AND(Blad1!C2652<>0,Blad1!D2652>0),CONCATENATE(Enhet!$B$1,\";\",Blad3!H2652,\";\",Blad3!I2652),\"\")","v":""}]
[{"$f":"IF(AND(Blad1!C2653<>0,Blad1!D2653>0),CONCATENATE(Enhet!$B$1,\";\",Blad3!H2653,\";\",Blad3!I2653),\"\")","v":""}]
[{"$f":"IF(AND(Blad1!C2654<>0,Blad1!D2654>0),CONCATENATE(Enhet!$B$1,\";\",Blad3!H2654,\";\",Blad3!I2654),\"\")","v":""}]
[{"$f":"IF(AND(Blad1!C2655<>0,Blad1!D2655>0),CONCATENATE(Enhet!$B$1,\";\",Blad3!H2655,\";\",Blad3!I2655),\"\")","v":""}]
[{"$f":"IF(AND(Blad1!C2656<>0,Blad1!D2656>0),CONCATENATE(Enhet!$B$1,\";\",Blad3!H2656,\";\",Blad3!I2656),\"\")","v":""}]
[{"$f":"IF(AND(Blad1!C2657<>0,Blad1!D2657>0),CONCATENATE(Enhet!$B$1,\";\",Blad3!H2657,\";\",Blad3!I2657),\"\")","v":""}]
[{"$f":"IF(AND(Blad1!C2658<>0,Blad1!D2658>0),CONCATENATE(Enhet!$B$1,\";\",Blad3!H2658,\";\",Blad3!I2658),\"\")","v":""}]
[{"$f":"IF(AND(Blad1!C2659<>0,Blad1!D2659>0),CONCATENATE(Enhet!$B$1,\";\",Blad3!H2659,\";\",Blad3!I2659),\"\")","v":""}]
[{"$f":"IF(AND(Blad1!C2660<>0,Blad1!D2660>0),CONCATENATE(Enhet!$B$1,\";\",Blad3!H2660,\";\",Blad3!I2660),\"\")","v":""}]
[{"$f":"IF(AND(Blad1!C2661<>0,Blad1!D2661>0),CONCATENATE(Enhet!$B$1,\";\",Blad3!H2661,\";\",Blad3!I2661),\"\")","v":""}]
[{"$f":"IF(AND(Blad1!C2662<>0,Blad1!D2662>0),CONCATENATE(Enhet!$B$1,\";\",Blad3!H2662,\";\",Blad3!I2662),\"\")","v":""}]
[{"$f":"IF(AND(Blad1!C2663<>0,Blad1!D2663>0),CONCATENATE(Enhet!$B$1,\";\",Blad3!H2663,\";\",Blad3!I2663),\"\")","v":""}]
[{"$f":"IF(AND(Blad1!C2664<>0,Blad1!D2664>0),CONCATENATE(Enhet!$B$1,\";\",Blad3!H2664,\";\",Blad3!I2664),\"\")","v":""}]
[{"$f":"IF(AND(Blad1!C2665<>0,Blad1!D2665>0),CONCATENATE(Enhet!$B$1,\";\",Blad3!H2665,\";\",Blad3!I2665),\"\")","v":""}]
[{"$f":"IF(AND(Blad1!C2666<>0,Blad1!D2666>0),CONCATENATE(Enhet!$B$1,\";\",Blad3!H2666,\";\",Blad3!I2666),\"\")","v":""}]
[{"$f":"IF(AND(Blad1!C2667<>0,Blad1!D2667>0),CONCATENATE(Enhet!$B$1,\";\",Blad3!H2667,\";\",Blad3!I2667),\"\")","v":""}]
[{"$f":"IF(AND(Blad1!C2668<>0,Blad1!D2668>0),CONCATENATE(Enhet!$B$1,\";\",Blad3!H2668,\";\",Blad3!I2668),\"\")","v":""}]
[{"$f":"IF(AND(Blad1!C2669<>0,Blad1!D2669>0),CONCATENATE(Enhet!$B$1,\";\",Blad3!H2669,\";\",Blad3!I2669),\"\")","v":""}]
[{"$f":"IF(AND(Blad1!C2670<>0,Blad1!D2670>0),CONCATENATE(Enhet!$B$1,\";\",Blad3!H2670,\";\",Blad3!I2670),\"\")","v":""}]
[{"$f":"IF(AND(Blad1!C2671<>0,Blad1!D2671>0),CONCATENATE(Enhet!$B$1,\";\",Blad3!H2671,\";\",Blad3!I2671),\"\")","v":""}]
[{"$f":"IF(AND(Blad1!C2672<>0,Blad1!D2672>0),CONCATENATE(Enhet!$B$1,\";\",Blad3!H2672,\";\",Blad3!I2672),\"\")","v":""}]
[{"$f":"IF(AND(Blad1!C2673<>0,Blad1!D2673>0),CONCATENATE(Enhet!$B$1,\";\",Blad3!H2673,\";\",Blad3!I2673),\"\")","v":""}]
[{"$f":"IF(AND(Blad1!C2674<>0,Blad1!D2674>0),CONCATENATE(Enhet!$B$1,\";\",Blad3!H2674,\";\",Blad3!I2674),\"\")","v":""}]
[{"$f":"IF(AND(Blad1!C2675<>0,Blad1!D2675>0),CONCATENATE(Enhet!$B$1,\";\",Blad3!H2675,\";\",Blad3!I2675),\"\")","v":""}]
[{"$f":"IF(AND(Blad1!C2676<>0,Blad1!D2676>0),CONCATENATE(Enhet!$B$1,\";\",Blad3!H2676,\";\",Blad3!I2676),\"\")","v":""}]
[{"$f":"IF(AND(Blad1!C2677<>0,Blad1!D2677>0),CONCATENATE(Enhet!$B$1,\";\",Blad3!H2677,\";\",Blad3!I2677),\"\")","v":""}]
[{"$f":"IF(AND(Blad1!C2678<>0,Blad1!D2678>0),CONCATENATE(Enhet!$B$1,\";\",Blad3!H2678,\";\",Blad3!I2678),\"\")","v":""}]
[{"$f":"IF(AND(Blad1!C2679<>0,Blad1!D2679>0),CONCATENATE(Enhet!$B$1,\";\",Blad3!H2679,\";\",Blad3!I2679),\"\")","v":""}]
[{"$f":"IF(AND(Blad1!C2680<>0,Blad1!D2680>0),CONCATENATE(Enhet!$B$1,\";\",Blad3!H2680,\";\",Blad3!I2680),\"\")","v":""}]
[{"$f":"IF(AND(Blad1!C2681<>0,Blad1!D2681>0),CONCATENATE(Enhet!$B$1,\";\",Blad3!H2681,\";\",Blad3!I2681),\"\")","v":""}]
[{"$f":"IF(AND(Blad1!C2682<>0,Blad1!D2682>0),CONCATENATE(Enhet!$B$1,\";\",Blad3!H2682,\";\",Blad3!I2682),\"\")","v":""}]
[{"$f":"IF(AND(Blad1!C2683<>0,Blad1!D2683>0),CONCATENATE(Enhet!$B$1,\";\",Blad3!H2683,\";\",Blad3!I2683),\"\")","v":""}]
[{"$f":"IF(AND(Blad1!C2684<>0,Blad1!D2684>0),CONCATENATE(Enhet!$B$1,\";\",Blad3!H2684,\";\",Blad3!I2684),\"\")","v":""}]
[{"$f":"IF(AND(Blad1!C2685<>0,Blad1!D2685>0),CONCATENATE(Enhet!$B$1,\";\",Blad3!H2685,\";\",Blad3!I2685),\"\")","v":""}]
[{"$f":"IF(AND(Blad1!C2686<>0,Blad1!D2686>0),CONCATENATE(Enhet!$B$1,\";\",Blad3!H2686,\";\",Blad3!I2686),\"\")","v":""}]
[{"$f":"IF(AND(Blad1!C2687<>0,Blad1!D2687>0),CONCATENATE(Enhet!$B$1,\";\",Blad3!H2687,\";\",Blad3!I2687),\"\")","v":""}]
[{"$f":"IF(AND(Blad1!C2688<>0,Blad1!D2688>0),CONCATENATE(Enhet!$B$1,\";\",Blad3!H2688,\";\",Blad3!I2688),\"\")","v":""}]
[{"$f":"IF(AND(Blad1!C2689<>0,Blad1!D2689>0),CONCATENATE(Enhet!$B$1,\";\",Blad3!H2689,\";\",Blad3!I2689),\"\")","v":""}]
[{"$f":"IF(AND(Blad1!C2690<>0,Blad1!D2690>0),CONCATENATE(Enhet!$B$1,\";\",Blad3!H2690,\";\",Blad3!I2690),\"\")","v":""}]
[{"$f":"IF(AND(Blad1!C2691<>0,Blad1!D2691>0),CONCATENATE(Enhet!$B$1,\";\",Blad3!H2691,\";\",Blad3!I2691),\"\")","v":""}]
[{"$f":"IF(AND(Blad1!C2692<>0,Blad1!D2692>0),CONCATENATE(Enhet!$B$1,\";\",Blad3!H2692,\";\",Blad3!I2692),\"\")","v":""}]
[{"$f":"IF(AND(Blad1!C2693<>0,Blad1!D2693>0),CONCATENATE(Enhet!$B$1,\";\",Blad3!H2693,\";\",Blad3!I2693),\"\")","v":""}]
[{"$f":"IF(AND(Blad1!C2694<>0,Blad1!D2694>0),CONCATENATE(Enhet!$B$1,\";\",Blad3!H2694,\";\",Blad3!I2694),\"\")","v":""}]
[{"$f":"IF(AND(Blad1!C2695<>0,Blad1!D2695>0),CONCATENATE(Enhet!$B$1,\";\",Blad3!H2695,\";\",Blad3!I2695),\"\")","v":""}]
[{"$f":"IF(AND(Blad1!C2696<>0,Blad1!D2696>0),CONCATENATE(Enhet!$B$1,\";\",Blad3!H2696,\";\",Blad3!I2696),\"\")","v":""}]
[{"$f":"IF(AND(Blad1!C2697<>0,Blad1!D2697>0),CONCATENATE(Enhet!$B$1,\";\",Blad3!H2697,\";\",Blad3!I2697),\"\")","v":""}]
[{"$f":"IF(AND(Blad1!C2698<>0,Blad1!D2698>0),CONCATENATE(Enhet!$B$1,\";\",Blad3!H2698,\";\",Blad3!I2698),\"\")","v":""}]
[{"$f":"IF(AND(Blad1!C2699<>0,Blad1!D2699>0),CONCATENATE(Enhet!$B$1,\";\",Blad3!H2699,\";\",Blad3!I2699),\"\")","v":""}]
[{"$f":"IF(AND(Blad1!C2700<>0,Blad1!D2700>0),CONCATENATE(Enhet!$B$1,\";\",Blad3!H2700,\";\",Blad3!I2700),\"\")","v":""}]
[{"$f":"IF(AND(Blad1!C2701<>0,Blad1!D2701>0),CONCATENATE(Enhet!$B$1,\";\",Blad3!H2701,\";\",Blad3!I2701),\"\")","v":""}]
[{"$f":"IF(AND(Blad1!C2702<>0,Blad1!D2702>0),CONCATENATE(Enhet!$B$1,\";\",Blad3!H2702,\";\",Blad3!I2702),\"\")","v":""}]
[{"$f":"IF(AND(Blad1!C2703<>0,Blad1!D2703>0),CONCATENATE(Enhet!$B$1,\";\",Blad3!H2703,\";\",Blad3!I2703),\"\")","v":""}]
[{"$f":"IF(AND(Blad1!C2704<>0,Blad1!D2704>0),CONCATENATE(Enhet!$B$1,\";\",Blad3!H2704,\";\",Blad3!I2704),\"\")","v":""}]
[{"$f":"IF(AND(Blad1!C2705<>0,Blad1!D2705>0),CONCATENATE(Enhet!$B$1,\";\",Blad3!H2705,\";\",Blad3!I2705),\"\")","v":""}]
[{"$f":"IF(AND(Blad1!C2706<>0,Blad1!D2706>0),CONCATENATE(Enhet!$B$1,\";\",Blad3!H2706,\";\",Blad3!I2706),\"\")","v":""}]
[{"$f":"IF(AND(Blad1!C2707<>0,Blad1!D2707>0),CONCATENATE(Enhet!$B$1,\";\",Blad3!H2707,\";\",Blad3!I2707),\"\")","v":""}]
[{"$f":"IF(AND(Blad1!C2708<>0,Blad1!D2708>0),CONCATENATE(Enhet!$B$1,\";\",Blad3!H2708,\";\",Blad3!I2708),\"\")","v":""}]
[{"$f":"IF(AND(Blad1!C2709<>0,Blad1!D2709>0),CONCATENATE(Enhet!$B$1,\";\",Blad3!H2709,\";\",Blad3!I2709),\"\")","v":""}]
[{"$f":"IF(AND(Blad1!C2710<>0,Blad1!D2710>0),CONCATENATE(Enhet!$B$1,\";\",Blad3!H2710,\";\",Blad3!I2710),\"\")","v":""}]
[{"$f":"IF(AND(Blad1!C2711<>0,Blad1!D2711>0),CONCATENATE(Enhet!$B$1,\";\",Blad3!H2711,\";\",Blad3!I2711),\"\")","v":""}]
[{"$f":"IF(AND(Blad1!C2712<>0,Blad1!D2712>0),CONCATENATE(Enhet!$B$1,\";\",Blad3!H2712,\";\",Blad3!I2712),\"\")","v":""}]
[{"$f":"IF(AND(Blad1!C2713<>0,Blad1!D2713>0),CONCATENATE(Enhet!$B$1,\";\",Blad3!H2713,\";\",Blad3!I2713),\"\")","v":""}]
[{"$f":"IF(AND(Blad1!C2714<>0,Blad1!D2714>0),CONCATENATE(Enhet!$B$1,\";\",Blad3!H2714,\";\",Blad3!I2714),\"\")","v":""}]
[{"$f":"IF(AND(Blad1!C2715<>0,Blad1!D2715>0),CONCATENATE(Enhet!$B$1,\";\",Blad3!H2715,\";\",Blad3!I2715),\"\")","v":""}]
[{"$f":"IF(AND(Blad1!C2716<>0,Blad1!D2716>0),CONCATENATE(Enhet!$B$1,\";\",Blad3!H2716,\";\",Blad3!I2716),\"\")","v":""}]
[{"$f":"IF(AND(Blad1!C2717<>0,Blad1!D2717>0),CONCATENATE(Enhet!$B$1,\";\",Blad3!H2717,\";\",Blad3!I2717),\"\")","v":""}]
[{"$f":"IF(AND(Blad1!C2718<>0,Blad1!D2718>0),CONCATENATE(Enhet!$B$1,\";\",Blad3!H2718,\";\",Blad3!I2718),\"\")","v":""}]
[{"$f":"IF(AND(Blad1!C2719<>0,Blad1!D2719>0),CONCATENATE(Enhet!$B$1,\";\",Blad3!H2719,\";\",Blad3!I2719),\"\")","v":""}]
[{"$f":"IF(AND(Blad1!C2720<>0,Blad1!D2720>0),CONCATENATE(Enhet!$B$1,\";\",Blad3!H2720,\";\",Blad3!I2720),\"\")","v":""}]
[{"$f":"IF(AND(Blad1!C2721<>0,Blad1!D2721>0),CONCATENATE(Enhet!$B$1,\";\",Blad3!H2721,\";\",Blad3!I2721),\"\")","v":""}]
[{"$f":"IF(AND(Blad1!C2722<>0,Blad1!D2722>0),CONCATENATE(Enhet!$B$1,\";\",Blad3!H2722,\";\",Blad3!I2722),\"\")","v":""}]
[{"$f":"IF(AND(Blad1!C2723<>0,Blad1!D2723>0),CONCATENATE(Enhet!$B$1,\";\",Blad3!H2723,\";\",Blad3!I2723),\"\")","v":""}]
[{"$f":"IF(AND(Blad1!C2724<>0,Blad1!D2724>0),CONCATENATE(Enhet!$B$1,\";\",Blad3!H2724,\";\",Blad3!I2724),\"\")","v":""}]
[{"$f":"IF(AND(Blad1!C2725<>0,Blad1!D2725>0),CONCATENATE(Enhet!$B$1,\";\",Blad3!H2725,\";\",Blad3!I2725),\"\")","v":""}]
[{"$f":"IF(AND(Blad1!C2726<>0,Blad1!D2726>0),CONCATENATE(Enhet!$B$1,\";\",Blad3!H2726,\";\",Blad3!I2726),\"\")","v":""}]
[{"$f":"IF(AND(Blad1!C2727<>0,Blad1!D2727>0),CONCATENATE(Enhet!$B$1,\";\",Blad3!H2727,\";\",Blad3!I2727),\"\")","v":""}]
[{"$f":"IF(AND(Blad1!C2728<>0,Blad1!D2728>0),CONCATENATE(Enhet!$B$1,\";\",Blad3!H2728,\";\",Blad3!I2728),\"\")","v":""}]
[{"$f":"IF(AND(Blad1!C2729<>0,Blad1!D2729>0),CONCATENATE(Enhet!$B$1,\";\",Blad3!H2729,\";\",Blad3!I2729),\"\")","v":""}]
[{"$f":"IF(AND(Blad1!C2730<>0,Blad1!D2730>0),CONCATENATE(Enhet!$B$1,\";\",Blad3!H2730,\";\",Blad3!I2730),\"\")","v":""}]
[{"$f":"IF(AND(Blad1!C2731<>0,Blad1!D2731>0),CONCATENATE(Enhet!$B$1,\";\",Blad3!H2731,\";\",Blad3!I2731),\"\")","v":""}]
[{"$f":"IF(AND(Blad1!C2732<>0,Blad1!D2732>0),CONCATENATE(Enhet!$B$1,\";\",Blad3!H2732,\";\",Blad3!I2732),\"\")","v":""}]
[{"$f":"IF(AND(Blad1!C2733<>0,Blad1!D2733>0),CONCATENATE(Enhet!$B$1,\";\",Blad3!H2733,\";\",Blad3!I2733),\"\")","v":""}]
[{"$f":"IF(AND(Blad1!C2734<>0,Blad1!D2734>0),CONCATENATE(Enhet!$B$1,\";\",Blad3!H2734,\";\",Blad3!I2734),\"\")","v":""}]
[{"$f":"IF(AND(Blad1!C2735<>0,Blad1!D2735>0),CONCATENATE(Enhet!$B$1,\";\",Blad3!H2735,\";\",Blad3!I2735),\"\")","v":""}]
[{"$f":"IF(AND(Blad1!C2736<>0,Blad1!D2736>0),CONCATENATE(Enhet!$B$1,\";\",Blad3!H2736,\";\",Blad3!I2736),\"\")","v":""}]
[{"$f":"IF(AND(Blad1!C2737<>0,Blad1!D2737>0),CONCATENATE(Enhet!$B$1,\";\",Blad3!H2737,\";\",Blad3!I2737),\"\")","v":""}]
[{"$f":"IF(AND(Blad1!C2738<>0,Blad1!D2738>0),CONCATENATE(Enhet!$B$1,\";\",Blad3!H2738,\";\",Blad3!I2738),\"\")","v":""}]
[{"$f":"IF(AND(Blad1!C2739<>0,Blad1!D2739>0),CONCATENATE(Enhet!$B$1,\";\",Blad3!H2739,\";\",Blad3!I2739),\"\")","v":""}]
[{"$f":"IF(AND(Blad1!C2740<>0,Blad1!D2740>0),CONCATENATE(Enhet!$B$1,\";\",Blad3!H2740,\";\",Blad3!I2740),\"\")","v":""}]
[{"$f":"IF(AND(Blad1!C2741<>0,Blad1!D2741>0),CONCATENATE(Enhet!$B$1,\";\",Blad3!H2741,\";\",Blad3!I2741),\"\")","v":""}]
[{"$f":"IF(AND(Blad1!C2742<>0,Blad1!D2742>0),CONCATENATE(Enhet!$B$1,\";\",Blad3!H2742,\";\",Blad3!I2742),\"\")","v":""}]
[{"$f":"IF(AND(Blad1!C2743<>0,Blad1!D2743>0),CONCATENATE(Enhet!$B$1,\";\",Blad3!H2743,\";\",Blad3!I2743),\"\")","v":""}]
[{"$f":"IF(AND(Blad1!C2744<>0,Blad1!D2744>0),CONCATENATE(Enhet!$B$1,\";\",Blad3!H2744,\";\",Blad3!I2744),\"\")","v":""}]
[{"$f":"IF(AND(Blad1!C2745<>0,Blad1!D2745>0),CONCATENATE(Enhet!$B$1,\";\",Blad3!H2745,\";\",Blad3!I2745),\"\")","v":""}]
[{"$f":"IF(AND(Blad1!C2746<>0,Blad1!D2746>0),CONCATENATE(Enhet!$B$1,\";\",Blad3!H2746,\";\",Blad3!I2746),\"\")","v":""}]
[{"$f":"IF(AND(Blad1!C2747<>0,Blad1!D2747>0),CONCATENATE(Enhet!$B$1,\";\",Blad3!H2747,\";\",Blad3!I2747),\"\")","v":""}]
[{"$f":"IF(AND(Blad1!C2748<>0,Blad1!D2748>0),CONCATENATE(Enhet!$B$1,\";\",Blad3!H2748,\";\",Blad3!I2748),\"\")","v":""}]
[{"$f":"IF(AND(Blad1!C2749<>0,Blad1!D2749>0),CONCATENATE(Enhet!$B$1,\";\",Blad3!H2749,\";\",Blad3!I2749),\"\")","v":""}]
[{"$f":"IF(AND(Blad1!C2750<>0,Blad1!D2750>0),CONCATENATE(Enhet!$B$1,\";\",Blad3!H2750,\";\",Blad3!I2750),\"\")","v":""}]
[{"$f":"IF(AND(Blad1!C2751<>0,Blad1!D2751>0),CONCATENATE(Enhet!$B$1,\";\",Blad3!H2751,\";\",Blad3!I2751),\"\")","v":""}]
[{"$f":"IF(AND(Blad1!C2752<>0,Blad1!D2752>0),CONCATENATE(Enhet!$B$1,\";\",Blad3!H2752,\";\",Blad3!I2752),\"\")","v":""}]
[{"$f":"IF(AND(Blad1!C2753<>0,Blad1!D2753>0),CONCATENATE(Enhet!$B$1,\";\",Blad3!H2753,\";\",Blad3!I2753),\"\")","v":""}]
[{"$f":"IF(AND(Blad1!C2754<>0,Blad1!D2754>0),CONCATENATE(Enhet!$B$1,\";\",Blad3!H2754,\";\",Blad3!I2754),\"\")","v":""}]
[{"$f":"IF(AND(Blad1!C2755<>0,Blad1!D2755>0),CONCATENATE(Enhet!$B$1,\";\",Blad3!H2755,\";\",Blad3!I2755),\"\")","v":""}]
[{"$f":"IF(AND(Blad1!C2756<>0,Blad1!D2756>0),CONCATENATE(Enhet!$B$1,\";\",Blad3!H2756,\";\",Blad3!I2756),\"\")","v":""}]
[{"$f":"IF(AND(Blad1!C2757<>0,Blad1!D2757>0),CONCATENATE(Enhet!$B$1,\";\",Blad3!H2757,\";\",Blad3!I2757),\"\")","v":""}]
[{"$f":"IF(AND(Blad1!C2758<>0,Blad1!D2758>0),CONCATENATE(Enhet!$B$1,\";\",Blad3!H2758,\";\",Blad3!I2758),\"\")","v":""}]
[{"$f":"IF(AND(Blad1!C2759<>0,Blad1!D2759>0),CONCATENATE(Enhet!$B$1,\";\",Blad3!H2759,\";\",Blad3!I2759),\"\")","v":""}]
[{"$f":"IF(AND(Blad1!C2760<>0,Blad1!D2760>0),CONCATENATE(Enhet!$B$1,\";\",Blad3!H2760,\";\",Blad3!I2760),\"\")","v":""}]
[{"$f":"IF(AND(Blad1!C2761<>0,Blad1!D2761>0),CONCATENATE(Enhet!$B$1,\";\",Blad3!H2761,\";\",Blad3!I2761),\"\")","v":""}]
[{"$f":"IF(AND(Blad1!C2762<>0,Blad1!D2762>0),CONCATENATE(Enhet!$B$1,\";\",Blad3!H2762,\";\",Blad3!I2762),\"\")","v":""}]
[{"$f":"IF(AND(Blad1!C2763<>0,Blad1!D2763>0),CONCATENATE(Enhet!$B$1,\";\",Blad3!H2763,\";\",Blad3!I2763),\"\")","v":""}]
[{"$f":"IF(AND(Blad1!C2764<>0,Blad1!D2764>0),CONCATENATE(Enhet!$B$1,\";\",Blad3!H2764,\";\",Blad3!I2764),\"\")","v":""}]
[{"$f":"IF(AND(Blad1!C2765<>0,Blad1!D2765>0),CONCATENATE(Enhet!$B$1,\";\",Blad3!H2765,\";\",Blad3!I2765),\"\")","v":""}]
[{"$f":"IF(AND(Blad1!C2766<>0,Blad1!D2766>0),CONCATENATE(Enhet!$B$1,\";\",Blad3!H2766,\";\",Blad3!I2766),\"\")","v":""}]
[{"$f":"IF(AND(Blad1!C2767<>0,Blad1!D2767>0),CONCATENATE(Enhet!$B$1,\";\",Blad3!H2767,\";\",Blad3!I2767),\"\")","v":""}]
[{"$f":"IF(AND(Blad1!C2768<>0,Blad1!D2768>0),CONCATENATE(Enhet!$B$1,\";\",Blad3!H2768,\";\",Blad3!I2768),\"\")","v":""}]
[{"$f":"IF(AND(Blad1!C2769<>0,Blad1!D2769>0),CONCATENATE(Enhet!$B$1,\";\",Blad3!H2769,\";\",Blad3!I2769),\"\")","v":""}]
[{"$f":"IF(AND(Blad1!C2770<>0,Blad1!D2770>0),CONCATENATE(Enhet!$B$1,\";\",Blad3!H2770,\";\",Blad3!I2770),\"\")","v":""}]
[{"$f":"IF(AND(Blad1!C2771<>0,Blad1!D2771>0),CONCATENATE(Enhet!$B$1,\";\",Blad3!H2771,\";\",Blad3!I2771),\"\")","v":""}]
[{"$f":"IF(AND(Blad1!C2772<>0,Blad1!D2772>0),CONCATENATE(Enhet!$B$1,\";\",Blad3!H2772,\";\",Blad3!I2772),\"\")","v":""}]
[{"$f":"IF(AND(Blad1!C2773<>0,Blad1!D2773>0),CONCATENATE(Enhet!$B$1,\";\",Blad3!H2773,\";\",Blad3!I2773),\"\")","v":""}]
[{"$f":"IF(AND(Blad1!C2774<>0,Blad1!D2774>0),CONCATENATE(Enhet!$B$1,\";\",Blad3!H2774,\";\",Blad3!I2774),\"\")","v":""}]
[{"$f":"IF(AND(Blad1!C2775<>0,Blad1!D2775>0),CONCATENATE(Enhet!$B$1,\";\",Blad3!H2775,\";\",Blad3!I2775),\"\")","v":""}]
[{"$f":"IF(AND(Blad1!C2776<>0,Blad1!D2776>0),CONCATENATE(Enhet!$B$1,\";\",Blad3!H2776,\";\",Blad3!I2776),\"\")","v":""}]
[{"$f":"IF(AND(Blad1!C2777<>0,Blad1!D2777>0),CONCATENATE(Enhet!$B$1,\";\",Blad3!H2777,\";\",Blad3!I2777),\"\")","v":""}]
[{"$f":"IF(AND(Blad1!C2778<>0,Blad1!D2778>0),CONCATENATE(Enhet!$B$1,\";\",Blad3!H2778,\";\",Blad3!I2778),\"\")","v":""}]
[{"$f":"IF(AND(Blad1!C2779<>0,Blad1!D2779>0),CONCATENATE(Enhet!$B$1,\";\",Blad3!H2779,\";\",Blad3!I2779),\"\")","v":""}]
[{"$f":"IF(AND(Blad1!C2780<>0,Blad1!D2780>0),CONCATENATE(Enhet!$B$1,\";\",Blad3!H2780,\";\",Blad3!I2780),\"\")","v":""}]
[{"$f":"IF(AND(Blad1!C2781<>0,Blad1!D2781>0),CONCATENATE(Enhet!$B$1,\";\",Blad3!H2781,\";\",Blad3!I2781),\"\")","v":""}]
[{"$f":"IF(AND(Blad1!C2782<>0,Blad1!D2782>0),CONCATENATE(Enhet!$B$1,\";\",Blad3!H2782,\";\",Blad3!I2782),\"\")","v":""}]
[{"$f":"IF(AND(Blad1!C2783<>0,Blad1!D2783>0),CONCATENATE(Enhet!$B$1,\";\",Blad3!H2783,\";\",Blad3!I2783),\"\")","v":""}]
[{"$f":"IF(AND(Blad1!C2784<>0,Blad1!D2784>0),CONCATENATE(Enhet!$B$1,\";\",Blad3!H2784,\";\",Blad3!I2784),\"\")","v":""}]
[{"$f":"IF(AND(Blad1!C2785<>0,Blad1!D2785>0),CONCATENATE(Enhet!$B$1,\";\",Blad3!H2785,\";\",Blad3!I2785),\"\")","v":""}]
[{"$f":"IF(AND(Blad1!C2786<>0,Blad1!D2786>0),CONCATENATE(Enhet!$B$1,\";\",Blad3!H2786,\";\",Blad3!I2786),\"\")","v":""}]
[{"$f":"IF(AND(Blad1!C2787<>0,Blad1!D2787>0),CONCATENATE(Enhet!$B$1,\";\",Blad3!H2787,\";\",Blad3!I2787),\"\")","v":""}]
[{"$f":"IF(AND(Blad1!C2788<>0,Blad1!D2788>0),CONCATENATE(Enhet!$B$1,\";\",Blad3!H2788,\";\",Blad3!I2788),\"\")","v":""}]
[{"$f":"IF(AND(Blad1!C2789<>0,Blad1!D2789>0),CONCATENATE(Enhet!$B$1,\";\",Blad3!H2789,\";\",Blad3!I2789),\"\")","v":""}]
[{"$f":"IF(AND(Blad1!C2790<>0,Blad1!D2790>0),CONCATENATE(Enhet!$B$1,\";\",Blad3!H2790,\";\",Blad3!I2790),\"\")","v":""}]
[{"$f":"IF(AND(Blad1!C2791<>0,Blad1!D2791>0),CONCATENATE(Enhet!$B$1,\";\",Blad3!H2791,\";\",Blad3!I2791),\"\")","v":""}]
[{"$f":"IF(AND(Blad1!C2792<>0,Blad1!D2792>0),CONCATENATE(Enhet!$B$1,\";\",Blad3!H2792,\";\",Blad3!I2792),\"\")","v":""}]
[{"$f":"IF(AND(Blad1!C2793<>0,Blad1!D2793>0),CONCATENATE(Enhet!$B$1,\";\",Blad3!H2793,\";\",Blad3!I2793),\"\")","v":""}]
[{"$f":"IF(AND(Blad1!C2794<>0,Blad1!D2794>0),CONCATENATE(Enhet!$B$1,\";\",Blad3!H2794,\";\",Blad3!I2794),\"\")","v":""}]
[{"$f":"IF(AND(Blad1!C2795<>0,Blad1!D2795>0),CONCATENATE(Enhet!$B$1,\";\",Blad3!H2795,\";\",Blad3!I2795),\"\")","v":""}]
[{"$f":"IF(AND(Blad1!C2796<>0,Blad1!D2796>0),CONCATENATE(Enhet!$B$1,\";\",Blad3!H2796,\";\",Blad3!I2796),\"\")","v":""}]
[{"$f":"IF(AND(Blad1!C2797<>0,Blad1!D2797>0),CONCATENATE(Enhet!$B$1,\";\",Blad3!H2797,\";\",Blad3!I2797),\"\")","v":""}]
[{"$f":"IF(AND(Blad1!C2798<>0,Blad1!D2798>0),CONCATENATE(Enhet!$B$1,\";\",Blad3!H2798,\";\",Blad3!I2798),\"\")","v":""}]
[{"$f":"IF(AND(Blad1!C2799<>0,Blad1!D2799>0),CONCATENATE(Enhet!$B$1,\";\",Blad3!H2799,\";\",Blad3!I2799),\"\")","v":""}]
[{"$f":"IF(AND(Blad1!C2800<>0,Blad1!D2800>0),CONCATENATE(Enhet!$B$1,\";\",Blad3!H2800,\";\",Blad3!I2800),\"\")","v":""}]
[{"$f":"IF(AND(Blad1!C2801<>0,Blad1!D2801>0),CONCATENATE(Enhet!$B$1,\";\",Blad3!H2801,\";\",Blad3!I2801),\"\")","v":""}]
[{"$f":"IF(AND(Blad1!C2802<>0,Blad1!D2802>0),CONCATENATE(Enhet!$B$1,\";\",Blad3!H2802,\";\",Blad3!I2802),\"\")","v":""}]
[{"$f":"IF(AND(Blad1!C2803<>0,Blad1!D2803>0),CONCATENATE(Enhet!$B$1,\";\",Blad3!H2803,\";\",Blad3!I2803),\"\")","v":""}]
[{"$f":"IF(AND(Blad1!C2804<>0,Blad1!D2804>0),CONCATENATE(Enhet!$B$1,\";\",Blad3!H2804,\";\",Blad3!I2804),\"\")","v":""}]
[{"$f":"IF(AND(Blad1!C2805<>0,Blad1!D2805>0),CONCATENATE(Enhet!$B$1,\";\",Blad3!H2805,\";\",Blad3!I2805),\"\")","v":""}]
[{"$f":"IF(AND(Blad1!C2806<>0,Blad1!D2806>0),CONCATENATE(Enhet!$B$1,\";\",Blad3!H2806,\";\",Blad3!I2806),\"\")","v":""}]
[{"$f":"IF(AND(Blad1!C2807<>0,Blad1!D2807>0),CONCATENATE(Enhet!$B$1,\";\",Blad3!H2807,\";\",Blad3!I2807),\"\")","v":""}]
[{"$f":"IF(AND(Blad1!C2808<>0,Blad1!D2808>0),CONCATENATE(Enhet!$B$1,\";\",Blad3!H2808,\";\",Blad3!I2808),\"\")","v":""}]
[{"$f":"IF(AND(Blad1!C2809<>0,Blad1!D2809>0),CONCATENATE(Enhet!$B$1,\";\",Blad3!H2809,\";\",Blad3!I2809),\"\")","v":""}]
[{"$f":"IF(AND(Blad1!C2810<>0,Blad1!D2810>0),CONCATENATE(Enhet!$B$1,\";\",Blad3!H2810,\";\",Blad3!I2810),\"\")","v":""}]
[{"$f":"IF(AND(Blad1!C2811<>0,Blad1!D2811>0),CONCATENATE(Enhet!$B$1,\";\",Blad3!H2811,\";\",Blad3!I2811),\"\")","v":""}]
[{"$f":"IF(AND(Blad1!C2812<>0,Blad1!D2812>0),CONCATENATE(Enhet!$B$1,\";\",Blad3!H2812,\";\",Blad3!I2812),\"\")","v":""}]
[{"$f":"IF(AND(Blad1!C2813<>0,Blad1!D2813>0),CONCATENATE(Enhet!$B$1,\";\",Blad3!H2813,\";\",Blad3!I2813),\"\")","v":""}]
[{"$f":"IF(AND(Blad1!C2814<>0,Blad1!D2814>0),CONCATENATE(Enhet!$B$1,\";\",Blad3!H2814,\";\",Blad3!I2814),\"\")","v":""}]
[{"$f":"IF(AND(Blad1!C2815<>0,Blad1!D2815>0),CONCATENATE(Enhet!$B$1,\";\",Blad3!H2815,\";\",Blad3!I2815),\"\")","v":""}]
[{"$f":"IF(AND(Blad1!C2816<>0,Blad1!D2816>0),CONCATENATE(Enhet!$B$1,\";\",Blad3!H2816,\";\",Blad3!I2816),\"\")","v":""}]
[{"$f":"IF(AND(Blad1!C2817<>0,Blad1!D2817>0),CONCATENATE(Enhet!$B$1,\";\",Blad3!H2817,\";\",Blad3!I2817),\"\")","v":""}]
[{"$f":"IF(AND(Blad1!C2818<>0,Blad1!D2818>0),CONCATENATE(Enhet!$B$1,\";\",Blad3!H2818,\";\",Blad3!I2818),\"\")","v":""}]
[{"$f":"IF(AND(Blad1!C2819<>0,Blad1!D2819>0),CONCATENATE(Enhet!$B$1,\";\",Blad3!H2819,\";\",Blad3!I2819),\"\")","v":""}]
[{"$f":"IF(AND(Blad1!C2820<>0,Blad1!D2820>0),CONCATENATE(Enhet!$B$1,\";\",Blad3!H2820,\";\",Blad3!I2820),\"\")","v":""}]
[{"$f":"IF(AND(Blad1!C2821<>0,Blad1!D2821>0),CONCATENATE(Enhet!$B$1,\";\",Blad3!H2821,\";\",Blad3!I2821),\"\")","v":""}]
[{"$f":"IF(AND(Blad1!C2822<>0,Blad1!D2822>0),CONCATENATE(Enhet!$B$1,\";\",Blad3!H2822,\";\",Blad3!I2822),\"\")","v":""}]
[{"$f":"IF(AND(Blad1!C2823<>0,Blad1!D2823>0),CONCATENATE(Enhet!$B$1,\";\",Blad3!H2823,\";\",Blad3!I2823),\"\")","v":""}]
[{"$f":"IF(AND(Blad1!C2824<>0,Blad1!D2824>0),CONCATENATE(Enhet!$B$1,\";\",Blad3!H2824,\";\",Blad3!I2824),\"\")","v":""}]
[{"$f":"IF(AND(Blad1!C2825<>0,Blad1!D2825>0),CONCATENATE(Enhet!$B$1,\";\",Blad3!H2825,\";\",Blad3!I2825),\"\")","v":""}]
[{"$f":"IF(AND(Blad1!C2826<>0,Blad1!D2826>0),CONCATENATE(Enhet!$B$1,\";\",Blad3!H2826,\";\",Blad3!I2826),\"\")","v":""}]
[{"$f":"IF(AND(Blad1!C2827<>0,Blad1!D2827>0),CONCATENATE(Enhet!$B$1,\";\",Blad3!H2827,\";\",Blad3!I2827),\"\")","v":""}]
[{"$f":"IF(AND(Blad1!C2828<>0,Blad1!D2828>0),CONCATENATE(Enhet!$B$1,\";\",Blad3!H2828,\";\",Blad3!I2828),\"\")","v":""}]
[{"$f":"IF(AND(Blad1!C2829<>0,Blad1!D2829>0),CONCATENATE(Enhet!$B$1,\";\",Blad3!H2829,\";\",Blad3!I2829),\"\")","v":""}]
[{"$f":"IF(AND(Blad1!C2830<>0,Blad1!D2830>0),CONCATENATE(Enhet!$B$1,\";\",Blad3!H2830,\";\",Blad3!I2830),\"\")","v":""}]
[{"$f":"IF(AND(Blad1!C2831<>0,Blad1!D2831>0),CONCATENATE(Enhet!$B$1,\";\",Blad3!H2831,\";\",Blad3!I2831),\"\")","v":""}]
[{"$f":"IF(AND(Blad1!C2832<>0,Blad1!D2832>0),CONCATENATE(Enhet!$B$1,\";\",Blad3!H2832,\";\",Blad3!I2832),\"\")","v":""}]
[{"$f":"IF(AND(Blad1!C2833<>0,Blad1!D2833>0),CONCATENATE(Enhet!$B$1,\";\",Blad3!H2833,\";\",Blad3!I2833),\"\")","v":""}]
[{"$f":"IF(AND(Blad1!C2834<>0,Blad1!D2834>0),CONCATENATE(Enhet!$B$1,\";\",Blad3!H2834,\";\",Blad3!I2834),\"\")","v":""}]
[{"$f":"IF(AND(Blad1!C2835<>0,Blad1!D2835>0),CONCATENATE(Enhet!$B$1,\";\",Blad3!H2835,\";\",Blad3!I2835),\"\")","v":""}]
[{"$f":"IF(AND(Blad1!C2836<>0,Blad1!D2836>0),CONCATENATE(Enhet!$B$1,\";\",Blad3!H2836,\";\",Blad3!I2836),\"\")","v":""}]
[{"$f":"IF(AND(Blad1!C2837<>0,Blad1!D2837>0),CONCATENATE(Enhet!$B$1,\";\",Blad3!H2837,\";\",Blad3!I2837),\"\")","v":""}]
[{"$f":"IF(AND(Blad1!C2838<>0,Blad1!D2838>0),CONCATENATE(Enhet!$B$1,\";\",Blad3!H2838,\";\",Blad3!I2838),\"\")","v":""}]
[{"$f":"IF(AND(Blad1!C2839<>0,Blad1!D2839>0),CONCATENATE(Enhet!$B$1,\";\",Blad3!H2839,\";\",Blad3!I2839),\"\")","v":""}]
[{"$f":"IF(AND(Blad1!C2840<>0,Blad1!D2840>0),CONCATENATE(Enhet!$B$1,\";\",Blad3!H2840,\";\",Blad3!I2840),\"\")","v":""}]
[{"$f":"IF(AND(Blad1!C2841<>0,Blad1!D2841>0),CONCATENATE(Enhet!$B$1,\";\",Blad3!H2841,\";\",Blad3!I2841),\"\")","v":""}]
[{"$f":"IF(AND(Blad1!C2842<>0,Blad1!D2842>0),CONCATENATE(Enhet!$B$1,\";\",Blad3!H2842,\";\",Blad3!I2842),\"\")","v":""}]
[{"$f":"IF(AND(Blad1!C2843<>0,Blad1!D2843>0),CONCATENATE(Enhet!$B$1,\";\",Blad3!H2843,\";\",Blad3!I2843),\"\")","v":""}]
[{"$f":"IF(AND(Blad1!C2844<>0,Blad1!D2844>0),CONCATENATE(Enhet!$B$1,\";\",Blad3!H2844,\";\",Blad3!I2844),\"\")","v":""}]
[{"$f":"IF(AND(Blad1!C2845<>0,Blad1!D2845>0),CONCATENATE(Enhet!$B$1,\";\",Blad3!H2845,\";\",Blad3!I2845),\"\")","v":""}]
[{"$f":"IF(AND(Blad1!C2846<>0,Blad1!D2846>0),CONCATENATE(Enhet!$B$1,\";\",Blad3!H2846,\";\",Blad3!I2846),\"\")","v":""}]
[{"$f":"IF(AND(Blad1!C2847<>0,Blad1!D2847>0),CONCATENATE(Enhet!$B$1,\";\",Blad3!H2847,\";\",Blad3!I2847),\"\")","v":""}]
[{"$f":"IF(AND(Blad1!C2848<>0,Blad1!D2848>0),CONCATENATE(Enhet!$B$1,\";\",Blad3!H2848,\";\",Blad3!I2848),\"\")","v":""}]
[{"$f":"IF(AND(Blad1!C2849<>0,Blad1!D2849>0),CONCATENATE(Enhet!$B$1,\";\",Blad3!H2849,\";\",Blad3!I2849),\"\")","v":""}]
[{"$f":"IF(AND(Blad1!C2850<>0,Blad1!D2850>0),CONCATENATE(Enhet!$B$1,\";\",Blad3!H2850,\";\",Blad3!I2850),\"\")","v":""}]
[{"$f":"IF(AND(Blad1!C2851<>0,Blad1!D2851>0),CONCATENATE(Enhet!$B$1,\";\",Blad3!H2851,\";\",Blad3!I2851),\"\")","v":""}]
[{"$f":"IF(AND(Blad1!C2852<>0,Blad1!D2852>0),CONCATENATE(Enhet!$B$1,\";\",Blad3!H2852,\";\",Blad3!I2852),\"\")","v":""}]
[{"$f":"IF(AND(Blad1!C2853<>0,Blad1!D2853>0),CONCATENATE(Enhet!$B$1,\";\",Blad3!H2853,\";\",Blad3!I2853),\"\")","v":""}]
[{"$f":"IF(AND(Blad1!C2854<>0,Blad1!D2854>0),CONCATENATE(Enhet!$B$1,\";\",Blad3!H2854,\";\",Blad3!I2854),\"\")","v":""}]
[{"$f":"IF(AND(Blad1!C2855<>0,Blad1!D2855>0),CONCATENATE(Enhet!$B$1,\";\",Blad3!H2855,\";\",Blad3!I2855),\"\")","v":""}]
[{"$f":"IF(AND(Blad1!C2856<>0,Blad1!D2856>0),CONCATENATE(Enhet!$B$1,\";\",Blad3!H2856,\";\",Blad3!I2856),\"\")","v":""}]
[{"$f":"IF(AND(Blad1!C2857<>0,Blad1!D2857>0),CONCATENATE(Enhet!$B$1,\";\",Blad3!H2857,\";\",Blad3!I2857),\"\")","v":""}]
[{"$f":"IF(AND(Blad1!C2858<>0,Blad1!D2858>0),CONCATENATE(Enhet!$B$1,\";\",Blad3!H2858,\";\",Blad3!I2858),\"\")","v":""}]
[{"$f":"IF(AND(Blad1!C2859<>0,Blad1!D2859>0),CONCATENATE(Enhet!$B$1,\";\",Blad3!H2859,\";\",Blad3!I2859),\"\")","v":""}]
[{"$f":"IF(AND(Blad1!C2860<>0,Blad1!D2860>0),CONCATENATE(Enhet!$B$1,\";\",Blad3!H2860,\";\",Blad3!I2860),\"\")","v":""}]
[{"$f":"IF(AND(Blad1!C2861<>0,Blad1!D2861>0),CONCATENATE(Enhet!$B$1,\";\",Blad3!H2861,\";\",Blad3!I2861),\"\")","v":""}]
[{"$f":"IF(AND(Blad1!C2862<>0,Blad1!D2862>0),CONCATENATE(Enhet!$B$1,\";\",Blad3!H2862,\";\",Blad3!I2862),\"\")","v":""}]
[{"$f":"IF(AND(Blad1!C2863<>0,Blad1!D2863>0),CONCATENATE(Enhet!$B$1,\";\",Blad3!H2863,\";\",Blad3!I2863),\"\")","v":""}]
[{"$f":"IF(AND(Blad1!C2864<>0,Blad1!D2864>0),CONCATENATE(Enhet!$B$1,\";\",Blad3!H2864,\";\",Blad3!I2864),\"\")","v":""}]
[{"$f":"IF(AND(Blad1!C2865<>0,Blad1!D2865>0),CONCATENATE(Enhet!$B$1,\";\",Blad3!H2865,\";\",Blad3!I2865),\"\")","v":""}]
[{"$f":"IF(AND(Blad1!C2866<>0,Blad1!D2866>0),CONCATENATE(Enhet!$B$1,\";\",Blad3!H2866,\";\",Blad3!I2866),\"\")","v":""}]
[{"$f":"IF(AND(Blad1!C2867<>0,Blad1!D2867>0),CONCATENATE(Enhet!$B$1,\";\",Blad3!H2867,\";\",Blad3!I2867),\"\")","v":""}]
[{"$f":"IF(AND(Blad1!C2868<>0,Blad1!D2868>0),CONCATENATE(Enhet!$B$1,\";\",Blad3!H2868,\";\",Blad3!I2868),\"\")","v":""}]
[{"$f":"IF(AND(Blad1!C2869<>0,Blad1!D2869>0),CONCATENATE(Enhet!$B$1,\";\",Blad3!H2869,\";\",Blad3!I2869),\"\")","v":""}]
[{"$f":"IF(AND(Blad1!C2870<>0,Blad1!D2870>0),CONCATENATE(Enhet!$B$1,\";\",Blad3!H2870,\";\",Blad3!I2870),\"\")","v":""}]
[{"$f":"IF(AND(Blad1!C2871<>0,Blad1!D2871>0),CONCATENATE(Enhet!$B$1,\";\",Blad3!H2871,\";\",Blad3!I2871),\"\")","v":""}]
[{"$f":"IF(AND(Blad1!C2872<>0,Blad1!D2872>0),CONCATENATE(Enhet!$B$1,\";\",Blad3!H2872,\";\",Blad3!I2872),\"\")","v":""}]
[{"$f":"IF(AND(Blad1!C2873<>0,Blad1!D2873>0),CONCATENATE(Enhet!$B$1,\";\",Blad3!H2873,\";\",Blad3!I2873),\"\")","v":""}]
[{"$f":"IF(AND(Blad1!C2874<>0,Blad1!D2874>0),CONCATENATE(Enhet!$B$1,\";\",Blad3!H2874,\";\",Blad3!I2874),\"\")","v":""}]
[{"$f":"IF(AND(Blad1!C2875<>0,Blad1!D2875>0),CONCATENATE(Enhet!$B$1,\";\",Blad3!H2875,\";\",Blad3!I2875),\"\")","v":""}]
[{"$f":"IF(AND(Blad1!C2876<>0,Blad1!D2876>0),CONCATENATE(Enhet!$B$1,\";\",Blad3!H2876,\";\",Blad3!I2876),\"\")","v":""}]
[{"$f":"IF(AND(Blad1!C2877<>0,Blad1!D2877>0),CONCATENATE(Enhet!$B$1,\";\",Blad3!H2877,\";\",Blad3!I2877),\"\")","v":""}]
[{"$f":"IF(AND(Blad1!C2878<>0,Blad1!D2878>0),CONCATENATE(Enhet!$B$1,\";\",Blad3!H2878,\";\",Blad3!I2878),\"\")","v":""}]
[{"$f":"IF(AND(Blad1!C2879<>0,Blad1!D2879>0),CONCATENATE(Enhet!$B$1,\";\",Blad3!H2879,\";\",Blad3!I2879),\"\")","v":""}]
[{"$f":"IF(AND(Blad1!C2880<>0,Blad1!D2880>0),CONCATENATE(Enhet!$B$1,\";\",Blad3!H2880,\";\",Blad3!I2880),\"\")","v":""}]
[{"$f":"IF(AND(Blad1!C2881<>0,Blad1!D2881>0),CONCATENATE(Enhet!$B$1,\";\",Blad3!H2881,\";\",Blad3!I2881),\"\")","v":""}]
[{"$f":"IF(AND(Blad1!C2882<>0,Blad1!D2882>0),CONCATENATE(Enhet!$B$1,\";\",Blad3!H2882,\";\",Blad3!I2882),\"\")","v":""}]
[{"$f":"IF(AND(Blad1!C2883<>0,Blad1!D2883>0),CONCATENATE(Enhet!$B$1,\";\",Blad3!H2883,\";\",Blad3!I2883),\"\")","v":""}]
[{"$f":"IF(AND(Blad1!C2884<>0,Blad1!D2884>0),CONCATENATE(Enhet!$B$1,\";\",Blad3!H2884,\";\",Blad3!I2884),\"\")","v":""}]
[{"$f":"IF(AND(Blad1!C2885<>0,Blad1!D2885>0),CONCATENATE(Enhet!$B$1,\";\",Blad3!H2885,\";\",Blad3!I2885),\"\")","v":""}]
[{"$f":"IF(AND(Blad1!C2886<>0,Blad1!D2886>0),CONCATENATE(Enhet!$B$1,\";\",Blad3!H2886,\";\",Blad3!I2886),\"\")","v":""}]
[{"$f":"IF(AND(Blad1!C2887<>0,Blad1!D2887>0),CONCATENATE(Enhet!$B$1,\";\",Blad3!H2887,\";\",Blad3!I2887),\"\")","v":""}]
[{"$f":"IF(AND(Blad1!C2888<>0,Blad1!D2888>0),CONCATENATE(Enhet!$B$1,\";\",Blad3!H2888,\";\",Blad3!I2888),\"\")","v":""}]
[{"$f":"IF(AND(Blad1!C2889<>0,Blad1!D2889>0),CONCATENATE(Enhet!$B$1,\";\",Blad3!H2889,\";\",Blad3!I2889),\"\")","v":""}]
[{"$f":"IF(AND(Blad1!C2890<>0,Blad1!D2890>0),CONCATENATE(Enhet!$B$1,\";\",Blad3!H2890,\";\",Blad3!I2890),\"\")","v":""}]
[{"$f":"IF(AND(Blad1!C2891<>0,Blad1!D2891>0),CONCATENATE(Enhet!$B$1,\";\",Blad3!H2891,\";\",Blad3!I2891),\"\")","v":""}]
[{"$f":"IF(AND(Blad1!C2892<>0,Blad1!D2892>0),CONCATENATE(Enhet!$B$1,\";\",Blad3!H2892,\";\",Blad3!I2892),\"\")","v":""}]
[{"$f":"IF(AND(Blad1!C2893<>0,Blad1!D2893>0),CONCATENATE(Enhet!$B$1,\";\",Blad3!H2893,\";\",Blad3!I2893),\"\")","v":""}]
[{"$f":"IF(AND(Blad1!C2894<>0,Blad1!D2894>0),CONCATENATE(Enhet!$B$1,\";\",Blad3!H2894,\";\",Blad3!I2894),\"\")","v":""}]
[{"$f":"IF(AND(Blad1!C2895<>0,Blad1!D2895>0),CONCATENATE(Enhet!$B$1,\";\",Blad3!H2895,\";\",Blad3!I2895),\"\")","v":""}]
[{"$f":"IF(AND(Blad1!C2896<>0,Blad1!D2896>0),CONCATENATE(Enhet!$B$1,\";\",Blad3!H2896,\";\",Blad3!I2896),\"\")","v":""}]
[{"$f":"IF(AND(Blad1!C2897<>0,Blad1!D2897>0),CONCATENATE(Enhet!$B$1,\";\",Blad3!H2897,\";\",Blad3!I2897),\"\")","v":""}]
[{"$f":"IF(AND(Blad1!C2898<>0,Blad1!D2898>0),CONCATENATE(Enhet!$B$1,\";\",Blad3!H2898,\";\",Blad3!I2898),\"\")","v":""}]
[{"$f":"IF(AND(Blad1!C2899<>0,Blad1!D2899>0),CONCATENATE(Enhet!$B$1,\";\",Blad3!H2899,\";\",Blad3!I2899),\"\")","v":""}]
[{"$f":"IF(AND(Blad1!C2900<>0,Blad1!D2900>0),CONCATENATE(Enhet!$B$1,\";\",Blad3!H2900,\";\",Blad3!I2900),\"\")","v":""}]
[{"$f":"IF(AND(Blad1!C2901<>0,Blad1!D2901>0),CONCATENATE(Enhet!$B$1,\";\",Blad3!H2901,\";\",Blad3!I2901),\"\")","v":""}]
[{"$f":"IF(AND(Blad1!C2902<>0,Blad1!D2902>0),CONCATENATE(Enhet!$B$1,\";\",Blad3!H2902,\";\",Blad3!I2902),\"\")","v":""}]
[{"$f":"IF(AND(Blad1!C2903<>0,Blad1!D2903>0),CONCATENATE(Enhet!$B$1,\";\",Blad3!H2903,\";\",Blad3!I2903),\"\")","v":""}]
[{"$f":"IF(AND(Blad1!C2904<>0,Blad1!D2904>0),CONCATENATE(Enhet!$B$1,\";\",Blad3!H2904,\";\",Blad3!I2904),\"\")","v":""}]
[{"$f":"IF(AND(Blad1!C2905<>0,Blad1!D2905>0),CONCATENATE(Enhet!$B$1,\";\",Blad3!H2905,\";\",Blad3!I2905),\"\")","v":""}]
[{"$f":"IF(AND(Blad1!C2906<>0,Blad1!D2906>0),CONCATENATE(Enhet!$B$1,\";\",Blad3!H2906,\";\",Blad3!I2906),\"\")","v":""}]
[{"$f":"IF(AND(Blad1!C2907<>0,Blad1!D2907>0),CONCATENATE(Enhet!$B$1,\";\",Blad3!H2907,\";\",Blad3!I2907),\"\")","v":""}]
[{"$f":"IF(AND(Blad1!C2908<>0,Blad1!D2908>0),CONCATENATE(Enhet!$B$1,\";\",Blad3!H2908,\";\",Blad3!I2908),\"\")","v":""}]
[{"$f":"IF(AND(Blad1!C2909<>0,Blad1!D2909>0),CONCATENATE(Enhet!$B$1,\";\",Blad3!H2909,\";\",Blad3!I2909),\"\")","v":""}]
[{"$f":"IF(AND(Blad1!C2910<>0,Blad1!D2910>0),CONCATENATE(Enhet!$B$1,\";\",Blad3!H2910,\";\",Blad3!I2910),\"\")","v":""}]
[{"$f":"IF(AND(Blad1!C2911<>0,Blad1!D2911>0),CONCATENATE(Enhet!$B$1,\";\",Blad3!H2911,\";\",Blad3!I2911),\"\")","v":""}]
[{"$f":"IF(AND(Blad1!C2912<>0,Blad1!D2912>0),CONCATENATE(Enhet!$B$1,\";\",Blad3!H2912,\";\",Blad3!I2912),\"\")","v":""}]
[{"$f":"IF(AND(Blad1!C2913<>0,Blad1!D2913>0),CONCATENATE(Enhet!$B$1,\";\",Blad3!H2913,\";\",Blad3!I2913),\"\")","v":""}]
[{"$f":"IF(AND(Blad1!C2914<>0,Blad1!D2914>0),CONCATENATE(Enhet!$B$1,\";\",Blad3!H2914,\";\",Blad3!I2914),\"\")","v":""}]
[{"$f":"IF(AND(Blad1!C2915<>0,Blad1!D2915>0),CONCATENATE(Enhet!$B$1,\";\",Blad3!H2915,\";\",Blad3!I2915),\"\")","v":""}]
[{"$f":"IF(AND(Blad1!C2916<>0,Blad1!D2916>0),CONCATENATE(Enhet!$B$1,\";\",Blad3!H2916,\";\",Blad3!I2916),\"\")","v":""}]
[{"$f":"IF(AND(Blad1!C2917<>0,Blad1!D2917>0),CONCATENATE(Enhet!$B$1,\";\",Blad3!H2917,\";\",Blad3!I2917),\"\")","v":""}]
[{"$f":"IF(AND(Blad1!C2918<>0,Blad1!D2918>0),CONCATENATE(Enhet!$B$1,\";\",Blad3!H2918,\";\",Blad3!I2918),\"\")","v":""}]
[{"$f":"IF(AND(Blad1!C2919<>0,Blad1!D2919>0),CONCATENATE(Enhet!$B$1,\";\",Blad3!H2919,\";\",Blad3!I2919),\"\")","v":""}]
[{"$f":"IF(AND(Blad1!C2920<>0,Blad1!D2920>0),CONCATENATE(Enhet!$B$1,\";\",Blad3!H2920,\";\",Blad3!I2920),\"\")","v":""}]
[{"$f":"IF(AND(Blad1!C2921<>0,Blad1!D2921>0),CONCATENATE(Enhet!$B$1,\";\",Blad3!H2921,\";\",Blad3!I2921),\"\")","v":""}]
[{"$f":"IF(AND(Blad1!C2922<>0,Blad1!D2922>0),CONCATENATE(Enhet!$B$1,\";\",Blad3!H2922,\";\",Blad3!I2922),\"\")","v":""}]
[{"$f":"IF(AND(Blad1!C2923<>0,Blad1!D2923>0),CONCATENATE(Enhet!$B$1,\";\",Blad3!H2923,\";\",Blad3!I2923),\"\")","v":""}]
[{"$f":"IF(AND(Blad1!C2924<>0,Blad1!D2924>0),CONCATENATE(Enhet!$B$1,\";\",Blad3!H2924,\";\",Blad3!I2924),\"\")","v":""}]
[{"$f":"IF(AND(Blad1!C2925<>0,Blad1!D2925>0),CONCATENATE(Enhet!$B$1,\";\",Blad3!H2925,\";\",Blad3!I2925),\"\")","v":""}]
[{"$f":"IF(AND(Blad1!C2926<>0,Blad1!D2926>0),CONCATENATE(Enhet!$B$1,\";\",Blad3!H2926,\";\",Blad3!I2926),\"\")","v":""}]
[{"$f":"IF(AND(Blad1!C2927<>0,Blad1!D2927>0),CONCATENATE(Enhet!$B$1,\";\",Blad3!H2927,\";\",Blad3!I2927),\"\")","v":""}]
[{"$f":"IF(AND(Blad1!C2928<>0,Blad1!D2928>0),CONCATENATE(Enhet!$B$1,\";\",Blad3!H2928,\";\",Blad3!I2928),\"\")","v":""}]
[{"$f":"IF(AND(Blad1!C2929<>0,Blad1!D2929>0),CONCATENATE(Enhet!$B$1,\";\",Blad3!H2929,\";\",Blad3!I2929),\"\")","v":""}]
[{"$f":"IF(AND(Blad1!C2930<>0,Blad1!D2930>0),CONCATENATE(Enhet!$B$1,\";\",Blad3!H2930,\";\",Blad3!I2930),\"\")","v":""}]
[{"$f":"IF(AND(Blad1!C2931<>0,Blad1!D2931>0),CONCATENATE(Enhet!$B$1,\";\",Blad3!H2931,\";\",Blad3!I2931),\"\")","v":""}]
[{"$f":"IF(AND(Blad1!C2932<>0,Blad1!D2932>0),CONCATENATE(Enhet!$B$1,\";\",Blad3!H2932,\";\",Blad3!I2932),\"\")","v":""}]
[{"$f":"IF(AND(Blad1!C2933<>0,Blad1!D2933>0),CONCATENATE(Enhet!$B$1,\";\",Blad3!H2933,\";\",Blad3!I2933),\"\")","v":""}]
[{"$f":"IF(AND(Blad1!C2934<>0,Blad1!D2934>0),CONCATENATE(Enhet!$B$1,\";\",Blad3!H2934,\";\",Blad3!I2934),\"\")","v":""}]
[{"$f":"IF(AND(Blad1!C2935<>0,Blad1!D2935>0),CONCATENATE(Enhet!$B$1,\";\",Blad3!H2935,\";\",Blad3!I2935),\"\")","v":""}]
[{"$f":"IF(AND(Blad1!C2936<>0,Blad1!D2936>0),CONCATENATE(Enhet!$B$1,\";\",Blad3!H2936,\";\",Blad3!I2936),\"\")","v":""}]
[{"$f":"IF(AND(Blad1!C2937<>0,Blad1!D2937>0),CONCATENATE(Enhet!$B$1,\";\",Blad3!H2937,\";\",Blad3!I2937),\"\")","v":""}]
[{"$f":"IF(AND(Blad1!C2938<>0,Blad1!D2938>0),CONCATENATE(Enhet!$B$1,\";\",Blad3!H2938,\";\",Blad3!I2938),\"\")","v":""}]
[{"$f":"IF(AND(Blad1!C2939<>0,Blad1!D2939>0),CONCATENATE(Enhet!$B$1,\";\",Blad3!H2939,\";\",Blad3!I2939),\"\")","v":""}]
[{"$f":"IF(AND(Blad1!C2940<>0,Blad1!D2940>0),CONCATENATE(Enhet!$B$1,\";\",Blad3!H2940,\";\",Blad3!I2940),\"\")","v":""}]
[{"$f":"IF(AND(Blad1!C2941<>0,Blad1!D2941>0),CONCATENATE(Enhet!$B$1,\";\",Blad3!H2941,\";\",Blad3!I2941),\"\")","v":""}]
[{"$f":"IF(AND(Blad1!C2942<>0,Blad1!D2942>0),CONCATENATE(Enhet!$B$1,\";\",Blad3!H2942,\";\",Blad3!I2942),\"\")","v":""}]
[{"$f":"IF(AND(Blad1!C2943<>0,Blad1!D2943>0),CONCATENATE(Enhet!$B$1,\";\",Blad3!H2943,\";\",Blad3!I2943),\"\")","v":""}]
[{"$f":"IF(AND(Blad1!C2944<>0,Blad1!D2944>0),CONCATENATE(Enhet!$B$1,\";\",Blad3!H2944,\";\",Blad3!I2944),\"\")","v":""}]
[{"$f":"IF(AND(Blad1!C2945<>0,Blad1!D2945>0),CONCATENATE(Enhet!$B$1,\";\",Blad3!H2945,\";\",Blad3!I2945),\"\")","v":""}]
[{"$f":"IF(AND(Blad1!C2946<>0,Blad1!D2946>0),CONCATENATE(Enhet!$B$1,\";\",Blad3!H2946,\";\",Blad3!I2946),\"\")","v":""}]
[{"$f":"IF(AND(Blad1!C2947<>0,Blad1!D2947>0),CONCATENATE(Enhet!$B$1,\";\",Blad3!H2947,\";\",Blad3!I2947),\"\")","v":""}]
[{"$f":"IF(AND(Blad1!C2948<>0,Blad1!D2948>0),CONCATENATE(Enhet!$B$1,\";\",Blad3!H2948,\";\",Blad3!I2948),\"\")","v":""}]
[{"$f":"IF(AND(Blad1!C2949<>0,Blad1!D2949>0),CONCATENATE(Enhet!$B$1,\";\",Blad3!H2949,\";\",Blad3!I2949),\"\")","v":""}]
[{"$f":"IF(AND(Blad1!C2950<>0,Blad1!D2950>0),CONCATENATE(Enhet!$B$1,\";\",Blad3!H2950,\";\",Blad3!I2950),\"\")","v":""}]
[{"$f":"IF(AND(Blad1!C2951<>0,Blad1!D2951>0),CONCATENATE(Enhet!$B$1,\";\",Blad3!H2951,\";\",Blad3!I2951),\"\")","v":""}]
[{"$f":"IF(AND(Blad1!C2952<>0,Blad1!D2952>0),CONCATENATE(Enhet!$B$1,\";\",Blad3!H2952,\";\",Blad3!I2952),\"\")","v":""}]
[{"$f":"IF(AND(Blad1!C2953<>0,Blad1!D2953>0),CONCATENATE(Enhet!$B$1,\";\",Blad3!H2953,\";\",Blad3!I2953),\"\")","v":""}]
[{"$f":"IF(AND(Blad1!C2954<>0,Blad1!D2954>0),CONCATENATE(Enhet!$B$1,\";\",Blad3!H2954,\";\",Blad3!I2954),\"\")","v":""}]
[{"$f":"IF(AND(Blad1!C2955<>0,Blad1!D2955>0),CONCATENATE(Enhet!$B$1,\";\",Blad3!H2955,\";\",Blad3!I2955),\"\")","v":""}]
[{"$f":"IF(AND(Blad1!C2956<>0,Blad1!D2956>0),CONCATENATE(Enhet!$B$1,\";\",Blad3!H2956,\";\",Blad3!I2956),\"\")","v":""}]
[{"$f":"IF(AND(Blad1!C2957<>0,Blad1!D2957>0),CONCATENATE(Enhet!$B$1,\";\",Blad3!H2957,\";\",Blad3!I2957),\"\")","v":""}]
[{"$f":"IF(AND(Blad1!C2958<>0,Blad1!D2958>0),CONCATENATE(Enhet!$B$1,\";\",Blad3!H2958,\";\",Blad3!I2958),\"\")","v":""}]
[{"$f":"IF(AND(Blad1!C2959<>0,Blad1!D2959>0),CONCATENATE(Enhet!$B$1,\";\",Blad3!H2959,\";\",Blad3!I2959),\"\")","v":""}]
[{"$f":"IF(AND(Blad1!C2960<>0,Blad1!D2960>0),CONCATENATE(Enhet!$B$1,\";\",Blad3!H2960,\";\",Blad3!I2960),\"\")","v":""}]
[{"$f":"IF(AND(Blad1!C2961<>0,Blad1!D2961>0),CONCATENATE(Enhet!$B$1,\";\",Blad3!H2961,\";\",Blad3!I2961),\"\")","v":""}]
[{"$f":"IF(AND(Blad1!C2962<>0,Blad1!D2962>0),CONCATENATE(Enhet!$B$1,\";\",Blad3!H2962,\";\",Blad3!I2962),\"\")","v":""}]
[{"$f":"IF(AND(Blad1!C2963<>0,Blad1!D2963>0),CONCATENATE(Enhet!$B$1,\";\",Blad3!H2963,\";\",Blad3!I2963),\"\")","v":""}]
[{"$f":"IF(AND(Blad1!C2964<>0,Blad1!D2964>0),CONCATENATE(Enhet!$B$1,\";\",Blad3!H2964,\";\",Blad3!I2964),\"\")","v":""}]
[{"$f":"IF(AND(Blad1!C2965<>0,Blad1!D2965>0),CONCATENATE(Enhet!$B$1,\";\",Blad3!H2965,\";\",Blad3!I2965),\"\")","v":""}]
[{"$f":"IF(AND(Blad1!C2966<>0,Blad1!D2966>0),CONCATENATE(Enhet!$B$1,\";\",Blad3!H2966,\";\",Blad3!I2966),\"\")","v":""}]
[{"$f":"IF(AND(Blad1!C2967<>0,Blad1!D2967>0),CONCATENATE(Enhet!$B$1,\";\",Blad3!H2967,\";\",Blad3!I2967),\"\")","v":""}]
[{"$f":"IF(AND(Blad1!C2968<>0,Blad1!D2968>0),CONCATENATE(Enhet!$B$1,\";\",Blad3!H2968,\";\",Blad3!I2968),\"\")","v":""}]
[{"$f":"IF(AND(Blad1!C2969<>0,Blad1!D2969>0),CONCATENATE(Enhet!$B$1,\";\",Blad3!H2969,\";\",Blad3!I2969),\"\")","v":""}]
[{"$f":"IF(AND(Blad1!C2970<>0,Blad1!D2970>0),CONCATENATE(Enhet!$B$1,\";\",Blad3!H2970,\";\",Blad3!I2970),\"\")","v":""}]
[{"$f":"IF(AND(Blad1!C2971<>0,Blad1!D2971>0),CONCATENATE(Enhet!$B$1,\";\",Blad3!H2971,\";\",Blad3!I2971),\"\")","v":""}]
[{"$f":"IF(AND(Blad1!C2972<>0,Blad1!D2972>0),CONCATENATE(Enhet!$B$1,\";\",Blad3!H2972,\";\",Blad3!I2972),\"\")","v":""}]
[{"$f":"IF(AND(Blad1!C2973<>0,Blad1!D2973>0),CONCATENATE(Enhet!$B$1,\";\",Blad3!H2973,\";\",Blad3!I2973),\"\")","v":""}]
[{"$f":"IF(AND(Blad1!C2974<>0,Blad1!D2974>0),CONCATENATE(Enhet!$B$1,\";\",Blad3!H2974,\";\",Blad3!I2974),\"\")","v":""}]
[{"$f":"IF(AND(Blad1!C2975<>0,Blad1!D2975>0),CONCATENATE(Enhet!$B$1,\";\",Blad3!H2975,\";\",Blad3!I2975),\"\")","v":""}]
[{"$f":"IF(AND(Blad1!C2976<>0,Blad1!D2976>0),CONCATENATE(Enhet!$B$1,\";\",Blad3!H2976,\";\",Blad3!I2976),\"\")","v":""}]
[{"$f":"IF(AND(Blad1!C2977<>0,Blad1!D2977>0),CONCATENATE(Enhet!$B$1,\";\",Blad3!H2977,\";\",Blad3!I2977),\"\")","v":""}]
[{"$f":"IF(AND(Blad1!C2978<>0,Blad1!D2978>0),CONCATENATE(Enhet!$B$1,\";\",Blad3!H2978,\";\",Blad3!I2978),\"\")","v":""}]
[{"$f":"IF(AND(Blad1!C2979<>0,Blad1!D2979>0),CONCATENATE(Enhet!$B$1,\";\",Blad3!H2979,\";\",Blad3!I2979),\"\")","v":""}]
[{"$f":"IF(AND(Blad1!C2980<>0,Blad1!D2980>0),CONCATENATE(Enhet!$B$1,\";\",Blad3!H2980,\";\",Blad3!I2980),\"\")","v":""}]
[{"$f":"IF(AND(Blad1!C2981<>0,Blad1!D2981>0),CONCATENATE(Enhet!$B$1,\";\",Blad3!H2981,\";\",Blad3!I2981),\"\")","v":""}]
[{"$f":"IF(AND(Blad1!C2982<>0,Blad1!D2982>0),CONCATENATE(Enhet!$B$1,\";\",Blad3!H2982,\";\",Blad3!I2982),\"\")","v":""}]
[{"$f":"IF(AND(Blad1!C2983<>0,Blad1!D2983>0),CONCATENATE(Enhet!$B$1,\";\",Blad3!H2983,\";\",Blad3!I2983),\"\")","v":""}]
[{"$f":"IF(AND(Blad1!C2984<>0,Blad1!D2984>0),CONCATENATE(Enhet!$B$1,\";\",Blad3!H2984,\";\",Blad3!I2984),\"\")","v":""}]
[{"$f":"IF(AND(Blad1!C2985<>0,Blad1!D2985>0),CONCATENATE(Enhet!$B$1,\";\",Blad3!H2985,\";\",Blad3!I2985),\"\")","v":""}]
[{"$f":"IF(AND(Blad1!C2986<>0,Blad1!D2986>0),CONCATENATE(Enhet!$B$1,\";\",Blad3!H2986,\";\",Blad3!I2986),\"\")","v":""}]
[{"$f":"IF(AND(Blad1!C2987<>0,Blad1!D2987>0),CONCATENATE(Enhet!$B$1,\";\",Blad3!H2987,\";\",Blad3!I2987),\"\")","v":""}]
[{"$f":"IF(AND(Blad1!C2988<>0,Blad1!D2988>0),CONCATENATE(Enhet!$B$1,\";\",Blad3!H2988,\";\",Blad3!I2988),\"\")","v":""}]
[{"$f":"IF(AND(Blad1!C2989<>0,Blad1!D2989>0),CONCATENATE(Enhet!$B$1,\";\",Blad3!H2989,\";\",Blad3!I2989),\"\")","v":""}]
[{"$f":"IF(AND(Blad1!C2990<>0,Blad1!D2990>0),CONCATENATE(Enhet!$B$1,\";\",Blad3!H2990,\";\",Blad3!I2990),\"\")","v":""}]
[{"$f":"IF(AND(Blad1!C2991<>0,Blad1!D2991>0),CONCATENATE(Enhet!$B$1,\";\",Blad3!H2991,\";\",Blad3!I2991),\"\")","v":""}]
[{"$f":"IF(AND(Blad1!C2992<>0,Blad1!D2992>0),CONCATENATE(Enhet!$B$1,\";\",Blad3!H2992,\";\",Blad3!I2992),\"\")","v":""}]
[{"$f":"IF(AND(Blad1!C2993<>0,Blad1!D2993>0),CONCATENATE(Enhet!$B$1,\";\",Blad3!H2993,\";\",Blad3!I2993),\"\")","v":""}]
[{"$f":"IF(AND(Blad1!C2994<>0,Blad1!D2994>0),CONCATENATE(Enhet!$B$1,\";\",Blad3!H2994,\";\",Blad3!I2994),\"\")","v":""}]
[{"$f":"IF(AND(Blad1!C2995<>0,Blad1!D2995>0),CONCATENATE(Enhet!$B$1,\";\",Blad3!H2995,\";\",Blad3!I2995),\"\")","v":""}]
[{"$f":"IF(AND(Blad1!C2996<>0,Blad1!D2996>0),CONCATENATE(Enhet!$B$1,\";\",Blad3!H2996,\";\",Blad3!I2996),\"\")","v":""}]
[{"$f":"IF(AND(Blad1!C2997<>0,Blad1!D2997>0),CONCATENATE(Enhet!$B$1,\";\",Blad3!H2997,\";\",Blad3!I2997),\"\")","v":""}]
[{"$f":"IF(AND(Blad1!C2998<>0,Blad1!D2998>0),CONCATENATE(Enhet!$B$1,\";\",Blad3!H2998,\";\",Blad3!I2998),\"\")","v":""}]
[{"$f":"IF(AND(Blad1!C2999<>0,Blad1!D2999>0),CONCATENATE(Enhet!$B$1,\";\",Blad3!H2999,\";\",Blad3!I2999),\"\")","v":""}]
[{"$f":"IF(AND(Blad1!C3000<>0,Blad1!D3000>0),CONCATENATE(Enhet!$B$1,\";\",Blad3!H3000,\";\",Blad3!I3000),\"\")","v":""}]
[{"$f":"IF(AND(Blad1!C3001<>0,Blad1!D3001>0),CONCATENATE(Enhet!$B$1,\";\",Blad3!H3001,\";\",Blad3!I3001),\"\")","v":""}]
[{"$f":"IF(AND(Blad1!C3002<>0,Blad1!D3002>0),CONCATENATE(Enhet!$B$1,\";\",Blad3!H3002,\";\",Blad3!I3002),\"\")","v":""}]
[{"$f":"IF(AND(Blad1!C3003<>0,Blad1!D3003>0),CONCATENATE(Enhet!$B$1,\";\",Blad3!H3003,\";\",Blad3!I3003),\"\")","v":""}]